{"text_format":"1","workbook":"xlsx","n_sheets":10,"sheets":["はじめに","マクロを有効にする方法","入力・計算補助","特定-第１・２表","特定-第３表","特定-第４表～","係数","CO2計算","保存用","日本標準産業分類"],"not_rendered":{"charts":0,"images":32,"macros":1,"external_links":0,"defined_names":12,"comments":5,"pivot_tables":0},"unopened":[],"bounds":{"document_bytes":16777216,"sheet_cells":100000,"rows_first":2000,"rows_last":500,"rows_between":2000,"halvings":0,"cell_chars":16384,"cell_head_chars":4096},"cells_cut":0,"cells_raw":0,"read":"whole","date_system":"1900"}

{"sheet":"はじめに","index":0,"n_rows":56,"n_cols":8,"rows_kept":56,"cut":false,"hidden":false,"merged":[]}
[]
[null,null,"定期報告書作成支援ツール"]
[null,"＜特定事業者・特定連鎖化事業者用＞"]
[]
[]
[1,"マクロが有効になっているかのテストをして下さい。",null,null,null,null,{"$f":"IF(F7=FALSE,\"↓のチェックボックスをマウスでクリックして下さい。\",\"\")","v":""}]
[null,true,null,null,null,true,null,{"$f":"IF(F7=TRUE,\"マクロは有効になっています。特定第１表～第１２表の作成に移って下さい\",\"クリックしても何も変わらなければ、「マクロを有効にする方法」シートに進んで下さい。\")","v":"マクロは有効になっています。特定第１表～第１２表の作成に移って下さい"}]
[]
[]
[]
[]
[]
[]
[]
[]
[2,"このファイルでは、特定－第１表～第１２表まで作成できます。"]
[null,"「特定-第１・２表」、「特定-第３表」、「特定-第４表～」の3つのワークシートに分かれています。"]
[null,"それぞれのシートの■色、■色、又は■色の箇所に入力　又は　▼の箇所は該当するものを選択して下さい。"]
[null,"過去５ヶ年値ならびに都市ガス、その他の燃料、電気については入力・計算補助シートに入力してください。"]
[null,"「特定-第１表」、「特定-第２表」、「特定-第３表」、「特定-第４表」、「CO2計算」の該当項目に自動編集されます。"]
[null,"記入漏れ等があると赤字で注意文が出ますので、必要項目を全て入力して下さい。（記入漏れが無くなると赤字の注意文が消えます）"]
[null,"行の追加が必要となる場合がある箇所には　　　ボタンが配置してありますので、適宜行を追加してください。"]
[null,"　　　　ボタン以外で列や行を追加・削除すると正しく処理されませんので、ご注意下さい！"]
[]
[]
[]
[]
[]
[]
[3,"貴社に指定工場がある場合は、別途定期報告書作成支援ツール＜工場・事業場用＞にて「指定－第１表」～「指定－第１０表」を"]
[null,"作成して下さい。"]
[]
[]
[]
[]
[]
[]
[4,"このシートの印刷ボタンを押して下さい。"]
[]
[]
[]
[]
[]
[null,"貴社の主たる事務所（本社）所在地を管轄する経済産業局及び事業の所管省庁宛に提出して下さい。"]
[null,"（なお、貴工場の主な事業が経済産業省所管の事業であれば、経済産業局長宛を１通作成すれば結構です。）"]
[]
[]
[]
[5,"このシートのXML出力ボタンを押して下さい。"]
[]
[]
[]
[]
[]
[null,"電子申請の際に、XMLファイルを添付して下さい。"]
[null,"指定工場がある場合は、指定工場用EXCELから出力したXMLファイルも添付して下さい。"]

{"sheet":"マクロを有効にする方法","index":1,"n_rows":251,"n_cols":2,"rows_kept":251,"cut":false,"hidden":false,"merged":[]}
["マクロを有効にする手順"]
[]
["Excel2000,2003の場合"]
[1,"ツール(T)－マクロ(M)－セキュリティ(S)　をクリック"]
[]
[]
[]
[]
[]
[]
[]
[]
[]
[]
[]
[]
[]
[]
[]
[]
[]
[]
[]
[2,"セキュリティ　レベルを「中」にし、「OK」をクリック"]
[]
[]
[]
[]
[]
[]
[]
[]
[]
[]
[]
[]
[]
[]
[]
[]
[]
[]
[]
[]
[3,"Excelを終了し、再度ファイルを開く"]
[null,"本ファイルの変更を保存しますか？の問いには「いいえ」をクリック"]
[]
[4,"ファイルを開いた時にセキュリティ警告が表示されたら、「マクロを有効にする」をクリック"]
[]
[]
[]
[]
[]
[]
[]
[]
[]
[]
[]
[null,"Excel2000、2003の場合は以上"]
[]
["Excel2007以降の場合（1～4の画面については、Excel2010、Ｅｘｃｅｌ2013もほぼ同じ）"]
[1,"キーボードで「Alt」－「T」－「O」　を入力し、「セキュリティ センター」を選択し、表示し"]
[null,"（Excelのオプション表示）"]
[2,"「セキュリティ センターの設定」をクリック"]
[]
[]
[]
[]
[]
[]
[]
[]
[]
[]
[]
[]
[]
[]
[]
[]
[]
[]
[]
[]
[]
[]
[]
[]
[]
[]
[]
[]
[]
[]
[]
[]
[]
[]
[]
[]
[]
[]
[]
[3,"「マクロの設定」で「警告を表示してすべてのマクロを無効にする」を選択し、OKをクリック"]
[]
[]
[]
[]
[]
[]
[]
[]
[]
[]
[]
[]
[]
[]
[]
[]
[]
[]
[]
[]
[]
[]
[]
[]
[]
[]
[]
[]
[]
[]
[]
[]
[]
[]
[]
[]
[]
[]
[]
[4,"Excelを終了し、再度ファイルを開く"]
[null,"本ファイルの変更を保存しますか？の問いには「いいえ」をクリック"]
[]
["Excel2007の場合"]
[5,"ファイルを開いて表示されたセキュリティ警告の「オプション」をクリック"]
[]
[]
[]
[]
[]
[]
[]
[]
[]
[]
[]
[]
[]
[]
[]
[]
[]
[]
[]
[]
[]
[]
[]
[6,"「このコンテンツを有効にする」をクリックし、OKをクリックする"]
[]
[]
[]
[]
[]
[]
[]
[]
[]
[]
[]
[]
[]
[]
[]
[]
[]
[]
[]
[]
[]
[]
[]
[]
[]
[null,"Excel2007の場合は以上"]
[]
["Excel2010の場合"]
[5,"ファイルを開いて表示されたセキュリティ警告の「コンテンツの有効化」をクリック"]
[]
[]
[]
[]
[]
[]
[]
[]
[]
[]
[]
[]
[]
[]
[]
[]
[]
[]
[]
[]
[]
[]
[null,"Excel2010の場合は以上"]
[]
["Excel2013の場合"]
[5,"ファイルを開いて表示されたセキュリティ警告の「コンテンツの有効化」をクリック"]
[]
[]
[]
[]
[]
[]
[]
[]
[]
[]
[]
[]
[]
[]
[]
[]
[]
[]
[]
[]
[]
[]
[null,"Excel2013の場合は以上"]

{"sheet":"入力・計算補助","index":2,"n_rows":300,"n_cols":34,"rows_kept":300,"cut":false,"hidden":false,"merged":[[300,22,300,23],[301,22,301,23],[302,22,302,23],[303,22,303,23],[304,22,304,23],[305,22,305,23],[306,22,306,23],[30,31,32,31],[30,26,32,26],[30,27,32,27],[30,28,32,28],[30,29,32,29],[154,24,154,27],[172,26,172,27],[172,31,172,32],[171,24,171,27],[155,26,155,27],[155,31,155,32],[75,24,77,24],[33,12,33,14],[43,10,43,11],[55,8,55,9],[55,10,55,11],[55,12,55,14],[30,25,32,25],[45,10,45,11],[45,12,45,14],[39,10,39,11],[39,12,39,14],[37,10,37,11],[41,10,41,11],[41,12,41,14],[40,10,40,11],[35,12,35,14],[34,10,34,11],[34,12,34,14],[40,12,40,14],[30,24,32,24],[37,12,37,14],[50,12,50,14],[51,10,51,11],[50,10,50,11],[42,10,42,11],[215,11,215,12],[216,11,216,12],[220,11,220,12],[186,14,186,15],[205,11,205,12],[204,11,204,12],[188,14,188,15],[201,11,201,12],[183,10,183,11],[216,14,216,15],[220,14,220,15],[186,12,186,13],[187,12,187,15],[185,12,185,13],[183,14,183,15],[185,14,185,15],[204,14,204,15],[208,10,208,12],[122,19,122,20],[122,16,122,18],[168,8,168,9],[166,8,166,9],[164,10,164,11],[181,14,181,15],[147,12,147,15],[180,12,180,15],[180,10,180,11],[151,10,151,11],[152,14,152,15],[151,8,151,9],[152,8,152,9],[155,8,155,9],[154,8,154,11],[133,14,133,15],[165,8,165,9],[165,10,165,11],[169,12,169,13],[166,12,166,13],[136,14,136,15],[137,14,137,15],[136,12,136,13],[130,8,131,11],[120,16,120,18],[121,16,121,18],[120,19,120,20],[121,19,121,20],[63,10,63,11],[74,18,74,19],[182,10,182,11],[181,10,181,11],[181,12,181,13],[148,10,148,11],[152,10,152,11],[172,17,172,21],[155,10,155,11],[155,12,155,13],[162,8,163,11],[155,17,155,21],[162,12,163,14],[164,12,164,15],[155,14,155,15],[132,10,132,11],[164,8,164,9],[167,8,167,9],[167,14,167,15],[154,12,154,15],[33,10,33,11],[58,10,58,11],[59,3,59,7],[56,10,56,11],[33,3,33,7],[61,3,61,7],[62,3,62,7],[63,3,63,7],[60,12,60,14],[61,12,61,14],[52,10,52,11],[42,12,42,14],[48,10,48,11],[43,12,43,14],[35,10,35,11],[47,10,47,11],[47,12,47,14],[49,10,49,11],[36,10,36,11],[36,12,36,14],[38,10,38,11],[38,12,38,14],[46,10,46,11],[48,12,48,14],[64,3,64,7],[60,10,60,11],[61,10,61,11],[56,3,56,7],[56,12,56,14],[59,12,59,14],[62,12,62,14],[64,12,64,14],[63,12,63,14],[62,10,62,11],[58,3,58,7],[60,3,60,7],[64,10,64,11],[58,12,58,14],[57,12,57,14],[185,3,185,7],[185,8,185,9],[170,8,170,9],[178,8,179,11],[178,12,179,14],[172,8,172,9],[172,14,172,15],[186,3,186,7],[186,8,186,9],[186,10,186,11],[184,8,184,9],[184,10,184,11],[184,12,184,13],[184,14,184,15],[183,8,183,9],[183,12,183,13],[182,12,182,13],[182,14,182,15],[182,8,182,9],[170,14,170,15],[170,12,170,13],[172,12,172,13],[204,5,204,6],[204,8,204,9],[201,8,201,9],[202,2,202,4],[203,5,203,6],[204,2,204,4],[205,2,205,4],[188,3,188,7],[198,8,198,10],[188,8,188,9],[202,8,202,9],[188,10,188,11],[110,11,111,14],[112,3,112,7],[102,8,103,10],[119,11,119,14],[108,3,108,7],[168,14,168,15],[165,12,165,13],[165,14,165,15],[169,14,169,15],[167,12,167,13],[168,12,168,13],[166,14,166,15],[148,14,148,15],[112,11,113,14],[130,12,131,14],[152,12,152,13],[167,10,167,11],[150,14,150,15],[151,12,151,13],[151,14,151,15],[147,10,147,11],[138,12,138,13],[134,14,134,15],[135,14,135,15],[108,8,109,10],[113,3,113,7],[110,3,110,7],[135,12,135,13],[135,10,135,11],[123,2,123,11],[112,8,113,10],[134,8,134,9],[134,10,134,11],[119,3,119,7],[135,3,135,7],[134,3,134,7],[135,8,135,9],[132,8,132,9],[119,8,119,10],[132,12,132,15],[132,3,132,7],[115,3,115,7],[116,3,116,7],[117,3,117,7],[116,8,117,10],[114,11,115,14],[116,11,117,14],[110,8,111,10],[148,3,148,7],[148,8,148,9],[147,8,147,9],[145,8,146,11],[136,8,136,9],[137,8,137,9],[133,3,133,7],[133,10,133,11],[8,3,8,5],[16,3,16,5],[82,3,82,7],[94,3,94,7],[93,3,93,7],[65,3,65,7],[57,10,57,11],[59,10,59,11],[96,3,96,7],[96,8,97,10],[96,11,97,14],[84,8,85,10],[78,11,79,14],[78,3,78,7],[79,3,79,7],[57,3,57,7],[16,12,16,14],[16,9,16,11],[16,6,16,8],[12,3,12,5],[21,3,21,5],[21,6,21,8],[21,9,21,11],[21,12,21,14],[12,8,12,9],[12,12,12,14],[52,12,52,14],[51,12,51,14],[98,11,99,14],[90,11,91,14],[150,3,150,7],[150,8,150,9],[138,8,138,9],[137,3,137,7],[138,10,138,11],[149,3,149,7],[149,8,149,9],[147,3,147,7],[106,3,106,7],[106,8,107,10],[136,10,136,11],[136,3,136,7],[133,8,133,9],[111,3,111,7],[109,3,109,7],[138,3,138,7],[107,3,107,7],[114,3,114,7],[78,8,79,10],[97,3,97,7],[165,3,165,7],[169,3,169,7],[169,8,169,9],[180,8,180,9],[225,2,225,4],[225,5,225,8],[217,2,217,4],[217,5,217,6],[220,2,220,4],[187,8,187,11],[221,11,221,12],[221,5,221,8],[215,5,215,6],[214,2,214,4],[185,10,185,11],[222,2,222,4],[222,5,222,8],[201,2,201,4],[201,5,201,6],[205,5,205,6],[213,11,213,12],[216,2,216,4],[216,5,216,6],[216,8,216,9],[208,2,208,6],[206,14,206,15],[210,8,210,10],[217,11,217,12],[217,8,217,9],[215,8,215,9],[217,14,217,15],[184,3,184,7],[168,3,168,7],[170,3,170,7],[180,3,180,7],[182,3,182,7],[183,3,183,7],[172,3,172,7],[188,12,188,13],[201,14,201,15],[202,11,202,12],[202,14,202,15],[181,8,181,9],[169,10,169,11],[171,8,171,11],[171,12,171,15],[172,10,172,11],[168,10,168,11],[151,3,151,7],[167,3,167,7],[181,3,181,7],[155,3,155,7],[152,3,152,7],[166,3,166,7],[164,3,164,7],[106,11,107,14],[108,11,109,14],[166,10,166,11],[170,10,170,11],[114,8,115,10],[150,12,150,13],[148,12,148,13],[133,12,133,13],[134,12,134,13],[150,10,150,11],[149,14,149,15],[149,10,149,11],[149,12,149,13],[137,12,137,13],[138,14,138,15],[137,10,137,11],[145,12,146,14],[222,18,222,21],[215,14,215,15],[202,5,202,6],[215,2,215,4],[213,2,213,4],[214,8,214,9],[203,8,203,9],[203,2,203,4],[214,5,214,6],[220,5,220,8],[221,18,221,21],[214,11,214,12],[222,11,222,12],[222,14,222,15],[214,14,214,15],[213,5,213,6],[205,14,205,15],[203,11,203,12],[203,14,203,15],[221,2,221,4],[221,14,221,15],[213,8,213,9],[213,14,213,15],[205,8,205,9],[114,33,115,33],[116,33,117,33],[75,25,77,25],[75,26,77,26],[75,27,77,27],[75,28,77,28],[100,33,101,33],[94,33,95,33],[98,33,99,33],[80,33,81,33],[112,33,113,33],[110,33,111,33],[108,33,109,33],[106,33,107,33],[104,33,105,33],[102,33,103,33],[75,32,77,32],[75,33,76,33],[78,33,79,33],[75,29,77,29],[75,31,77,31],[96,33,97,33],[82,33,83,33],[92,33,93,33],[80,3,80,7],[80,8,81,10],[80,11,81,14],[81,3,81,7],[82,8,83,10],[82,11,83,14],[83,3,83,7],[65,12,65,14],[98,8,99,10],[84,11,85,14],[90,3,90,7],[90,8,91,10],[92,3,92,7],[85,3,85,7],[84,3,84,7],[87,3,87,7],[92,8,93,10],[92,11,93,14],[66,3,66,7],[66,10,66,11],[65,10,65,11],[75,8,76,14],[66,12,66,14],[86,11,87,14],[105,3,105,7],[103,3,103,7],[100,3,100,7],[100,8,101,10],[102,3,102,7],[101,3,101,7],[104,11,105,14],[94,8,95,10],[94,11,95,14],[95,3,95,7],[104,3,104,7],[100,11,101,14],[102,11,103,14],[98,3,98,7],[104,8,105,10],[99,3,99,7],[90,33,91,33],[91,3,91,7],[84,33,85,33],[88,3,88,7],[88,8,89,10],[88,11,89,14],[88,33,89,33],[89,3,89,7],[86,33,87,33],[86,3,86,7],[86,8,87,10],[49,12,49,14],[46,12,46,14],[44,12,44,14],[44,10,44,11],[34,3,34,7],[35,3,35,7],[36,3,36,7],[37,3,37,7],[38,3,38,7],[40,3,40,7],[39,3,39,7],[41,3,41,7],[42,3,42,7],[52,3,52,7],[50,3,50,7],[51,3,51,7],[43,3,43,7],[44,3,44,7],[46,3,46,7],[47,3,47,7],[48,3,48,7],[49,3,49,7],[45,3,45,7]]}
[null,1,"報告年度の入力"]
[]
[null,null,{"$f":"元号","v":"平成"},27,"年度報告書の作成",null,null,null,"（対象年度（報告日の前年度）を入力して下さい）"]
[null,null,null,null,null,null,null,null,"　　（例：平成28年7月末日締め切りの定期報告書の場合は平成「27」年度　）"]
[null,2,"過去４ヵ年値の入力",null,null,null,"（過去に提出された定期報告書の数値を入力して下さい）"]
[]
[null,null,"「特定－第２表　原油換算（Kl）」"]
[null,null,null,{"$f":"元号","v":"平成"},{"$f":"IF(D3=0,\"\",D3-1)","v":26},"年度",null,"（前年提出された定期報告書「特定－第２表」の数値を入力して下さい）"]
[null,null,null,2386]
[]
[null,null,"「特定－第３表　生産数量等　（使用量と密接な関係をもつ値）」",null,null,null,null,null,null,null,null,null,"※事業者全体の原単位が算出可能な場合"]
[null,null,null,{"$f":"元号","v":"平成"},{"$f":"IF(D3=0,\"\",D3-1)","v":26},"年度"]
[null,null,"名称",null,null,null,null,"単位",null,null,null,"数値"]
[]
[null,null,"「特定－第４表１ エネルギーの使用に係る原単位」"]
[null,null,null,{"$f":"元号","v":"平成"},{"$f":"IF(D3=\"\",\"\",D3-4)","v":23},"年度",{"$f":"元号","v":"平成"},{"$f":"IF(D3=\"\",\"\",D3-3)","v":24},"年度",{"$f":"元号","v":"平成"},{"$f":"IF(D3=\"\",\"\",D3-2)","v":25},"年度",{"$f":"元号","v":"平成"},{"$f":"IF(D3=\"\",\"\",D3-1)","v":26},"年度"]
[null,null,null,"0.1078",null,null,"0.1003",null,null,"0.0826",null,null,"0.0678"]
[null,null,null,"（過去4ヵ年に提出された定期報告書「特定－第４表１」の数値を入力して下さい）"]
[]
[null,null,"「特定－第４表２ 電気需要平準化評価原単位」"]
[null,null,null,{"$f":"元号","v":"平成"},{"$f":"IF(D3=\"\",\"\",D3-4)","v":23},"年度",{"$f":"元号","v":"平成"},{"$f":"IF(D3=\"\",\"\",D3-3)","v":24},"年度",{"$f":"元号","v":"平成"},{"$f":"IF(D3=\"\",\"\",D3-2)","v":25},"年度",{"$f":"元号","v":"平成"},{"$f":"IF(D3=\"\",\"\",D3-1)","v":26},"年度"]
[null,null,null,null,null,null,null,null,null,null,null,null,"0.0800"]
[null,null,null,"（過去4ヵ年に提出された定期報告書「特定－第４表２」の数値を入力して下さい）"]
[]
[null,3,"使用したエネルギーの入力",null,null,null,null,null,{"$f":"\"（\"&元号&FIXED(D3,0)&\"年度実績）\"","v":"（平成27年度実績）"}]
[]
[null,null,"　①","その他の燃料（単位発熱係数と二酸化炭素排出係数）",null,null,null,null,null,null,null,null,null,null,null,null,null,null,null,null,null,null,null,null,null,null,null,null,null,"係数（上：熱換算　下：CO2排出）"]
[null,null,null,"都市ガスは、規格（例：１３Ａ）と単位発熱量の実数を各ガス会社に確認し、必ずそれを入力して下さい。",null,null,null,null,null,null,null,null,null,null,null,null,null,null,null,null,null,null,null,null,0,"換算係数件数",{"$f":"IF(COUNTA(I34:I53)=0,1,COUNTA(I34:I53))","v":1},"換算係数合計",{"$f":"IF(SUMIF(I34:I53,\">\"&Y28)=0,I34,SUMIF(I34:I53,\">\"&Y28))","v":0},{"$f":"IF(AND(I34=\"\",J34=\"\"),\"N/A\",IF(AC28/AA28=I34,I34,\"N/A\"))","v":"N/A"}]
[null,null,null,"＊　施行規則で定めた係数以外に電気やガス事業者等から提供された単位発熱量を用いることができます",null,null,null,null,null,null,null,null,null,null,null,null,null,null,null,null,null,null,null,null,null,null,null,"排出係数合計",{"$f":"IF(SUMIF(I34:I53,\">\"&Y28,M34:O53)=0,M34,SUMIF(I34:I53,\">\"&Y28,M34:O53))","v":1.3599999999999999E-2},{"$f":"IF(AC29/AA28=M34,M34,\"N/A\")","v":1.3599999999999999E-2}]
[null,null,null,"　　都市ガス以外の「その他の燃料」は、入力がない場合はデフォルト値を使用して計算するよう設定しています。"]
[null,null,null,null,null,null,null,null,"デフォルト値以外を使用する",null,null,null,null,null,null,null,null,null,null,null,null,null,null,null,"使用量\n千m3","使用量\n熱量GJ","販売量\n千m3","販売量\n熱量GJ","使用CO2排出量\nt-GJ","販売CO2排出量\nt-GJ",null,"CO2排出量\nt-GJ"]
[null,null,null,"エネルギー名",null,null,null,null,"単位発熱",null,"単位",null,"CO2排出係数"]
[null,null,null,"都市ガス",null,"↓ガス会社名を記入",null,null,"係数","（規格）",null,null,"(t-GJ）",null,null,null,null,null,null,null,null,"※ここにガス会社・規格ごとの　→"]
[null,null,null,null,null,null,null,null,null,null,"GＪ/千ｍ３",null,1.3599999999999999E-2,null,null,null,null,null,null,null,null,"　使用量・販売量を入力して下さい。",null,null,null,{"$f":"Y34*I34","v":0},null,{"$f":"AA34*I34","v":0},{"$f":"Y34*I34*M34*44/12","v":0},{"$f":"AA34*I34*M34*44/12","v":0},null,{"$f":"AC34-AD34","v":0}]
[null,null,null,null,null,null,null,null,null,null,"GＪ/千ｍ３",null,1.3599999999999999E-2,null,null,null,null,null,null,null,null,null,null,null,null,{"$f":"Y35*I35","v":0},null,0,0,0,null,{"$f":"AC35-AD35","v":0}]
[null,null,null,null,null,null,null,null,null,null,"GＪ/千ｍ３",null,1.3599999999999999E-2,null,null,null,null,null,null,null,null,null,null,null,null,0,null,0,0,0,null,0]
[null,null,null,null,null,null,null,null,null,null,"GＪ/千ｍ３",null,1.3599999999999999E-2,null,null,null,null,null,null,null,null,null,null,null,null,0,null,0,0,0,null,0]
[null,null,null,null,null,null,null,null,null,null,"GＪ/千ｍ３",null,1.3599999999999999E-2,null,null,null,null,null,null,null,null,null,null,null,null,0,null,0,0,0,null,0]
[null,null,null,null,null,null,null,null,null,null,"GＪ/千ｍ３",null,1.3599999999999999E-2,null,null,null,null,null,null,null,null,null,null,null,null,0,null,0,0,0,null,0]
[null,null,null,null,null,null,null,null,null,null,"GＪ/千ｍ３",null,1.3599999999999999E-2,null,null,null,null,null,null,null,null,null,null,null,null,0,null,0,0,0,null,0]
[null,null,null,null,null,null,null,null,null,null,"GＪ/千ｍ３",null,1.3599999999999999E-2,null,null,null,null,null,null,null,null,null,null,null,null,0,null,0,0,0,null,0]
[null,null,null,null,null,null,null,null,null,null,"GＪ/千ｍ３",null,1.3599999999999999E-2,null,null,null,null,null,null,null,null,null,null,null,null,0,null,0,0,0,null,0]
[null,null,null,null,null,null,null,null,null,null,"GＪ/千ｍ３",null,1.3599999999999999E-2,null,null,null,null,null,null,null,null,null,null,null,null,0,null,0,0,0,null,0]
[null,null,null,null,null,null,null,null,null,null,"GＪ/千ｍ３",null,1.3599999999999999E-2,null,null,null,null,null,null,null,null,null,null,null,null,0,null,0,0,0,null,0]
[null,null,null,null,null,null,null,null,null,null,"GＪ/千ｍ３",null,1.3599999999999999E-2,null,null,null,null,null,null,null,null,null,null,null,null,0,null,0,0,0,null,0]
[null,null,null,null,null,null,null,null,null,null,"GＪ/千ｍ３",null,1.3599999999999999E-2,null,null,null,null,null,null,null,null,null,null,null,null,0,null,0,0,0,null,0]
[null,null,null,null,null,null,null,null,null,null,"GＪ/千ｍ３",null,1.3599999999999999E-2,null,null,null,null,null,null,null,null,null,null,null,null,0,null,0,0,0,null,0]
[null,null,null,null,null,null,null,null,null,null,"GＪ/千ｍ３",null,1.3599999999999999E-2,null,null,null,null,null,null,null,null,null,null,null,null,0,null,0,0,0,null,0]
[null,null,null,null,null,null,null,null,null,null,"GＪ/千ｍ３",null,1.3599999999999999E-2,null,null,null,null,null,null,null,null,null,null,null,null,0,null,0,0,0,null,0]
[null,null,null,null,null,null,null,null,null,null,"GＪ/千ｍ３",null,1.3599999999999999E-2,null,null,null,null,null,null,null,null,null,null,null,null,0,null,0,0,0,null,0]
[null,null,null,null,null,null,null,null,null,null,"GＪ/千ｍ３",null,1.3599999999999999E-2,null,null,null,null,null,null,null,null,null,null,null,null,0,null,0,0,0,null,0]
[null,null,null,null,null,null,null,null,null,null,"GＪ/千ｍ３",null,1.3599999999999999E-2,null,null,null,null,null,null,null,null,null,null,null,null,0,null,0,0,0,null,0]
[null,null,null,null,null,null,null,null,null,null,"GＪ/千ｍ３",null,1.3599999999999999E-2,null,null,null,null,null,null,null,null,null,null,null,null,0,null,0,0,0,null,0]
[]
[null,null,null,{"$f":"IF(COUNTIF(I34:I53,\"\")=COUNTIF(J34:J53,\"\"),\"\",\"都市ガスは「係数」｢規格」両方に記入して下さい\")","v":""},null,null,null,null,null,null,null,null,null,null,null,null,null,null,null,null,null,null,null,"（合計）",{"$f":"SUM(Y34:Y53)","v":0},0,0,0,0,0,null,{"$f":"SUM(AF34:AF53)","v":0}]
[null,null,null,"エネルギー名",null,null,null,null,"単位発熱\n係数",null,"単位\n▼から選択",null,"CO2排出係数",null,null,null,null,null,null,null,null,null,null,null,null,"↓",null,"↓","↓"]
[null,null,null,null,null,null,null,null,{"$f":"IF(RIGHT(D57,3)=\"推計値\",CO2計算!U$27,IF(OR(LEFT(D57,6)=\"ジェット燃料\",LEFT(D57,5)=\"航空機燃料\"),CO2計算!U$28,IF(D57=\"ガソリン\",CO2計算!U$6,\"\")))","v":""},"-",{"$f":"IF(RIGHT(D57,3)=\"推計値\",\"GJ/GJ\",IF(OR(LEFT(D57,6)=\"ジェット燃料\",LEFT(D57,5)=\"航空機燃料\",D57=\"ガソリン\"),\"GJ/kl\",\"\"))","v":""},null,{"$f":"IF(RIGHT(D57,3)=\"推計値\",0.057,IF(OR(LEFT(D57,6)=\"ジェット燃料\",LEFT(D57,5)=\"航空機燃料\"),CO2計算!W$28,IF(D57=\"ガソリン\",CO2計算!W$6,\"－\")))","v":"－"},null,null,{"$f":"IF(OR(RIGHT(D57,3)=\"推計値\",LEFT(D57,6)=\"ジェット燃料\",LEFT(D57,5)=\"航空機燃料\",D57=\"ガソリン\"),\"CO2排出報告対象です\",\"\")","v":""},null,null,null,null,null,{"$f":"IF(RIGHT(D57,3)=\"推計値\",CO2計算!U$27,IF(OR(LEFT(D57,6)=\"ジェット燃料\",LEFT(D57,5)=\"航空機燃料\"),CO2計算!U$28,IF(D57=\"ガソリン\",CO2計算!U$6,\"\")))","v":""},{"$f":"IF(RIGHT(D57,3)=\"推計値\",\"GJ/GJ\",IF(OR(LEFT(D57,6)=\"ジェット燃料\",LEFT(D57,5)=\"航空機燃料\",D57=\"ガソリン\"),\"GJ/kl\",\"\"))","v":""},{"$f":"IF(RIGHT(D57,3)=\"推計値\",0.057,IF(OR(LEFT(D57,6)=\"ジェット燃料\",LEFT(D57,5)=\"航空機燃料\"),CO2計算!W$28,IF(D57=\"ガソリン\",CO2計算!W$6,\"－\")))","v":"－"},null," 　特定-第２表およびCO2計算シートに計算結果が反映されます。"]
[null,null,null,null,null,null,null,null,{"$f":"IF(RIGHT(D58,3)=\"推計値\",CO2計算!U$27,IF(OR(LEFT(D58,6)=\"ジェット燃料\",LEFT(D58,5)=\"航空機燃料\"),CO2計算!U$28,IF(D58=\"ガソリン\",CO2計算!U$6,\"\")))","v":""},"-",{"$f":"IF(RIGHT(D58,3)=\"推計値\",\"GJ/GJ\",IF(OR(LEFT(D58,6)=\"ジェット燃料\",LEFT(D58,5)=\"航空機燃料\",D58=\"ガソリン\"),\"GJ/kl\",\"\"))","v":""},null,{"$f":"IF(RIGHT(D58,3)=\"推計値\",0.057,IF(OR(LEFT(D58,6)=\"ジェット燃料\",LEFT(D58,5)=\"航空機燃料\"),CO2計算!W$28,IF(D58=\"ガソリン\",CO2計算!W$6,\"－\")))","v":"－"},null,null,{"$f":"IF(OR(RIGHT(D58,3)=\"推計値\",LEFT(D58,6)=\"ジェット燃料\",LEFT(D58,5)=\"航空機燃料\",D58=\"ガソリン\"),\"CO2排出報告対象です\",\"\")","v":""},null,null,null,null,null,{"$f":"IF(RIGHT(D58,3)=\"推計値\",CO2計算!U$27,IF(OR(LEFT(D58,6)=\"ジェット燃料\",LEFT(D58,5)=\"航空機燃料\"),CO2計算!U$28,IF(D58=\"ガソリン\",CO2計算!U$6,\"\")))","v":""},{"$f":"IF(RIGHT(D58,3)=\"推計値\",\"GJ/GJ\",IF(OR(LEFT(D58,6)=\"ジェット燃料\",LEFT(D58,5)=\"航空機燃料\",D58=\"ガソリン\"),\"GJ/kl\",\"\"))","v":""},{"$f":"IF(RIGHT(D58,3)=\"推計値\",0.057,IF(OR(LEFT(D58,6)=\"ジェット燃料\",LEFT(D58,5)=\"航空機燃料\"),CO2計算!W$28,IF(D58=\"ガソリン\",CO2計算!W$6,\"－\")))","v":"－"}]
[null,null,null,null,null,null,null,null,{"$f":"IF(RIGHT(D59,3)=\"推計値\",CO2計算!U$27,IF(OR(LEFT(D59,6)=\"ジェット燃料\",LEFT(D59,5)=\"航空機燃料\"),CO2計算!U$28,IF(D59=\"ガソリン\",CO2計算!U$6,\"\")))","v":""},"-","",null,{"$f":"IF(RIGHT(D59,3)=\"推計値\",0.057,IF(OR(LEFT(D59,6)=\"ジェット燃料\",LEFT(D59,5)=\"航空機燃料\"),CO2計算!W$28,IF(D59=\"ガソリン\",CO2計算!W$6,\"－\")))","v":"－"},null,null,"",null,null,null,null,null,{"$f":"IF(RIGHT(D59,3)=\"推計値\",CO2計算!U$27,IF(OR(LEFT(D59,6)=\"ジェット燃料\",LEFT(D59,5)=\"航空機燃料\"),CO2計算!U$28,IF(D59=\"ガソリン\",CO2計算!U$6,\"\")))","v":""},"",{"$f":"IF(RIGHT(D59,3)=\"推計値\",0.057,IF(OR(LEFT(D59,6)=\"ジェット燃料\",LEFT(D59,5)=\"航空機燃料\"),CO2計算!W$28,IF(D59=\"ガソリン\",CO2計算!W$6,\"－\")))","v":"－"}]
[null,null,null,null,null,null,null,null,{"$f":"IF(RIGHT(D60,3)=\"推計値\",CO2計算!U$27,IF(OR(LEFT(D60,6)=\"ジェット燃料\",LEFT(D60,5)=\"航空機燃料\"),CO2計算!U$28,IF(D60=\"ガソリン\",CO2計算!U$6,\"\")))","v":""},"-","",null,{"$f":"IF(RIGHT(D60,3)=\"推計値\",0.057,IF(OR(LEFT(D60,6)=\"ジェット燃料\",LEFT(D60,5)=\"航空機燃料\"),CO2計算!W$28,IF(D60=\"ガソリン\",CO2計算!W$6,\"－\")))","v":"－"},null,null,"",null,null,null,null,null,{"$f":"IF(RIGHT(D60,3)=\"推計値\",CO2計算!U$27,IF(OR(LEFT(D60,6)=\"ジェット燃料\",LEFT(D60,5)=\"航空機燃料\"),CO2計算!U$28,IF(D60=\"ガソリン\",CO2計算!U$6,\"\")))","v":""},"",{"$f":"IF(RIGHT(D60,3)=\"推計値\",0.057,IF(OR(LEFT(D60,6)=\"ジェット燃料\",LEFT(D60,5)=\"航空機燃料\"),CO2計算!W$28,IF(D60=\"ガソリン\",CO2計算!W$6,\"－\")))","v":"－"}]
[null,null,null,null,null,null,null,null,{"$f":"IF(RIGHT(D61,3)=\"推計値\",CO2計算!U$27,IF(OR(LEFT(D61,6)=\"ジェット燃料\",LEFT(D61,5)=\"航空機燃料\"),CO2計算!U$28,IF(D61=\"ガソリン\",CO2計算!U$6,\"\")))","v":""},"-","",null,{"$f":"IF(RIGHT(D61,3)=\"推計値\",0.057,IF(OR(LEFT(D61,6)=\"ジェット燃料\",LEFT(D61,5)=\"航空機燃料\"),CO2計算!W$28,IF(D61=\"ガソリン\",CO2計算!W$6,\"－\")))","v":"－"},null,null,"",null,null,null,null,null,{"$f":"IF(RIGHT(D61,3)=\"推計値\",CO2計算!U$27,IF(OR(LEFT(D61,6)=\"ジェット燃料\",LEFT(D61,5)=\"航空機燃料\"),CO2計算!U$28,IF(D61=\"ガソリン\",CO2計算!U$6,\"\")))","v":""},"",{"$f":"IF(RIGHT(D61,3)=\"推計値\",0.057,IF(OR(LEFT(D61,6)=\"ジェット燃料\",LEFT(D61,5)=\"航空機燃料\"),CO2計算!W$28,IF(D61=\"ガソリン\",CO2計算!W$6,\"－\")))","v":"－"}]
[null,null,null,null,null,null,null,null,{"$f":"IF(RIGHT(D62,3)=\"推計値\",CO2計算!U$27,IF(OR(LEFT(D62,6)=\"ジェット燃料\",LEFT(D62,5)=\"航空機燃料\"),CO2計算!U$28,IF(D62=\"ガソリン\",CO2計算!U$6,\"\")))","v":""},"-","",null,{"$f":"IF(RIGHT(D62,3)=\"推計値\",0.057,IF(OR(LEFT(D62,6)=\"ジェット燃料\",LEFT(D62,5)=\"航空機燃料\"),CO2計算!W$28,IF(D62=\"ガソリン\",CO2計算!W$6,\"－\")))","v":"－"},null,null,"",null,null,null,null,null,{"$f":"IF(RIGHT(D62,3)=\"推計値\",CO2計算!U$27,IF(OR(LEFT(D62,6)=\"ジェット燃料\",LEFT(D62,5)=\"航空機燃料\"),CO2計算!U$28,IF(D62=\"ガソリン\",CO2計算!U$6,\"\")))","v":""},"",{"$f":"IF(RIGHT(D62,3)=\"推計値\",0.057,IF(OR(LEFT(D62,6)=\"ジェット燃料\",LEFT(D62,5)=\"航空機燃料\"),CO2計算!W$28,IF(D62=\"ガソリン\",CO2計算!W$6,\"－\")))","v":"－"}]
[null,null,null,null,null,null,null,null,{"$f":"IF(RIGHT(D63,3)=\"推計値\",CO2計算!U$27,IF(OR(LEFT(D63,6)=\"ジェット燃料\",LEFT(D63,5)=\"航空機燃料\"),CO2計算!U$28,IF(D63=\"ガソリン\",CO2計算!U$6,\"\")))","v":""},"-","",null,{"$f":"IF(RIGHT(D63,3)=\"推計値\",0.057,IF(OR(LEFT(D63,6)=\"ジェット燃料\",LEFT(D63,5)=\"航空機燃料\"),CO2計算!W$28,IF(D63=\"ガソリン\",CO2計算!W$6,\"－\")))","v":"－"},null,null,"",null,null,null,null,null,{"$f":"IF(RIGHT(D63,3)=\"推計値\",CO2計算!U$27,IF(OR(LEFT(D63,6)=\"ジェット燃料\",LEFT(D63,5)=\"航空機燃料\"),CO2計算!U$28,IF(D63=\"ガソリン\",CO2計算!U$6,\"\")))","v":""},"",{"$f":"IF(RIGHT(D63,3)=\"推計値\",0.057,IF(OR(LEFT(D63,6)=\"ジェット燃料\",LEFT(D63,5)=\"航空機燃料\"),CO2計算!W$28,IF(D63=\"ガソリン\",CO2計算!W$6,\"－\")))","v":"－"}]
[null,null,null,null,null,null,null,null,{"$f":"IF(RIGHT(D64,3)=\"推計値\",CO2計算!U$27,IF(OR(LEFT(D64,6)=\"ジェット燃料\",LEFT(D64,5)=\"航空機燃料\"),CO2計算!U$28,IF(D64=\"ガソリン\",CO2計算!U$6,\"\")))","v":""},"-","",null,{"$f":"IF(RIGHT(D64,3)=\"推計値\",0.057,IF(OR(LEFT(D64,6)=\"ジェット燃料\",LEFT(D64,5)=\"航空機燃料\"),CO2計算!W$28,IF(D64=\"ガソリン\",CO2計算!W$6,\"－\")))","v":"－"},null,null,"",null,null,null,null,null,{"$f":"IF(RIGHT(D64,3)=\"推計値\",CO2計算!U$27,IF(OR(LEFT(D64,6)=\"ジェット燃料\",LEFT(D64,5)=\"航空機燃料\"),CO2計算!U$28,IF(D64=\"ガソリン\",CO2計算!U$6,\"\")))","v":""},"",{"$f":"IF(RIGHT(D64,3)=\"推計値\",0.057,IF(OR(LEFT(D64,6)=\"ジェット燃料\",LEFT(D64,5)=\"航空機燃料\"),CO2計算!W$28,IF(D64=\"ガソリン\",CO2計算!W$6,\"－\")))","v":"－"}]
[null,null,null,null,null,null,null,null,{"$f":"IF(RIGHT(D65,3)=\"推計値\",CO2計算!U$27,IF(OR(LEFT(D65,6)=\"ジェット燃料\",LEFT(D65,5)=\"航空機燃料\"),CO2計算!U$28,IF(D65=\"ガソリン\",CO2計算!U$6,\"\")))","v":""},"-","",null,{"$f":"IF(RIGHT(D65,3)=\"推計値\",0.057,IF(OR(LEFT(D65,6)=\"ジェット燃料\",LEFT(D65,5)=\"航空機燃料\"),CO2計算!W$28,IF(D65=\"ガソリン\",CO2計算!W$6,\"－\")))","v":"－"},null,null,"",null,null,null,null,null,{"$f":"IF(RIGHT(D65,3)=\"推計値\",CO2計算!U$27,IF(OR(LEFT(D65,6)=\"ジェット燃料\",LEFT(D65,5)=\"航空機燃料\"),CO2計算!U$28,IF(D65=\"ガソリン\",CO2計算!U$6,\"\")))","v":""},"",{"$f":"IF(RIGHT(D65,3)=\"推計値\",0.057,IF(OR(LEFT(D65,6)=\"ジェット燃料\",LEFT(D65,5)=\"航空機燃料\"),CO2計算!W$28,IF(D65=\"ガソリン\",CO2計算!W$6,\"－\")))","v":"－"}]
[null,null,null,null,null,null,null,null,{"$f":"IF(RIGHT(D66,3)=\"推計値\",CO2計算!U$27,IF(OR(LEFT(D66,6)=\"ジェット燃料\",LEFT(D66,5)=\"航空機燃料\"),CO2計算!U$28,IF(D66=\"ガソリン\",CO2計算!U$6,\"\")))","v":""},"-","",null,{"$f":"IF(RIGHT(D66,3)=\"推計値\",0.057,IF(OR(LEFT(D66,6)=\"ジェット燃料\",LEFT(D66,5)=\"航空機燃料\"),CO2計算!W$28,IF(D66=\"ガソリン\",CO2計算!W$6,\"－\")))","v":"－"},null,null,"",null,null,null,null,null,{"$f":"IF(RIGHT(D66,3)=\"推計値\",CO2計算!U$27,IF(OR(LEFT(D66,6)=\"ジェット燃料\",LEFT(D66,5)=\"航空機燃料\"),CO2計算!U$28,IF(D66=\"ガソリン\",CO2計算!U$6,\"\")))","v":""},"",{"$f":"IF(RIGHT(D66,3)=\"推計値\",0.057,IF(OR(LEFT(D66,6)=\"ジェット燃料\",LEFT(D66,5)=\"航空機燃料\"),CO2計算!W$28,IF(D66=\"ガソリン\",CO2計算!W$6,\"－\")))","v":"－"}]
[null,null,null,null,null,null,null,null,{"$f":"IF(RIGHT(D67,3)=\"推計値\",CO2計算!U$27,IF(OR(LEFT(D67,6)=\"ジェット燃料\",LEFT(D67,5)=\"航空機燃料\"),CO2計算!U$28,IF(D67=\"ガソリン\",CO2計算!U$6,\"\")))","v":""},"-","",null,{"$f":"IF(RIGHT(D67,3)=\"推計値\",0.057,IF(OR(LEFT(D67,6)=\"ジェット燃料\",LEFT(D67,5)=\"航空機燃料\"),CO2計算!W$28,IF(D67=\"ガソリン\",CO2計算!W$6,\"－\")))","v":"－"},null,null,"",null,null,null,null,null,{"$f":"IF(RIGHT(D67,3)=\"推計値\",CO2計算!U$27,IF(OR(LEFT(D67,6)=\"ジェット燃料\",LEFT(D67,5)=\"航空機燃料\"),CO2計算!U$28,IF(D67=\"ガソリン\",CO2計算!U$6,\"\")))","v":""},"",{"$f":"IF(RIGHT(D67,3)=\"推計値\",0.057,IF(OR(LEFT(D67,6)=\"ジェット燃料\",LEFT(D67,5)=\"航空機燃料\"),CO2計算!W$28,IF(D67=\"ガソリン\",CO2計算!W$6,\"－\")))","v":"－"}]
[]
[null,null,null,{"$f":"IF(AND(COUNTIF(D57:D67,\"\")=COUNTIF(I57:I67,\"\"),COUNTIF(I57:I67,\"\")=COUNTIF(K57:K67,\"\")),\"\",\"入力欄の記入もれはありませんか　確認して下さい\")","v":""},null,null,null,null,null,null,null,null,"↓",null,"↓"]
[null,null,null,"※「その他の燃料」に「推計値」等の排出報告対象がある場合は、特定－第２表とCO２計算シートの使用量、排出量を確認して下さい。"]
[]
[null,null,"②","電気（二酸化炭素排出係数）",null,null,null,null,null,null,null,null,null,null,null,null,null,null,null,null,null,null,null,null,null,null,null,null,null,null,null,"係数（上：実排出　下：調整後排出）"]
[null,null,null,"電気事業者（一般電気事業者及び特定規模電気事業者（PPS））から供給された電気を使用している場合は、国が公表する電気事業者",null,null,null,null,null,null,null,null,null,null,null,null,null,null,null,null,null,null,null,null,null,"　",0,"電気会社件数",{"$f":"IF(COUNTA(I79:I118)=0,1,COUNTA(I79:I118))","v":1},"実排出合計",null,{"$f":"IF(SUMIF(I79:I118,\">\"&Z73,L79:L118)=0,L79,SUMIF(I79:I118,\">\"&Z73,L79:L118))","v":0.57899999999999996},{"$f":"IF(AF73/AC73=L79,L79,\"N/A\")","v":0.57899999999999996}]
[null,null,null,"ごとの排出係数を入力してください。それ以外の者から供給された電気を使用している場合は、実測等に基づく適切な排出係数を入力してください。",null,null,null,null,null,null,null,null,null,null,null,null,null,null,null,null,null,null,null,null,null,null,null,null,null,"調整後合計",null,{"$f":"IF(SUMIF(I79:I118,\">\"&Z73,AH79:AH118)=0,0,SUMIF(I79:I118,\">\"&Z73,AH79:AH118))","v":0},{"$f":"IF(AF74/AC73=AH79,AH79,\"N/A\")","v":"N/A"}]
[null,null,null,"排出係数を算定することができない場合は、環境大臣・経済産業大臣が公表する係数（代替値）",null,null,null,null,null,null,null,null,null,null,null,null,null,null,0.57899999999999996,null,"tCO２/千kWhを入力して下さい。"]
[null,null,null,null,null,null,null,null,"電気事業者ごとの排出係数を入力してください",null,null,null,null,null,null,null,null,null,null,null,null,null,null,null,"買電量\n千kWh","うち電気需要\n平準化時間帯","買電\n熱量GJ","うち電気需要\n平準化時間帯","CO2\n排出量","うち電気需要\n平準化時間帯",null,"調整後\nCO2排出量","うち電気\n需要平準化\n時間帯","調整後\n排出係数"]
[null,null,null,"エネルギー名",null,null,null,null,null,null,null,null,null,null,null,null,null,null,null,null,null,"※ここに電気事業者ごとの　　　"]
[null,null,null,null,null,null,null,null,"（▼から事業者を選択）",null,null,"二酸化炭素（tCO2/千kWh）",null,null,null,null,null,null,null,null,null,"　買電量を入力して下さい。　→"]
[null,null,null,"昼間買電",null,null,null,null,null,null,null,{"$f":"IF(I79=0,S75,VLOOKUP(I79,電気事業者係数,2,FALSE))","v":0.57899999999999996},null,null,null,{"$f":"IF(I79>0,1,0)","v":0},{"$f":"IF(L79=\"\",S75,L79)","v":0.57899999999999996},{"$f":"IF(I79>0,IF(I79=\"代替値\",\"代替値\"&FIXED(L79,3)&\"を使用します\",\"事業者から提供されたCO2排出係数\"&FIXED(L79,3)&\"を使用します\"))","v":false},null,null,null,null,null,"昼間",null,null,{"$f":"IF(Y79*VLOOKUP(D79,係数,2,FALSE)=0,\"\",Y79*VLOOKUP(D79,係数,2,FALSE))","v":""},{"$f":"IF(Z79*VLOOKUP(D79,係数,2,FALSE)=0,\"\",Z79*VLOOKUP(D79,係数,2,FALSE))","v":""},{"$f":"IF(Y79=\"\",\"\",Y79*L79)","v":""},{"$f":"IF(Z79=\"\",\"\",Z79*L79)","v":""},null,{"$f":"IF(Y79=\"\",\"\",IF(AH79=\"\",\"\",Y79*AH79))","v":""},{"$f":"IF(Z79=\"\",\"\",IF(AH79=\"\",\"\",Z79*AH79))","v":""},{"$f":"IF(I79=0,S75,VLOOKUP(I79,電気事業者係数,3,FALSE))","v":0.57899999999999996}]
[null,null,null,"夜間買電",null,null,null,null,null,null,null,null,null,null,null,null,null,null,null,null,null,null,null,"夜間",null,null,"",null,{"$f":"IF(Y80=\"\",\"\",Y80*L79)","v":""},null,null,{"$f":"IF(Y80=\"\",\"\",IF(AH79=\"\",\"\",Y80*AH79))","v":""}]
[null,null,null,"昼間買電",null,null,null,null,null,null,null,{"$f":"IF(I81=0,S75,VLOOKUP(I81,電気事業者係数,2,FALSE))","v":0.57899999999999996},null,null,null,{"$f":"IF(I81>0,1,0)","v":0},{"$f":"IF(L81=\"\",S75,L81)","v":0.57899999999999996},{"$f":"IF(I81>0,IF(I81=\"代替値\",\"代替値\"&FIXED(L81,3)&\"を使用します\",\"事業者から提供されたCO2排出係数\"&FIXED(L81,3)&\"を使用します\"))","v":false},null,null,null,null,null,"昼間",null,null,"",{"$f":"IF(Z81*VLOOKUP(D81,係数,2,FALSE)=0,\"\",Z81*VLOOKUP(D81,係数,2,FALSE))","v":""},{"$f":"IF(Y81=\"\",\"\",Y81*L81)","v":""},{"$f":"IF(Z81=\"\",\"\",Z81*L81)","v":""},null,{"$f":"IF(Y81=\"\",\"\",IF(AH81=\"\",\"\",Y81*AH81))","v":""},{"$f":"IF(Z81=\"\",\"\",IF(AH81=\"\",\"\",Z81*AH81))","v":""},{"$f":"IF(I81=0,S75,VLOOKUP(I81,電気事業者係数,3,FALSE))","v":0.57899999999999996}]
[null,null,null,"夜間買電",null,null,null,null,null,null,null,null,null,null,null,null,null,null,null,null,null,null,null,"夜間",null,null,"",null,{"$f":"IF(Y82=\"\",\"\",Y82*L81)","v":""},null,null,{"$f":"IF(Y82=\"\",\"\",IF(AH81=\"\",\"\",Y82*AH81))","v":""}]
[null,null,null,"昼間買電",null,null,null,null,null,null,null,{"$f":"IF(I83=0,S75,VLOOKUP(I83,電気事業者係数,2,FALSE))","v":0.57899999999999996},null,null,null,{"$f":"IF(I83>0,1,0)","v":0},{"$f":"IF(L83=\"\",S75,L83)","v":0.57899999999999996},{"$f":"IF(I83>0,IF(I83=\"代替値\",\"代替値\"&FIXED(L83,3)&\"を使用します\",\"事業者から提供されたCO2排出係数\"&FIXED(L83,3)&\"を使用します\"))","v":false},null,null,null,null,null,"昼間",null,null,"",{"$f":"IF(Z83*VLOOKUP(D83,係数,2,FALSE)=0,\"\",Z83*VLOOKUP(D83,係数,2,FALSE))","v":""},{"$f":"IF(Y83=\"\",\"\",Y83*L83)","v":""},{"$f":"IF(Z83=\"\",\"\",Z83*L83)","v":""},null,{"$f":"IF(Y83=\"\",\"\",IF(AH83=\"\",\"\",Y83*AH83))","v":""},{"$f":"IF(Z83=\"\",\"\",IF(AH83=\"\",\"\",Z83*AH83))","v":""},{"$f":"IF(I83=0,S75,VLOOKUP(I83,電気事業者係数,3,FALSE))","v":0.57899999999999996}]
[null,null,null,"夜間買電",null,null,null,null,null,null,null,null,null,null,null,null,null,null,null,null,null,null,null,"夜間",null,null,"",null,{"$f":"IF(Y84=\"\",\"\",Y84*L83)","v":""},null,null,{"$f":"IF(Y84=\"\",\"\",IF(AH83=\"\",\"\",Y84*AH83))","v":""}]
[null,null,null,"昼間買電",null,null,null,null,null,null,null,{"$f":"IF(I85=0,S75,VLOOKUP(I85,電気事業者係数,2,FALSE))","v":0.57899999999999996},null,null,null,{"$f":"IF(I85>0,1,0)","v":0},{"$f":"IF(L85=\"\",S75,L85)","v":0.57899999999999996},{"$f":"IF(I85>0,IF(I85=\"代替値\",\"代替値\"&FIXED(L85,3)&\"を使用します\",\"事業者から提供されたCO2排出係数\"&FIXED(L85,3)&\"を使用します\"))","v":false},null,null,null,null,null,"昼間",null,null,"",{"$f":"IF(Z85*VLOOKUP(D85,係数,2,FALSE)=0,\"\",Z85*VLOOKUP(D85,係数,2,FALSE))","v":""},{"$f":"IF(Y85=\"\",\"\",Y85*L85)","v":""},{"$f":"IF(Z85=\"\",\"\",Z85*L85)","v":""},null,{"$f":"IF(Y85=\"\",\"\",IF(AH85=\"\",\"\",Y85*AH85))","v":""},{"$f":"IF(Z85=\"\",\"\",IF(AH85=\"\",\"\",Z85*AH85))","v":""},{"$f":"IF(I85=0,S75,VLOOKUP(I85,電気事業者係数,3,FALSE))","v":0.57899999999999996}]
[null,null,null,"夜間買電",null,null,null,null,null,null,null,null,null,null,null,null,null,null,null,null,null,null,null,"夜間",null,null,"",null,{"$f":"IF(Y86=\"\",\"\",Y86*L85)","v":""},null,null,{"$f":"IF(Y86=\"\",\"\",IF(AH85=\"\",\"\",Y86*AH85))","v":""}]
[null,null,null,"昼間買電",null,null,null,null,null,null,null,{"$f":"IF(I87=0,S75,VLOOKUP(I87,電気事業者係数,2,FALSE))","v":0.57899999999999996},null,null,null,{"$f":"IF(I87>0,1,0)","v":0},{"$f":"IF(L87=\"\",S75,L87)","v":0.57899999999999996},{"$f":"IF(I87>0,IF(I87=\"代替値\",\"代替値\"&FIXED(L87,3)&\"を使用します\",\"事業者から提供されたCO2排出係数\"&FIXED(L87,3)&\"を使用します\"))","v":false},null,null,null,null,null,"昼間",null,null,"",{"$f":"IF(Z87*VLOOKUP(D87,係数,2,FALSE)=0,\"\",Z87*VLOOKUP(D87,係数,2,FALSE))","v":""},{"$f":"IF(Y87=\"\",\"\",Y87*L87)","v":""},{"$f":"IF(Z87=\"\",\"\",Z87*L87)","v":""},null,{"$f":"IF(Y87=\"\",\"\",IF(AH87=\"\",\"\",Y87*AH87))","v":""},{"$f":"IF(Z87=\"\",\"\",IF(AH87=\"\",\"\",Z87*AH87))","v":""},{"$f":"IF(I87=0,S75,VLOOKUP(I87,電気事業者係数,3,FALSE))","v":0.57899999999999996}]
[null,null,null,"夜間買電",null,null,null,null,null,null,null,null,null,null,null,null,null,null,null,null,null,null,null,"夜間",null,null,"",null,{"$f":"IF(Y88=\"\",\"\",Y88*L87)","v":""},null,null,{"$f":"IF(Y88=\"\",\"\",IF(AH87=\"\",\"\",Y88*AH87))","v":""}]
[null,null,null,"昼間買電",null,null,null,null,null,null,null,{"$f":"IF(I89=0,S75,VLOOKUP(I89,電気事業者係数,2,FALSE))","v":0.57899999999999996},null,null,null,{"$f":"IF(I89>0,1,0)","v":0},{"$f":"IF(L89=\"\",S75,L89)","v":0.57899999999999996},{"$f":"IF(I89>0,IF(I89=\"代替値\",\"代替値\"&FIXED(L89,3)&\"を使用します\",\"事業者から提供されたCO2排出係数\"&FIXED(L89,3)&\"を使用します\"))","v":false},null,null,null,null,null,"昼間",null,null,"",{"$f":"IF(Z89*VLOOKUP(D89,係数,2,FALSE)=0,\"\",Z89*VLOOKUP(D89,係数,2,FALSE))","v":""},{"$f":"IF(Y89=\"\",\"\",Y89*L89)","v":""},{"$f":"IF(Z89=\"\",\"\",Z89*L89)","v":""},null,{"$f":"IF(Y89=\"\",\"\",IF(AH89=\"\",\"\",Y89*AH89))","v":""},{"$f":"IF(Z89=\"\",\"\",IF(AH89=\"\",\"\",Z89*AH89))","v":""},{"$f":"IF(I89=0,S75,VLOOKUP(I89,電気事業者係数,3,FALSE))","v":0.57899999999999996}]
[null,null,null,"夜間買電",null,null,null,null,null,null,null,null,null,null,null,null,null,null,null,null,null,null,null,"夜間",null,null,"",null,{"$f":"IF(Y90=\"\",\"\",Y90*L89)","v":""},null,null,{"$f":"IF(Y90=\"\",\"\",IF(AH89=\"\",\"\",Y90*AH89))","v":""}]
[null,null,null,"昼間買電",null,null,null,null,null,null,null,{"$f":"IF(I91=0,S75,VLOOKUP(I91,電気事業者係数,2,FALSE))","v":0.57899999999999996},null,null,null,{"$f":"IF(I91>0,1,0)","v":0},{"$f":"IF(L91=\"\",S75,L91)","v":0.57899999999999996},{"$f":"IF(I91>0,IF(I91=\"代替値\",\"代替値\"&FIXED(L91,3)&\"を使用します\",\"事業者から提供されたCO2排出係数\"&FIXED(L91,3)&\"を使用します\"))","v":false},null,null,null,null,null,"昼間",null,null,"",{"$f":"IF(Z91*VLOOKUP(D91,係数,2,FALSE)=0,\"\",Z91*VLOOKUP(D91,係数,2,FALSE))","v":""},{"$f":"IF(Y91=\"\",\"\",Y91*L91)","v":""},{"$f":"IF(Z91=\"\",\"\",Z91*L91)","v":""},null,{"$f":"IF(Y91=\"\",\"\",IF(AH91=\"\",\"\",Y91*AH91))","v":""},{"$f":"IF(Z91=\"\",\"\",IF(AH91=\"\",\"\",Z91*AH91))","v":""},{"$f":"IF(I91=0,S75,VLOOKUP(I91,電気事業者係数,3,FALSE))","v":0.57899999999999996}]
[null,null,null,"夜間買電",null,null,null,null,null,null,null,null,null,null,null,null,null,null,null,null,null,null,null,"夜間",null,null,"",null,{"$f":"IF(Y92=\"\",\"\",Y92*L91)","v":""},null,null,{"$f":"IF(Y92=\"\",\"\",IF(AH91=\"\",\"\",Y92*AH91))","v":""}]
[null,null,null,"昼間買電",null,null,null,null,null,null,null,{"$f":"IF(I93=0,S75,VLOOKUP(I93,電気事業者係数,2,FALSE))","v":0.57899999999999996},null,null,null,{"$f":"IF(I93>0,1,0)","v":0},{"$f":"IF(L93=\"\",S75,L93)","v":0.57899999999999996},{"$f":"IF(I93>0,IF(I93=\"代替値\",\"代替値\"&FIXED(L93,3)&\"を使用します\",\"事業者から提供されたCO2排出係数\"&FIXED(L93,3)&\"を使用します\"))","v":false},null,null,null,null,null,"昼間",null,null,"",{"$f":"IF(Z93*VLOOKUP(D93,係数,2,FALSE)=0,\"\",Z93*VLOOKUP(D93,係数,2,FALSE))","v":""},{"$f":"IF(Y93=\"\",\"\",Y93*L93)","v":""},{"$f":"IF(Z93=\"\",\"\",Z93*L93)","v":""},null,{"$f":"IF(Y93=\"\",\"\",IF(AH93=\"\",\"\",Y93*AH93))","v":""},{"$f":"IF(Z93=\"\",\"\",IF(AH93=\"\",\"\",Z93*AH93))","v":""},{"$f":"IF(I93=0,S75,VLOOKUP(I93,電気事業者係数,3,FALSE))","v":0.57899999999999996}]
[null,null,null,"夜間買電",null,null,null,null,null,null,null,null,null,null,null,null,null,null,null,null,null,null,null,"夜間",null,null,"",null,{"$f":"IF(Y94=\"\",\"\",Y94*L93)","v":""},null,null,{"$f":"IF(Y94=\"\",\"\",IF(AH93=\"\",\"\",Y94*AH93))","v":""}]
[null,null,null,"昼間買電",null,null,null,null,null,null,null,{"$f":"IF(I95=0,S75,VLOOKUP(I95,電気事業者係数,2,FALSE))","v":0.57899999999999996},null,null,null,{"$f":"IF(I95>0,1,0)","v":0},{"$f":"IF(L95=\"\",S75,L95)","v":0.57899999999999996},{"$f":"IF(I95>0,IF(I95=\"代替値\",\"代替値\"&FIXED(L95,3)&\"を使用します\",\"事業者から提供されたCO2排出係数\"&FIXED(L95,3)&\"を使用します\"))","v":false},null,null,null,null,null,"昼間",null,null,"",{"$f":"IF(Z95*VLOOKUP(D95,係数,2,FALSE)=0,\"\",Z95*VLOOKUP(D95,係数,2,FALSE))","v":""},{"$f":"IF(Y95=\"\",\"\",Y95*L95)","v":""},{"$f":"IF(Z95=\"\",\"\",Z95*L95)","v":""},null,{"$f":"IF(Y95=\"\",\"\",IF(AH95=\"\",\"\",Y95*AH95))","v":""},{"$f":"IF(Z95=\"\",\"\",IF(AH95=\"\",\"\",Z95*AH95))","v":""},{"$f":"IF(I95=0,S75,VLOOKUP(I95,電気事業者係数,3,FALSE))","v":0.57899999999999996}]
[null,null,null,"夜間買電",null,null,null,null,null,null,null,null,null,null,null,null,null,null,null,null,null,null,null,"夜間",null,null,"",null,{"$f":"IF(Y96=\"\",\"\",Y96*L95)","v":""},null,null,{"$f":"IF(Y96=\"\",\"\",IF(AH95=\"\",\"\",Y96*AH95))","v":""}]
[null,null,null,"昼間買電",null,null,null,null,null,null,null,{"$f":"IF(I97=0,S75,VLOOKUP(I97,電気事業者係数,2,FALSE))","v":0.57899999999999996},null,null,null,{"$f":"IF(I97>0,1,0)","v":0},{"$f":"IF(L97=\"\",S75,L97)","v":0.57899999999999996},{"$f":"IF(I97>0,IF(I97=\"代替値\",\"代替値\"&FIXED(L97,3)&\"を使用します\",\"事業者から提供されたCO2排出係数\"&FIXED(L97,3)&\"を使用します\"))","v":false},null,null,null,null,null,"昼間",null,null,"",{"$f":"IF(Z97*VLOOKUP(D97,係数,2,FALSE)=0,\"\",Z97*VLOOKUP(D97,係数,2,FALSE))","v":""},{"$f":"IF(Y97=\"\",\"\",Y97*L97)","v":""},{"$f":"IF(Z97=\"\",\"\",Z97*L97)","v":""},null,{"$f":"IF(Y97=\"\",\"\",IF(AH97=\"\",\"\",Y97*AH97))","v":""},{"$f":"IF(Z97=\"\",\"\",IF(AH97=\"\",\"\",Z97*AH97))","v":""},{"$f":"IF(I97=0,S75,VLOOKUP(I97,電気事業者係数,3,FALSE))","v":0.57899999999999996}]
[null,null,null,"夜間買電",null,null,null,null,null,null,null,null,null,null,null,null,null,null,null,null,null,null,null,"夜間",null,null,"",null,{"$f":"IF(Y98=\"\",\"\",Y98*L97)","v":""},null,null,{"$f":"IF(Y98=\"\",\"\",IF(AH97=\"\",\"\",Y98*AH97))","v":""}]
[null,null,null,"昼間買電",null,null,null,null,null,null,null,{"$f":"IF(I99=0,S75,VLOOKUP(I99,電気事業者係数,2,FALSE))","v":0.57899999999999996},null,null,null,{"$f":"IF(I99>0,1,0)","v":0},{"$f":"IF(L99=\"\",S75,L99)","v":0.57899999999999996},{"$f":"IF(I99>0,IF(I99=\"代替値\",\"代替値\"&FIXED(L99,3)&\"を使用します\",\"事業者から提供されたCO2排出係数\"&FIXED(L99,3)&\"を使用します\"))","v":false},null,null,null,null,null,"昼間",null,null,"",{"$f":"IF(Z99*VLOOKUP(D99,係数,2,FALSE)=0,\"\",Z99*VLOOKUP(D99,係数,2,FALSE))","v":""},{"$f":"IF(Y99=\"\",\"\",Y99*L99)","v":""},{"$f":"IF(Z99=\"\",\"\",Z99*L99)","v":""},null,{"$f":"IF(Y99=\"\",\"\",IF(AH99=\"\",\"\",Y99*AH99))","v":""},{"$f":"IF(Z99=\"\",\"\",IF(AH99=\"\",\"\",Z99*AH99))","v":""},{"$f":"IF(I99=0,S75,VLOOKUP(I99,電気事業者係数,3,FALSE))","v":0.57899999999999996}]
[null,null,null,"夜間買電",null,null,null,null,null,null,null,null,null,null,null,null,null,null,null,null,null,null,null,"夜間",null,null,"",null,{"$f":"IF(Y100=\"\",\"\",Y100*L99)","v":""},null,null,{"$f":"IF(Y100=\"\",\"\",IF(AH99=\"\",\"\",Y100*AH99))","v":""}]
[null,null,null,"昼間買電",null,null,null,null,null,null,null,{"$f":"IF(I101=0,S75,VLOOKUP(I101,電気事業者係数,2,FALSE))","v":0.57899999999999996},null,null,null,{"$f":"IF(I101>0,1,0)","v":0},{"$f":"IF(L101=\"\",S75,L101)","v":0.57899999999999996},{"$f":"IF(I101>0,IF(I101=\"代替値\",\"代替値\"&FIXED(L101,3)&\"を使用します\",\"事業者から提供されたCO2排出係数\"&FIXED(L101,3)&\"を使用します\"))","v":false},null,null,null,null,null,"昼間",null,null,"",{"$f":"IF(Z101*VLOOKUP(D101,係数,2,FALSE)=0,\"\",Z101*VLOOKUP(D101,係数,2,FALSE))","v":""},{"$f":"IF(Y101=\"\",\"\",Y101*L101)","v":""},{"$f":"IF(Z101=\"\",\"\",Z101*L101)","v":""},null,{"$f":"IF(Y101=\"\",\"\",IF(AH101=\"\",\"\",Y101*AH101))","v":""},{"$f":"IF(Z101=\"\",\"\",IF(AH101=\"\",\"\",Z101*AH101))","v":""},{"$f":"IF(I101=0,S75,VLOOKUP(I101,電気事業者係数,3,FALSE))","v":0.57899999999999996}]
[null,null,null,"夜間買電",null,null,null,null,null,null,null,null,null,null,null,null,null,null,null,null,null,null,null,"夜間",null,null,"",null,{"$f":"IF(Y102=\"\",\"\",Y102*L101)","v":""},null,null,{"$f":"IF(Y102=\"\",\"\",IF(AH101=\"\",\"\",Y102*AH101))","v":""}]
[null,null,null,"昼間買電",null,null,null,null,null,null,null,{"$f":"IF(I103=0,S75,VLOOKUP(I103,電気事業者係数,2,FALSE))","v":0.57899999999999996},null,null,null,{"$f":"IF(I103>0,1,0)","v":0},{"$f":"IF(L103=\"\",S75,L103)","v":0.57899999999999996},{"$f":"IF(I103>0,IF(I103=\"代替値\",\"代替値\"&FIXED(L103,3)&\"を使用します\",\"事業者から提供されたCO2排出係数\"&FIXED(L103,3)&\"を使用します\"))","v":false},null,null,null,null,null,"昼間",null,null,"",{"$f":"IF(Z103*VLOOKUP(D103,係数,2,FALSE)=0,\"\",Z103*VLOOKUP(D103,係数,2,FALSE))","v":""},{"$f":"IF(Y103=\"\",\"\",Y103*L103)","v":""},{"$f":"IF(Z103=\"\",\"\",Z103*L103)","v":""},null,{"$f":"IF(Y103=\"\",\"\",IF(AH103=\"\",\"\",Y103*AH103))","v":""},{"$f":"IF(Z103=\"\",\"\",IF(AH103=\"\",\"\",Z103*AH103))","v":""},{"$f":"IF(I103=0,S75,VLOOKUP(I103,電気事業者係数,3,FALSE))","v":0.57899999999999996}]
[null,null,null,"夜間買電",null,null,null,null,null,null,null,null,null,null,null,null,null,null,null,null,null,null,null,"夜間",null,null,"",null,{"$f":"IF(Y104=\"\",\"\",Y104*L103)","v":""},null,null,{"$f":"IF(Y104=\"\",\"\",IF(AH103=\"\",\"\",Y104*AH103))","v":""}]
[null,null,null,"昼間買電",null,null,null,null,null,null,null,{"$f":"IF(I105=0,S75,VLOOKUP(I105,電気事業者係数,2,FALSE))","v":0.57899999999999996},null,null,null,{"$f":"IF(I105>0,1,0)","v":0},{"$f":"IF(L105=\"\",S75,L105)","v":0.57899999999999996},{"$f":"IF(I105>0,IF(I105=\"代替値\",\"代替値\"&FIXED(L105,3)&\"を使用します\",\"事業者から提供されたCO2排出係数\"&FIXED(L105,3)&\"を使用します\"))","v":false},null,null,null,null,null,"昼間",null,null,"",{"$f":"IF(Z105*VLOOKUP(D105,係数,2,FALSE)=0,\"\",Z105*VLOOKUP(D105,係数,2,FALSE))","v":""},{"$f":"IF(Y105=\"\",\"\",Y105*L105)","v":""},{"$f":"IF(Z105=\"\",\"\",Z105*L105)","v":""},null,{"$f":"IF(Y105=\"\",\"\",IF(AH105=\"\",\"\",Y105*AH105))","v":""},{"$f":"IF(Z105=\"\",\"\",IF(AH105=\"\",\"\",Z105*AH105))","v":""},{"$f":"IF(I105=0,S75,VLOOKUP(I105,電気事業者係数,3,FALSE))","v":0.57899999999999996}]
[null,null,null,"夜間買電",null,null,null,null,null,null,null,null,null,null,null,null,null,null,null,null,null,null,null,"夜間",null,null,"",null,{"$f":"IF(Y106=\"\",\"\",Y106*L105)","v":""},null,null,{"$f":"IF(Y106=\"\",\"\",IF(AH105=\"\",\"\",Y106*AH105))","v":""}]
[null,null,null,"昼間買電",null,null,null,null,null,null,null,{"$f":"IF(I107=0,S75,VLOOKUP(I107,電気事業者係数,2,FALSE))","v":0.57899999999999996},null,null,null,{"$f":"IF(I107>0,1,0)","v":0},{"$f":"IF(L107=\"\",S75,L107)","v":0.57899999999999996},{"$f":"IF(I107>0,IF(I107=\"代替値\",\"代替値\"&FIXED(L107,3)&\"を使用します\",\"事業者から提供されたCO2排出係数\"&FIXED(L107,3)&\"を使用します\"))","v":false},null,null,null,null,null,"昼間",null,null,"",{"$f":"IF(Z107*VLOOKUP(D107,係数,2,FALSE)=0,\"\",Z107*VLOOKUP(D107,係数,2,FALSE))","v":""},{"$f":"IF(Y107=\"\",\"\",Y107*L107)","v":""},{"$f":"IF(Z107=\"\",\"\",Z107*L107)","v":""},null,{"$f":"IF(Y107=\"\",\"\",IF(AH107=\"\",\"\",Y107*AH107))","v":""},{"$f":"IF(Z107=\"\",\"\",IF(AH107=\"\",\"\",Z107*AH107))","v":""},{"$f":"IF(I107=0,S75,VLOOKUP(I107,電気事業者係数,3,FALSE))","v":0.57899999999999996}]
[null,null,null,"夜間買電",null,null,null,null,null,null,null,null,null,null,null,null,null,null,null,null,null,null,null,"夜間",null,null,"",null,{"$f":"IF(Y108=\"\",\"\",Y108*L107)","v":""},null,null,{"$f":"IF(Y108=\"\",\"\",IF(AH107=\"\",\"\",Y108*AH107))","v":""}]
[null,null,null,"昼間買電",null,null,null,null,null,null,null,{"$f":"IF(I109=0,S75,VLOOKUP(I109,電気事業者係数,2,FALSE))","v":0.57899999999999996},null,null,null,{"$f":"IF(I109>0,1,0)","v":0},{"$f":"IF(L109=\"\",S75,L109)","v":0.57899999999999996},{"$f":"IF(I109>0,IF(I109=\"代替値\",\"代替値\"&FIXED(L109,3)&\"を使用します\",\"事業者から提供されたCO2排出係数\"&FIXED(L109,3)&\"を使用します\"))","v":false},null,null,null,null,null,"昼間",null,null,"",{"$f":"IF(Z109*VLOOKUP(D109,係数,2,FALSE)=0,\"\",Z109*VLOOKUP(D109,係数,2,FALSE))","v":""},{"$f":"IF(Y109=\"\",\"\",Y109*L109)","v":""},{"$f":"IF(Z109=\"\",\"\",Z109*L109)","v":""},null,{"$f":"IF(Y109=\"\",\"\",IF(AH109=\"\",\"\",Y109*AH109))","v":""},{"$f":"IF(Z109=\"\",\"\",IF(AH109=\"\",\"\",Z109*AH109))","v":""},{"$f":"IF(I109=0,S75,VLOOKUP(I109,電気事業者係数,3,FALSE))","v":0.57899999999999996}]
[null,null,null,"夜間買電",null,null,null,null,null,null,null,null,null,null,null,null,null,null,null,null,null,null,null,"夜間",null,null,"",null,{"$f":"IF(Y110=\"\",\"\",Y110*L109)","v":""},null,null,{"$f":"IF(Y110=\"\",\"\",IF(AH109=\"\",\"\",Y110*AH109))","v":""}]
[null,null,null,"昼間買電",null,null,null,null,null,null,null,{"$f":"IF(I111=0,S75,VLOOKUP(I111,電気事業者係数,2,FALSE))","v":0.57899999999999996},null,null,null,{"$f":"IF(I111>0,1,0)","v":0},{"$f":"IF(L111=\"\",S75,L111)","v":0.57899999999999996},{"$f":"IF(I111>0,IF(I111=\"代替値\",\"代替値\"&FIXED(L111,3)&\"を使用します\",\"事業者から提供されたCO2排出係数\"&FIXED(L111,3)&\"を使用します\"))","v":false},null,null,null,null,null,"昼間",null,null,"",{"$f":"IF(Z111*VLOOKUP(D111,係数,2,FALSE)=0,\"\",Z111*VLOOKUP(D111,係数,2,FALSE))","v":""},{"$f":"IF(Y111=\"\",\"\",Y111*L111)","v":""},{"$f":"IF(Z111=\"\",\"\",Z111*L111)","v":""},null,{"$f":"IF(Y111=\"\",\"\",IF(AH111=\"\",\"\",Y111*AH111))","v":""},{"$f":"IF(Z111=\"\",\"\",IF(AH111=\"\",\"\",Z111*AH111))","v":""},{"$f":"IF(I111=0,S75,VLOOKUP(I111,電気事業者係数,3,FALSE))","v":0.57899999999999996}]
[null,null,null,"夜間買電",null,null,null,null,null,null,null,null,null,null,null,null,null,null,null,null,null,null,null,"夜間",null,null,"",null,{"$f":"IF(Y112=\"\",\"\",Y112*L111)","v":""},null,null,{"$f":"IF(Y112=\"\",\"\",IF(AH111=\"\",\"\",Y112*AH111))","v":""}]
[null,null,null,"昼間買電",null,null,null,null,null,null,null,{"$f":"IF(I113=0,S75,VLOOKUP(I113,電気事業者係数,2,FALSE))","v":0.57899999999999996},null,null,null,{"$f":"IF(I113>0,1,0)","v":0},{"$f":"IF(L113=\"\",S75,L113)","v":0.57899999999999996},{"$f":"IF(I113>0,IF(I113=\"代替値\",\"代替値\"&FIXED(L113,3)&\"を使用します\",\"事業者から提供されたCO2排出係数\"&FIXED(L113,3)&\"を使用します\"))","v":false},null,null,null,null,null,"昼間",null,null,"",{"$f":"IF(Z113*VLOOKUP(D113,係数,2,FALSE)=0,\"\",Z113*VLOOKUP(D113,係数,2,FALSE))","v":""},{"$f":"IF(Y113=\"\",\"\",Y113*L113)","v":""},{"$f":"IF(Z113=\"\",\"\",Z113*L113)","v":""},null,{"$f":"IF(Y113=\"\",\"\",IF(AH113=\"\",\"\",Y113*AH113))","v":""},{"$f":"IF(Z113=\"\",\"\",IF(AH113=\"\",\"\",Z113*AH113))","v":""},{"$f":"IF(I113=0,S75,VLOOKUP(I113,電気事業者係数,3,FALSE))","v":0.57899999999999996}]
[null,null,null,"夜間買電",null,null,null,null,null,null,null,null,null,null,null,null,null,null,null,null,null,null,null,"夜間",null,null,"",null,{"$f":"IF(Y114=\"\",\"\",Y114*L113)","v":""},null,null,{"$f":"IF(Y114=\"\",\"\",IF(AH113=\"\",\"\",Y114*AH113))","v":""}]
[null,null,null,"昼間買電",null,null,null,null,null,null,null,{"$f":"IF(I115=0,S75,VLOOKUP(I115,電気事業者係数,2,FALSE))","v":0.57899999999999996},null,null,null,{"$f":"IF(I115>0,1,0)","v":0},{"$f":"IF(L115=\"\",S75,L115)","v":0.57899999999999996},{"$f":"IF(I115>0,IF(I115=\"代替値\",\"代替値\"&FIXED(L115,3)&\"を使用します\",\"事業者から提供されたCO2排出係数\"&FIXED(L115,3)&\"を使用します\"))","v":false},null,null,null,null,null,"昼間",null,null,"",{"$f":"IF(Z115*VLOOKUP(D115,係数,2,FALSE)=0,\"\",Z115*VLOOKUP(D115,係数,2,FALSE))","v":""},{"$f":"IF(Y115=\"\",\"\",Y115*L115)","v":""},{"$f":"IF(Z115=\"\",\"\",Z115*L115)","v":""},null,{"$f":"IF(Y115=\"\",\"\",IF(AH115=\"\",\"\",Y115*AH115))","v":""},{"$f":"IF(Z115=\"\",\"\",IF(AH115=\"\",\"\",Z115*AH115))","v":""},{"$f":"IF(I115=0,S75,VLOOKUP(I115,電気事業者係数,3,FALSE))","v":0.57899999999999996}]
[null,null,null,"夜間買電",null,null,null,null,null,null,null,null,null,null,null,null,null,null,null,null,null,null,null,"夜間",null,null,"",null,{"$f":"IF(Y116=\"\",\"\",Y116*L115)","v":""},null,null,{"$f":"IF(Y116=\"\",\"\",IF(AH115=\"\",\"\",Y116*AH115))","v":""}]
[null,null,null,"昼間買電",null,null,null,null,null,null,null,{"$f":"IF(I117=0,S75,VLOOKUP(I117,電気事業者係数,2,FALSE))","v":0.57899999999999996},null,null,null,{"$f":"IF(I117>0,1,0)","v":0},{"$f":"IF(L117=\"\",S75,L117)","v":0.57899999999999996},{"$f":"IF(I117>0,IF(I117=\"代替値\",\"代替値\"&FIXED(L117,3)&\"を使用します\",\"事業者から提供されたCO2排出係数\"&FIXED(L117,3)&\"を使用します\"))","v":false},null,null,null,null,null,"昼間",null,null,"",{"$f":"IF(Z117*VLOOKUP(D117,係数,2,FALSE)=0,\"\",Z117*VLOOKUP(D117,係数,2,FALSE))","v":""},{"$f":"IF(Y117=\"\",\"\",Y117*L117)","v":""},{"$f":"IF(Z117=\"\",\"\",Z117*L117)","v":""},null,{"$f":"IF(Y117=\"\",\"\",IF(AH117=\"\",\"\",Y117*AH117))","v":""},{"$f":"IF(Z117=\"\",\"\",IF(AH117=\"\",\"\",Z117*AH117))","v":""},{"$f":"IF(I117=0,S75,VLOOKUP(I117,電気事業者係数,3,FALSE))","v":0.57899999999999996}]
[null,null,null,"夜間買電",null,null,null,null,null,null,null,null,null,null,null,null,null,null,null,null,null,null,null,"夜間",null,null,"",null,{"$f":"IF(Y118=\"\",\"\",Y118*L117)","v":""},null,null,{"$f":"IF(Y118=\"\",\"\",IF(AH117=\"\",\"\",Y118*AH117))","v":""}]
[null,null,null,null,null,null,null,null,null,null,null,null,null,null,null,null,null,null,null,null,null,null,null,"(合計)"]
[null,null,null,"上記以外の買電",null,null,null,null,null,null,null,null,null,null,null,{"$f":"IF(I120>0,1,0)","v":0},{"$f":"IF(L120=\"\",S75,L120)","v":0.57899999999999996},{"$f":"IF(I120>0,\"事業者から提供されたCO2排出係数\"&FIXED(L120,3)&\"を使用します\")","v":false},null,null,null,null,null,"昼間",{"$f":"SUM(Y79,Y81,Y83,Y85,Y87,Y89,Y91,Y93,Y95,Y97,Y99,Y101,Y103,Y105,Y107,Y109,Y111,Y113,Y115,Y117)","v":0},0,0,0,0,0,null,{"$f":"SUM(AF79,AF81,AF83,AF85,AF87,AF89,AF91,AF93,AF95,AF97,AF99,AF101,AF103,AF105,AF107,AF109,AF111,AF113,AF115,AF117)","v":0},{"$f":"SUM(AG79,AG81,AG83,AG85,AG87,AG89,AG91,AG93,AG95,AG97,AG99,AG101,AG103,AG105,AG107,AG109,AG111,AG113,AG115,AG117)","v":0}]
[null,null,null,{"$f":"IF(AND(I120=\"\",L120=\"\"),\"\",IF(AND(I120<>\"\",L120<>\"\"),\"\",\"入力欄の記入もれはありませんか　確認して下さい\"))","v":""},null,null,null,null,null,null,null,null,null,null,null,null,"買電量 千kWh",null,null,null,null,null,null,"夜間",{"$f":"SUM(Y80,Y82,Y84,Y86,Y88,Y90,Y92,Y94,Y96,Y98,Y100,Y102,Y104,Y106,Y108,Y110,Y112,Y114,Y116,Y118)","v":0},null,{"$f":"SUM(AA80,AA82,AA84,AA86,AA88,AA90,AA92,AA94,AA96,AA98,AA100,AA102,AA104,AA106,AA108,AA110,AA112,AA114,AA116,AA118)","v":0},null,{"$f":"SUM(AC80,AC82,AC84,AC86,AC88,AC90,AC92,AC94,AC96,AC98,AC100,AC102,AC104,AC106,AC108,AC110,AC112,AC114,AC116,AC118)","v":0},null,null,{"$f":"SUM(AF80,AF82,AF84,AF86,AF88,AF90,AF92,AF94,AF96,AF98,AF100,AF102,AF104,AF106,AF108,AF110,AF112,AF114,AF116,AF118)","v":0}]
[null,null,null,null,null,null,null,null,null,null,null,null,null,null,null,null,"熱量 GJ",null,null,{"$f":"IF(T121*VLOOKUP(D120,係数,2,FALSE)=0,\"\",T121*VLOOKUP(D120,係数,2,FALSE))","v":""},null,null,null,null,null,"↓",null,"↓","↓"]
[null,null,null,null,null,null,null,null,null,null,null,null,null,null,null,null,"CO2排出量",null,null,{"$f":"IF(T121=\"\",\"\",T121*Q120)","v":""},null,null,null,"→",null,"　 特定-第２表およびCO2計算シートに計算結果が反映されます。"]
[null,4,"他人に供給（又は使用）した電気又は熱の入力"]
[]
[null,null,"★","下記表の熱/電気は、法定換算係数に代えて当該熱/電気を発生させるために使用された燃料の発熱量を算定する上で適切と認められるものを用いることができます。"]
[null,null,null,"その場合は、係数の根拠となる資料を添付して下さい。"]
[null,null,"★","他人に電気又は熱を供給した場合、エネルギー起源ＣＯ２排出量から控除する必要があります。",null,null,null,null,null,null,null,null,null,null,null,null,null,null,null,null,null,"に下記算出式から求めた係数を必ず入力して下さい。"]
[null,null,null,null,null,{"$f":"IF(L124=\"発電所である\",2,IF(L124=\"熱供給事業者である\",3,1))","v":1}]
[null,null,"①　","一般事業者",null,null,null,"（熱の換算係数をデフォルト値以外の値を使用する場合や熱を販売した（無償含む）量がある場合）"]
[null,null,null,null,null,null,null,null,"法定係数以外を使用する場合の発熱係数",null,null,null,"CO2の排出係数"]
[null,null,null,"エネルギー名"]
[null,null,null,null,null,null,null,null,"係数",null,"単位",null,"二酸化炭素\n（ｔＣ/GJ, tCO2/千kWh）　"]
[null,null,null,"都市ガス",null,null,null,null,null,null,"GＪ/千ｍ３"]
[null,null,null,"産業用蒸気",null,null,null,null,null,null,"GＪ/GＪ",null,null,null,{"$f":"IF(M135=\"\",\"\",\"tCO2/GJ\")","v":""},null,null,null,{"$f":"COUNT(I135,I150,I167)","v":0},{"$f":"COUNT(M135,M150)","v":0}]
[null,null,null,"産業用以外の蒸気",null,null,null,null,null,null,"GＪ/GＪ",null,null,null,{"$f":"IF(M136=\"\",\"\",\"tCO2/GJ\")","v":""},null,null,null,{"$f":"COUNT(I136,I151)","v":0},{"$f":"COUNT(M136,M151)","v":0}]
[null,null,null,"温水",null,null,null,null,null,null,"GＪ/GＪ",null,null,null,{"$f":"IF(M137=\"\",\"\",\"tCO2/GJ\")","v":""},null,null,null,{"$f":"COUNT(I137,I152)","v":0},{"$f":"COUNT(M137,M152)","v":0}]
[null,null,null,"冷水",null,null,null,null,null,null,"GＪ/GＪ",null,null,null,{"$f":"IF(M138=\"\",\"\",\"tCO2/GJ\")","v":""},null,null,null,{"$f":"COUNT(I138,I153)","v":0},{"$f":"COUNT(M138,M153)","v":0}]
[null,null,null,"自家発電",null,null,null,null,null,null,"GJ/千ｋWh",null,null,null,{"$f":"IF(M139=\"\",\"\",\"tCO2/千kWh\")","v":""}]
[]
[null,null,null,null,null,null,null,null,{"$f":"IF(COUNT(I135:J139)=COUNT(M135:N139),\"\",\"入力欄の記入もれはありませんか 確認して下さい\")","v":""}]
[]
[null,null,"②","発電所"]
[null,null,null,"発電所の場合は、他人に供給した電気に伴う排出量を控除した"]
[null,null,null,"排出量に加え、燃料の使用に伴う排出量も報告する義務があります"]
[null,null,null,null,null,null,null,null,"法定係数値以外を使用する場合の発熱係数",null,null,null,"CO2の排出係数"]
[null,null,null,"エネルギー名"]
[null,null,null,null,null,null,null,null,"係数",null,"単位",null,"二酸化炭素\n（ｔＣ/GJ, tCO2/千kWh）　"]
[null,null,null,"都市ガス",null,null,null,null,null,null,"GＪ/千ｍ３"]
[null,null,null,"産業用蒸気",null,null,null,null,"z",null,"GＪ/GＪ",null,null,null,{"$f":"IF(M150=\"\",\"\",\"tCO2/GJ\")","v":""}]
[null,null,null,"産業用以外の蒸気",null,null,null,null,null,null,"GＪ/GＪ",null,null,null,{"$f":"IF(M151=\"\",\"\",\"tCO2/GJ\")","v":""}]
[null,null,null,"温水",null,null,null,null,null,null,"GＪ/GＪ",null,null,null,{"$f":"IF(M152=\"\",\"\",\"tCO2/GJ\")","v":""}]
[null,null,null,"冷水",null,null,null,null,null,null,"GＪ/GＪ",null,null,null,{"$f":"IF(M153=\"\",\"\",\"tCO2/GJ\")","v":""}]
[]
[null,null,null,null,null,null,null,null,"販売電気量",null,null,null,"CO2の排出係数"]
[null,null,null,"販売電気量（自家発電による販売量含む）",null,null,null,null,null,null,"千KWh",null,null,null,"tCO2/千kWh"]
[]
[null,null,null,null,null,null,null,null,{"$f":"IF(COUNTA(I150:J153)=COUNTA(M150:N153),\"\",\"入力欄の記入もれはありませんか 確認して下さい\")","v":"入力欄の記入もれはありませんか 確認して下さい"}]
[]
[null,null,"③","熱供給事業者"]
[null,null,null,"熱供給業を行う事業所の場合は、他人に供給した熱に伴う排出量を控除した"]
[null,null,null,"排出量に加え、燃料の使用に伴う排出量も報告する義務があります",null,null,null,null,null,null,null,null,null,null,{"$f":"COUNTA(K163:M164)","v":1}]
[null,null,null,null,null,null,null,null,"法定係数以外を使用する場合の発熱係数",null,null,null,"CO2の排出係数"]
[null,null,null,"エネルギー名"]
[null,null,null,null,null,null,null,null,"係数",null,"単位",null,"二酸化炭素\n（ｔＣ/GJ, tCO2/千kWh）　"]
[null,null,null,"都市ガス",null,null,null,null,null,null,"GＪ/千ｍ３"]
[null,null,null,"産業用蒸気",null,null,null,null,null,null,"GＪ/GＪ",null,null,null,{"$f":"IF(M167=\"\",\"\",\"tCO2/GJ\")","v":""}]
[null,null,null,"産業用以外の蒸気",null,null,null,null,null,null,"GＪ/GＪ",null,null,null,{"$f":"IF(M168=\"\",\"\",\"tCO2/GJ\")","v":""}]
[null,null,null,"温水",null,null,null,null,null,null,"GＪ/GＪ",null,null,null,{"$f":"IF(M169=\"\",\"\",\"tCO2/GJ\")","v":""}]
[null,null,null,"冷水",null,null,null,null,null,null,"GＪ/GＪ",null,null,null,{"$f":"IF(M170=\"\",\"\",\"tCO2/GJ\")","v":""}]
[null,null,null,"自家発電",null,null,null,null,null,null,"GJ/千ｋWh",null,null,null,"tCO2/千kWh"]
[null,null,null,null,null,null,null,null,"販売した熱の量",null,null,null,"CO2の排出係数"]
[null,null,null,"販売熱量",null,null,null,null,null,null,"ＧＪ",null,null,null,"tCO2/GJ"]
[]
[]
[null,null,"④","発電所、熱供給業"]
[null,null,null,"熱供給業を行う事業所の場合は、他人に供給した熱に伴う排出量を控除した"]
[null,null,null,"排出量に加え、燃料の使用に伴う排出量も報告する義務があります",null,null,null,null,null,null,null,null,null,null,{"$f":"COUNTA(K179:M180)","v":1}]
[null,null,null,null,null,null,null,null,"法定係数以外を使用する場合の発熱係数",null,null,null,"CO2の排出係数"]
[null,null,null,"エネルギー名"]
[null,null,null,null,null,null,null,null,"係数",null,"単位",null,"二酸化炭素\n（ｔＣ/GJ, tCO2/千kWh）　"]
[null,null,null,"都市ガス",null,null,null,null,{"$f":"IF(#REF!=\"\",\"\",#REF!)","v":{"$error":"#REF!"}},null,"GＪ/千ｍ３"]
[null,null,null,"産業用蒸気",null,null,null,null,1.2,null,"GＪ/GＪ",null,null,null,{"$f":"IF(M183=\"\",\"\",\"tCO2/GJ\")","v":""}]
[null,null,null,"産業用以外の蒸気",null,null,null,null,null,null,"GＪ/GＪ",null,null,null,{"$f":"IF(M184=\"\",\"\",\"tCO2/GJ\")","v":""}]
[null,null,null,"温水",null,null,null,null,null,null,"GＪ/GＪ",null,null,null,{"$f":"IF(M185=\"\",\"\",\"tCO2/GJ\")","v":""}]
[null,null,null,"冷水",null,null,null,null,null,null,"GＪ/GＪ",null,null,null,{"$f":"IF(M186=\"\",\"\",\"tCO2/GJ\")","v":""}]
[null,null,null,"販売電気量（自家発電による販売量含む）",null,null,null,null,null,null,"千KWh",null,null,null,"tCO2/千kWh"]
[null,null,null,null,null,null,null,null,"販売した熱の量",null,null,null,"CO2の排出係数"]
[null,null,null,"販売熱量",null,null,null,null,null,null,"ＧＪ",null,null,null,"tCO2/GJ"]
[]
[]
[]
[]
[null,null,null,null,null,null,null,null,null,null,null,"発電所、熱供給業は、ＳＴＥＰ２へ進んで下さい。"]
[null,"他人に販売（無償含む）した電気又は熱の排出係数の算出"]
[]
[null,null,"　　下記黄色の箇所に数値を入力すれば計算されます。"]
[null,null,null,null,null,null,null,null,"(A)"]
[1,"単位電気販売量当たりの排出量＝",null,null,null,null,null,null,{"$f":"ROUND(O207/C209,4)","v":{"$error":"#DIV/0!"}},null,null,"tCo2/千kWh",null,null,null,null,null,null,"（参考）"]
[null,null,null,null,null,null,null,null,null,null,null,null,null,null,null,null,null,null,null,"燃料種",null,null,"単位発熱量",null,"排出係数"]
[null,null,"燃料種類",null,null,"使用量",null,"単位","単位発熱量",null,null,"排出係数",null,null,"ｔCO2",null,null,null,"揮発油",null,null,null,{"$f":"VLOOKUP(S201,係数,2,FALSE)","v":34.6},"GＪ/ｋｌ",{"$f":"VLOOKUP(S201,係数,4,FALSE)","v":1.83E-2},"tC/GJ"]
[null,null,null,null,null,null,null,null,null,null,null,null,null,null,{"$f":"F202*I202*L202*44/12","v":0},null,null,null,"ナフサ",null,null,null,33.6,"GＪ/ｋｌ",1.8200000000000001E-2,"tC/GJ"]
[null,null,null,null,null,null,null,null,null,null,null,null,null,null,{"$f":"F203*I203*L203*44/12","v":0},null,null,null,"灯油",null,null,null,36.700000000000003,"GＪ/ｋｌ",1.8499999999999999E-2,"tC/GJ"]
[null,null,null,null,null,null,null,null,null,null,null,null,null,null,{"$f":"F204*I204*L204*44/12","v":0},null,null,null,"軽油",null,null,null,37.700000000000003,"GＪ/ｋｌ",1.8700000000000001E-2,"tC/GJ"]
[null,null,null,null,null,null,null,null,null,null,null,null,null,null,{"$f":"F205*I205*L205*44/12","v":0},null,null,null,"Ａ重油",null,null,null,39.1,"GＪ/ｋｌ",1.89E-2,"tC/GJ"]
[null,null,null,null,null,null,null,null,null,null,null,null,null,null,{"$f":"F206*I206*L206*44/12","v":0},null,null,null,"Ｂ・Ｃ重油",null,null,null,41.9,"GＪ/ｋｌ",1.95E-2,"tC/GJ"]
[null,null,null,null,null,null,null,null,null,null,null,null,null,"計",{"$f":"SUM(O202:O206)","v":0},null,null,null,"石油アスファルト",null,null,null,40.9,"GＪ/ｔ",2.0799999999999999E-2,"tC/GJ"]
[null,null,"発電量",null,null,null,null,null,null,null,null,null,null,null,null,null,null,null,"石油コークス",null,null,null,29.9,"GＪ/ｔ",2.5399999999999999E-2,"tC/GJ"]
[null,null,null,null,null,null,null,"千kWh",null,null,null,null,null,null,null,null,null,null,"液化石油ガス　　　(ＬＰＧ)",null,null,null,{"$error":"#N/A"},"GＪ/ｔ",{"$error":"#N/A"},"tC/GJ"]
[null,null,null,null,null,null,null,null,"(B)",null,null,null,null,null,null,null,null,null,"石油系炭化水素　　ガス",null,null,null,44.9,"GＪ/千ｍ３",1.4200000000000001E-2,"tC/GJ"]
[2,"単位熱販売量当たりの排出量＝",null,null,null,null,null,null,{"$f":"ROUND((SUM(O214:P218)+O221+O222+O223)/F226,4)","v":{"$error":"#DIV/0!"}},null,null,"tCO2/GJ",null,null,null,null,null,null,"液化天然ガス　　（ＬＮＧ）",null,null,null,54.6,"GＪ/ｔ",1.35E-2,"tC/GJ"]
[null,null,null,null,null,null,null,null,null,null,null,null,null,null,null,null,null,null,"その他可燃性天然ガス",null,null,null,{"$error":"#N/A"},"GＪ/千ｍ３",{"$error":"#N/A"},"tC/GJ"]
[null,null,"燃料種類",null,null,"使用量",null,"単位","単位発熱量",null,null,"排出係数",null,null,"ｔCO2",null,null,null,"原料炭",null,null,null,29,"GＪ/ｔ",2.4500000000000001E-2,"tC/GJ"]
[null,null,null,null,null,null,null,null,null,null,null,null,null,null,{"$f":"F214*I214*L214*44/12","v":0},null,null,null,"一般炭",null,null,null,25.7,"GＪ/ｔ",2.47E-2,"tC/GJ"]
[null,null,null,null,null,null,null,null,null,null,null,null,null,null,{"$f":"F215*I215*L215*44/12","v":0},null,null,null,"無煙炭",null,null,null,26.9,"GＪ/ｔ",2.5499999999999998E-2,"tC/GJ"]
[null,null,null,null,null,null,null,null,null,null,null,null,null,null,{"$f":"F216*I216*L216*44/12","v":0},null,null,null,"石炭コークス",null,null,null,29.4,"GＪ/ｔ",2.9399999999999999E-2,"tC/GJ"]
[null,null,null,null,null,null,null,null,null,null,null,null,null,null,{"$f":"F217*I217*L217*44/12","v":0},null,null,null,"コールタール",null,null,null,37.299999999999997,"GＪ/ｔ",2.0899999999999998E-2,"tC/GJ"]
[null,null,null,null,null,null,null,null,null,null,null,null,null,null,{"$f":"F218*I218*L218*44/12","v":0},null,null,null,"コークス炉ガス",null,null,null,21.1,"GＪ/千ｍ３",1.0999999999999999E-2,"tC/GJ"]
[null,null,null,null,null,null,null,null,null,null,null,null,null,null,null,null,null,null,"高炉ガス",null,null,null,3.41,"GＪ/千ｍ３",2.63E-2,"tC/GJ"]
[null,null,"燃料種類",null,null,"使用量",null,null,null,null,null,"排出係数",null,null,"ｔCO2",null,null,null,"転炉ガス",null,null,null,8.41,"GＪ/千ｍ３",3.8399999999999997E-2,"tC/GJ"]
[null,null,"熱の発生のために使用した電力",null,null,null,null,null,null,"千kWh",null,null,null,null,{"$f":"F221*L221","v":0},null,null,null,"都市ガス",null,null,null,null,"GＪ/千ｍ３",1.3599999999999999E-2,"tC/GJ"]
[null,null,"熱の発生のために使用した電力",null,null,null,null,null,null,"千kWh",null,null,null,null,{"$f":"F222*L222","v":0},null,null,null,"購入した電気の係数",null,null,null,"北海道電力（株）",null,0.68300000000000005,"ｔCO2/千kWh"]
[null,null,"熱の発生のために使用した電力",null,null,null,null,null,null,"千kWh",null,null,null,null,{"$f":"F223*L223","v":0},null,null,null,"（平成２7年11月30日公表）\n",null,null,null,"東北電力（株）",null,0.57099999999999995,"ｔCO2/千kWh"]
[null,null,null,null,null,null,null,null,null,null,null,null,null,null,null,null,null,null,null,null,null,null,"東京電力（株）",null,0.505,"ｔCO2/千kWh"]
[null,null,null,null,null,"発生させた熱量",null,null,null,null,null,null,null,null,null,null,null,null,null,null,null,null,"中部電力（株）",null,0.497,"ｔCO2/千kWh"]
[null,null,"当該事業所で発生させた熱",null,null,null,null,null,null,"GJ",null,null,null,null,null,null,null,null,null,null,null,null,"北陸電力（株）",null,0.64700000000000002,"ｔCO2/千kWh"]
[null,null,null,null,null,null,null,null,null,null,null,null,null,null,null,null,null,null,null,null,null,null,"関西電力（株）",null,0.53100000000000003,"ｔCO2/千kWh"]
[null,null,null,null,null,null,null,null,null,null,null,null,null,null,null,null,null,null,null,null,null,null,"中国電力（株）",null,0.70599999999999996,"ｔCO2/千kWh"]
[null,null,null,null,null,null,null,null,null,null,null,null,null,null,null,null,null,null,null,null,null,null,"四国電力（株）",null,0.67600000000000005,"ｔCO2/千kWh"]
[null,null,null,null,null,null,null,null,null,null,null,null,null,null,null,null,null,null,null,null,null,null,"九州電力（株）",null,0.58399999999999996,"ｔCO2/千kWh"]
[null,null,null,null,null,null,null,null,null,null,null,null,null,null,null,null,null,null,null,null,null,null,"沖縄電力（株）",null,0.81599999999999995,"ｔCO2/千kWh"]
[null,null,null,null,null,null,null,null,null,null,null,null,null,null,null,null,null,null,null,null,null,null,"アーバンエナジー株式会社",null,0.41,"ｔCO2/千kWh"]
[null,null,null,null,null,null,null,null,null,null,null,null,null,null,null,null,null,null,null,null,null,null,"アストモスエネルギー株式会社",null,0.19,"ｔCO2/千kWh"]
[null,null,null,null,null,null,null,null,null,null,null,null,null,null,null,null,null,null,null,null,null,null,"イーレックス株式会社",null,0.66200000000000003,"ｔCO2/千kWh"]
[null,null,null,null,null,null,null,null,null,null,null,null,null,null,null,null,null,null,null,null,null,null,"一般財団法人中之条電力",null,0.316,"ｔCO2/千kWh"]
[null,null,null,null,null,null,null,null,null,null,null,null,null,null,null,null,null,null,null,null,null,null,"一般社団法人電力託送代行機構",null,0.316,"ｔCO2/千kWh"]
[null,null,null,null,null,null,null,null,null,null,null,null,null,null,null,null,null,null,null,null,null,null,"出光グリーンパワー株式会社",null,0.253,"ｔCO2/千kWh"]
[null,null,null,null,null,null,null,null,null,null,null,null,null,null,null,null,null,null,null,null,null,null,"伊藤忠エネクス株式会社",null,0.56799999999999995,"ｔCO2/千kWh"]
[null,null,null,null,null,null,null,null,null,null,null,null,null,null,null,null,null,null,null,null,null,null,"ＳＢパワー株式会社",null,0.25900000000000001,"ｔCO2/千kWh"]
[null,null,null,null,null,null,null,null,null,null,null,null,null,null,null,null,null,null,null,null,null,null,"エネサーブ株式会社",null,0.63400000000000001,"ｔCO2/千kWh"]
[null,null,null,null,null,null,null,null,null,null,null,null,null,null,null,null,null,null,null,null,null,null,"荏原環境プラント株式会社",null,0.26600000000000001,"ｔCO2/千kWh"]
[null,null,null,null,null,null,null,null,null,null,null,null,null,null,null,null,null,null,null,null,null,null,"王子製紙株式会社",null,0.438,"ｔCO2/千kWh"]
[null,null,null,null,null,null,null,null,null,null,null,null,null,null,null,null,null,null,null,null,null,null,"オリックス株式会社",null,0.498,"ｔCO2/千kWh"]
[null,null,null,null,null,null,null,null,null,null,null,null,null,null,null,null,null,null,null,null,null,null,"株式会社イーセル",null,0.51100000000000001,"ｔCO2/千kWh"]
[null,null,null,null,null,null,null,null,null,null,null,null,null,null,null,null,null,null,null,null,null,null,"株式会社岩手ウッドパワー",null,4.3999999999999997E-2,"ｔCO2/千kWh"]
[null,null,null,null,null,null,null,null,null,null,null,null,null,null,null,null,null,null,null,null,null,null,"株式会社うなかみの大地",null,0.106,"ｔCO2/千kWh"]
[null,null,null,null,null,null,null,null,null,null,null,null,null,null,null,null,null,null,null,null,null,null,"株式会社ＳＥウイングズ",null,0.46200000000000002,"ｔCO2/千kWh"]
[null,null,null,null,null,null,null,null,null,null,null,null,null,null,null,null,null,null,null,null,null,null,"株式会社エヌパワー",null,0.41499999999999998,"ｔCO2/千kWh"]
[null,null,null,null,null,null,null,null,null,null,null,null,null,null,null,null,null,null,null,null,null,null,"株式会社エネット",null,0.45400000000000001,"ｔCO2/千kWh"]
[null,null,null,null,null,null,null,null,null,null,null,null,null,null,null,null,null,null,null,null,null,null,"株式会社Ｆ－Ｐｏｗｅｒ",null,0.45400000000000001,"ｔCO2/千kWh"]
[null,null,null,null,null,null,null,null,null,null,null,null,null,null,null,null,null,null,null,null,null,null,"株式会社関電エネルギーソリューション",null,0.54100000000000004,"ｔCO2/千kWh"]
[null,null,null,null,null,null,null,null,null,null,null,null,null,null,null,null,null,null,null,null,null,null,"株式会社クールトラスト",null,0.49199999999999999,"ｔCO2/千kWh"]
[null,null,null,null,null,null,null,null,null,null,null,null,null,null,null,null,null,null,null,null,null,null,"株式会社グローバルエンジニアリング",null,0.47199999999999998,"ｔCO2/千kWh"]
[null,null,null,null,null,null,null,null,null,null,null,null,null,null,null,null,null,null,null,null,null,null,"ケーキュービック",null,0.153,"ｔCO2/千kWh"]
[null,null,null,null,null,null,null,null,null,null,null,null,null,null,null,null,null,null,null,null,null,null,"株式会社洸陽電機",null,0.34799999999999998,"ｔCO2/千kWh"]
[null,null,null,null,null,null,null,null,null,null,null,null,null,null,null,null,null,null,null,null,null,null,"株式会社サイサン",null,0.373,"ｔCO2/千kWh"]
[null,null,null,null,null,null,null,null,null,null,null,null,null,null,null,null,null,null,null,null,null,null,"株式会社サニックス",null,8.9999999999999993E-3,"ｔCO2/千kWh"]
[null,null,null,null,null,null,null,null,null,null,null,null,null,null,null,null,null,null,null,null,null,null,"株式会社ＣＮＯパワーソリューションズ",null,0.53700000000000003,"ｔCO2/千kWh"]
[null,null,null,null,null,null,null,null,null,null,null,null,null,null,null,null,null,null,null,null,null,null,"株式会社Ｇ－Ｐｏｗｅｒ",null,0.17,"ｔCO2/千kWh"]
[null,null,null,null,null,null,null,null,null,null,null,null,null,null,null,null,null,null,null,null,null,null,"株式会社新出光",null,0.48699999999999999,"ｔCO2/千kWh"]
[null,null,null,null,null,null,null,null,null,null,null,null,null,null,null,null,null,null,null,null,null,null,"株式会社トヨタタービンアンドシステム",null,0.49199999999999999,"ｔCO3/千kWh"]
[null,null,null,null,null,null,null,null,null,null,null,null,null,null,null,null,null,null,null,null,null,null,"株式会社とんでん",null,0.495,"ｔCO4/千kWh"]
[null,null,null,null,null,null,null,null,null,null,null,null,null,null,null,null,null,null,null,null,null,null,"株式会社ナンワエナジー",null,0.60199999999999998,"ｔCO5/千kWh"]
[null,null,null,null,null,null,null,null,null,null,null,null,null,null,null,null,null,null,null,null,null,null,"株式会社日本セレモニー",null,0.61,"ｔCO6/千kWh"]
[null,null,null,null,null,null,null,null,null,null,null,null,null,null,null,null,null,null,null,null,null,null,"株式会社Ｖ－Ｐｏｗｅｒ",null,0.254,"ｔCO7/千kWh"]
[null,null,null,null,null,null,null,null,null,null,null,null,null,null,null,null,null,null,null,null,null,null,"株式会社フォレストパワー",null,0.19,"ｔCO8/千kWh"]
[null,null,null,null,null,null,null,null,null,null,null,null,null,null,null,null,null,null,null,null,null,null,"株式会社ベイサイドエナジー",null,0.58099999999999996,"ｔCO9/千kWh"]
[null,null,null,null,null,null,null,null,null,null,null,null,null,null,null,null,null,null,null,null,null,null,"京葉瓦斯株式会社",null,0.49399999999999999,"ｔCO10/千kWh"]
[null,null,null,null,null,null,null,null,null,null,null,null,null,null,null,null,null,null,null,null,null,null,"サミットエナジー株式会社",null,0.41299999999999998,"ｔCO11/千kWh"]
[null,null,null,null,null,null,null,null,null,null,null,null,null,null,null,null,null,null,null,null,null,null,"ＪＸ日鉱日石エネルギー株式会社",null,0.32500000000000001,"ｔCO12/千kWh"]
[null,null,null,null,null,null,null,null,null,null,null,null,null,null,null,null,null,null,null,null,null,null,"ＪＬエナジー株式会社",null,0.55300000000000005,"ｔCO13/千kWh"]
[null,null,null,null,null,null,null,null,null,null,null,null,null,null,null,null,null,null,null,null,null,null,"志賀高原リゾート開発株式会社",null,3.5999999999999997E-2,"ｔCO14/千kWh"]
[null,null,null,null,null,null,null,null,null,null,null,null,null,null,null,null,null,null,null,null,null,null,"シナネン株式会社",null,0.41599999999999998,"ｔCO15/千kWh"]
[null,null,null,null,null,null,null,null,null,null,null,null,null,null,null,null,null,null,null,null,null,null,"昭和シェル石油株式会社",null,0.372,"ｔCO16/千kWh"]
[null,null,null,null,null,null,null,null,null,null,null,null,null,null,null,null,null,null,null,null,null,null,"新日鉄住金エンジニアリング株式会社",null,0.56000000000000005,"ｔCO17/千kWh"]
[null,null,null,null,null,null,null,null,null,null,null,null,null,null,null,null,null,null,null,null,null,null,"鈴与商事株式会社",null,0.48799999999999999,"ｔCO18/千kWh"]
[null,null,null,null,null,null,null,null,null,null,null,null,null,null,null,null,null,null,null,null,null,null,"泉北天然ガス発電株式会社",null,0.32900000000000001,"ｔCO19/千kWh"]
[null,null,null,null,null,null,null,null,null,null,null,null,null,null,null,null,null,null,null,null,null,null,"総合エネルギー株式会社",null,0.63600000000000001,"ｔCO20/千kWh"]
[null,null,null,null,null,null,null,null,null,null,null,null,null,null,null,null,null,null,null,null,null,null,"大東エナジー株式会社",null,0.56599999999999995,"ｔCO21/千kWh"]
[null,null,null,null,null,null,null,null,null,null,null,null,null,null,null,null,null,null,null,null,null,null,"ダイヤモンドパワー株式会社",null,0.33900000000000002,"ｔCO22/千kWh"]
[null,null,null,null,null,null,null,null,null,null,null,null,null,null,null,null,null,null,null,null,null,null,"大和ハウス工業株式会社",null,0.51900000000000002,"ｔCO23/千kWh"]
[null,null,null,null,null,null,null,null,null,null,null,null,null,null,null,null,null,null,null,null,null,null,"中央電力エナジー株式会社",null,0.56000000000000005,"ｔCO24/千kWh"]
[null,null,null,null,null,null,null,null,null,null,null,null,null,null,null,null,null,null,null,null,null,null,"テス・エンジニアリング株式会社",null,0.59899999999999998,"ｔCO25/千kWh"]
[null,null,null,null,null,null,null,null,null,null,null,null,null,null,null,null,null,null,null,null,null,null,"テプコカスタマーサービス株式会社",null,0.48699999999999999,"ｔCO26/千kWh"]
[null,null,null,null,null,null,null,null,null,null,null,null,null,null,null,null,null,null,null,null,null,null,"東京エコサービス株式会社",null,7.0999999999999994E-2,"ｔCO27/千kWh"]
[null,null,null,null,null,null,null,null,null,null,null,null,null,null,null,null,null,null,null,null,null,null,"にちほクラウド電力株式会社",null,0.53900000000000003,"ｔCO28/千kWh"]
[null,null,null,null,null,null,null,null,null,null,null,null,null,null,null,null,null,null,null,null,null,null,"日産トレーデイング株式会社",null,0.36499999999999999,"ｔCO29/千kWh"]
[null,null,null,null,null,null,null,null,null,null,null,null,null,null,null,null,null,null,null,null,null,null,"日本アルファ電力株式会社",null,0,"ｔCO30/千kWh"]
[null,null,null,null,null,null,null,null,null,null,null,null,null,null,null,null,null,null,null,null,null,null,"日本テクノ株式会社",null,0.53200000000000003,"ｔCO31/千kWh"]
[null,null,null,null,null,null,null,null,null,null,null,null,null,null,null,null,null,null,null,null,null,null,"日本ロジテック協同組合",null,0.38600000000000001,"ｔCO32/千kWh"]
[null,null,null,null,null,null,null,null,null,null,null,null,null,null,null,null,null,null,null,null,null,null,"パナソニック株式会社",null,0.622,"ｔCO33/千kWh"]
[null,null,null,null,null,null,null,null,null,null,null,null,null,null,null,null,null,null,null,null,null,null,"プレミアムグリーンパワー株式会社",null,1.0999999999999999E-2,"ｔCO34/千kWh"]
[null,null,null,null,null,null,null,null,null,null,null,null,null,null,null,null,null,null,null,null,null,null,"本田技研工業株式会社",null,0.57999999999999996,"ｔCO35/千kWh"]
[null,null,null,null,null,null,null,null,null,null,null,null,null,null,null,null,null,null,null,null,null,null,"丸紅株式会社",null,0.48199999999999998,"ｔCO36/千kWh"]
[null,null,null,null,null,null,null,null,null,null,null,null,null,null,null,null,null,null,null,null,null,null,"ミサワホーム株式会社",null,0.311,"ｔCO37/千kWh"]
[null,null,null,null,null,null,null,null,null,null,null,null,null,null,null,null,null,null,null,null,null,null,"三井物産株式会社",null,0,"ｔCO38/千kWh"]
[null,null,null,null,null,null,null,null,null,null,null,null,null,null,null,null,null,null,null,null,null,null,"ミツウロコグリーンエネルギー株式会社",null,0.46600000000000003,"ｔCO39/千kWh"]
[null,null,null,null,null,null,null,null,null,null,null,null,null,null,null,null,null,null,null,null,null,null,"リエスパワー株式会社",null,0.58199999999999996,"ｔCO40/千kWh"]
[null,null,null,null,null,null,null,null,null,null,null,null,null,null,null,null,null,null,null,null,null,null,"ワタミファーム＆エナジー株式会社",null,0.45400000000000001,"ｔCO41/千kWh"]
[null,null,null,null,null,null,null,null,null,null,null,null,null,null,null,null,null,null,null,null,null,null,"代替値",null,0.57899999999999996,"ｔCO42/千kWh"]

{"sheet":"特定-第１・２表","index":3,"n_rows":202,"n_cols":74,"rows_kept":202,"cut":false,"hidden":false,"merged":[[126,19,126,22],[126,23,126,30],[126,31,126,33],[126,34,126,41],[126,42,126,45],[126,46,126,52],[132,24,132,32],[132,33,132,54],[133,19,133,54],[127,19,127,26],[127,27,127,54],[128,1,136,18],[128,19,128,21],[128,22,128,54],[129,19,129,21],[129,22,129,54],[130,19,130,54],[131,19,131,54],[134,19,134,22],[134,23,134,30],[134,31,134,33],[134,34,134,41],[134,42,134,45],[134,46,134,52],[134,53,134,54],[135,53,135,54],[136,19,136,26],[136,27,136,54],[135,19,135,22],[135,23,135,30],[135,31,135,33],[135,34,135,41],[135,42,135,45],[135,46,135,52],[119,1,127,18],[119,19,119,21],[119,22,119,54],[120,19,120,21],[120,22,120,54],[121,19,121,54],[122,19,122,54],[117,19,117,22],[117,23,117,30],[117,31,117,33],[117,34,117,41],[117,42,117,45],[117,46,117,52],[123,24,123,32],[123,33,123,54],[124,19,124,54],[125,19,125,22],[125,23,125,30],[125,31,125,33],[125,34,125,41],[125,42,125,45],[125,46,125,52],[125,53,125,54],[126,53,126,54],[108,19,108,22],[108,23,108,30],[108,31,108,33],[108,34,108,41],[108,42,108,45],[108,46,108,52],[114,24,114,32],[114,33,114,54],[115,19,115,54],[109,19,109,26],[109,27,109,54],[110,1,118,18],[110,19,110,21],[110,22,110,54],[111,19,111,21],[111,22,111,54],[112,19,112,54],[113,19,113,54],[116,19,116,22],[116,23,116,30],[116,31,116,33],[116,34,116,41],[116,42,116,45],[116,46,116,52],[116,53,116,54],[117,53,117,54],[118,19,118,26],[118,27,118,54],[101,1,109,18],[101,19,101,21],[101,22,101,54],[102,19,102,21],[102,22,102,54],[103,19,103,54],[104,19,104,54],[99,19,99,22],[99,23,99,30],[99,31,99,33],[99,34,99,41],[99,42,99,45],[99,46,99,52],[105,24,105,32],[105,33,105,54],[106,19,106,54],[107,19,107,22],[107,23,107,30],[107,31,107,33],[107,34,107,41],[107,42,107,45],[107,46,107,52],[107,53,107,54],[108,53,108,54],[98,23,98,30],[98,31,98,33],[98,34,98,41],[98,42,98,45],[98,46,98,52],[98,53,98,54],[99,53,99,54],[100,19,100,26],[100,27,100,54],[89,34,89,41],[89,42,89,45],[89,46,89,52],[89,53,89,54],[90,53,90,54],[91,19,91,26],[91,27,91,54],[92,1,100,18],[92,19,92,21],[92,22,92,54],[93,19,93,21],[93,22,93,54],[94,19,94,54],[95,19,95,54],[90,19,90,22],[90,23,90,30],[90,31,90,33],[90,34,90,41],[90,42,90,45],[90,46,90,52],[96,24,96,32],[96,33,96,54],[97,19,97,54],[98,19,98,22],[80,46,80,52],[80,53,80,54],[81,53,81,54],[82,19,82,26],[82,27,82,54],[83,1,91,18],[83,19,83,21],[83,22,83,54],[84,19,84,21],[84,22,84,54],[85,19,85,54],[86,19,86,54],[81,19,81,22],[81,23,81,30],[81,31,81,33],[81,34,81,41],[81,42,81,45],[81,46,81,52],[87,24,87,32],[87,33,87,54],[88,19,88,54],[89,19,89,22],[89,23,89,30],[89,31,89,33],[72,53,72,54],[73,19,73,26],[73,27,73,54],[74,1,82,18],[74,19,74,21],[74,22,74,54],[75,19,75,21],[75,22,75,54],[76,19,76,54],[77,19,77,54],[72,19,72,22],[72,23,72,30],[72,31,72,33],[72,34,72,41],[72,42,72,45],[72,46,72,52],[78,24,78,32],[78,33,78,54],[79,19,79,54],[80,19,80,22],[80,23,80,30],[80,31,80,33],[80,34,80,41],[80,42,80,45],[66,22,66,54],[67,19,67,54],[68,19,68,54],[69,24,69,32],[69,33,69,54],[70,19,70,54],[71,19,71,22],[71,23,71,30],[71,31,71,33],[71,34,71,41],[71,42,71,45],[71,46,71,52],[71,53,71,54],[45,1,46,18],[46,19,46,21],[46,22,46,54],[48,19,48,21],[53,19,53,22],[54,34,54,41],[50,19,50,54],[53,53,53,54],[51,24,51,32],[45,19,45,21],[45,22,45,54],[53,46,53,52],[49,19,49,54],[54,46,54,52],[54,53,54,54],[47,22,47,54],[39,1,40,18],[39,19,39,21],[39,22,39,54],[40,19,40,21],[40,22,40,54],[41,1,42,18],[43,1,44,18],[43,19,43,21],[42,19,42,21],[43,22,43,54],[44,19,44,21],[44,22,44,54],[161,38,161,46],[154,38,154,46],[160,38,160,46],[160,47,160,55],[161,20,161,28],[158,20,158,28],[158,29,158,37],[158,38,158,46],[158,47,158,55],[159,20,159,28],[159,29,159,37],[159,38,159,46],[159,47,159,55],[161,29,161,37],[155,47,155,55],[154,20,154,28],[154,29,154,37],[156,20,156,28],[156,29,156,37],[156,38,156,46],[156,47,156,55],[157,20,157,28],[157,29,157,37],[157,38,157,46],[157,47,157,55],[139,2,139,15],[140,2,140,15],[160,29,160,37],[167,47,167,55],[164,20,164,28],[164,29,164,37],[164,38,164,46],[164,47,164,55],[165,20,165,28],[161,47,161,55],[140,16,140,53],[162,20,162,28],[162,29,162,37],[162,38,162,46],[162,47,162,55],[163,20,163,28],[163,29,163,37],[163,38,163,46],[163,47,163,55],[155,20,155,28],[155,29,155,37],[155,38,155,46],[139,16,139,53],[62,34,62,41],[62,42,62,45],[62,46,62,52],[56,1,64,18],[56,19,56,21],[64,19,64,26],[64,27,64,54],[65,1,73,18],[65,19,65,21],[65,22,65,54],[66,19,66,21],[58,19,58,54],[62,53,62,54],[63,19,63,22],[63,23,63,30],[63,31,63,33],[63,34,63,41],[63,42,63,45],[63,46,63,52],[63,53,63,54],[62,19,62,22],[62,23,62,30],[60,33,60,54],[61,19,61,54],[191,16,191,19],[191,21,191,27],[191,30,191,36],[190,38,190,46],[191,47,191,55],[174,16,174,19],[183,16,183,19],[189,3,189,15],[189,16,189,19],[187,3,187,15],[184,9,184,14],[182,9,182,14],[182,16,182,19],[182,20,182,28],[182,29,182,37],[182,38,182,46],[182,47,182,55],[181,9,181,14],[188,47,188,55],[186,47,186,55],[174,29,174,37],[174,38,174,46],[184,20,184,28],[184,29,184,37],[184,38,184,46],[184,47,184,55],[185,20,185,28],[185,29,185,37],[185,38,185,46],[185,47,185,55],[171,38,171,46],[171,47,171,55],[177,47,177,55],[175,47,175,55],[174,47,174,55],[174,20,174,28],[176,47,176,55],[183,20,183,28],[183,29,183,37],[183,38,183,46],[183,47,183,55],[172,20,172,28],[172,29,172,37],[172,38,172,46],[172,47,172,55],[173,20,173,28],[173,38,173,46],[173,47,173,55],[170,47,170,55],[171,20,171,28],[171,29,171,37],[31,51,31,54],[37,19,37,21],[53,31,53,33],[53,34,53,41],[54,42,54,45],[168,20,168,28],[168,29,168,37],[168,38,168,46],[168,47,168,55],[169,20,169,28],[169,29,169,37],[169,38,169,46],[169,47,169,55],[166,38,166,46],[166,47,166,55],[165,38,165,46],[165,47,165,55],[59,19,59,54],[60,24,60,32],[137,1,137,38],[62,31,62,33],[192,47,192,55],[186,38,186,46],[187,20,187,28],[187,38,187,46],[187,29,187,37],[189,29,189,37],[189,20,189,28],[188,20,188,28],[186,20,186,28],[186,29,186,37],[190,29,190,37],[189,47,189,55],[190,47,190,55],[187,47,187,55],[189,38,189,46],[191,38,191,46],[188,29,188,37],[188,38,188,46],[195,3,195,15],[195,16,195,19],[190,1,195,2],[192,38,192,46],[199,29,199,37],[199,38,199,46],[192,20,192,28],[194,20,194,28],[194,8,194,15],[194,16,194,19],[190,8,190,15],[190,16,190,19],[192,8,192,15],[192,16,192,19],[193,3,194,7],[193,8,193,15],[193,16,193,19],[190,3,192,7],[193,20,193,28],[195,20,195,28],[191,9,191,15],[190,20,190,28],[199,1,199,28],[197,38,197,46],[198,1,198,28],[198,29,198,37],[197,1,197,28],[199,47,199,55],[198,38,198,46],[198,47,198,55],[196,1,196,28],[192,29,192,37],[194,29,194,37],[194,38,194,46],[197,31,197,37],[197,49,197,55],[195,29,195,37],[193,38,193,46],[193,47,193,55],[196,29,196,37],[196,38,196,46],[196,47,196,55],[195,47,195,55],[194,47,194,55],[193,29,193,37],[195,38,195,46],[197,29,197,30],[197,47,197,48],[154,47,154,55],[153,20,153,28],[153,29,153,37],[153,38,153,46],[153,47,153,55],[148,20,149,37],[148,38,149,55],[152,20,152,28],[152,29,152,37],[152,38,152,46],[152,47,152,55],[151,20,151,28],[151,29,151,37],[151,38,151,46],[151,47,151,55],[150,20,150,28],[150,29,150,37],[150,47,150,55],[147,20,147,36],[147,16,150,19],[57,19,57,21],[57,22,57,54],[51,33,51,54],[17,36,18,56],[23,36,23,53],[31,27,31,30],[30,49,30,54],[30,19,30,23],[38,19,38,21],[48,22,48,54],[38,22,38,54],[47,19,47,21],[30,44,30,48],[41,22,41,54],[42,22,42,54],[37,22,37,54],[54,19,54,22],[54,23,54,30],[54,31,54,33],[41,19,41,21],[55,19,55,26],[55,27,55,54],[147,1,150,15],[150,38,150,46],[52,19,52,54],[21,36,21,53],[147,39,147,55],[22,36,22,56],[36,27,36,30],[36,31,36,34],[147,37,147,38],[138,2,138,54],[53,23,53,30],[33,1,34,18],[30,1,30,18],[37,1,38,18],[47,1,55,18],[53,42,53,45],[137,39,137,54],[30,24,30,28],[25,1,25,57],[31,1,31,18],[36,1,36,18],[36,19,36,22],[36,23,36,26],[56,22,56,54],[2,37,2,46],[28,1,28,54],[29,1,29,54],[31,19,31,22],[31,23,31,26],[2,47,2,56],[3,37,3,46],[3,47,3,56],[13,44,13,46],[31,35,31,38],[31,39,31,42],[13,47,13,50],[13,51,13,53],[13,37,13,40],[19,36,19,56],[20,36,20,56],[31,43,31,46],[5,1,5,58],[9,22,9,23],[13,54,13,56],[9,1,9,21],[13,41,13,43],[13,34,13,36],[30,29,30,33],[151,1,189,2],[151,3,151,15],[151,16,151,19],[188,16,188,19],[184,16,184,19],[154,16,154,19],[155,16,155,19],[185,16,185,19],[163,8,163,15],[171,16,171,19],[186,3,186,15],[172,3,172,15],[187,16,187,19],[183,9,183,14],[188,3,188,15],[170,3,170,15],[170,16,170,19],[171,3,171,15],[186,16,186,19],[173,3,184,7],[173,8,173,15],[185,3,185,15],[173,16,173,19],[161,3,162,7],[177,9,177,14],[177,16,177,19],[177,20,177,28],[177,29,177,37],[177,38,177,46],[175,38,175,46],[176,9,176,14],[176,16,176,19],[174,9,174,14],[176,20,176,28],[176,29,176,37],[176,38,176,46],[175,9,175,14],[175,16,175,19],[175,20,175,28],[175,29,175,37],[181,16,181,19],[181,20,181,28],[181,29,181,37],[181,38,181,46],[181,47,181,55],[178,9,178,14],[178,16,178,19],[178,20,178,28],[178,29,178,37],[178,38,178,46],[180,47,180,55],[178,47,178,55],[179,9,179,14],[179,16,179,19],[179,20,179,28],[179,29,179,37],[179,38,179,46],[179,47,179,55],[180,9,180,14],[180,16,180,19],[180,20,180,28],[180,29,180,37],[180,38,180,46],[35,1,35,18],[35,19,35,54],[36,35,36,54],[33,30,33,54],[30,34,30,38],[30,39,30,43],[32,19,32,54],[33,19,33,20],[33,21,33,29],[31,47,31,50],[31,31,31,34],[34,19,34,54],[32,1,32,18],[166,29,166,37],[165,29,165,37],[173,29,173,37],[167,20,167,28],[167,29,167,37],[167,38,167,46],[168,16,168,19],[165,16,165,19],[166,16,166,19],[167,16,167,19],[170,38,170,46],[170,20,170,28],[170,29,170,37],[162,16,162,19],[164,16,164,19],[163,16,163,19],[160,16,160,19],[159,16,159,19],[156,16,156,19],[157,16,157,19],[158,16,158,19],[166,20,166,28],[160,20,160,28],[152,3,152,15],[152,16,152,19],[153,3,153,15],[153,16,153,19],[169,3,169,15],[169,16,169,19],[165,3,167,7],[165,8,165,15],[172,16,172,19],[168,3,168,15],[166,8,166,15],[167,8,167,15],[161,8,161,15],[162,8,162,15],[164,8,164,15],[163,3,164,7],[154,3,154,15],[160,3,160,15],[155,3,155,15],[156,3,156,15],[159,3,159,15],[157,3,157,15],[158,3,158,15],[161,16,161,19]]}
[null,"様式第９（第１７条関係）"]
[]
[null,null,null,null,null,null,null,null,null,null,null,null,null,null,null,null,null,null,null,null,null,null,null,null,null,null,null,null,null,null,null,null,null,null,null,null,null,"※受理年月日"]
[null,null,null,null,null,null,null,null,null,null,null,null,null,null,null,null,null,null,null,null,null,null,null,null,null,null,null,null,null,null,null,null,null,null,null,null,null,"※処理年月日"]
[]
[null,"定　期　報　告　書"]
[]
[]
[]
[null,"関東経済産業局",null,null,null,null,null,null,null,null,null,null,null,null,null,null,null,null,null,null,null,null,"殿",null,null,null,null,null,null,null,null,null,null,null,null,null,null,null,null,null,null,null,null,null,null,null,null,null,null,null,null,null,null,null,null,null,null,null,null,null,null,null,"北海道経済産業局長"]
[null,null,null,null,null,null,null,null,null,null,null,null,null,null,null,null,null,null,null,null,null,null,null,null,null,null,null,null,null,null,null,null,null,null,null,null,null,null,null,null,null,null,null,null,null,null,null,null,null,null,null,null,null,null,null,null,null,null,null,null,null,null,"東北経済産業局長"]
[null,null,null,null,null,null,null,null,null,null,null,null,null,null,null,null,null,null,null,null,null,null,null,null,null,null,null,null,null,null,null,null,null,null,null,null,null,null,null,null,null,null,null,null,null,null,null,null,null,null,null,null,null,null,null,null,null,null,null,null,null,null,"関東経済産業局長"]
[null,null,null,null,null,null,null,null,null,null,null,null,null,null,null,null,null,null,null,null,null,null,null,null,null,null,null,null,null,null,null,null,null,null,null,null,null,null,null,null,null,null,null,null,null,null,null,null,null,null,null,null,null,null,null,null,null,null,null,null,null,null,"中部経済産業局長",null,null,null,null,"月","日","西暦年","西暦年月日"]
[null,null,null,null,null,null,null,null,null,null,null,null,null,null,null,null,null,null,null,null,null,null,null,null,null,null,null,null,null,null,null,null,null,null,"平成",null,null,{"$f":"入力・計算補助!D3+1","v":28},null,null,null,"年",null,null,7,null,null,"月",null,null,null,22,null,null,"日",null,null,null,null,null,null,null,"近畿経済産業局長",null,null,null,null,{"$f":"IF(AS14=\"\",\"00\",IF(AS14<10,\"0\"&AS14,AS14))","v":"07"},{"$f":"IF(AZ14=\"\",\"00\",IF(AZ14<10,\"0\"&AZ14,AZ14))","v":22},{"$f":"AL14+1988","v":2016},{"$f":"BR14&BP14&BQ14","v":"20160722"},null,null,{"$f":"(DATEVALUE(BR14&\"/\"&BP14&\"/\"&BQ14))","v":42573}]
[null,null,null,null,null,null,null,null,null,null,null,null,null,null,null,null,null,null,null,null,null,null,null,null,null,null,null,null,null,null,null,null,null,null,null,null,null,null,null,null,null,null,null,null,null,null,null,null,null,null,null,null,null,null,null,null,null,null,null,null,null,null,"中国経済産業局長"]
[null,null,null,null,null,null,null,null,null,null,null,null,null,null,null,null,null,null,null,null,null,null,null,null,null,null,null,null,null,null,null,null,null,null,null,null,null,null,null,null,null,null,null,null,null,null,null,null,null,null,null,null,null,null,null,null,null,null,null,null,null,null,"四国経済産業局長"]
[null,null,null,null,null,null,null,null,null,null,null,null,null,null,null,null,null,null,null,null,null,null,null,null,null,null,null,null,null,null,null,null,null,null,null,null,null,null,null,null,null,null,null,null,null,null,null,null,null,null,null,null,null,null,null,null,null,null,null,null,null,null,"九州経済産業局長"]
[null,null,null,null,null,null,null,null,null,null,null,null,null,null,null,null,null,null,null,null,null,null,null,null,null,null,null,"住　所",null,null,null,null,null,null,null,null,"東京都港区虎ノ門４－３－１３　　　　　　　　　　　　　　　　　ヒューリック神谷町ビル　５F",null,null,null,null,null,null,null,null,null,null,null,null,null,null,null,null,null,null,null,null,null,null,null,null,null,"沖縄総合事務局長"]
[]
[null,null,null,null,null,null,null,null,null,null,null,null,null,null,null,null,null,null,null,null,null,null,null,null,null,null,null,"法人名",null,null,null,null,null,null,null,null,"Aｓ‐meエステール株式会社"]
[null,null,null,null,null,null,null,null,null,null,null,null,null,null,null,null,null,null,null,null,null,null,null,null,null,null,null,"代表者の役職名",null,null,null,null,null,null,null,null,"代表取締役社長"]
[null,null,null,null,null,null,null,null,null,null,null,null,null,null,null,null,null,null,null,null,null,null,null,null,null,null,null,"代表者の氏名",null,null,null,null,null,null,null,null,"丸山　雅史",null,null,null,null,null,null,null,null,null,null,null,null,null,null,null,null,null,null,"印"]
[null,null,null,null,null,null,null,null,null,null,null,null,null,null,null,null,null,null,null,null,null,null,null,null,null,null,null,"（代理）役職名",null,null,null,null,null,null,null,null,""]
[null,null,null,null,null,null,null,null,null,null,null,null,null,null,null,null,null,null,null,null,null,null,null,null,null,null,null,"（代理）氏名",null,null,null,null,null,null,null,null,"",null,null,null,null,null,null,null,null,null,null,null,null,null,null,null,null,null,null,"印"]
[]
[null,"  エネルギーの使用の合理化等に関する法律第１５条第１項の規定（法第１９条の２第１項において準用する場合を含む。）に基づき、次のとおり報告します。"]
[]
[]
[null,"事業者単位の報告"]
[null,"特定－第１表　事業者の名称等"]
[null,"特定事業者番号又は\n特定連鎖化事業者番号",null,null,null,null,null,null,null,null,null,null,null,null,null,null,null,null,null,0,null,null,null,null,6,null,null,null,null,2,null,null,null,null,7,null,null,null,null,8,null,null,null,null,3,null,null,null,null,1]
[null,"特定排出者番号",null,null,null,null,null,null,null,null,null,null,null,null,null,null,null,null,null,9,null,null,null,8,null,null,null,5,null,null,null,3,null,null,null,3,null,null,null,0,null,null,null,6,null,null,null,2,null,null,null,0]
[null,"事業者の名称",null,null,null,null,null,null,null,null,null,null,null,null,null,null,null,null,null,"○○株式会社"]
[null,"主たる事務所の\n所在地",null,null,null,null,null,null,null,null,null,null,null,null,null,null,null,null,null,"〒",null,1050001]
[null,null,null,null,null,null,null,null,null,null,null,null,null,null,null,null,null,null,null,"東京都港区"]
[null,"主たる事業",null,null,null,null,null,null,null,null,null,null,null,null,null,null,null,null,null,"ジュエリー製品小売業"]
[null,"細分類番号",null,null,null,null,null,null,null,null,null,null,null,null,null,null,null,null,null,6,null,null,null,0,null,null,null,9,null,null,null,5]
[null,"エネルギー管理統括者の職名・氏名",null,null,null,null,null,null,null,null,null,null,null,null,null,null,null,null,null,"職名",null,null,"取締役　管理本部長"]
[null,null,null,null,null,null,null,null,null,null,null,null,null,null,null,null,null,null,null,"氏名",null,null,"○"]
[null,"エネルギー管理統括者の職名・氏名",null,null,null,null,null,null,null,null,null,null,null,null,null,null,null,null,null,"職名"]
[null,null,null,null,null,null,null,null,null,null,null,null,null,null,null,null,null,null,null,"氏名"]
[null,"エネルギー管理統括者の職名・氏名",null,null,null,null,null,null,null,null,null,null,null,null,null,null,null,null,null,"職名"]
[null,null,null,null,null,null,null,null,null,null,null,null,null,null,null,null,null,null,null,"氏名"]
[null,"エネルギー管理統括者の職名・氏名",null,null,null,null,null,null,null,null,null,null,null,null,null,null,null,null,null,"職名"]
[null,null,null,null,null,null,null,null,null,null,null,null,null,null,null,null,null,null,null,"氏名"]
[null,"エネルギー管理統括者の職名・氏名",null,null,null,null,null,null,null,null,null,null,null,null,null,null,null,null,null,"職名"]
[null,null,null,null,null,null,null,null,null,null,null,null,null,null,null,null,null,null,null,"氏名"]
[null,"エネルギー管理企画推進者の\n職名・氏名・勤務地・連絡先",null,null,null,null,null,null,null,null,null,null,null,null,null,null,null,null,null,"職名",null,null,"　人事総務部　部長"]
[null,null,null,null,null,null,null,null,null,null,null,null,null,null,null,null,null,null,null,"氏名",null,null,"○○"]
[null,null,null,null,null,null,null,null,null,null,null,null,null,null,null,null,null,null,null,"エネルギー管理士免状番号又は講習修了番号"]
[]
[null,null,null,null,null,null,null,null,null,null,null,null,null,null,null,null,null,null,null,"勤務地 〒",null,null,null,null,1050001]
[null,null,null,null,null,null,null,null,null,null,null,null,null,null,null,null,null,null,null,"東京都港区"]
[null,null,null,null,null,null,null,null,null,null,null,null,null,null,null,null,null,null,null,"電話（",null,null,null,"03",null,null,null,null,null,null,null,"－",null,null,null,null,null,null,null,null,null,null,"－",null,null,null,null,null,null,null,null,null,null,"）"]
[null,null,null,null,null,null,null,null,null,null,null,null,null,null,null,null,null,null,null,"ＦＡＸ（",null,null,null,"03",null,null,null,null,null,null,null,"－",null,null,null,null,null,null,null,null,null,null,"－",null,null,null,null,null,null,null,null,null,null,"）"]
[null,null,null,null,null,null,null,null,null,null,null,null,null,null,null,null,null,null,null,"メールアドレス",null,null,null,null,null,null,null,"nosaka@as-estelle.com"]
[null,"エネルギー管理企画推進者の\n職名・氏名・勤務地・連絡先",null,null,null,null,null,null,null,null,null,null,null,null,null,null,null,null,null,"職名"]
[null,null,null,null,null,null,null,null,null,null,null,null,null,null,null,null,null,null,null,"氏名"]
[null,null,null,null,null,null,null,null,null,null,null,null,null,null,null,null,null,null,null,"エネルギー管理士免状番号又は講習修了番号"]
[null,null,null,null,null,null,null,null,null,null,null,null,null,null,null,null,null,null,null,""]
[null,null,null,null,null,null,null,null,null,null,null,null,null,null,null,null,null,null,null,"勤務地 〒"]
[]
[null,null,null,null,null,null,null,null,null,null,null,null,null,null,null,null,null,null,null,"電話（",null,null,null,"",null,null,null,null,null,null,null,"－",null,null,"",null,null,null,null,null,null,null,"－",null,null,null,"",null,null,null,null,null,null,"）"]
[null,null,null,null,null,null,null,null,null,null,null,null,null,null,null,null,null,null,null,"ＦＡＸ（",null,null,null,"",null,null,null,null,null,null,null,"－",null,null,"",null,null,null,null,null,null,null,"－",null,null,null,"",null,null,null,null,null,null,"）"]
[null,null,null,null,null,null,null,null,null,null,null,null,null,null,null,null,null,null,null,"メールアドレス"]
[null,"エネルギー管理企画推進者の\n職名・氏名・勤務地・連絡先",null,null,null,null,null,null,null,null,null,null,null,null,null,null,null,null,null,"職名"]
[null,null,null,null,null,null,null,null,null,null,null,null,null,null,null,null,null,null,null,"氏名"]
[null,null,null,null,null,null,null,null,null,null,null,null,null,null,null,null,null,null,null,"エネルギー管理士免状番号又は講習修了番号"]
[null,null,null,null,null,null,null,null,null,null,null,null,null,null,null,null,null,null,null,""]
[null,null,null,null,null,null,null,null,null,null,null,null,null,null,null,null,null,null,null,"勤務地 〒"]
[]
[null,null,null,null,null,null,null,null,null,null,null,null,null,null,null,null,null,null,null,"電話（",null,null,null,"",null,null,null,null,null,null,null,"－",null,null,"",null,null,null,null,null,null,null,"－",null,null,null,"",null,null,null,null,null,null,"）"]
[null,null,null,null,null,null,null,null,null,null,null,null,null,null,null,null,null,null,null,"ＦＡＸ（",null,null,null,"",null,null,null,null,null,null,null,"－",null,null,"",null,null,null,null,null,null,null,"－",null,null,null,"",null,null,null,null,null,null,"）"]
[null,null,null,null,null,null,null,null,null,null,null,null,null,null,null,null,null,null,null,"メールアドレス"]
[null,"エネルギー管理企画推進者の\n職名・氏名・勤務地・連絡先",null,null,null,null,null,null,null,null,null,null,null,null,null,null,null,null,null,"職名"]
[null,null,null,null,null,null,null,null,null,null,null,null,null,null,null,null,null,null,null,"氏名"]
[null,null,null,null,null,null,null,null,null,null,null,null,null,null,null,null,null,null,null,"エネルギー管理士免状番号又は講習修了番号"]
[null,null,null,null,null,null,null,null,null,null,null,null,null,null,null,null,null,null,null,""]
[null,null,null,null,null,null,null,null,null,null,null,null,null,null,null,null,null,null,null,"勤務地 〒"]
[]
[null,null,null,null,null,null,null,null,null,null,null,null,null,null,null,null,null,null,null,"電話（",null,null,null,"",null,null,null,null,null,null,null,"－",null,null,"",null,null,null,null,null,null,null,"－",null,null,null,"",null,null,null,null,null,null,"）"]
[null,null,null,null,null,null,null,null,null,null,null,null,null,null,null,null,null,null,null,"ＦＡＸ（",null,null,null,"",null,null,null,null,null,null,null,"－",null,null,"",null,null,null,null,null,null,null,"－",null,null,null,"",null,null,null,null,null,null,"）"]
[null,null,null,null,null,null,null,null,null,null,null,null,null,null,null,null,null,null,null,"メールアドレス"]
[null,"エネルギー管理企画推進者の\n職名・氏名・勤務地・連絡先",null,null,null,null,null,null,null,null,null,null,null,null,null,null,null,null,null,"職名"]
[null,null,null,null,null,null,null,null,null,null,null,null,null,null,null,null,null,null,null,"氏名"]
[null,null,null,null,null,null,null,null,null,null,null,null,null,null,null,null,null,null,null,"エネルギー管理士免状番号又は講習修了番号"]
[null,null,null,null,null,null,null,null,null,null,null,null,null,null,null,null,null,null,null,""]
[null,null,null,null,null,null,null,null,null,null,null,null,null,null,null,null,null,null,null,"勤務地 〒"]
[]
[null,null,null,null,null,null,null,null,null,null,null,null,null,null,null,null,null,null,null,"電話（",null,null,null,"",null,null,null,null,null,null,null,"－",null,null,"",null,null,null,null,null,null,null,"－",null,null,null,"",null,null,null,null,null,null,"）"]
[null,null,null,null,null,null,null,null,null,null,null,null,null,null,null,null,null,null,null,"ＦＡＸ（",null,null,null,"",null,null,null,null,null,null,null,"－",null,null,"",null,null,null,null,null,null,null,"－",null,null,null,"",null,null,null,null,null,null,"）"]
[null,null,null,null,null,null,null,null,null,null,null,null,null,null,null,null,null,null,null,"メールアドレス"]
[null,"エネルギー管理企画推進者の\n職名・氏名・勤務地・連絡先",null,null,null,null,null,null,null,null,null,null,null,null,null,null,null,null,null,"職名"]
[null,null,null,null,null,null,null,null,null,null,null,null,null,null,null,null,null,null,null,"氏名"]
[null,null,null,null,null,null,null,null,null,null,null,null,null,null,null,null,null,null,null,"エネルギー管理士免状番号又は講習修了番号"]
[null,null,null,null,null,null,null,null,null,null,null,null,null,null,null,null,null,null,null,""]
[null,null,null,null,null,null,null,null,null,null,null,null,null,null,null,null,null,null,null,"勤務地 〒"]
[]
[null,null,null,null,null,null,null,null,null,null,null,null,null,null,null,null,null,null,null,"電話（",null,null,null,"",null,null,null,null,null,null,null,"－",null,null,"",null,null,null,null,null,null,null,"－",null,null,null,"",null,null,null,null,null,null,"）"]
[null,null,null,null,null,null,null,null,null,null,null,null,null,null,null,null,null,null,null,"ＦＡＸ（",null,null,null,"",null,null,null,null,null,null,null,"－",null,null,"",null,null,null,null,null,null,null,"－",null,null,null,"",null,null,null,null,null,null,"）"]
[null,null,null,null,null,null,null,null,null,null,null,null,null,null,null,null,null,null,null,"メールアドレス"]
[null,"エネルギー管理企画推進者の\n職名・氏名・勤務地・連絡先",null,null,null,null,null,null,null,null,null,null,null,null,null,null,null,null,null,"職名"]
[null,null,null,null,null,null,null,null,null,null,null,null,null,null,null,null,null,null,null,"氏名"]
[null,null,null,null,null,null,null,null,null,null,null,null,null,null,null,null,null,null,null,"エネルギー管理士免状番号又は講習修了番号"]
[null,null,null,null,null,null,null,null,null,null,null,null,null,null,null,null,null,null,null,""]
[null,null,null,null,null,null,null,null,null,null,null,null,null,null,null,null,null,null,null,"勤務地 〒"]
[]
[null,null,null,null,null,null,null,null,null,null,null,null,null,null,null,null,null,null,null,"電話（",null,null,null,"",null,null,null,null,null,null,null,"－",null,null,"",null,null,null,null,null,null,null,"－",null,null,null,"",null,null,null,null,null,null,"）"]
[null,null,null,null,null,null,null,null,null,null,null,null,null,null,null,null,null,null,null,"ＦＡＸ（",null,null,null,"",null,null,null,null,null,null,null,"－",null,null,"",null,null,null,null,null,null,null,"－",null,null,null,"",null,null,null,null,null,null,"）"]
[null,null,null,null,null,null,null,null,null,null,null,null,null,null,null,null,null,null,null,"メールアドレス"]
[null,"エネルギー管理企画推進者の\n職名・氏名・勤務地・連絡先",null,null,null,null,null,null,null,null,null,null,null,null,null,null,null,null,null,"職名"]
[null,null,null,null,null,null,null,null,null,null,null,null,null,null,null,null,null,null,null,"氏名"]
[null,null,null,null,null,null,null,null,null,null,null,null,null,null,null,null,null,null,null,"エネルギー管理士免状番号又は講習修了番号"]
[null,null,null,null,null,null,null,null,null,null,null,null,null,null,null,null,null,null,null,""]
[null,null,null,null,null,null,null,null,null,null,null,null,null,null,null,null,null,null,null,"勤務地 〒"]
[]
[null,null,null,null,null,null,null,null,null,null,null,null,null,null,null,null,null,null,null,"電話（",null,null,null,"",null,null,null,null,null,null,null,"－",null,null,"",null,null,null,null,null,null,null,"－",null,null,null,"",null,null,null,null,null,null,"）"]
[null,null,null,null,null,null,null,null,null,null,null,null,null,null,null,null,null,null,null,"ＦＡＸ（",null,null,null,"",null,null,null,null,null,null,null,"－",null,null,"",null,null,null,null,null,null,null,"－",null,null,null,"",null,null,null,null,null,null,"）"]
[null,null,null,null,null,null,null,null,null,null,null,null,null,null,null,null,null,null,null,"メールアドレス"]
[null,"エネルギー管理企画推進者の\n職名・氏名・勤務地・連絡先",null,null,null,null,null,null,null,null,null,null,null,null,null,null,null,null,null,"職名"]
[null,null,null,null,null,null,null,null,null,null,null,null,null,null,null,null,null,null,null,"氏名"]
[null,null,null,null,null,null,null,null,null,null,null,null,null,null,null,null,null,null,null,"エネルギー管理士免状番号又は講習修了番号"]
[null,null,null,null,null,null,null,null,null,null,null,null,null,null,null,null,null,null,null,""]
[null,null,null,null,null,null,null,null,null,null,null,null,null,null,null,null,null,null,null,"勤務地 〒"]
[]
[null,null,null,null,null,null,null,null,null,null,null,null,null,null,null,null,null,null,null,"電話（",null,null,null,"",null,null,null,null,null,null,null,"－",null,null,"",null,null,null,null,null,null,null,"－",null,null,null,"",null,null,null,null,null,null,"）"]
[null,null,null,null,null,null,null,null,null,null,null,null,null,null,null,null,null,null,null,"ＦＡＸ（",null,null,null,"",null,null,null,null,null,null,null,"－",null,null,"",null,null,null,null,null,null,null,"－",null,null,null,"",null,null,null,null,null,null,"）"]
[null,null,null,null,null,null,null,null,null,null,null,null,null,null,null,null,null,null,null,"メールアドレス"]
[null,"エネルギー管理企画推進者の\n職名・氏名・勤務地・連絡先",null,null,null,null,null,null,null,null,null,null,null,null,null,null,null,null,null,"職名"]
[null,null,null,null,null,null,null,null,null,null,null,null,null,null,null,null,null,null,null,"氏名"]
[null,null,null,null,null,null,null,null,null,null,null,null,null,null,null,null,null,null,null,"エネルギー管理士免状番号又は講習修了番号"]
[null,null,null,null,null,null,null,null,null,null,null,null,null,null,null,null,null,null,null,""]
[null,null,null,null,null,null,null,null,null,null,null,null,null,null,null,null,null,null,null,"勤務地 〒"]
[]
[null,null,null,null,null,null,null,null,null,null,null,null,null,null,null,null,null,null,null,"電話（",null,null,null,"",null,null,null,null,null,null,null,"－",null,null,"",null,null,null,null,null,null,null,"－",null,null,null,"",null,null,null,null,null,null,"）"]
[null,null,null,null,null,null,null,null,null,null,null,null,null,null,null,null,null,null,null,"ＦＡＸ（",null,null,null,"",null,null,null,null,null,null,null,"－",null,null,"",null,null,null,null,null,null,null,"－",null,null,null,"",null,null,null,null,null,null,"）"]
[null,null,null,null,null,null,null,null,null,null,null,null,null,null,null,null,null,null,null,"メールアドレス"]
[null,"前回報告から事業者の名称及び所在地についての変更の有無",null,null,null,null,null,null,null,null,null,null,null,null,null,null,null,null,null,null,null,null,null,null,null,null,null,null,null,null,null,null,null,null,null,null,null,null,null,"有・無"]
[null,null,"有の場合"]
[null,null,"変更前の事業者の名称："]
[null,null,"変更前の事業者の所在地："]
[]
[]
[null,"備考　　「主たる事業」及び「細分類番号」の欄には、行っている事業について、日本標準産業分類の細分類に従い、"]
[null,"　　　　分類の名称及び番号を記入すること。"]
[]
[null,"特定－第２表 事業者のエネルギーの使用量及び販売した副生エネルギーの量"]
[null,"エネルギーの種類",null,null,null,null,null,null,null,null,null,null,null,null,null,null,"単位",null,null,null,"平成",null,null,null,null,null,null,null,null,null,null,null,null,null,null,null,null,{"$f":"入力・計算補助!D3","v":27},null,"年度"]
[null,null,null,null,null,null,null,null,null,null,null,null,null,null,null,null,null,null,null,null,"使用量",null,null,null,null,null,null,null,null,null,null,null,null,null,null,null,null,null,"販売した副生エネルギーの量"]
[]
[null,null,null,null,null,null,null,null,null,null,null,null,null,null,null,null,null,null,null,null,"数値",null,null,null,null,null,null,null,null,"熱量GJ",null,null,null,null,null,null,null,null,"数値",null,null,null,null,null,null,null,null,"熱量GJ",null,null,null,null,null,null,null,null,null,null,null,null,null,null,null,"換算係数","排出係数","CO2使用","CO2販売","排出量",null,null,"分子","分母"]
[null,"燃\n\n\n\n\n料\n\n\n\n\n及\n\n\n\nび\n\n\n\n熱",null,"原油(コンデンセートを除く。)",null,null,null,null,null,null,null,null,null,null,null,null,"ｋｌ",null,null,null,null,null,null,null,null,null,null,null,null,{"$f":"IF(U152=0,\"\",U152*IF($AD$151=\"熱量GJ\",1,IF($AD$151=\"熱量TJ\",10^(-3),10^(-6)))*VLOOKUP(D152,係数!$D$12:$E$43,2,FALSE))","v":""},null,null,null,null,null,null,null,null,null,null,null,null,null,null,null,null,null,{"$f":"IF(AM152=0,\"\",AM152*IF($AV$151=\"熱量GJ\",1,IF($AV$151=\"熱量TJ\",10^(-3),10^(-6)))*VLOOKUP(D152,係数!$D$12:$E$43,2,FALSE))","v":""},null,null,null,null,null,null,null,null,null,null,null,null,null,null,{"$f":"AL148","v":27},{"$f":"VLOOKUP(D152,係数!$D$12:$E$43,2,FALSE)","v":38.200000000000003},{"$f":"VLOOKUP(D152,係数!$D$12:$G$43,4,FALSE)","v":1.8700000000000001E-2},{"$f":"IF(ISERROR(AD152*BM152*BS152/BT152),0,AD152*BM152*BS152/BT152)","v":0},{"$f":"IF(ISERROR(AV152*BM152*BS152/BT152),0,AV152*BM152*BS152/BT152)","v":0},{"$f":"ROUND(BN152-BO152,1)","v":0},null,null,44,12]
[null,null,null,"原油のうちコンデンセート(NGL)",null,null,null,null,null,null,null,null,null,null,null,null,"ｋｌ",null,null,null,null,null,null,null,null,null,null,null,null,{"$f":"IF(U153=0,\"\",U153*IF($AD$151=\"熱量GJ\",1,IF($AD$151=\"熱量TJ\",10^(-3),10^(-6)))*VLOOKUP(D153,係数!$D$12:$E$43,2,FALSE))","v":""},null,null,null,null,null,null,null,null,null,null,null,null,null,null,null,null,null,{"$f":"IF(AM153=0,\"\",AM153*IF($AV$151=\"熱量GJ\",1,IF($AV$151=\"熱量TJ\",10^(-3),10^(-6)))*VLOOKUP(D153,係数!$D$12:$E$43,2,FALSE))","v":""},null,null,null,null,null,null,null,null,null,null,null,null,null,null,null,{"$f":"VLOOKUP(D153,係数!$D$12:$E$43,2,FALSE)","v":35.299999999999997},{"$f":"VLOOKUP(D153,係数!$D$12:$G$43,4,FALSE)","v":1.84E-2},{"$f":"IF(ISERROR(AD153*BM153*BS153/BT153),0,AD153*BM153*BS153/BT153)","v":0},{"$f":"IF(ISERROR(AV153*BM153*BS153/BT153),0,AV153*BM153*BS153/BT153)","v":0},{"$f":"ROUND(BN153-BO153,1)","v":0},null,null,44,12]
[null,null,null,"揮発油",null,null,null,null,null,null,null,null,null,null,null,null,"ｋｌ",null,null,null,null,null,null,null,null,null,null,null,null,{"$f":"IF(U154=0,\"\",U154*IF($AD$151=\"熱量GJ\",1,IF($AD$151=\"熱量TJ\",10^(-3),10^(-6)))*VLOOKUP(D154,係数!$D$12:$E$43,2,FALSE))","v":""},null,null,null,null,null,null,null,null,null,null,null,null,null,null,null,null,null,{"$f":"IF(AM154=0,\"\",AM154*IF($AV$151=\"熱量GJ\",1,IF($AV$151=\"熱量TJ\",10^(-3),10^(-6)))*VLOOKUP(D154,係数!$D$12:$E$43,2,FALSE))","v":""},null,null,null,null,null,null,null,null,null,null,null,null,null,null,null,{"$f":"VLOOKUP(D154,係数!$D$12:$E$43,2,FALSE)","v":34.6},{"$f":"VLOOKUP(D154,係数!$D$12:$G$43,4,FALSE)","v":1.83E-2},0,0,0,null,null,44,12]
[null,null,null,"ナフサ",null,null,null,null,null,null,null,null,null,null,null,null,"ｋｌ",null,null,null,null,null,null,null,null,null,null,null,null,{"$f":"IF(U155=0,\"\",U155*IF($AD$151=\"熱量GJ\",1,IF($AD$151=\"熱量TJ\",10^(-3),10^(-6)))*VLOOKUP(D155,係数!$D$12:$E$43,2,FALSE))","v":""},null,null,null,null,null,null,null,null,null,null,null,null,null,null,null,null,null,{"$f":"IF(AM155=0,\"\",AM155*IF($AV$151=\"熱量GJ\",1,IF($AV$151=\"熱量TJ\",10^(-3),10^(-6)))*VLOOKUP(D155,係数!$D$12:$E$43,2,FALSE))","v":""},null,null,null,null,null,null,null,null,null,null,null,null,null,null,null,{"$f":"VLOOKUP(D155,係数!$D$12:$E$43,2,FALSE)","v":33.6},{"$f":"VLOOKUP(D155,係数!$D$12:$G$43,4,FALSE)","v":1.8200000000000001E-2},0,0,0,null,null,44,12]
[null,null,null,"灯油",null,null,null,null,null,null,null,null,null,null,null,null,"ｋｌ",null,null,null,null,null,null,null,null,null,null,null,null,{"$f":"IF(U156=0,\"\",U156*IF($AD$151=\"熱量GJ\",1,IF($AD$151=\"熱量TJ\",10^(-3),10^(-6)))*VLOOKUP(D156,係数!$D$12:$E$43,2,FALSE))","v":""},null,null,null,null,null,null,null,null,null,null,null,null,null,null,null,null,null,{"$f":"IF(AM156=0,\"\",AM156*IF($AV$151=\"熱量GJ\",1,IF($AV$151=\"熱量TJ\",10^(-3),10^(-6)))*VLOOKUP(D156,係数!$D$12:$E$43,2,FALSE))","v":""},null,null,null,null,null,null,null,null,null,null,null,null,null,null,null,{"$f":"VLOOKUP(D156,係数!$D$12:$E$43,2,FALSE)","v":36.700000000000003},{"$f":"VLOOKUP(D156,係数!$D$12:$G$43,4,FALSE)","v":1.8499999999999999E-2},0,0,0,null,null,44,12]
[null,null,null,"軽油",null,null,null,null,null,null,null,null,null,null,null,null,"ｋｌ",null,null,null,null,null,null,null,null,null,null,null,null,{"$f":"IF(U157=0,\"\",U157*IF($AD$151=\"熱量GJ\",1,IF($AD$151=\"熱量TJ\",10^(-3),10^(-6)))*VLOOKUP(D157,係数!$D$12:$E$43,2,FALSE))","v":""},null,null,null,null,null,null,null,null,null,null,null,null,null,null,null,null,null,{"$f":"IF(AM157=0,\"\",AM157*IF($AV$151=\"熱量GJ\",1,IF($AV$151=\"熱量TJ\",10^(-3),10^(-6)))*VLOOKUP(D157,係数!$D$12:$E$43,2,FALSE))","v":""},null,null,null,null,null,null,null,null,null,null,null,null,null,null,null,{"$f":"VLOOKUP(D157,係数!$D$12:$E$43,2,FALSE)","v":37.700000000000003},{"$f":"VLOOKUP(D157,係数!$D$12:$G$43,4,FALSE)","v":1.8700000000000001E-2},0,0,0,null,null,44,12]
[null,null,null,"Ａ重油",null,null,null,null,null,null,null,null,null,null,null,null,"ｋｌ",null,null,null,null,null,null,null,null,null,null,null,null,{"$f":"IF(U158=0,\"\",U158*IF($AD$151=\"熱量GJ\",1,IF($AD$151=\"熱量TJ\",10^(-3),10^(-6)))*VLOOKUP(D158,係数!$D$12:$E$43,2,FALSE))","v":""},null,null,null,null,null,null,null,null,null,null,null,null,null,null,null,null,null,{"$f":"IF(AM158=0,\"\",AM158*IF($AV$151=\"熱量GJ\",1,IF($AV$151=\"熱量TJ\",10^(-3),10^(-6)))*VLOOKUP(D158,係数!$D$12:$E$43,2,FALSE))","v":""},null,null,null,null,null,null,null,null,null,null,null,null,null,null,null,{"$f":"VLOOKUP(D158,係数!$D$12:$E$43,2,FALSE)","v":39.1},{"$f":"VLOOKUP(D158,係数!$D$12:$G$43,4,FALSE)","v":1.89E-2},0,0,0,null,null,44,12]
[null,null,null,"Ｂ・Ｃ重油",null,null,null,null,null,null,null,null,null,null,null,null,"ｋｌ",null,null,null,null,null,null,null,null,null,null,null,null,{"$f":"IF(U159=0,\"\",U159*IF($AD$151=\"熱量GJ\",1,IF($AD$151=\"熱量TJ\",10^(-3),10^(-6)))*VLOOKUP(D159,係数!$D$12:$E$43,2,FALSE))","v":""},null,null,null,null,null,null,null,null,null,null,null,null,null,null,null,null,null,{"$f":"IF(AM159=0,\"\",AM159*IF($AV$151=\"熱量GJ\",1,IF($AV$151=\"熱量TJ\",10^(-3),10^(-6)))*VLOOKUP(D159,係数!$D$12:$E$43,2,FALSE))","v":""},null,null,null,null,null,null,null,null,null,null,null,null,null,null,null,{"$f":"VLOOKUP(D159,係数!$D$12:$E$43,2,FALSE)","v":41.9},{"$f":"VLOOKUP(D159,係数!$D$12:$G$43,4,FALSE)","v":1.95E-2},0,0,0,null,null,44,12]
[null,null,null,"石油アスファルト",null,null,null,null,null,null,null,null,null,null,null,null,"ｔ",null,null,null,null,null,null,null,null,null,null,null,null,{"$f":"IF(U160=0,\"\",U160*IF($AD$151=\"熱量GJ\",1,IF($AD$151=\"熱量TJ\",10^(-3),10^(-6)))*VLOOKUP(D160,係数!$D$12:$E$43,2,FALSE))","v":""},null,null,null,null,null,null,null,null,null,null,null,null,null,null,null,null,null,{"$f":"IF(AM160=0,\"\",AM160*IF($AV$151=\"熱量GJ\",1,IF($AV$151=\"熱量TJ\",10^(-3),10^(-6)))*VLOOKUP(D160,係数!$D$12:$E$43,2,FALSE))","v":""},null,null,null,null,null,null,null,null,null,null,null,null,null,null,null,{"$f":"VLOOKUP(D160,係数!$D$12:$E$43,2,FALSE)","v":40.9},{"$f":"VLOOKUP(D160,係数!$D$12:$G$43,4,FALSE)","v":2.0799999999999999E-2},0,0,0,null,null,44,12]
[null,null,null,"石油コークス",null,null,null,null,null,null,null,null,null,null,null,null,"ｔ",null,null,null,null,null,null,null,null,null,null,null,null,{"$f":"IF(U161=0,\"\",U161*IF($AD$151=\"熱量GJ\",1,IF($AD$151=\"熱量TJ\",10^(-3),10^(-6)))*VLOOKUP(D161,係数!$D$12:$E$43,2,FALSE))","v":""},null,null,null,null,null,null,null,null,null,null,null,null,null,null,null,null,null,{"$f":"IF(AM161=0,\"\",AM161*IF($AV$151=\"熱量GJ\",1,IF($AV$151=\"熱量TJ\",10^(-3),10^(-6)))*VLOOKUP(D161,係数!$D$12:$E$43,2,FALSE))","v":""},null,null,null,null,null,null,null,null,null,null,null,null,null,null,null,{"$f":"VLOOKUP(D161,係数!$D$12:$E$43,2,FALSE)","v":29.9},{"$f":"VLOOKUP(D161,係数!$D$12:$G$43,4,FALSE)","v":2.5399999999999999E-2},0,0,0,null,null,44,12]
[null,null,null,"石油ガス",null,null,null,null,"液化石油ガス　　（ＬＰＧ）",null,null,null,null,null,null,null,"ｔ",null,null,null,null,null,null,null,null,null,null,null,null,{"$f":"IF(U162=0,\"\",U162*IF($AD$151=\"熱量GJ\",1,IF($AD$151=\"熱量TJ\",10^(-3),10^(-6)))*VLOOKUP(I162,係数!$D$12:$E$43,2,FALSE))","v":""},null,null,null,null,null,null,null,null,null,null,null,null,null,null,null,null,null,{"$f":"IF(AM162=0,\"\",AM162*IF($AV$151=\"熱量GJ\",1,IF($AV$151=\"熱量TJ\",10^(-3),10^(-6)))*VLOOKUP(I162,係数!$D$12:$E$43,2,FALSE))","v":""},null,null,null,null,null,null,null,null,null,null,null,null,null,null,null,{"$f":"VLOOKUP(I162,係数!$D$12:$E$43,2,FALSE)","v":50.8},{"$f":"VLOOKUP(I162,係数!$D$12:$G$43,4,FALSE)","v":1.61E-2},0,0,0,null,null,44,12]
[null,null,null,null,null,null,null,null,"石油系炭化水素　　ガス",null,null,null,null,null,null,null,"千ｍ３",null,null,null,null,null,null,null,null,null,null,null,null,{"$f":"IF(U163=0,\"\",U163*IF($AD$151=\"熱量GJ\",1,IF($AD$151=\"熱量TJ\",10^(-3),10^(-6)))*VLOOKUP(I163,係数!$D$12:$E$43,2,FALSE))","v":""},null,null,null,null,null,null,null,null,null,null,null,null,null,null,null,null,null,{"$f":"IF(AM163=0,\"\",AM163*IF($AV$151=\"熱量GJ\",1,IF($AV$151=\"熱量TJ\",10^(-3),10^(-6)))*VLOOKUP(I163,係数!$D$12:$E$43,2,FALSE))","v":""},null,null,null,null,null,null,null,null,null,null,null,null,null,null,null,{"$f":"VLOOKUP(I163,係数!$D$12:$E$43,2,FALSE)","v":44.9},{"$f":"VLOOKUP(I163,係数!$D$12:$G$43,4,FALSE)","v":1.4200000000000001E-2},0,0,0,null,null,44,12]
[null,null,null,"可 燃 性\n天然ガス",null,null,null,null,"液化天然ガス　　（ＬＮＧ）",null,null,null,null,null,null,null,"ｔ",null,null,null,null,null,null,null,null,null,null,null,null,{"$f":"IF(U164=0,\"\",U164*IF($AD$151=\"熱量GJ\",1,IF($AD$151=\"熱量TJ\",10^(-3),10^(-6)))*VLOOKUP(I164,係数!$D$12:$E$43,2,FALSE))","v":""},null,null,null,null,null,null,null,null,null,null,null,null,null,null,null,null,null,{"$f":"IF(AM164=0,\"\",AM164*IF($AV$151=\"熱量GJ\",1,IF($AV$151=\"熱量TJ\",10^(-3),10^(-6)))*VLOOKUP(I164,係数!$D$12:$E$43,2,FALSE))","v":""},null,null,null,null,null,null,null,null,null,null,null,null,null,null,null,{"$f":"VLOOKUP(I164,係数!$D$12:$E$43,2,FALSE)","v":54.6},{"$f":"VLOOKUP(I164,係数!$D$12:$G$43,4,FALSE)","v":1.35E-2},0,0,0,null,null,44,12]
[null,null,null,null,null,null,null,null,"その他可燃性　　天然ガス",null,null,null,null,null,null,null,"千ｍ３",null,null,null,null,null,null,null,null,null,null,null,null,{"$f":"IF(U165=0,\"\",U165*IF($AD$151=\"熱量GJ\",1,IF($AD$151=\"熱量TJ\",10^(-3),10^(-6)))*VLOOKUP(I165,係数!$D$12:$E$43,2,FALSE))","v":""},null,null,null,null,null,null,null,null,null,null,null,null,null,null,null,null,null,{"$f":"IF(AM165=0,\"\",AM165*IF($AV$151=\"熱量GJ\",1,IF($AV$151=\"熱量TJ\",10^(-3),10^(-6)))*VLOOKUP(I165,係数!$D$12:$E$43,2,FALSE))","v":""},null,null,null,null,null,null,null,null,null,null,null,null,null,null,null,{"$f":"VLOOKUP(I165,係数!$D$12:$E$43,2,FALSE)","v":43.5},{"$f":"VLOOKUP(I165,係数!$D$12:$G$43,4,FALSE)","v":1.3899999999999999E-2},0,0,0,null,null,44,12]
[null,null,null,"石炭",null,null,null,null,"原料炭",null,null,null,null,null,null,null,"ｔ",null,null,null,null,null,null,null,null,null,null,null,null,{"$f":"IF(U166=0,\"\",U166*IF($AD$151=\"熱量GJ\",1,IF($AD$151=\"熱量TJ\",10^(-3),10^(-6)))*VLOOKUP(I166,係数!$D$12:$E$43,2,FALSE))","v":""},null,null,null,null,null,null,null,null,null,null,null,null,null,null,null,null,null,{"$f":"IF(AM166=0,\"\",AM166*IF($AV$151=\"熱量GJ\",1,IF($AV$151=\"熱量TJ\",10^(-3),10^(-6)))*VLOOKUP(I166,係数!$D$12:$E$43,2,FALSE))","v":""},null,null,null,null,null,null,null,null,null,null,null,null,null,null,null,{"$f":"VLOOKUP(I166,係数!$D$12:$E$43,2,FALSE)","v":29},{"$f":"VLOOKUP(I166,係数!$D$12:$G$43,4,FALSE)","v":2.4500000000000001E-2},0,0,0,null,null,44,12]
[null,null,null,null,null,null,null,null,"一般炭",null,null,null,null,null,null,null,"ｔ",null,null,null,null,null,null,null,null,null,null,null,null,{"$f":"IF(U167=0,\"\",U167*IF($AD$151=\"熱量GJ\",1,IF($AD$151=\"熱量TJ\",10^(-3),10^(-6)))*VLOOKUP(I167,係数!$D$12:$E$43,2,FALSE))","v":""},null,null,null,null,null,null,null,null,null,null,null,null,null,null,null,null,null,{"$f":"IF(AM167=0,\"\",AM167*IF($AV$151=\"熱量GJ\",1,IF($AV$151=\"熱量TJ\",10^(-3),10^(-6)))*VLOOKUP(I167,係数!$D$12:$E$43,2,FALSE))","v":""},null,null,null,null,null,null,null,null,null,null,null,null,null,null,null,{"$f":"VLOOKUP(I167,係数!$D$12:$E$43,2,FALSE)","v":25.7},{"$f":"VLOOKUP(I167,係数!$D$12:$G$43,4,FALSE)","v":2.47E-2},0,0,0,null,null,44,12]
[null,null,null,null,null,null,null,null,"無煙炭",null,null,null,null,null,null,null,"ｔ",null,null,null,null,null,null,null,null,null,null,null,null,{"$f":"IF(U168=0,\"\",U168*IF($AD$151=\"熱量GJ\",1,IF($AD$151=\"熱量TJ\",10^(-3),10^(-6)))*VLOOKUP(I168,係数!$D$12:$E$43,2,FALSE))","v":""},null,null,null,null,null,null,null,null,null,null,null,null,null,null,null,null,null,{"$f":"IF(AM168=0,\"\",AM168*IF($AV$151=\"熱量GJ\",1,IF($AV$151=\"熱量TJ\",10^(-3),10^(-6)))*VLOOKUP(I168,係数!$D$12:$E$43,2,FALSE))","v":""},null,null,null,null,null,null,null,null,null,null,null,null,null,null,null,{"$f":"VLOOKUP(I168,係数!$D$12:$E$43,2,FALSE)","v":26.9},{"$f":"VLOOKUP(I168,係数!$D$12:$G$43,4,FALSE)","v":2.5499999999999998E-2},0,0,0,null,null,44,12]
[null,null,null,"石炭コークス",null,null,null,null,null,null,null,null,null,null,null,null,"ｔ",null,null,null,null,null,null,null,null,null,null,null,null,{"$f":"IF(U169=0,\"\",U169*IF($AD$151=\"熱量GJ\",1,IF($AD$151=\"熱量TJ\",10^(-3),10^(-6)))*VLOOKUP(D169,係数!$D$12:$E$43,2,FALSE))","v":""},null,null,null,null,null,null,null,null,null,null,null,null,null,null,null,null,null,{"$f":"IF(AM169=0,\"\",AM169*IF($AV$151=\"熱量GJ\",1,IF($AV$151=\"熱量TJ\",10^(-3),10^(-6)))*VLOOKUP(D169,係数!$D$12:$E$43,2,FALSE))","v":""},null,null,null,null,null,null,null,null,null,null,null,null,null,null,null,{"$f":"VLOOKUP(D169,係数!$D$12:$E$43,2,FALSE)","v":29.4},{"$f":"VLOOKUP(D169,係数!$D$12:$G$43,4,FALSE)","v":2.9399999999999999E-2},0,0,0,null,null,44,12]
[null,null,null,"コールタール",null,null,null,null,null,null,null,null,null,null,null,null,"ｔ",null,null,null,null,null,null,null,null,null,null,null,null,{"$f":"IF(U170=0,\"\",U170*IF($AD$151=\"熱量GJ\",1,IF($AD$151=\"熱量TJ\",10^(-3),10^(-6)))*VLOOKUP(D170,係数!$D$12:$E$43,2,FALSE))","v":""},null,null,null,null,null,null,null,null,null,null,null,null,null,null,null,null,null,{"$f":"IF(AM170=0,\"\",AM170*IF($AV$151=\"熱量GJ\",1,IF($AV$151=\"熱量TJ\",10^(-3),10^(-6)))*VLOOKUP(D170,係数!$D$12:$E$43,2,FALSE))","v":""},null,null,null,null,null,null,null,null,null,null,null,null,null,null,null,{"$f":"VLOOKUP(D170,係数!$D$12:$E$43,2,FALSE)","v":37.299999999999997},{"$f":"VLOOKUP(D170,係数!$D$12:$G$43,4,FALSE)","v":2.0899999999999998E-2},0,0,0,null,null,44,12]
[null,null,null,"コークス炉ガス",null,null,null,null,null,null,null,null,null,null,null,null,"千ｍ３",null,null,null,null,null,null,null,null,null,null,null,null,{"$f":"IF(U171=0,\"\",U171*IF($AD$151=\"熱量GJ\",1,IF($AD$151=\"熱量TJ\",10^(-3),10^(-6)))*VLOOKUP(D171,係数!$D$12:$E$43,2,FALSE))","v":""},null,null,null,null,null,null,null,null,null,null,null,null,null,null,null,null,null,{"$f":"IF(AM171=0,\"\",AM171*IF($AV$151=\"熱量GJ\",1,IF($AV$151=\"熱量TJ\",10^(-3),10^(-6)))*VLOOKUP(D171,係数!$D$12:$E$43,2,FALSE))","v":""},null,null,null,null,null,null,null,null,null,null,null,null,null,null,null,{"$f":"VLOOKUP(D171,係数!$D$12:$E$43,2,FALSE)","v":21.1},{"$f":"VLOOKUP(D171,係数!$D$12:$G$43,4,FALSE)","v":1.0999999999999999E-2},0,0,0,null,null,44,12]
[null,null,null,"高炉ガス",null,null,null,null,null,null,null,null,null,null,null,null,"千ｍ３",null,null,null,null,null,null,null,null,null,null,null,null,{"$f":"IF(U172=0,\"\",U172*IF($AD$151=\"熱量GJ\",1,IF($AD$151=\"熱量TJ\",10^(-3),10^(-6)))*VLOOKUP(D172,係数!$D$12:$E$43,2,FALSE))","v":""},null,null,null,null,null,null,null,null,null,null,null,null,null,null,null,null,null,{"$f":"IF(AM172=0,\"\",AM172*IF($AV$151=\"熱量GJ\",1,IF($AV$151=\"熱量TJ\",10^(-3),10^(-6)))*VLOOKUP(D172,係数!$D$12:$E$43,2,FALSE))","v":""},null,null,null,null,null,null,null,null,null,null,null,null,null,null,null,{"$f":"VLOOKUP(D172,係数!$D$12:$E$43,2,FALSE)","v":3.41},{"$f":"VLOOKUP(D172,係数!$D$12:$G$43,4,FALSE)","v":2.63E-2},0,0,0,null,null,44,12]
[null,null,null,"転炉ガス",null,null,null,null,null,null,null,null,null,null,null,null,"千ｍ３",null,null,null,null,null,null,null,null,null,null,null,null,{"$f":"IF(U173=0,\"\",U173*IF($AD$151=\"熱量GJ\",1,IF($AD$151=\"熱量TJ\",10^(-3),10^(-6)))*VLOOKUP(D173,係数!$D$12:$E$43,2,FALSE))","v":""},null,null,null,null,null,null,null,null,null,null,null,null,null,null,null,null,null,{"$f":"IF(AM173=0,\"\",AM173*IF($AV$151=\"熱量GJ\",1,IF($AV$151=\"熱量TJ\",10^(-3),10^(-6)))*VLOOKUP(D173,係数!$D$12:$E$43,2,FALSE))","v":""},null,null,null,null,null,null,null,null,null,null,null,null,null,null,null,{"$f":"VLOOKUP(D173,係数!$D$12:$E$43,2,FALSE)","v":8.41},{"$f":"VLOOKUP(D173,係数!$D$12:$G$43,4,FALSE)","v":3.8399999999999997E-2},0,0,0,null,null,44,12]
[null,null,null,"その他の\n燃 料",null,null,null,null,"都市ガス",null,null,null,null,null,null,null,"千ｍ３",null,null,null,{"$f":"IF(入力・計算補助!Y55=0,\"\",入力・計算補助!Y55)","v":""},null,null,null,null,null,null,null,null,{"$f":"IF(入力・計算補助!Z55=0,\"\",入力・計算補助!Z55)","v":""},null,null,null,null,null,null,null,null,{"$f":"IF(入力・計算補助!AA55=0,\"\",入力・計算補助!AA55)","v":""},null,null,null,null,null,null,null,null,{"$f":"IF(入力・計算補助!AB55=0,\"\",入力・計算補助!AB55)","v":""},null,null,null,null,null,null,null,null,null,null,null,null,null,null,null,{"$f":"入力・計算補助!AD28","v":"N/A"},{"$f":"入力・計算補助!AD29","v":1.3599999999999999E-2},{"$f":"IF(ISERROR(AD174*BM174*BS174/BT174),入力・計算補助!AC55,AD174*BM174*BS174/BT174)","v":0},{"$f":"IF(ISERROR(AV174*BM174*BS174/BT174),入力・計算補助!AD55,AV174*BM174*BS174/BT174)","v":0},{"$f":"ROUND(入力・計算補助!AF55,1)","v":0},null,null,44,12]
[{"$f":"IF(入力・計算補助!I57<>\"\",IF(OR(LEFT(入力・計算補助!D57,5)=\"航空機燃料\",LEFT(入力・計算補助!D57,6)=\"ジェット燃料\"),2,IF(RIGHT(入力・計算補助!D57,3)=\"推計値\",1,IF(入力・計算補助!D57=\"ガソリン\",3,9))),0)","v":0},null,null,null,null,null,null,null,"（",{"$f":"IF(入力・計算補助!D57=\"\",\"\",入力・計算補助!D57)","v":""},null,null,null,null,null,"）","空調",null,null,null,null,null,null,null,null,null,null,null,null,2445,null,null,null,null,null,null,null,null,null,null,null,null,null,null,null,null,null,{"$f":"IF(AM175=0,\"\",AM175*IF($AV$151=\"熱量GJ\",1,IF($AV$151=\"熱量TJ\",10^(-3),10^(-6)))*入力・計算補助!I57)","v":""},null,null,null,null,null,null,null,null,null,null,null,null,null,null,null,{"$f":"入力・計算補助!I57","v":""},{"$f":"IF(RIGHT(J175,3)=\"推計値\",入力・計算補助!M57,IF(OR(LEFT(J175,6)=\"ジェット燃料\",LEFT(J175,5)=\"航空機燃料\"),係数!G$35,IF(J175=\"ガソリン\",係数!G$14,\"N/A\")))","v":"N/A"},{"$f":"IF(U175=\"\",0,IF(RIGHT(J175,3)=\"推計値\",AD175*BM175,IF(OR(LEFT(J175,6)=\"ジェット燃料\",LEFT(J175,5)=\"航空機燃料\",J175=\"ガソリン\"),AD175*BM175*BS175/BT175,\"\")))","v":0},{"$f":"IF(AM175=\"\",0,IF(RIGHT(J175,3)=\"推計値\",AV175*BM175,IF(OR(LEFT(J175,6)=\"ジェット燃料\",LEFT(J175,5)=\"航空機燃料\",J175=\"ガソリン\"),AV175*BM175*BS175/BT175,\"\")))","v":0},{"$f":"IF(OR(RIGHT(J175,3)=\"推計値\",LEFT(J175,6)=\"ジェット燃料\",LEFT(J175,5)=\"航空機燃料\",J175=\"ガソリン\"),IF(ISERROR(BN175-BO175),\"\",ROUND(BN175-BO175,1)),\"\")","v":""},"控除量",null,{"$f":"IF(RIGHT(J175,3)=\"推計値\",1,IF(OR(LEFT(J175,6)=\"ジェット燃料\",LEFT(J175,5)=\"航空機燃料\",J175=\"ガソリン\"),44,\"\"))","v":""},{"$f":"IF(RIGHT(J175,3)=\"推計値\",1,IF(OR(LEFT(J175,6)=\"ジェット燃料\",LEFT(J175,5)=\"航空機燃料\",J175=\"ガソリン\"),12,\"\"))","v":""}]
[{"$f":"IF(入力・計算補助!I58<>\"\",IF(OR(LEFT(入力・計算補助!D58,5)=\"航空機燃料\",LEFT(入力・計算補助!D58,6)=\"ジェット燃料\"),2,IF(RIGHT(入力・計算補助!D58,3)=\"推計値\",1,IF(入力・計算補助!D58=\"ガソリン\",3,9))),0)","v":0},null,null,null,null,null,null,null,"（",{"$f":"IF(入力・計算補助!D58=\"\",\"\",入力・計算補助!D58)","v":""},null,null,null,null,null,"）",{"$f":"IF(入力・計算補助!K58=\"\",\"\",MID(入力・計算補助!K58,4,LEN(入力・計算補助!K58)-3))","v":""},null,null,null,null,null,null,null,null,null,null,null,null,{"$f":"IF(U176=0,\"\",U176*IF($AD$151=\"熱量GJ\",1,IF($AD$151=\"熱量TJ\",10^(-3),10^(-6)))*入力・計算補助!I58)","v":""},null,null,null,null,null,null,null,null,null,null,null,null,null,null,null,null,null,{"$f":"IF(AM176=0,\"\",AM176*IF($AV$151=\"熱量GJ\",1,IF($AV$151=\"熱量TJ\",10^(-3),10^(-6)))*入力・計算補助!I58)","v":""},null,null,null,null,null,null,null,null,null,null,null,null,null,null,null,{"$f":"入力・計算補助!I58","v":""},{"$f":"IF(RIGHT(J176,3)=\"推計値\",入力・計算補助!M58,IF(OR(LEFT(J176,6)=\"ジェット燃料\",LEFT(J176,5)=\"航空機燃料\"),係数!G$35,IF(J176=\"ガソリン\",係数!G$14,\"N/A\")))","v":"N/A"},{"$f":"IF(U176=\"\",0,IF(RIGHT(J176,3)=\"推計値\",AD176*BM176,IF(OR(LEFT(J176,6)=\"ジェット燃料\",LEFT(J176,5)=\"航空機燃料\",J176=\"ガソリン\"),AD176*BM176*BS176/BT176,\"\")))","v":0},{"$f":"IF(AM176=\"\",0,IF(RIGHT(J176,3)=\"推計値\",AV176*BM176,IF(OR(LEFT(J176,6)=\"ジェット燃料\",LEFT(J176,5)=\"航空機燃料\",J176=\"ガソリン\"),AV176*BM176*BS176/BT176,\"\")))","v":0},{"$f":"IF(OR(RIGHT(J176,3)=\"推計値\",LEFT(J176,6)=\"ジェット燃料\",LEFT(J176,5)=\"航空機燃料\",J176=\"ガソリン\"),IF(ISERROR(BN176-BO176),\"\",ROUND(BN176-BO176,1)),\"\")","v":""},null,null,{"$f":"IF(RIGHT(J176,3)=\"推計値\",1,IF(OR(LEFT(J176,6)=\"ジェット燃料\",LEFT(J176,5)=\"航空機燃料\",J176=\"ガソリン\"),44,\"\"))","v":""},{"$f":"IF(RIGHT(J176,3)=\"推計値\",1,IF(OR(LEFT(J176,6)=\"ジェット燃料\",LEFT(J176,5)=\"航空機燃料\",J176=\"ガソリン\"),12,\"\"))","v":""}]
[{"$f":"IF(入力・計算補助!I59<>\"\",IF(OR(LEFT(入力・計算補助!D59,5)=\"航空機燃料\",LEFT(入力・計算補助!D59,6)=\"ジェット燃料\"),2,IF(RIGHT(入力・計算補助!D59,3)=\"推計値\",1,IF(入力・計算補助!D59=\"ガソリン\",3,9))),0)","v":0},null,null,null,null,null,null,null,"（",{"$f":"IF(入力・計算補助!D59=\"\",\"\",入力・計算補助!D59)","v":""},null,null,null,null,null,"）",{"$f":"IF(入力・計算補助!K59=\"\",\"\",MID(入力・計算補助!K59,4,LEN(入力・計算補助!K59)-3))","v":""},null,null,null,null,null,null,null,null,null,null,null,null,{"$f":"IF(U177=0,\"\",U177*IF($AD$151=\"熱量GJ\",1,IF($AD$151=\"熱量TJ\",10^(-3),10^(-6)))*入力・計算補助!I59)","v":""},null,null,null,null,null,null,null,null,null,null,null,null,null,null,null,null,null,{"$f":"IF(AM177=0,\"\",AM177*IF($AV$151=\"熱量GJ\",1,IF($AV$151=\"熱量TJ\",10^(-3),10^(-6)))*入力・計算補助!I59)","v":""},null,null,null,null,null,null,null,null,null,null,null,null,null,null,null,{"$f":"入力・計算補助!I59","v":""},{"$f":"IF(RIGHT(J177,3)=\"推計値\",入力・計算補助!M59,IF(OR(LEFT(J177,6)=\"ジェット燃料\",LEFT(J177,5)=\"航空機燃料\"),係数!G$35,IF(J177=\"ガソリン\",係数!G$14,\"N/A\")))","v":"N/A"},{"$f":"IF(U177=\"\",0,IF(RIGHT(J177,3)=\"推計値\",AD177*BM177,IF(OR(LEFT(J177,6)=\"ジェット燃料\",LEFT(J177,5)=\"航空機燃料\",J177=\"ガソリン\"),AD177*BM177*BS177/BT177,\"\")))","v":0},{"$f":"IF(AM177=\"\",0,IF(RIGHT(J177,3)=\"推計値\",AV177*BM177,IF(OR(LEFT(J177,6)=\"ジェット燃料\",LEFT(J177,5)=\"航空機燃料\",J177=\"ガソリン\"),AV177*BM177*BS177/BT177,\"\")))","v":0},"",null,null,"",""]
[{"$f":"IF(入力・計算補助!I60<>\"\",IF(OR(LEFT(入力・計算補助!D60,5)=\"航空機燃料\",LEFT(入力・計算補助!D60,6)=\"ジェット燃料\"),2,IF(RIGHT(入力・計算補助!D60,3)=\"推計値\",1,IF(入力・計算補助!D60=\"ガソリン\",3,9))),0)","v":0},null,null,null,null,null,null,null,"（",{"$f":"IF(入力・計算補助!D60=\"\",\"\",入力・計算補助!D60)","v":""},null,null,null,null,null,"）",{"$f":"IF(入力・計算補助!K60=\"\",\"\",MID(入力・計算補助!K60,4,LEN(入力・計算補助!K60)-3))","v":""},null,null,null,null,null,null,null,null,null,null,null,null,{"$f":"IF(U178=0,\"\",U178*IF($AD$151=\"熱量GJ\",1,IF($AD$151=\"熱量TJ\",10^(-3),10^(-6)))*入力・計算補助!I60)","v":""},null,null,null,null,null,null,null,null,null,null,null,null,null,null,null,null,null,{"$f":"IF(AM178=0,\"\",AM178*IF($AV$151=\"熱量GJ\",1,IF($AV$151=\"熱量TJ\",10^(-3),10^(-6)))*入力・計算補助!I60)","v":""},null,null,null,null,null,null,null,null,null,null,null,null,null,null,null,{"$f":"入力・計算補助!I60","v":""},{"$f":"IF(RIGHT(J178,3)=\"推計値\",入力・計算補助!M60,IF(OR(LEFT(J178,6)=\"ジェット燃料\",LEFT(J178,5)=\"航空機燃料\"),係数!G$35,IF(J178=\"ガソリン\",係数!G$14,\"N/A\")))","v":"N/A"},0,0,"",null,null,"",""]
[{"$f":"IF(入力・計算補助!I61<>\"\",IF(OR(LEFT(入力・計算補助!D61,5)=\"航空機燃料\",LEFT(入力・計算補助!D61,6)=\"ジェット燃料\"),2,IF(RIGHT(入力・計算補助!D61,3)=\"推計値\",1,IF(入力・計算補助!D61=\"ガソリン\",3,9))),0)","v":0},null,null,null,null,null,null,null,"（",{"$f":"IF(入力・計算補助!D61=\"\",\"\",入力・計算補助!D61)","v":""},null,null,null,null,null,"）",{"$f":"IF(入力・計算補助!K61=\"\",\"\",MID(入力・計算補助!K61,4,LEN(入力・計算補助!K61)-3))","v":""},null,null,null,null,null,null,null,null,null,null,null,null,{"$f":"IF(U179=0,\"\",U179*IF($AD$151=\"熱量GJ\",1,IF($AD$151=\"熱量TJ\",10^(-3),10^(-6)))*入力・計算補助!I61)","v":""},null,null,null,null,null,null,null,null,null,null,null,null,null,null,null,null,null,{"$f":"IF(AM179=0,\"\",AM179*IF($AV$151=\"熱量GJ\",1,IF($AV$151=\"熱量TJ\",10^(-3),10^(-6)))*入力・計算補助!I61)","v":""},null,null,null,null,null,null,null,null,null,null,null,null,null,null,null,{"$f":"入力・計算補助!I61","v":""},{"$f":"IF(RIGHT(J179,3)=\"推計値\",入力・計算補助!M61,IF(OR(LEFT(J179,6)=\"ジェット燃料\",LEFT(J179,5)=\"航空機燃料\"),係数!G$35,IF(J179=\"ガソリン\",係数!G$14,\"N/A\")))","v":"N/A"},0,0,"",null,null,"",""]
[{"$f":"IF(入力・計算補助!I62<>\"\",IF(OR(LEFT(入力・計算補助!D62,5)=\"航空機燃料\",LEFT(入力・計算補助!D62,6)=\"ジェット燃料\"),2,IF(RIGHT(入力・計算補助!D62,3)=\"推計値\",1,IF(入力・計算補助!D62=\"ガソリン\",3,9))),0)","v":0},null,null,null,null,null,null,null,"（",{"$f":"IF(入力・計算補助!D62=\"\",\"\",入力・計算補助!D62)","v":""},null,null,null,null,null,"）",{"$f":"IF(入力・計算補助!K62=\"\",\"\",MID(入力・計算補助!K62,4,LEN(入力・計算補助!K62)-3))","v":""},null,null,null,null,null,null,null,null,null,null,null,null,{"$f":"IF(U180=0,\"\",U180*IF($AD$151=\"熱量GJ\",1,IF($AD$151=\"熱量TJ\",10^(-3),10^(-6)))*入力・計算補助!I62)","v":""},null,null,null,null,null,null,null,null,null,null,null,null,null,null,null,null,null,{"$f":"IF(AM180=0,\"\",AM180*IF($AV$151=\"熱量GJ\",1,IF($AV$151=\"熱量TJ\",10^(-3),10^(-6)))*入力・計算補助!I62)","v":""},null,null,null,null,null,null,null,null,null,null,null,null,null,null,null,{"$f":"入力・計算補助!I62","v":""},{"$f":"IF(RIGHT(J180,3)=\"推計値\",入力・計算補助!M62,IF(OR(LEFT(J180,6)=\"ジェット燃料\",LEFT(J180,5)=\"航空機燃料\"),係数!G$35,IF(J180=\"ガソリン\",係数!G$14,\"N/A\")))","v":"N/A"},0,0,"",null,null,"",""]
[{"$f":"IF(入力・計算補助!I63<>\"\",IF(OR(LEFT(入力・計算補助!D63,5)=\"航空機燃料\",LEFT(入力・計算補助!D63,6)=\"ジェット燃料\"),2,IF(RIGHT(入力・計算補助!D63,3)=\"推計値\",1,IF(入力・計算補助!D63=\"ガソリン\",3,9))),0)","v":0},null,null,null,null,null,null,null,"（",{"$f":"IF(入力・計算補助!D63=\"\",\"\",入力・計算補助!D63)","v":""},null,null,null,null,null,"）",{"$f":"IF(入力・計算補助!K63=\"\",\"\",MID(入力・計算補助!K63,4,LEN(入力・計算補助!K63)-3))","v":""},null,null,null,null,null,null,null,null,null,null,null,null,{"$f":"IF(U181=0,\"\",U181*IF($AD$151=\"熱量GJ\",1,IF($AD$151=\"熱量TJ\",10^(-3),10^(-6)))*入力・計算補助!I63)","v":""},null,null,null,null,null,null,null,null,null,null,null,null,null,null,null,null,null,{"$f":"IF(AM181=0,\"\",AM181*IF($AV$151=\"熱量GJ\",1,IF($AV$151=\"熱量TJ\",10^(-3),10^(-6)))*入力・計算補助!I63)","v":""},null,null,null,null,null,null,null,null,null,null,null,null,null,null,null,{"$f":"入力・計算補助!I63","v":""},{"$f":"IF(RIGHT(J181,3)=\"推計値\",入力・計算補助!M63,IF(OR(LEFT(J181,6)=\"ジェット燃料\",LEFT(J181,5)=\"航空機燃料\"),係数!G$35,IF(J181=\"ガソリン\",係数!G$14,\"N/A\")))","v":"N/A"},0,0,"",null,null,"",""]
[{"$f":"IF(入力・計算補助!I64<>\"\",IF(OR(LEFT(入力・計算補助!D64,5)=\"航空機燃料\",LEFT(入力・計算補助!D64,6)=\"ジェット燃料\"),2,IF(RIGHT(入力・計算補助!D64,3)=\"推計値\",1,IF(入力・計算補助!D64=\"ガソリン\",3,9))),0)","v":0},null,null,null,null,null,null,null,"（",{"$f":"IF(入力・計算補助!D64=\"\",\"\",入力・計算補助!D64)","v":""},null,null,null,null,null,"）",{"$f":"IF(入力・計算補助!K64=\"\",\"\",MID(入力・計算補助!K64,4,LEN(入力・計算補助!K64)-3))","v":""},null,null,null,null,null,null,null,null,null,null,null,null,{"$f":"IF(U182=0,\"\",U182*IF($AD$151=\"熱量GJ\",1,IF($AD$151=\"熱量TJ\",10^(-3),10^(-6)))*入力・計算補助!I64)","v":""},null,null,null,null,null,null,null,null,null,null,null,null,null,null,null,null,null,{"$f":"IF(AM182=0,\"\",AM182*IF($AV$151=\"熱量GJ\",1,IF($AV$151=\"熱量TJ\",10^(-3),10^(-6)))*入力・計算補助!I64)","v":""},null,null,null,null,null,null,null,null,null,null,null,null,null,null,null,{"$f":"入力・計算補助!I64","v":""},{"$f":"IF(RIGHT(J182,3)=\"推計値\",入力・計算補助!M64,IF(OR(LEFT(J182,6)=\"ジェット燃料\",LEFT(J182,5)=\"航空機燃料\"),係数!G$35,IF(J182=\"ガソリン\",係数!G$14,\"N/A\")))","v":"N/A"},0,0,"",null,null,"",""]
[{"$f":"IF(入力・計算補助!I65<>\"\",IF(OR(LEFT(入力・計算補助!D65,5)=\"航空機燃料\",LEFT(入力・計算補助!D65,6)=\"ジェット燃料\"),2,IF(RIGHT(入力・計算補助!D65,3)=\"推計値\",1,IF(入力・計算補助!D65=\"ガソリン\",3,9))),0)","v":0},null,null,null,null,null,null,null,"（",{"$f":"IF(入力・計算補助!D65=\"\",\"\",入力・計算補助!D65)","v":""},null,null,null,null,null,"）",{"$f":"IF(入力・計算補助!K65=\"\",\"\",MID(入力・計算補助!K65,4,LEN(入力・計算補助!K65)-3))","v":""},null,null,null,null,null,null,null,null,null,null,null,null,{"$f":"IF(U183=0,\"\",U183*IF($AD$151=\"熱量GJ\",1,IF($AD$151=\"熱量TJ\",10^(-3),10^(-6)))*入力・計算補助!I65)","v":""},null,null,null,null,null,null,null,null,null,null,null,null,null,null,null,null,null,{"$f":"IF(AM183=0,\"\",AM183*IF($AV$151=\"熱量GJ\",1,IF($AV$151=\"熱量TJ\",10^(-3),10^(-6)))*入力・計算補助!I65)","v":""},null,null,null,null,null,null,null,null,null,null,null,null,null,null,null,{"$f":"入力・計算補助!I65","v":""},{"$f":"IF(RIGHT(J183,3)=\"推計値\",入力・計算補助!M65,IF(OR(LEFT(J183,6)=\"ジェット燃料\",LEFT(J183,5)=\"航空機燃料\"),係数!G$35,IF(J183=\"ガソリン\",係数!G$14,\"N/A\")))","v":"N/A"},0,0,"",null,null,"",""]
[{"$f":"IF(入力・計算補助!I66<>\"\",IF(OR(LEFT(入力・計算補助!D66,5)=\"航空機燃料\",LEFT(入力・計算補助!D66,6)=\"ジェット燃料\"),2,IF(RIGHT(入力・計算補助!D66,3)=\"推計値\",1,IF(入力・計算補助!D66=\"ガソリン\",3,9))),0)","v":0},null,null,null,null,null,null,null,"（",{"$f":"IF(入力・計算補助!D66=\"\",\"\",入力・計算補助!D66)","v":""},null,null,null,null,null,"）",{"$f":"IF(入力・計算補助!K66=\"\",\"\",MID(入力・計算補助!K66,4,LEN(入力・計算補助!K66)-3))","v":""},null,null,null,null,null,null,null,null,null,null,null,null,{"$f":"IF(U184=0,\"\",U184*IF($AD$151=\"熱量GJ\",1,IF($AD$151=\"熱量TJ\",10^(-3),10^(-6)))*入力・計算補助!I66)","v":""},null,null,null,null,null,null,null,null,null,null,null,null,null,null,null,null,null,{"$f":"IF(AM184=0,\"\",AM184*IF($AV$151=\"熱量GJ\",1,IF($AV$151=\"熱量TJ\",10^(-3),10^(-6)))*入力・計算補助!I66)","v":""},null,null,null,null,null,null,null,null,null,null,null,null,null,null,null,{"$f":"入力・計算補助!I66","v":""},{"$f":"IF(RIGHT(J184,3)=\"推計値\",入力・計算補助!M66,IF(OR(LEFT(J184,6)=\"ジェット燃料\",LEFT(J184,5)=\"航空機燃料\"),係数!G$35,IF(J184=\"ガソリン\",係数!G$14,\"N/A\")))","v":"N/A"},0,0,"",null,null,"",""]
[{"$f":"IF(入力・計算補助!I67<>\"\",IF(OR(LEFT(入力・計算補助!D67,5)=\"航空機燃料\",LEFT(入力・計算補助!D67,6)=\"ジェット燃料\"),2,IF(RIGHT(入力・計算補助!D67,3)=\"推計値\",1,IF(入力・計算補助!D67=\"ガソリン\",3,9))),0)","v":0},null,null,null,null,null,null,null,"（",{"$f":"IF(入力・計算補助!D67=\"\",\"\",入力・計算補助!D67)","v":""},null,null,null,null,null,"）",{"$f":"IF(入力・計算補助!K67=\"\",\"\",MID(入力・計算補助!K67,4,LEN(入力・計算補助!K67)-3))","v":""},null,null,null,null,null,null,null,null,null,null,null,null,{"$f":"IF(U185=0,\"\",U185*IF($AD$151=\"熱量GJ\",1,IF($AD$151=\"熱量TJ\",10^(-3),10^(-6)))*入力・計算補助!I67)","v":""},null,null,null,null,null,null,null,null,null,null,null,null,null,null,null,null,null,{"$f":"IF(AM185=0,\"\",AM185*IF($AV$151=\"熱量GJ\",1,IF($AV$151=\"熱量TJ\",10^(-3),10^(-6)))*入力・計算補助!I67)","v":""},null,null,null,null,null,null,null,null,null,null,null,null,null,null,null,{"$f":"入力・計算補助!I67","v":""},{"$f":"IF(RIGHT(J185,3)=\"推計値\",入力・計算補助!M67,IF(OR(LEFT(J185,6)=\"ジェット燃料\",LEFT(J185,5)=\"航空機燃料\"),係数!G$35,IF(J185=\"ガソリン\",係数!G$14,\"N/A\")))","v":"N/A"},0,0,"",null,null,"",""]
[null,null,null,"産業用蒸気",null,null,null,null,null,null,null,null,null,null,null,null,"ＧＪ",null,null,null,null,null,null,null,null,null,null,null,null,{"$f":"IF(U186=0,\"\",U186*IF($AD$151=\"熱量GJ\",1,IF($AD$151=\"熱量TJ\",10^(-3),10^(-6)))*VLOOKUP(D186,係数!$D$12:$E$43,2,FALSE))","v":""},null,null,null,null,null,null,null,null,null,null,null,null,null,null,null,null,null,{"$f":"IF(AM186=0,\"\",AM186*IF($AV$151=\"熱量GJ\",1,IF($AV$151=\"熱量TJ\",10^(-3),10^(-6)))*VLOOKUP(D186,係数!$D$12:$E$43,2,FALSE))","v":""},null,null,null,null,null,null,null,null,null,null,null,null,null,null,null,{"$f":"VLOOKUP(D186,係数!$D$12:$E$43,2,FALSE)","v":1.02},{"$f":"VLOOKUP(D186,係数!$D$12:$G$43,4,FALSE)","v":0.06},{"$f":"IF(ISERROR(U186*BM186),0,U186*BM186)","v":0},null,{"$f":"ROUND(BN186,1)","v":0},null,null,1,1]
[null,null,null,"産業用以外の蒸気",null,null,null,null,null,null,null,null,null,null,null,null,"ＧＪ",null,null,null,null,null,null,null,null,null,null,null,null,{"$f":"IF(U187=0,\"\",U187*IF($AD$151=\"熱量GJ\",1,IF($AD$151=\"熱量TJ\",10^(-3),10^(-6)))*VLOOKUP(D187,係数!$D$12:$E$43,2,FALSE))","v":""},null,null,null,null,null,null,null,null,null,null,null,null,null,null,null,null,null,{"$f":"IF(AM187=0,\"\",AM187*IF($AV$151=\"熱量GJ\",1,IF($AV$151=\"熱量TJ\",10^(-3),10^(-6)))*VLOOKUP(D187,係数!$D$12:$E$43,2,FALSE))","v":""},null,null,null,null,null,null,null,null,null,null,null,null,null,null,null,{"$f":"VLOOKUP(D187,係数!$D$12:$E$43,2,FALSE)","v":1.36},{"$f":"VLOOKUP(D187,係数!$D$12:$G$43,4,FALSE)","v":5.7000000000000002E-2},{"$f":"IF(ISERROR(U187*BM187),0,U187*BM187)","v":0},null,{"$f":"ROUND(BN187,1)","v":0},null,null,1,1]
[null,null,null,"温水",null,null,null,null,null,null,null,null,null,null,null,null,"ＧＪ",null,null,null,null,null,null,null,null,null,null,null,null,{"$f":"IF(U188=0,\"\",U188*IF($AD$151=\"熱量GJ\",1,IF($AD$151=\"熱量TJ\",10^(-3),10^(-6)))*VLOOKUP(D188,係数!$D$12:$E$43,2,FALSE))","v":""},null,null,null,null,null,null,null,null,null,null,null,null,null,null,null,null,null,{"$f":"IF(AM188=0,\"\",AM188*IF($AV$151=\"熱量GJ\",1,IF($AV$151=\"熱量TJ\",10^(-3),10^(-6)))*VLOOKUP(D188,係数!$D$12:$E$43,2,FALSE))","v":""},null,null,null,null,null,null,null,null,null,null,null,null,null,null,null,{"$f":"VLOOKUP(D188,係数!$D$12:$E$43,2,FALSE)","v":1.36},{"$f":"VLOOKUP(D188,係数!$D$12:$G$43,4,FALSE)","v":5.7000000000000002E-2},{"$f":"IF(ISERROR(U188*BM188),0,U188*BM188)","v":0},null,{"$f":"ROUND(BN188,1)","v":0},null,null,1,1]
[null,null,null,"冷水",null,null,null,null,null,null,null,null,null,null,null,null,"ＧＪ",null,null,null,null,null,null,null,null,null,null,null,null,{"$f":"IF(U189=0,\"\",U189*IF($AD$151=\"熱量GJ\",1,IF($AD$151=\"熱量TJ\",10^(-3),10^(-6)))*VLOOKUP(D189,係数!$D$12:$E$43,2,FALSE))","v":""},null,null,null,null,null,null,null,null,null,null,null,null,null,null,null,null,null,{"$f":"IF(AM189=0,\"\",AM189*IF($AV$151=\"熱量GJ\",1,IF($AV$151=\"熱量TJ\",10^(-3),10^(-6)))*VLOOKUP(D189,係数!$D$12:$E$43,2,FALSE))","v":""},null,null,null,null,null,null,null,null,null,null,null,null,null,null,null,{"$f":"VLOOKUP(D189,係数!$D$12:$E$43,2,FALSE)","v":1.36},{"$f":"VLOOKUP(D189,係数!$D$12:$G$43,4,FALSE)","v":5.7000000000000002E-2},{"$f":"IF(ISERROR(U189*BM189),0,U189*BM189)","v":0},null,{"$f":"ROUND(BN189,1)","v":0},null,null,1,1]
[null,null,null,"小計",null,null,null,null,null,null,null,null,null,null,null,null,"ＧＪ",null,null,null,null,null,null,null,null,null,null,null,null,{"$f":"IF(SUM(AD152:AD189)=0,\"\",SUM(AD152:AD189))","v":2445},null,null,null,null,null,null,null,null,null,null,null,null,null,null,null,null,null,{"$f":"IF(SUM(AV152:AV189)=0,\"\",SUM(AV152:AV189))","v":""},null,null,null,null,null,null,null,null,null,null,null,null,null,null,null,"換算係数","実\n排出係数",null,"調整後\n排出係数","実排出量",null,"調整後排出量"]
[null,"電\n\n気",null,"電気\n事業者",null,null,null,null,"昼間買電",null,null,null,null,null,null,null,"千kWh",null,null,null,7119,null,null,null,null,null,null,null,null,{"$f":"IF(OR(U191=\"\",U191=0),\"\",U191*IF($AD$151=\"熱量GJ\",1,IF(AD$151=\"熱量TJ\",10^(-3),10^(-6)))*VLOOKUP(I191,係数!$D$12:$E$43,2,FALSE))","v":70976.430000000008},null,null,null,null,null,null,null,null,null,null,null,null,null,null,null,null,null,null,null,null,null,null,null,null,null,null,null,null,null,null,null,null,null,{"$f":"VLOOKUP(I191,係数!$D$12:$E$43,2,FALSE)","v":9.9700000000000006},{"$f":"入力・計算補助!AG73","v":0.57899999999999996},{"$f":"IF(ISERROR(U191*BM191),0,U191*BM191)","v":4121.9009999999998},{"$f":"入力・計算補助!AG74","v":"N/A"},{"$f":"ROUND(入力・計算補助!AC120,1)","v":0},null,{"$f":"ROUND(入力・計算補助!AF120,1)","v":0}]
[null,null,null,null,null,null,null,null,null,"夏期・冬期における\n電気需要平準化時間帯",null,null,null,null,null,null,"千kWh",null,null,null,"（",4187,null,null,null,null,null,null,"）","（",{"$f":"IF(OR(V192=\"\",V192=0),\"\",V192*IF($AD$151=\"熱量GJ\",1,IF(AD$151=\"熱量TJ\",10^(-3),10^(-6)))*VLOOKUP(I191,係数!$D$12:$E$43,2,FALSE))","v":41744.39},null,null,null,null,null,null,"）",null,null,null,null,null,null,null,null,null,null,null,null,null,null,null,null,null,null,null,null,null,null,null,null,null,{"$f":"VLOOKUP(I191,係数!$D$12:$E$43,2,FALSE)","v":9.9700000000000006},{"$f":"入力・計算補助!AG73","v":0.57899999999999996},{"$f":"IF(ISERROR(V192*BM192),0,V192*BM192)","v":2424.2729999999997},{"$f":"入力・計算補助!AG74","v":"N/A"},{"$f":"ROUND(入力・計算補助!AD120,1)","v":0},null,{"$f":"ROUND(入力・計算補助!AG120,1)","v":0}]
[null,null,null,null,null,null,null,null,"夜間買電",null,null,null,null,null,null,null,"千kWh",null,null,null,{"$f":"IF(入力・計算補助!Y121=0,\"\",入力・計算補助!Y121)","v":""},null,null,null,null,null,null,null,null,{"$f":"IF(OR(U193=\"\",U193=0),\"\",U193*IF($AD$151=\"熱量GJ\",1,IF(AD$151=\"熱量TJ\",10^(-3),10^(-6)))*VLOOKUP(I193,係数!$D$12:$E$43,2,FALSE))","v":""},null,null,null,null,null,null,null,null,null,null,null,null,null,null,null,null,null,null,null,null,null,null,null,null,null,null,null,null,null,null,null,null,null,{"$f":"VLOOKUP(I193,係数!$D$12:$E$43,2,FALSE)","v":9.2799999999999994},{"$f":"入力・計算補助!AG73","v":0.57899999999999996},{"$f":"IF(ISERROR(AD193*BM193),0,AD193*BM193)","v":0},{"$f":"入力・計算補助!AG74","v":"N/A"},{"$f":"ROUND(入力・計算補助!AC121,1)","v":0},null,{"$f":"ROUND(入力・計算補助!AF121,1)","v":0}]
[null,null,null,"その他",null,null,null,null,"上記以外の買電",null,null,null,null,null,null,null,"千kWh",null,null,null,{"$f":"IF(入力・計算補助!T121=0,\"\",入力・計算補助!T121)","v":""},null,null,null,null,null,null,null,null,{"$f":"IF(OR(U194=\"\",U194=0),\"\",U194*IF($AD$151=\"熱量GJ\",1,IF(AD$151=\"熱量TJ\",10^(-3),10^(-6)))*VLOOKUP(I194,係数!$D$12:$E$43,2,FALSE))","v":""},null,null,null,null,null,null,null,null,null,null,null,null,null,null,null,null,null,null,null,null,null,null,null,null,null,null,null,null,null,null,null,null,null,{"$f":"VLOOKUP(I194,係数!$D$12:$E$43,2,FALSE)","v":9.76},{"$f":"入力・計算補助!Q120","v":0.57899999999999996},{"$f":"IF(ISERROR(U194*BM194),0,U194*BM194)","v":0},null,{"$f":"ROUND(BN194,1)","v":0},"控除量"]
[null,null,null,null,null,null,null,null,"自家発電",null,null,null,null,null,null,null,"千kWh",null,null,null,null,null,null,null,null,null,null,null,null,null,null,null,null,null,null,null,null,null,null,null,null,null,null,null,null,null,null,null,null,null,null,null,null,null,null,null,null,null,null,null,null,null,null,{"$f":"IF(OR(AM195=\"\",AM195=0),\"N/A\",ROUND(AV195/AM195,2))","v":"N/A"}]
[null,null,null,"小計",null,null,null,null,null,null,null,null,null,null,null,null,"千kWh",null,null,null,{"$f":"IF(SUM(U191,U193,U194,U195)=0,\"\",SUM(U191,U193,U194,U195))","v":7119},null,null,null,null,null,null,null,null,{"$f":"IF(SUM(AD191,AD193,AD194)=0,\"\",SUM(AD191,AD193,AD194))","v":70976.430000000008},null,null,null,null,null,null,null,null,{"$f":"IF(SUM(AM191:AU195)=0,\"\",SUM(AM191:AU195))","v":""},null,null,null,null,null,null,null,null,{"$f":"IF(SUM(AV191:BD195)=0,\"\",SUM(AV191:BD195))","v":""}]
[null,{"$f":"IF(AD$151=\"熱量GJ\",\"合 計ＧＪ\",IF(AD$151=\"熱量TJ\",\"合 計ＴＪ\",\"合 計PＪ\"))","v":"合 計ＧＪ"},null,null,null,null,null,null,null,null,null,null,null,null,null,null,null,null,null,null,null,null,null,null,null,null,null,null,null,{"$f":"IF(ISERROR(AD190+AD196),IF(AND(AD190=\"\",AD196=\"\"),\"\",IF(AD190=\"\",ROUND(AD196,0),ROUND(AD190,0))),ROUND(AD190+AD196,0))","v":73421},null,null,null,null,null,null,null,null,null,null,null,null,null,null,null,null,null,{"$f":"IF(ISERROR(AV190+AV196),IF(AND(AV190=\"\",AV196=\"\"),\"\",IF(AV190=\"\",ROUND(AV196,0),ROUND(AV190,0))),ROUND(AV190+AV196,0))","v":""}]
[null,"原油換算kl",null,null,null,null,null,null,null,null,null,null,null,null,null,null,null,null,null,null,null,null,null,null,null,null,null,null,null,"Ⓢ",null,{"$f":"IF(ISERROR(AD197*0.0258),\"\",ROUND(AD197*IF(AD151=\"熱量GJ\",1,IF(AD151=\"熱量TJ\",10^3,10^6))*0.0258,0))","v":1894},null,null,null,null,null,null,null,null,null,null,null,null,null,null,null,"Ⓣ",null,{"$f":"IF(ISERROR(AV197*0.0258),\"\",ROUND(AV197*IF(AV151=\"熱量GJ\",1,IF(AV151=\"熱量TJ\",10^3,10^6))*0.0258,0))","v":""},null,null,null,null,null,null,null,null,null,null,null,null,null,2.58E-2]
[null,"前年度原油換算kl",null,null,null,null,null,null,null,null,null,null,null,null,null,null,null,null,null,null,null,null,null,null,null,null,null,null,null,{"$f":"IF(入力・計算補助!D9=\"\",\"\",入力・計算補助!D9)","v":2386}]
[null,"対前年度比（％）",null,null,null,null,null,null,null,null,null,null,null,null,null,null,null,null,null,null,null,null,null,null,null,null,null,null,null,{"$f":"IF(AD199=\"\",\"              -\",(IF(ISERROR(AF198/AD199*100),\"              -\",ROUND(AF198/AD199*100, 1))))","v":79.400000000000006}]
[null,"備考　　「夏期・冬期における電気需要平準化時間帯」については、昼間買電の内数であるため「（　）」としている。"]
[null,"　　　　「電気」の「小計」で重複計上しないこと。"]

{"sheet":"特定-第３表","index":4,"n_rows":773,"n_cols":92,"rows_kept":773,"cut":false,"hidden":false,"merged":[[382,59,383,65],[379,59,381,65],[379,52,381,58],[402,66,404,72],[399,73,401,79],[402,73,404,79],[396,17,396,88],[402,52,402,58],[382,52,383,58],[403,55,403,57],[406,55,406,57],[404,55,404,57],[21,59,23,65],[18,66,20,72],[405,52,405,58],[400,52,400,54],[401,55,401,57],[378,59,378,65],[406,52,406,54],[405,45,407,51],[407,52,407,54],[398,66,398,72],[397,17,397,23],[397,24,397,30],[397,31,397,37],[397,52,397,58],[397,59,397,65],[401,52,401,54],[405,17,407,23],[405,24,407,30],[403,52,403,54],[404,52,404,54],[759,73,760,79],[762,55,762,57],[399,80,399,88],[400,80,401,88],[762,52,762,54],[407,2,407,8],[760,66,762,72],[402,31,404,37],[404,2,404,8],[404,9,404,10],[763,73,763,79],[411,80,411,88],[412,80,413,88],[417,80,417,88],[420,80,420,88],[423,80,423,88],[426,80,426,88],[429,80,429,88],[432,80,432,88],[759,82,764,88],[405,73,407,79],[399,59,401,65],[402,59,404,65],[405,59,407,65],[405,66,407,72],[761,55,761,57],[407,55,407,57],[400,55,400,57],[761,73,762,79],[405,31,407,37],[399,38,401,44],[399,66,401,72],[772,5,772,79],[397,80,397,88],[398,80,398,88],[759,38,759,44],[399,45,401,51],[402,80,402,88],[403,80,404,88],[405,80,405,88],[406,80,407,88],[760,52,760,58],[771,5,771,79],[770,5,770,79],[759,52,759,58],[759,59,759,65],[767,5,767,79],[764,73,764,79],[763,66,764,72],[760,59,762,65],[768,5,768,79],[760,17,762,23],[769,5,769,79],[759,1,764,16],[759,17,759,23],[759,24,759,30],[759,31,759,37],[763,52,764,58],[763,59,764,65],[759,45,764,51],[759,66,759,72],[761,52,761,54],[397,38,398,44],[397,45,398,51],[402,1,404,1],[402,2,403,8],[402,9,403,16],[402,17,404,23],[402,24,404,30],[407,9,407,10],[407,11,407,12],[407,13,407,14],[404,11,404,12],[404,13,404,14],[404,15,404,16],[405,1,407,1],[405,2,406,8],[405,9,406,16],[407,15,407,16],[402,45,404,51],[405,38,407,44],[402,38,404,44],[401,15,401,16],[399,1,401,1],[399,2,400,8],[399,9,400,16],[399,17,401,23],[399,24,401,30],[399,31,401,37],[396,1,398,1],[396,2,398,16],[397,66,397,72],[397,73,397,79],[398,17,398,23],[398,24,398,30],[398,31,398,37],[398,52,398,58],[398,59,398,65],[398,73,398,79],[399,52,399,58],[16,24,16,30],[16,31,16,37],[378,73,383,79],[18,45,18,51],[16,38,16,44],[16,45,16,51],[16,52,16,58],[19,45,19,47],[25,73,26,79],[17,66,17,72],[21,45,21,51],[17,52,17,58],[21,73,21,79],[21,52,23,58],[24,66,26,72],[24,45,24,51],[24,52,26,58],[21,66,23,72],[16,59,16,65],[17,73,17,79],[16,66,16,72],[16,73,16,79],[17,59,17,65],[22,48,22,50],[25,48,25,50],[380,48,380,50],[20,48,20,50],[23,48,23,50],[26,48,26,50],[30,45,30,51],[25,45,25,47],[23,45,23,47],[24,73,24,79],[17,24,17,30],[17,31,17,37],[17,38,17,44],[17,45,17,51],[22,73,23,79],[22,45,22,47],[19,48,19,50],[17,17,17,23],[26,11,26,12],[26,13,26,14],[26,15,26,16],[26,45,26,47],[24,31,26,37],[23,11,23,12],[23,13,23,14],[23,15,23,16],[24,24,26,30],[18,73,18,79],[19,73,20,79],[18,59,20,65],[18,24,20,30],[20,45,20,47],[18,31,20,37],[24,38,26,44],[21,38,23,44],[24,1,26,1],[24,17,26,23],[21,1,23,1],[27,1,29,1],[29,2,29,8],[29,9,29,10],[29,11,29,12],[29,13,29,14],[15,2,17,16],[18,1,20,1],[378,38,383,44],[24,9,25,16],[21,2,22,8],[26,2,26,8],[24,2,25,8],[26,9,26,10],[15,1,17,1],[18,17,20,23],[30,31,32,37],[30,38,32,44],[39,1,41,1],[39,2,40,8],[39,9,40,16],[39,17,41,23],[39,24,41,30],[39,31,41,37],[41,2,41,8],[41,9,41,10],[21,31,23,37],[21,24,23,30],[15,17,15,79],[16,17,16,23],[20,2,20,8],[20,9,20,10],[20,11,20,12],[20,13,20,14],[20,15,20,16],[28,48,28,50],[30,2,31,8],[18,2,19,8],[30,24,32,30],[18,9,19,16],[24,59,26,65],[23,2,23,8],[23,9,23,10],[27,2,28,8],[27,9,28,16],[27,17,29,23],[28,45,28,47],[30,9,31,16],[30,17,32,23],[32,9,32,10],[32,11,32,12],[32,13,32,14],[32,15,32,16],[32,2,32,8],[21,17,23,23],[21,9,22,16],[29,48,29,50],[29,45,29,47],[27,52,29,58],[27,59,29,65],[18,38,20,44],[18,52,20,58],[29,15,29,16],[27,38,29,44],[405,90,407,96],[759,90,759,96],[408,90,410,96],[411,90,413,96],[414,90,416,96],[27,24,29,30],[27,31,29,37],[27,45,27,51],[27,66,29,72],[27,73,27,79],[382,45,383,51],[381,45,381,47],[380,45,380,47],[389,5,389,79],[386,5,386,79],[387,5,387,79],[388,5,388,79],[28,73,29,79],[378,24,378,30],[378,31,378,37],[383,66,383,72],[378,66,379,72],[378,52,378,58],[35,9,35,10],[35,11,35,12],[35,13,35,14],[33,38,35,44],[33,45,33,51],[33,52,35,58],[36,59,38,65],[760,90,764,96],[397,90,397,96],[398,90,398,96],[399,90,401,96],[402,90,404,96],[33,59,35,65],[33,66,35,72],[33,73,33,79],[390,5,390,79],[382,66,382,72],[380,66,381,72],[378,17,378,23],[378,1,383,16],[381,48,381,50],[378,45,378,51],[379,45,379,51],[34,45,34,47],[34,48,34,50],[401,2,401,8],[401,9,401,10],[401,11,401,12],[401,13,401,14],[36,1,38,1],[36,2,37,8],[36,9,37,16],[36,17,38,23],[36,24,38,30],[36,31,38,37],[38,2,38,8],[38,9,38,10],[38,11,38,12],[38,13,38,14],[30,52,32,58],[30,59,32,65],[30,66,32,72],[30,73,30,79],[31,45,31,47],[31,48,31,50],[31,73,32,79],[32,48,32,50],[32,45,32,47],[33,1,35,1],[33,2,34,8],[33,9,34,16],[33,17,35,23],[33,24,35,30],[33,31,35,37],[35,2,35,8],[35,15,35,16],[30,1,32,1],[34,73,35,79],[35,45,35,47],[35,48,35,50],[36,38,38,44],[36,45,36,51],[36,52,38,58],[38,15,38,16],[36,66,38,72],[36,73,36,79],[37,45,37,47],[37,48,37,50],[37,73,38,79],[38,48,38,50],[38,45,38,47],[41,11,41,12],[41,13,41,14],[39,38,41,44],[39,45,39,51],[39,52,41,58],[39,59,41,65],[39,66,41,72],[39,73,39,79],[40,45,40,47],[40,48,40,50],[40,73,41,79],[41,15,41,16],[41,45,41,47],[41,48,41,50],[42,1,44,1],[42,2,43,8],[42,9,43,16],[42,17,44,23],[42,24,44,30],[42,31,44,37],[44,2,44,8],[44,9,44,10],[44,11,44,12],[44,13,44,14],[42,38,44,44],[42,45,42,51],[42,52,44,58],[42,59,44,65],[42,66,44,72],[42,73,42,79],[43,45,43,47],[43,48,43,50],[43,73,44,79],[44,48,44,50],[44,15,44,16],[44,45,44,47],[45,38,47,44],[45,45,45,51],[45,52,47,58],[45,59,47,65],[45,1,47,1],[45,2,46,8],[45,9,46,16],[45,17,47,23],[45,24,47,30],[45,31,47,37],[47,2,47,8],[47,9,47,10],[47,11,47,12],[47,13,47,14],[45,66,47,72],[45,73,45,79],[46,45,46,47],[46,48,46,50],[46,73,47,79],[47,15,47,16],[47,45,47,47],[47,48,47,50],[48,1,50,1],[48,2,49,8],[48,9,49,16],[48,17,50,23],[48,24,50,30],[48,31,50,37],[50,2,50,8],[50,9,50,10],[50,11,50,12],[50,13,50,14],[48,38,50,44],[48,45,48,51],[48,52,50,58],[48,59,50,65],[48,66,50,72],[48,73,48,79],[49,45,49,47],[49,48,49,50],[49,73,50,79],[50,48,50,50],[50,15,50,16],[50,45,50,47],[51,1,53,1],[51,2,52,8],[51,9,52,16],[51,17,53,23],[51,24,53,30],[51,31,53,37],[53,2,53,8],[53,9,53,10],[53,11,53,12],[53,13,53,14],[51,38,53,44],[51,45,51,51],[51,52,53,58],[51,59,53,65],[51,66,53,72],[51,73,51,79],[52,45,52,47],[52,48,52,50],[52,73,53,79],[53,15,53,16],[53,45,53,47],[53,48,53,50],[54,1,56,1],[54,2,55,8],[54,9,55,16],[54,17,56,23],[54,24,56,30],[54,31,56,37],[56,2,56,8],[56,9,56,10],[56,11,56,12],[56,13,56,14],[54,38,56,44],[54,45,54,51],[54,52,56,58],[54,59,56,65],[54,66,56,72],[54,73,54,79],[55,45,55,47],[55,48,55,50],[55,73,56,79],[56,48,56,50],[56,15,56,16],[56,45,56,47],[57,1,59,1],[57,2,58,8],[57,9,58,16],[57,17,59,23],[57,24,59,30],[57,31,59,37],[59,2,59,8],[59,9,59,10],[59,11,59,12],[59,13,59,14],[57,38,59,44],[57,45,57,51],[57,52,59,58],[57,59,59,65],[57,66,59,72],[57,73,57,79],[58,45,58,47],[58,48,58,50],[58,73,59,79],[59,15,59,16],[59,45,59,47],[59,48,59,50],[60,1,62,1],[60,2,61,8],[60,9,61,16],[60,17,62,23],[60,24,62,30],[60,31,62,37],[62,2,62,8],[62,9,62,10],[62,11,62,12],[62,13,62,14],[60,38,62,44],[60,45,60,51],[60,52,62,58],[60,59,62,65],[60,66,62,72],[60,73,60,79],[61,45,61,47],[61,48,61,50],[61,73,62,79],[62,48,62,50],[62,15,62,16],[62,45,62,47],[63,1,65,1],[63,2,64,8],[63,9,64,16],[63,17,65,23],[63,24,65,30],[63,31,65,37],[65,2,65,8],[65,9,65,10],[65,11,65,12],[65,13,65,14],[63,38,65,44],[63,45,63,51],[63,52,65,58],[63,59,65,65],[63,66,65,72],[63,73,63,79],[64,45,64,47],[64,48,64,50],[64,73,65,79],[65,15,65,16],[65,45,65,47],[65,48,65,50],[66,1,68,1],[66,2,67,8],[66,9,67,16],[66,17,68,23],[66,24,68,30],[66,31,68,37],[68,2,68,8],[68,9,68,10],[68,11,68,12],[68,13,68,14],[66,38,68,44],[66,45,66,51],[66,52,68,58],[66,59,68,65],[66,66,68,72],[66,73,66,79],[67,45,67,47],[67,48,67,50],[67,73,68,79],[68,48,68,50],[68,15,68,16],[68,45,68,47],[69,1,71,1],[69,2,70,8],[69,9,70,16],[69,17,71,23],[69,24,71,30],[69,31,71,37],[71,2,71,8],[71,9,71,10],[71,11,71,12],[71,13,71,14],[69,38,71,44],[69,45,69,51],[69,52,71,58],[69,59,71,65],[69,66,71,72],[69,73,69,79],[70,45,70,47],[70,48,70,50],[70,73,71,79],[71,15,71,16],[71,45,71,47],[71,48,71,50],[72,1,74,1],[72,2,73,8],[72,9,73,16],[72,17,74,23],[72,24,74,30],[72,31,74,37],[74,2,74,8],[74,9,74,10],[74,11,74,12],[74,13,74,14],[72,38,74,44],[72,45,72,51],[72,52,74,58],[72,59,74,65],[72,66,74,72],[72,73,72,79],[73,45,73,47],[73,48,73,50],[73,73,74,79],[74,48,74,50],[74,15,74,16],[74,45,74,47],[75,1,77,1],[75,2,76,8],[75,9,76,16],[75,17,77,23],[75,24,77,30],[75,31,77,37],[77,2,77,8],[77,9,77,10],[77,11,77,12],[77,13,77,14],[75,38,77,44],[75,45,75,51],[75,52,77,58],[75,59,77,65],[75,66,77,72],[75,73,75,79],[76,45,76,47],[76,48,76,50],[76,73,77,79],[77,15,77,16],[77,45,77,47],[77,48,77,50],[78,1,80,1],[78,2,79,8],[78,9,79,16],[78,17,80,23],[78,24,80,30],[78,31,80,37],[80,2,80,8],[80,9,80,10],[80,11,80,12],[80,13,80,14],[78,38,80,44],[78,45,78,51],[78,52,80,58],[78,59,80,65],[78,66,80,72],[78,73,78,79],[79,45,79,47],[79,48,79,50],[79,73,80,79],[80,48,80,50],[80,15,80,16],[80,45,80,47],[81,1,83,1],[81,2,82,8],[81,9,82,16],[81,17,83,23],[81,24,83,30],[81,31,83,37],[83,2,83,8],[83,9,83,10],[83,11,83,12],[83,13,83,14],[81,38,83,44],[81,45,81,51],[81,52,83,58],[81,59,83,65],[81,66,83,72],[81,73,81,79],[82,45,82,47],[82,48,82,50],[82,73,83,79],[83,15,83,16],[83,45,83,47],[83,48,83,50],[84,1,86,1],[84,2,85,8],[84,9,85,16],[84,17,86,23],[84,24,86,30],[84,31,86,37],[86,2,86,8],[86,9,86,10],[86,11,86,12],[86,13,86,14],[84,38,86,44],[84,45,84,51],[84,52,86,58],[84,59,86,65],[84,66,86,72],[84,73,84,79],[85,45,85,47],[85,48,85,50],[85,73,86,79],[86,48,86,50],[86,15,86,16],[86,45,86,47],[87,1,89,1],[87,2,88,8],[87,9,88,16],[87,17,89,23],[87,24,89,30],[87,31,89,37],[89,2,89,8],[89,9,89,10],[89,11,89,12],[89,13,89,14],[87,38,89,44],[87,45,87,51],[87,52,89,58],[87,59,89,65],[87,66,89,72],[87,73,87,79],[88,45,88,47],[88,48,88,50],[88,73,89,79],[89,15,89,16],[89,45,89,47],[89,48,89,50],[90,1,92,1],[90,2,91,8],[90,9,91,16],[90,17,92,23],[90,24,92,30],[90,31,92,37],[92,2,92,8],[92,9,92,10],[92,11,92,12],[92,13,92,14],[90,38,92,44],[90,45,90,51],[90,52,92,58],[90,59,92,65],[90,66,92,72],[90,73,90,79],[91,45,91,47],[91,48,91,50],[91,73,92,79],[92,48,92,50],[92,15,92,16],[92,45,92,47],[93,1,95,1],[93,2,94,8],[93,9,94,16],[93,17,95,23],[93,24,95,30],[93,31,95,37],[95,2,95,8],[95,9,95,10],[95,11,95,12],[95,13,95,14],[93,38,95,44],[93,45,93,51],[93,52,95,58],[93,59,95,65],[93,66,95,72],[93,73,93,79],[94,45,94,47],[94,48,94,50],[94,73,95,79],[95,15,95,16],[95,45,95,47],[95,48,95,50],[96,1,98,1],[96,2,97,8],[96,9,97,16],[96,17,98,23],[96,24,98,30],[96,31,98,37],[98,2,98,8],[98,9,98,10],[98,11,98,12],[98,13,98,14],[96,38,98,44],[96,45,96,51],[96,52,98,58],[96,59,98,65],[96,66,98,72],[96,73,96,79],[97,45,97,47],[97,48,97,50],[97,73,98,79],[98,48,98,50],[98,15,98,16],[98,45,98,47],[99,1,101,1],[99,2,100,8],[99,9,100,16],[99,17,101,23],[99,24,101,30],[99,31,101,37],[101,2,101,8],[101,9,101,10],[101,11,101,12],[101,13,101,14],[99,38,101,44],[99,45,99,51],[99,52,101,58],[99,59,101,65],[99,66,101,72],[99,73,99,79],[100,45,100,47],[100,48,100,50],[100,73,101,79],[101,15,101,16],[101,45,101,47],[101,48,101,50],[102,1,104,1],[102,2,103,8],[102,9,103,16],[102,17,104,23],[102,24,104,30],[102,31,104,37],[104,2,104,8],[104,9,104,10],[104,11,104,12],[104,13,104,14],[102,38,104,44],[102,45,102,51],[102,52,104,58],[102,59,104,65],[102,66,104,72],[102,73,102,79],[103,45,103,47],[103,48,103,50],[103,73,104,79],[104,48,104,50],[104,15,104,16],[104,45,104,47],[105,1,107,1],[105,2,106,8],[105,9,106,16],[105,17,107,23],[105,24,107,30],[105,31,107,37],[107,2,107,8],[107,9,107,10],[107,11,107,12],[107,13,107,14],[105,38,107,44],[105,45,105,51],[105,52,107,58],[105,59,107,65],[105,66,107,72],[105,73,105,79],[106,45,106,47],[106,48,106,50],[106,73,107,79],[107,15,107,16],[107,45,107,47],[107,48,107,50],[108,1,110,1],[108,2,109,8],[108,9,109,16],[108,17,110,23],[108,24,110,30],[108,31,110,37],[110,2,110,8],[110,9,110,10],[110,11,110,12],[110,13,110,14],[108,38,110,44],[108,45,108,51],[108,52,110,58],[108,59,110,65],[108,66,110,72],[108,73,108,79],[109,45,109,47],[109,48,109,50],[109,73,110,79],[110,48,110,50],[110,15,110,16],[110,45,110,47],[111,1,113,1],[111,2,112,8],[111,9,112,16],[111,17,113,23],[111,24,113,30],[111,31,113,37],[113,2,113,8],[113,9,113,10],[113,11,113,12],[113,13,113,14],[111,38,113,44],[111,45,111,51],[111,52,113,58],[111,59,113,65],[111,66,113,72],[111,73,111,79],[112,45,112,47],[112,48,112,50],[112,73,113,79],[113,15,113,16],[113,45,113,47],[113,48,113,50],[114,1,116,1],[114,2,115,8],[114,9,115,16],[114,17,116,23],[114,24,116,30],[114,31,116,37],[116,2,116,8],[116,9,116,10],[116,11,116,12],[116,13,116,14],[114,38,116,44],[114,45,114,51],[114,52,116,58],[114,59,116,65],[114,66,116,72],[114,73,114,79],[115,45,115,47],[115,48,115,50],[115,73,116,79],[116,48,116,50],[116,15,116,16],[116,45,116,47],[117,1,119,1],[117,2,118,8],[117,9,118,16],[117,17,119,23],[117,24,119,30],[117,31,119,37],[119,2,119,8],[119,9,119,10],[119,11,119,12],[119,13,119,14],[117,38,119,44],[117,45,117,51],[117,52,119,58],[117,59,119,65],[117,66,119,72],[117,73,117,79],[118,45,118,47],[118,48,118,50],[118,73,119,79],[119,15,119,16],[119,45,119,47],[119,48,119,50],[120,1,122,1],[120,2,121,8],[120,9,121,16],[120,17,122,23],[120,24,122,30],[120,31,122,37],[122,2,122,8],[122,9,122,10],[122,11,122,12],[122,13,122,14],[120,38,122,44],[120,45,120,51],[120,52,122,58],[120,59,122,65],[120,66,122,72],[120,73,120,79],[121,45,121,47],[121,48,121,50],[121,73,122,79],[122,48,122,50],[122,15,122,16],[122,45,122,47],[123,1,125,1],[123,2,124,8],[123,9,124,16],[123,17,125,23],[123,24,125,30],[123,31,125,37],[125,2,125,8],[125,9,125,10],[125,11,125,12],[125,13,125,14],[123,38,125,44],[123,45,123,51],[123,52,125,58],[123,59,125,65],[123,66,125,72],[123,73,123,79],[124,45,124,47],[124,48,124,50],[124,73,125,79],[125,15,125,16],[125,45,125,47],[125,48,125,50],[126,1,128,1],[126,2,127,8],[126,9,127,16],[126,17,128,23],[126,24,128,30],[126,31,128,37],[128,2,128,8],[128,9,128,10],[128,11,128,12],[128,13,128,14],[126,38,128,44],[126,45,126,51],[126,52,128,58],[126,59,128,65],[126,66,128,72],[126,73,126,79],[127,45,127,47],[127,48,127,50],[127,73,128,79],[128,48,128,50]],"merged_total":5759,"flags":["merged_cut"]}
[null,"特定－第３表　事業者の全体及び事業分類ごとのエネルギーの使用に係る原単位等　の記入について"]
[]
[null,"生産数量又は建物の延床面積その他のエネルギーの使用量と密接な関係を持つ値Ⓔ　について、以下のいずれに該当するか選択して下さい。"]
[]
[null,null,true,"Ⓔはそれぞれの事業で同じ単位、もしくは共通のⒺに換算可能であり、事業者全体の原単位Ⓦが算出可能である"]
[]
[null,null,false,"Ⓔは事業ごとに異なり、事業者全体の原単位Ⓦが算出困難である"]
[]
[null,null,{"$f":"IF(AND(C5=FALSE,C7=FALSE),\"↑どちらか該当する方にチェックを入れて下さい。\",IF(AND(C5=TRUE,C7=TRUE),\"↑チェックはいずれか1つのみとして下さい。\",IF(C5=TRUE,\"事業者全体としてのエネルギーの使用に係る原単位Ⓦを算出してください。\",\"事業ごとに原単位を算出し、事業者のエネルギーの使用に係る原単位の対前年度比Ⓩを算出してください。\")))","v":"事業者全体としてのエネルギーの使用に係る原単位Ⓦを算出してください。"}]
[]
[null,"特定－第３表　事業者の全体及び事業分類ごとのエネルギーの使用に係る原単位等及び電気需要平準化評価原単位等"]
[]
[]
[null,"１　エネルギーの使用に係る原単位等"]
[]
[null,"番\n号","事業分類",null,null,null,null,null,null,null,null,null,null,null,null,null,null,"事業分類ごとのエネルギーの使用に係る原単位等の計算"]
[null,null,null,null,null,null,null,null,null,null,null,null,null,null,null,null,null,"エネルギーの使用量\n(原油換算ｋｌ)",null,null,null,null,null,null,"販売した副生エネルギーの量\n(原油換算ｋｌ)",null,null,null,null,null,null,null,null,null,null,null,null,null,"Ⓒの構成割合（％）",null,null,null,null,null,null,"生産数量又は建物延床面積その他のエネルギー使用量と密接な関係をもつ値",null,null,null,null,null,null,"エネルギーの使用に係る原単位",null,null,null,null,null,null,"エネルギーの使用に係る前年度の原単位",null,null,null,null,null,null,"エネルギーの使用に係る原単位の対前年度比（％）\n",null,null,null,null,null,null,"エネルギーの使用に係る原単位の対前年度比の寄与度（％）\n",null,null,null,null,null,null,null,null,null,null,null,null,null,null,null,null,"計算用、非表示"]
[null,null,null,null,null,null,null,null,null,null,null,null,null,null,null,null,null,"Ⓐ",null,null,null,null,null,null,"Ⓑ",null,null,null,null,null,null,"Ⓒ=Ⓐ-Ⓑ",null,null,null,null,null,null,"Ⓓ=Ⓒ/Ⓤ×100",null,null,null,null,null,null,"Ⓔ",null,null,null,null,null,null,"Ⓕ=Ⓒ/Ⓔ",null,null,null,null,null,null,"Ⓖ",null,null,null,null,null,null,"　Ⓗ=Ⓕ/Ⓖ×100",null,null,null,null,null,null,"　Ⓘ=Ⓓ×Ⓗ/100",null,null,null,null,null,null,null,null,null,null,null,null,null,null,null,null,null,"↓"]
[null,1,"工場等に係る\n事業の名称",null,null,null,null,null,null,"ジュエリー製品小売",null,null,null,null,null,null,null,1777,null,null,null,null,null,null,0,null,null,null,null,null,null,{"$f":"IF(R19=\"\",\"\",R19-Y19)","v":1777},null,null,null,null,null,null,{"$f":"IF(AF19=\"\",\"\",IF($CM$379=0,\"\",IF(CM19=\"\",\"\",ROUND(AF19/$CM$379,3))))","v":0.93799999999999994},null,null,null,null,null,null,25411,null,null,null,null,null,null,{"$f":"IF(AT19=\"\",\"\",ROUND(AF19/AT19,3-INT(LOG(AF19/AT19))))","v":6.9930000000000006E-2},null,null,null,null,null,null,7.1929999999999994E-2,null,null,null,null,null,null,{"$f":"IF(OR((BH19=\"-\"),(ISNUMBER(BH19)=FALSE)),\"-\",ROUND(BA19/BH19,3))","v":0.97199999999999998},null,null,null,null,null,null,"①",null,null,null,null,null,null,null,null,null,null,null,null,null,null,null,null,{"$f":"IF(OR(BH19=\"\",BH19=\"-\"),\"\",AF19)","v":1777}]
[null,null,null,null,null,null,null,null,null,null,null,null,null,null,null,null,null,null,null,null,null,null,null,null,null,null,null,null,null,null,null,null,null,null,null,null,null,null,null,null,null,null,null,null,null,"(名称：",null,null,"延床面積",null,null,")",null,null,null,null,null,null,null,null,null,null,null,null,null,null,null,null,null,null,null,null,null,{"$f":"IF(OR((BO19=\"-\"),(ISNUMBER(BO19)=FALSE)),\"-\",ROUND(AM19*BO19,3))","v":0.91200000000000003},null,null,null,null,null,null,null,{"$f":"IF(AT19>0,1,0)","v":1}]
[null,null,"細分類番号",null,null,null,null,null,null,6,null,0,null,9,null,5,null,null,null,null,null,null,null,null,null,null,null,null,null,null,null,null,null,null,null,null,null,null,null,null,null,null,null,null,null,"(単位：",null,null,"ｍ2",null,null,")",null,null,null,null,null,null,null,null,null,null,null,null,null,null,null,null,null,null,null,null,null,null,null,null,null,null,null,null,null,{"$f":"IF(AT380>0,1,0)","v":1}]
[null,2,"工場等に係る\n事業の名称",null,null,null,null,null,null,"主として管理事務を行う事務所",null,null,null,null,null,null,null,117,null,null,null,null,null,null,0,null,null,null,null,null,null,{"$f":"IF(R22=\"\",\"\",R22-Y22)","v":117},null,null,null,null,null,null,{"$f":"IF(AF22=\"\",\"\",IF($CM$379=0,\"\",IF(CM22=\"\",\"\",ROUND(AF22/$CM$379,3))))","v":6.2E-2},null,null,null,null,null,null,3824,null,null,null,null,null,null,{"$f":"IF(AT22=\"\",\"\",ROUND(AF22/AT22,3-INT(LOG(AF22/AT22))))","v":3.0599999999999999E-2},null,null,null,null,null,null,3.9230000000000001E-2,null,null,null,null,null,null,{"$f":"IF(OR((BH22=\"-\"),(ISNUMBER(BH22)=FALSE)),\"-\",ROUND(BA22/BH22,3))","v":0.78},null,null,null,null,null,null,"②",null,null,null,null,null,null,null,null,null,null,null,null,null,null,null,null,{"$f":"IF(OR(BH22=\"\",BH22=\"-\"),\"\",AF22)","v":117}]
[null,null,null,null,null,null,null,null,null,null,null,null,null,null,null,null,null,null,null,null,null,null,null,null,null,null,null,null,null,null,null,null,null,null,null,null,null,null,null,null,null,null,null,null,null,"(名称：",null,null,"延床面積",null,null,")",null,null,null,null,null,null,null,null,null,null,null,null,null,null,null,null,null,null,null,null,null,{"$f":"IF(OR((BO22=\"-\"),(ISNUMBER(BO22)=FALSE)),\"-\",ROUND(AM22*BO22,3))","v":4.8000000000000001E-2}]
[null,null,"細分類番号",null,null,null,null,null,null,6,null,0,null,0,null,0,null,null,null,null,null,null,null,null,null,null,null,null,null,null,null,null,null,null,null,null,null,null,null,null,null,null,null,null,null,"(単位：",null,null,"ｍ2",null,null,")"]
[null,3,"工場等に係る\n事業の名称",null,null,null,null,null,null,{"$f":"IF(J27&L27&N27&P27=\"\",\"\",(IF(ISERROR(VLOOKUP(J27&L27&N27&P27,日本標準産業分類!A:B,2,FALSE)),\"該当の細分類がありません\",VLOOKUP(J27&L27&N27&P27,日本標準産業分類!A:B,2,FALSE))))","v":""},null,null,null,null,null,null,null,null,null,null,null,null,null,null,null,null,null,null,null,null,null,{"$f":"IF(R25=\"\",\"\",R25-Y25)","v":""},null,null,null,null,null,null,{"$f":"IF(AF25=\"\",\"\",IF($CM$379=0,\"\",IF(CM25=\"\",\"\",ROUND(AF25/$CM$379,3))))","v":""},null,null,null,null,null,null,null,null,null,null,null,null,null,{"$f":"IF(AT25=\"\",\"\",ROUND(AF25/AT25,3-INT(LOG(AF25/AT25))))","v":""},null,null,null,null,null,null,"-",null,null,null,null,null,null,{"$f":"IF(OR((BH25=\"-\"),(ISNUMBER(BH25)=FALSE)),\"-\",ROUND(BA25/BH25,3))","v":"-"},null,null,null,null,null,null,"③",null,null,null,null,null,null,null,null,null,null,null,null,null,null,null,null,{"$f":"IF(OR(BH25=\"\",BH25=\"-\"),\"\",AF25)","v":""}]
[null,null,null,null,null,null,null,null,null,null,null,null,null,null,null,null,null,null,null,null,null,null,null,null,null,null,null,null,null,null,null,null,null,null,null,null,null,null,null,null,null,null,null,null,null,"(名称：",null,null,null,null,null,")",null,null,null,null,null,null,null,null,null,null,null,null,null,null,null,null,null,null,null,null,null,{"$f":"IF(OR((BO25=\"-\"),(ISNUMBER(BO25)=FALSE)),\"-\",ROUND(AM25*BO25,3))","v":"-"}]
[null,null,"細分類番号",null,null,null,null,null,null,null,null,null,null,null,null,null,null,null,null,null,null,null,null,null,null,null,null,null,null,null,null,null,null,null,null,null,null,null,null,null,null,null,null,null,null,"(単位：",null,null,null,null,null,")"]
[null,4,"工場等に係る\n事業の名称",null,null,null,null,null,null,{"$f":"IF(J30&L30&N30&P30=\"\",\"\",(IF(ISERROR(VLOOKUP(J30&L30&N30&P30,日本標準産業分類!A:B,2,FALSE)),\"該当の細分類がありません\",VLOOKUP(J30&L30&N30&P30,日本標準産業分類!A:B,2,FALSE))))","v":""},null,null,null,null,null,null,null,null,null,null,null,null,null,null,null,null,null,null,null,null,null,{"$f":"IF(R28=\"\",\"\",R28-Y28)","v":""},null,null,null,null,null,null,{"$f":"IF(AF28=\"\",\"\",IF($CM$379=0,\"\",IF(CM28=\"\",\"\",ROUND(AF28/$CM$379,3))))","v":""},null,null,null,null,null,null,null,null,null,null,null,null,null,{"$f":"IF(AT28=\"\",\"\",ROUND(AF28/AT28,3-INT(LOG(AF28/AT28))))","v":""},null,null,null,null,null,null,"-",null,null,null,null,null,null,{"$f":"IF(OR((BH28=\"-\"),(ISNUMBER(BH28)=FALSE)),\"-\",ROUND(BA28/BH28,3))","v":"-"},null,null,null,null,null,null,"④",null,null,null,null,null,null,null,null,null,null,null,null,null,null,null,null,{"$f":"IF(OR(BH28=\"\",BH28=\"-\"),\"\",AF28)","v":""}]
[null,null,null,null,null,null,null,null,null,null,null,null,null,null,null,null,null,null,null,null,null,null,null,null,null,null,null,null,null,null,null,null,null,null,null,null,null,null,null,null,null,null,null,null,null,"(名称：",null,null,null,null,null,")",null,null,null,null,null,null,null,null,null,null,null,null,null,null,null,null,null,null,null,null,null,{"$f":"IF(OR((BO28=\"-\"),(ISNUMBER(BO28)=FALSE)),\"-\",ROUND(AM28*BO28,3))","v":"-"}]
[null,null,"細分類番号",null,null,null,null,null,null,null,null,null,null,null,null,null,null,null,null,null,null,null,null,null,null,null,null,null,null,null,null,null,null,null,null,null,null,null,null,null,null,null,null,null,null,"(単位：",null,null,null,null,null,")"]
[null,5,"工場等に係る\n事業の名称",null,null,null,null,null,null,{"$f":"IF(J33&L33&N33&P33=\"\",\"\",(IF(ISERROR(VLOOKUP(J33&L33&N33&P33,日本標準産業分類!A:B,2,FALSE)),\"該当の細分類がありません\",VLOOKUP(J33&L33&N33&P33,日本標準産業分類!A:B,2,FALSE))))","v":""},null,null,null,null,null,null,null,null,null,null,null,null,null,null,null,null,null,null,null,null,null,{"$f":"IF(R31=\"\",\"\",R31-Y31)","v":""},null,null,null,null,null,null,{"$f":"IF(AF31=\"\",\"\",IF($CM$379=0,\"\",IF(CM31=\"\",\"\",ROUND(AF31/$CM$379,3))))","v":""},null,null,null,null,null,null,null,null,null,null,null,null,null,{"$f":"IF(AT31=\"\",\"\",ROUND(AF31/AT31,3-INT(LOG(AF31/AT31))))","v":""},null,null,null,null,null,null,"-",null,null,null,null,null,null,{"$f":"IF(OR((BH31=\"-\"),(ISNUMBER(BH31)=FALSE)),\"-\",ROUND(BA31/BH31,3))","v":"-"},null,null,null,null,null,null,"⑤",null,null,null,null,null,null,null,null,null,null,null,null,null,null,null,null,{"$f":"IF(OR(BH31=\"\",BH31=\"-\"),\"\",AF31)","v":""}]
[null,null,null,null,null,null,null,null,null,null,null,null,null,null,null,null,null,null,null,null,null,null,null,null,null,null,null,null,null,null,null,null,null,null,null,null,null,null,null,null,null,null,null,null,null,"(名称：",null,null,null,null,null,")",null,null,null,null,null,null,null,null,null,null,null,null,null,null,null,null,null,null,null,null,null,{"$f":"IF(OR((BO31=\"-\"),(ISNUMBER(BO31)=FALSE)),\"-\",ROUND(AM31*BO31,3))","v":"-"}]
[null,null,"細分類番号",null,null,null,null,null,null,null,null,null,null,null,null,null,null,null,null,null,null,null,null,null,null,null,null,null,null,null,null,null,null,null,null,null,null,null,null,null,null,null,null,null,null,"(単位：",null,null,null,null,null,")"]
[null,6,"工場等に係る\n事業の名称",null,null,null,null,null,null,{"$f":"IF(J36&L36&N36&P36=\"\",\"\",(IF(ISERROR(VLOOKUP(J36&L36&N36&P36,日本標準産業分類!A:B,2,FALSE)),\"該当の細分類がありません\",VLOOKUP(J36&L36&N36&P36,日本標準産業分類!A:B,2,FALSE))))","v":""},null,null,null,null,null,null,null,null,null,null,null,null,null,null,null,null,null,null,null,null,null,{"$f":"IF(R34=\"\",\"\",R34-Y34)","v":""},null,null,null,null,null,null,{"$f":"IF(AF34=\"\",\"\",IF($CM$379=0,\"\",IF(CM34=\"\",\"\",ROUND(AF34/$CM$379,3))))","v":""},null,null,null,null,null,null,null,null,null,null,null,null,null,{"$f":"IF(AT34=\"\",\"\",ROUND(AF34/AT34,3-INT(LOG(AF34/AT34))))","v":""},null,null,null,null,null,null,"-",null,null,null,null,null,null,{"$f":"IF(OR((BH34=\"-\"),(ISNUMBER(BH34)=FALSE)),\"-\",ROUND(BA34/BH34,3))","v":"-"},null,null,null,null,null,null,"⑥",null,null,null,null,null,null,null,null,null,null,null,null,null,null,null,null,{"$f":"IF(OR(BH34=\"\",BH34=\"-\"),\"\",AF34)","v":""}]
[null,null,null,null,null,null,null,null,null,null,null,null,null,null,null,null,null,null,null,null,null,null,null,null,null,null,null,null,null,null,null,null,null,null,null,null,null,null,null,null,null,null,null,null,null,"(名称：",null,null,null,null,null,")",null,null,null,null,null,null,null,null,null,null,null,null,null,null,null,null,null,null,null,null,null,{"$f":"IF(OR((BO34=\"-\"),(ISNUMBER(BO34)=FALSE)),\"-\",ROUND(AM34*BO34,3))","v":"-"}]
[null,null,"細分類番号",null,null,null,null,null,null,null,null,null,null,null,null,null,null,null,null,null,null,null,null,null,null,null,null,null,null,null,null,null,null,null,null,null,null,null,null,null,null,null,null,null,null,"(単位：",null,null,null,null,null,")"]
[null,7,"工場等に係る\n事業の名称",null,null,null,null,null,null,{"$f":"IF(J39&L39&N39&P39=\"\",\"\",(IF(ISERROR(VLOOKUP(J39&L39&N39&P39,日本標準産業分類!A:B,2,FALSE)),\"該当の細分類がありません\",VLOOKUP(J39&L39&N39&P39,日本標準産業分類!A:B,2,FALSE))))","v":""},null,null,null,null,null,null,null,null,null,null,null,null,null,null,null,null,null,null,null,null,null,{"$f":"IF(R37=\"\",\"\",R37-Y37)","v":""},null,null,null,null,null,null,{"$f":"IF(AF37=\"\",\"\",IF($CM$379=0,\"\",IF(CM37=\"\",\"\",ROUND(AF37/$CM$379,3))))","v":""},null,null,null,null,null,null,null,null,null,null,null,null,null,{"$f":"IF(AT37=\"\",\"\",ROUND(AF37/AT37,3-INT(LOG(AF37/AT37))))","v":""},null,null,null,null,null,null,"-",null,null,null,null,null,null,{"$f":"IF(OR((BH37=\"-\"),(ISNUMBER(BH37)=FALSE)),\"-\",ROUND(BA37/BH37,3))","v":"-"},null,null,null,null,null,null,"⑦",null,null,null,null,null,null,null,null,null,null,null,null,null,null,null,null,{"$f":"IF(OR(BH37=\"\",BH37=\"-\"),\"\",AF37)","v":""}]
[null,null,null,null,null,null,null,null,null,null,null,null,null,null,null,null,null,null,null,null,null,null,null,null,null,null,null,null,null,null,null,null,null,null,null,null,null,null,null,null,null,null,null,null,null,"(名称：",null,null,null,null,null,")",null,null,null,null,null,null,null,null,null,null,null,null,null,null,null,null,null,null,null,null,null,{"$f":"IF(OR((BO37=\"-\"),(ISNUMBER(BO37)=FALSE)),\"-\",ROUND(AM37*BO37,3))","v":"-"}]
[null,null,"細分類番号",null,null,null,null,null,null,null,null,null,null,null,null,null,null,null,null,null,null,null,null,null,null,null,null,null,null,null,null,null,null,null,null,null,null,null,null,null,null,null,null,null,null,"(単位：",null,null,null,null,null,")"]
[null,8,"工場等に係る\n事業の名称",null,null,null,null,null,null,{"$f":"IF(J42&L42&N42&P42=\"\",\"\",(IF(ISERROR(VLOOKUP(J42&L42&N42&P42,日本標準産業分類!A:B,2,FALSE)),\"該当の細分類がありません\",VLOOKUP(J42&L42&N42&P42,日本標準産業分類!A:B,2,FALSE))))","v":""},null,null,null,null,null,null,null,null,null,null,null,null,null,null,null,null,null,null,null,null,null,{"$f":"IF(R40=\"\",\"\",R40-Y40)","v":""},null,null,null,null,null,null,{"$f":"IF(AF40=\"\",\"\",IF($CM$379=0,\"\",IF(CM40=\"\",\"\",ROUND(AF40/$CM$379,3))))","v":""},null,null,null,null,null,null,null,null,null,null,null,null,null,{"$f":"IF(AT40=\"\",\"\",ROUND(AF40/AT40,3-INT(LOG(AF40/AT40))))","v":""},null,null,null,null,null,null,"-",null,null,null,null,null,null,{"$f":"IF(OR((BH40=\"-\"),(ISNUMBER(BH40)=FALSE)),\"-\",ROUND(BA40/BH40,3))","v":"-"},null,null,null,null,null,null,"⑧",null,null,null,null,null,null,null,null,null,null,null,null,null,null,null,null,{"$f":"IF(OR(BH40=\"\",BH40=\"-\"),\"\",AF40)","v":""}]
[null,null,null,null,null,null,null,null,null,null,null,null,null,null,null,null,null,null,null,null,null,null,null,null,null,null,null,null,null,null,null,null,null,null,null,null,null,null,null,null,null,null,null,null,null,"(名称：",null,null,null,null,null,")",null,null,null,null,null,null,null,null,null,null,null,null,null,null,null,null,null,null,null,null,null,{"$f":"IF(OR((BO40=\"-\"),(ISNUMBER(BO40)=FALSE)),\"-\",ROUND(AM40*BO40,3))","v":"-"}]
[null,null,"細分類番号",null,null,null,null,null,null,null,null,null,null,null,null,null,null,null,null,null,null,null,null,null,null,null,null,null,null,null,null,null,null,null,null,null,null,null,null,null,null,null,null,null,null,"(単位：",null,null,null,null,null,")"]
[null,9,"工場等に係る\n事業の名称",null,null,null,null,null,null,{"$f":"IF(J45&L45&N45&P45=\"\",\"\",(IF(ISERROR(VLOOKUP(J45&L45&N45&P45,日本標準産業分類!A:B,2,FALSE)),\"該当の細分類がありません\",VLOOKUP(J45&L45&N45&P45,日本標準産業分類!A:B,2,FALSE))))","v":""},null,null,null,null,null,null,null,null,null,null,null,null,null,null,null,null,null,null,null,null,null,{"$f":"IF(R43=\"\",\"\",R43-Y43)","v":""},null,null,null,null,null,null,{"$f":"IF(AF43=\"\",\"\",IF($CM$379=0,\"\",IF(CM43=\"\",\"\",ROUND(AF43/$CM$379,3))))","v":""},null,null,null,null,null,null,null,null,null,null,null,null,null,{"$f":"IF(AT43=\"\",\"\",ROUND(AF43/AT43,3-INT(LOG(AF43/AT43))))","v":""},null,null,null,null,null,null,"-",null,null,null,null,null,null,{"$f":"IF(OR((BH43=\"-\"),(ISNUMBER(BH43)=FALSE)),\"-\",ROUND(BA43/BH43,3))","v":"-"},null,null,null,null,null,null,"⑨",null,null,null,null,null,null,null,null,null,null,null,null,null,null,null,null,{"$f":"IF(OR(BH43=\"\",BH43=\"-\"),\"\",AF43)","v":""}]
[null,null,null,null,null,null,null,null,null,null,null,null,null,null,null,null,null,null,null,null,null,null,null,null,null,null,null,null,null,null,null,null,null,null,null,null,null,null,null,null,null,null,null,null,null,"(名称：",null,null,null,null,null,")",null,null,null,null,null,null,null,null,null,null,null,null,null,null,null,null,null,null,null,null,null,{"$f":"IF(OR((BO43=\"-\"),(ISNUMBER(BO43)=FALSE)),\"-\",ROUND(AM43*BO43,3))","v":"-"}]
[null,null,"細分類番号",null,null,null,null,null,null,null,null,null,null,null,null,null,null,null,null,null,null,null,null,null,null,null,null,null,null,null,null,null,null,null,null,null,null,null,null,null,null,null,null,null,null,"(単位：",null,null,null,null,null,")"]
[null,10,"工場等に係る\n事業の名称",null,null,null,null,null,null,{"$f":"IF(J48&L48&N48&P48=\"\",\"\",(IF(ISERROR(VLOOKUP(J48&L48&N48&P48,日本標準産業分類!A:B,2,FALSE)),\"該当の細分類がありません\",VLOOKUP(J48&L48&N48&P48,日本標準産業分類!A:B,2,FALSE))))","v":""},null,null,null,null,null,null,null,null,null,null,null,null,null,null,null,null,null,null,null,null,null,{"$f":"IF(R46=\"\",\"\",R46-Y46)","v":""},null,null,null,null,null,null,{"$f":"IF(AF46=\"\",\"\",IF($CM$379=0,\"\",IF(CM46=\"\",\"\",ROUND(AF46/$CM$379,3))))","v":""},null,null,null,null,null,null,null,null,null,null,null,null,null,{"$f":"IF(AT46=\"\",\"\",ROUND(AF46/AT46,3-INT(LOG(AF46/AT46))))","v":""},null,null,null,null,null,null,"-",null,null,null,null,null,null,{"$f":"IF(OR((BH46=\"-\"),(ISNUMBER(BH46)=FALSE)),\"-\",ROUND(BA46/BH46,3))","v":"-"},null,null,null,null,null,null,"⑩",null,null,null,null,null,null,null,null,null,null,null,null,null,null,null,null,{"$f":"IF(OR(BH46=\"\",BH46=\"-\"),\"\",AF46)","v":""}]
[null,null,null,null,null,null,null,null,null,null,null,null,null,null,null,null,null,null,null,null,null,null,null,null,null,null,null,null,null,null,null,null,null,null,null,null,null,null,null,null,null,null,null,null,null,"(名称：",null,null,null,null,null,")",null,null,null,null,null,null,null,null,null,null,null,null,null,null,null,null,null,null,null,null,null,{"$f":"IF(OR((BO46=\"-\"),(ISNUMBER(BO46)=FALSE)),\"-\",ROUND(AM46*BO46,3))","v":"-"}]
[null,null,"細分類番号",null,null,null,null,null,null,null,null,null,null,null,null,null,null,null,null,null,null,null,null,null,null,null,null,null,null,null,null,null,null,null,null,null,null,null,null,null,null,null,null,null,null,"(単位：",null,null,null,null,null,")"]
[null,11,"工場等に係る\n事業の名称",null,null,null,null,null,null,{"$f":"IF(J51&L51&N51&P51=\"\",\"\",(IF(ISERROR(VLOOKUP(J51&L51&N51&P51,日本標準産業分類!A:B,2,FALSE)),\"該当の細分類がありません\",VLOOKUP(J51&L51&N51&P51,日本標準産業分類!A:B,2,FALSE))))","v":""},null,null,null,null,null,null,null,null,null,null,null,null,null,null,null,null,null,null,null,null,null,{"$f":"IF(R49=\"\",\"\",R49-Y49)","v":""},null,null,null,null,null,null,{"$f":"IF(AF49=\"\",\"\",IF($CM$379=0,\"\",IF(CM49=\"\",\"\",ROUND(AF49/$CM$379,3))))","v":""},null,null,null,null,null,null,null,null,null,null,null,null,null,{"$f":"IF(AT49=\"\",\"\",ROUND(AF49/AT49,3-INT(LOG(AF49/AT49))))","v":""},null,null,null,null,null,null,"-",null,null,null,null,null,null,{"$f":"IF(OR((BH49=\"-\"),(ISNUMBER(BH49)=FALSE)),\"-\",ROUND(BA49/BH49,3))","v":"-"},null,null,null,null,null,null,"⑪",null,null,null,null,null,null,null,null,null,null,null,null,null,null,null,null,{"$f":"IF(OR(BH49=\"\",BH49=\"-\"),\"\",AF49)","v":""}]
[null,null,null,null,null,null,null,null,null,null,null,null,null,null,null,null,null,null,null,null,null,null,null,null,null,null,null,null,null,null,null,null,null,null,null,null,null,null,null,null,null,null,null,null,null,"(名称：",null,null,null,null,null,")",null,null,null,null,null,null,null,null,null,null,null,null,null,null,null,null,null,null,null,null,null,{"$f":"IF(OR((BO49=\"-\"),(ISNUMBER(BO49)=FALSE)),\"-\",ROUND(AM49*BO49,3))","v":"-"}]
[null,null,"細分類番号",null,null,null,null,null,null,null,null,null,null,null,null,null,null,null,null,null,null,null,null,null,null,null,null,null,null,null,null,null,null,null,null,null,null,null,null,null,null,null,null,null,null,"(単位：",null,null,null,null,null,")"]
[null,12,"工場等に係る\n事業の名称",null,null,null,null,null,null,{"$f":"IF(J54&L54&N54&P54=\"\",\"\",(IF(ISERROR(VLOOKUP(J54&L54&N54&P54,日本標準産業分類!A:B,2,FALSE)),\"該当の細分類がありません\",VLOOKUP(J54&L54&N54&P54,日本標準産業分類!A:B,2,FALSE))))","v":""},null,null,null,null,null,null,null,null,null,null,null,null,null,null,null,null,null,null,null,null,null,{"$f":"IF(R52=\"\",\"\",R52-Y52)","v":""},null,null,null,null,null,null,{"$f":"IF(AF52=\"\",\"\",IF($CM$379=0,\"\",IF(CM52=\"\",\"\",ROUND(AF52/$CM$379,3))))","v":""},null,null,null,null,null,null,null,null,null,null,null,null,null,{"$f":"IF(AT52=\"\",\"\",ROUND(AF52/AT52,3-INT(LOG(AF52/AT52))))","v":""},null,null,null,null,null,null,"-",null,null,null,null,null,null,{"$f":"IF(OR((BH52=\"-\"),(ISNUMBER(BH52)=FALSE)),\"-\",ROUND(BA52/BH52,3))","v":"-"},null,null,null,null,null,null,"⑫",null,null,null,null,null,null,null,null,null,null,null,null,null,null,null,null,{"$f":"IF(OR(BH52=\"\",BH52=\"-\"),\"\",AF52)","v":""}]
[null,null,null,null,null,null,null,null,null,null,null,null,null,null,null,null,null,null,null,null,null,null,null,null,null,null,null,null,null,null,null,null,null,null,null,null,null,null,null,null,null,null,null,null,null,"(名称：",null,null,null,null,null,")",null,null,null,null,null,null,null,null,null,null,null,null,null,null,null,null,null,null,null,null,null,{"$f":"IF(OR((BO52=\"-\"),(ISNUMBER(BO52)=FALSE)),\"-\",ROUND(AM52*BO52,3))","v":"-"}]
[null,null,"細分類番号",null,null,null,null,null,null,null,null,null,null,null,null,null,null,null,null,null,null,null,null,null,null,null,null,null,null,null,null,null,null,null,null,null,null,null,null,null,null,null,null,null,null,"(単位：",null,null,null,null,null,")"]
[null,13,"工場等に係る\n事業の名称",null,null,null,null,null,null,{"$f":"IF(J57&L57&N57&P57=\"\",\"\",(IF(ISERROR(VLOOKUP(J57&L57&N57&P57,日本標準産業分類!A:B,2,FALSE)),\"該当の細分類がありません\",VLOOKUP(J57&L57&N57&P57,日本標準産業分類!A:B,2,FALSE))))","v":""},null,null,null,null,null,null,null,null,null,null,null,null,null,null,null,null,null,null,null,null,null,{"$f":"IF(R55=\"\",\"\",R55-Y55)","v":""},null,null,null,null,null,null,{"$f":"IF(AF55=\"\",\"\",IF($CM$379=0,\"\",IF(CM55=\"\",\"\",ROUND(AF55/$CM$379,3))))","v":""},null,null,null,null,null,null,null,null,null,null,null,null,null,{"$f":"IF(AT55=\"\",\"\",ROUND(AF55/AT55,3-INT(LOG(AF55/AT55))))","v":""},null,null,null,null,null,null,"-",null,null,null,null,null,null,{"$f":"IF(OR((BH55=\"-\"),(ISNUMBER(BH55)=FALSE)),\"-\",ROUND(BA55/BH55,3))","v":"-"},null,null,null,null,null,null,"⑬",null,null,null,null,null,null,null,null,null,null,null,null,null,null,null,null,{"$f":"IF(OR(BH55=\"\",BH55=\"-\"),\"\",AF55)","v":""}]
[null,null,null,null,null,null,null,null,null,null,null,null,null,null,null,null,null,null,null,null,null,null,null,null,null,null,null,null,null,null,null,null,null,null,null,null,null,null,null,null,null,null,null,null,null,"(名称：",null,null,null,null,null,")",null,null,null,null,null,null,null,null,null,null,null,null,null,null,null,null,null,null,null,null,null,{"$f":"IF(OR((BO55=\"-\"),(ISNUMBER(BO55)=FALSE)),\"-\",ROUND(AM55*BO55,3))","v":"-"}]
[null,null,"細分類番号",null,null,null,null,null,null,null,null,null,null,null,null,null,null,null,null,null,null,null,null,null,null,null,null,null,null,null,null,null,null,null,null,null,null,null,null,null,null,null,null,null,null,"(単位：",null,null,null,null,null,")"]
[null,14,"工場等に係る\n事業の名称",null,null,null,null,null,null,{"$f":"IF(J60&L60&N60&P60=\"\",\"\",(IF(ISERROR(VLOOKUP(J60&L60&N60&P60,日本標準産業分類!A:B,2,FALSE)),\"該当の細分類がありません\",VLOOKUP(J60&L60&N60&P60,日本標準産業分類!A:B,2,FALSE))))","v":""},null,null,null,null,null,null,null,null,null,null,null,null,null,null,null,null,null,null,null,null,null,{"$f":"IF(R58=\"\",\"\",R58-Y58)","v":""},null,null,null,null,null,null,{"$f":"IF(AF58=\"\",\"\",IF($CM$379=0,\"\",IF(CM58=\"\",\"\",ROUND(AF58/$CM$379,3))))","v":""},null,null,null,null,null,null,null,null,null,null,null,null,null,{"$f":"IF(AT58=\"\",\"\",ROUND(AF58/AT58,3-INT(LOG(AF58/AT58))))","v":""},null,null,null,null,null,null,"-",null,null,null,null,null,null,{"$f":"IF(OR((BH58=\"-\"),(ISNUMBER(BH58)=FALSE)),\"-\",ROUND(BA58/BH58,3))","v":"-"},null,null,null,null,null,null,"⑭",null,null,null,null,null,null,null,null,null,null,null,null,null,null,null,null,{"$f":"IF(OR(BH58=\"\",BH58=\"-\"),\"\",AF58)","v":""}]
[null,null,null,null,null,null,null,null,null,null,null,null,null,null,null,null,null,null,null,null,null,null,null,null,null,null,null,null,null,null,null,null,null,null,null,null,null,null,null,null,null,null,null,null,null,"(名称：",null,null,null,null,null,")",null,null,null,null,null,null,null,null,null,null,null,null,null,null,null,null,null,null,null,null,null,{"$f":"IF(OR((BO58=\"-\"),(ISNUMBER(BO58)=FALSE)),\"-\",ROUND(AM58*BO58,3))","v":"-"}]
[null,null,"細分類番号",null,null,null,null,null,null,null,null,null,null,null,null,null,null,null,null,null,null,null,null,null,null,null,null,null,null,null,null,null,null,null,null,null,null,null,null,null,null,null,null,null,null,"(単位：",null,null,null,null,null,")"]
[null,15,"工場等に係る\n事業の名称",null,null,null,null,null,null,{"$f":"IF(J63&L63&N63&P63=\"\",\"\",(IF(ISERROR(VLOOKUP(J63&L63&N63&P63,日本標準産業分類!A:B,2,FALSE)),\"該当の細分類がありません\",VLOOKUP(J63&L63&N63&P63,日本標準産業分類!A:B,2,FALSE))))","v":""},null,null,null,null,null,null,null,null,null,null,null,null,null,null,null,null,null,null,null,null,null,{"$f":"IF(R61=\"\",\"\",R61-Y61)","v":""},null,null,null,null,null,null,{"$f":"IF(AF61=\"\",\"\",IF($CM$379=0,\"\",IF(CM61=\"\",\"\",ROUND(AF61/$CM$379,3))))","v":""},null,null,null,null,null,null,null,null,null,null,null,null,null,{"$f":"IF(AT61=\"\",\"\",ROUND(AF61/AT61,3-INT(LOG(AF61/AT61))))","v":""},null,null,null,null,null,null,"-",null,null,null,null,null,null,{"$f":"IF(OR((BH61=\"-\"),(ISNUMBER(BH61)=FALSE)),\"-\",ROUND(BA61/BH61,3))","v":"-"},null,null,null,null,null,null,"⑮",null,null,null,null,null,null,null,null,null,null,null,null,null,null,null,null,{"$f":"IF(OR(BH61=\"\",BH61=\"-\"),\"\",AF61)","v":""}]
[null,null,null,null,null,null,null,null,null,null,null,null,null,null,null,null,null,null,null,null,null,null,null,null,null,null,null,null,null,null,null,null,null,null,null,null,null,null,null,null,null,null,null,null,null,"(名称：",null,null,null,null,null,")",null,null,null,null,null,null,null,null,null,null,null,null,null,null,null,null,null,null,null,null,null,{"$f":"IF(OR((BO61=\"-\"),(ISNUMBER(BO61)=FALSE)),\"-\",ROUND(AM61*BO61,3))","v":"-"}]
[null,null,"細分類番号",null,null,null,null,null,null,null,null,null,null,null,null,null,null,null,null,null,null,null,null,null,null,null,null,null,null,null,null,null,null,null,null,null,null,null,null,null,null,null,null,null,null,"(単位：",null,null,null,null,null,")"]
[null,16,"工場等に係る\n事業の名称",null,null,null,null,null,null,{"$f":"IF(J66&L66&N66&P66=\"\",\"\",(IF(ISERROR(VLOOKUP(J66&L66&N66&P66,日本標準産業分類!A:B,2,FALSE)),\"該当の細分類がありません\",VLOOKUP(J66&L66&N66&P66,日本標準産業分類!A:B,2,FALSE))))","v":""},null,null,null,null,null,null,null,null,null,null,null,null,null,null,null,null,null,null,null,null,null,{"$f":"IF(R64=\"\",\"\",R64-Y64)","v":""},null,null,null,null,null,null,{"$f":"IF(AF64=\"\",\"\",IF($CM$379=0,\"\",IF(CM64=\"\",\"\",ROUND(AF64/$CM$379,3))))","v":""},null,null,null,null,null,null,null,null,null,null,null,null,null,{"$f":"IF(AT64=\"\",\"\",ROUND(AF64/AT64,3-INT(LOG(AF64/AT64))))","v":""},null,null,null,null,null,null,"-",null,null,null,null,null,null,{"$f":"IF(OR((BH64=\"-\"),(ISNUMBER(BH64)=FALSE)),\"-\",ROUND(BA64/BH64,3))","v":"-"},null,null,null,null,null,null,"⑯",null,null,null,null,null,null,null,null,null,null,null,null,null,null,null,null,{"$f":"IF(OR(BH64=\"\",BH64=\"-\"),\"\",AF64)","v":""}]
[null,null,null,null,null,null,null,null,null,null,null,null,null,null,null,null,null,null,null,null,null,null,null,null,null,null,null,null,null,null,null,null,null,null,null,null,null,null,null,null,null,null,null,null,null,"(名称：",null,null,null,null,null,")",null,null,null,null,null,null,null,null,null,null,null,null,null,null,null,null,null,null,null,null,null,{"$f":"IF(OR((BO64=\"-\"),(ISNUMBER(BO64)=FALSE)),\"-\",ROUND(AM64*BO64,3))","v":"-"}]
[null,null,"細分類番号",null,null,null,null,null,null,null,null,null,null,null,null,null,null,null,null,null,null,null,null,null,null,null,null,null,null,null,null,null,null,null,null,null,null,null,null,null,null,null,null,null,null,"(単位：",null,null,null,null,null,")"]
[null,17,"工場等に係る\n事業の名称",null,null,null,null,null,null,{"$f":"IF(J69&L69&N69&P69=\"\",\"\",(IF(ISERROR(VLOOKUP(J69&L69&N69&P69,日本標準産業分類!A:B,2,FALSE)),\"該当の細分類がありません\",VLOOKUP(J69&L69&N69&P69,日本標準産業分類!A:B,2,FALSE))))","v":""},null,null,null,null,null,null,null,null,null,null,null,null,null,null,null,null,null,null,null,null,null,{"$f":"IF(R67=\"\",\"\",R67-Y67)","v":""},null,null,null,null,null,null,{"$f":"IF(AF67=\"\",\"\",IF($CM$379=0,\"\",IF(CM67=\"\",\"\",ROUND(AF67/$CM$379,3))))","v":""},null,null,null,null,null,null,null,null,null,null,null,null,null,{"$f":"IF(AT67=\"\",\"\",ROUND(AF67/AT67,3-INT(LOG(AF67/AT67))))","v":""},null,null,null,null,null,null,"-",null,null,null,null,null,null,{"$f":"IF(OR((BH67=\"-\"),(ISNUMBER(BH67)=FALSE)),\"-\",ROUND(BA67/BH67,3))","v":"-"},null,null,null,null,null,null,"⑰",null,null,null,null,null,null,null,null,null,null,null,null,null,null,null,null,{"$f":"IF(OR(BH67=\"\",BH67=\"-\"),\"\",AF67)","v":""}]
[null,null,null,null,null,null,null,null,null,null,null,null,null,null,null,null,null,null,null,null,null,null,null,null,null,null,null,null,null,null,null,null,null,null,null,null,null,null,null,null,null,null,null,null,null,"(名称：",null,null,null,null,null,")",null,null,null,null,null,null,null,null,null,null,null,null,null,null,null,null,null,null,null,null,null,{"$f":"IF(OR((BO67=\"-\"),(ISNUMBER(BO67)=FALSE)),\"-\",ROUND(AM67*BO67,3))","v":"-"}]
[null,null,"細分類番号",null,null,null,null,null,null,null,null,null,null,null,null,null,null,null,null,null,null,null,null,null,null,null,null,null,null,null,null,null,null,null,null,null,null,null,null,null,null,null,null,null,null,"(単位：",null,null,null,null,null,")"]
[null,18,"工場等に係る\n事業の名称",null,null,null,null,null,null,{"$f":"IF(J72&L72&N72&P72=\"\",\"\",(IF(ISERROR(VLOOKUP(J72&L72&N72&P72,日本標準産業分類!A:B,2,FALSE)),\"該当の細分類がありません\",VLOOKUP(J72&L72&N72&P72,日本標準産業分類!A:B,2,FALSE))))","v":""},null,null,null,null,null,null,null,null,null,null,null,null,null,null,null,null,null,null,null,null,null,{"$f":"IF(R70=\"\",\"\",R70-Y70)","v":""},null,null,null,null,null,null,{"$f":"IF(AF70=\"\",\"\",IF($CM$379=0,\"\",IF(CM70=\"\",\"\",ROUND(AF70/$CM$379,3))))","v":""},null,null,null,null,null,null,null,null,null,null,null,null,null,{"$f":"IF(AT70=\"\",\"\",ROUND(AF70/AT70,3-INT(LOG(AF70/AT70))))","v":""},null,null,null,null,null,null,"-",null,null,null,null,null,null,{"$f":"IF(OR((BH70=\"-\"),(ISNUMBER(BH70)=FALSE)),\"-\",ROUND(BA70/BH70,3))","v":"-"},null,null,null,null,null,null,"⑱",null,null,null,null,null,null,null,null,null,null,null,null,null,null,null,null,{"$f":"IF(OR(BH70=\"\",BH70=\"-\"),\"\",AF70)","v":""}]
[null,null,null,null,null,null,null,null,null,null,null,null,null,null,null,null,null,null,null,null,null,null,null,null,null,null,null,null,null,null,null,null,null,null,null,null,null,null,null,null,null,null,null,null,null,"(名称：",null,null,null,null,null,")",null,null,null,null,null,null,null,null,null,null,null,null,null,null,null,null,null,null,null,null,null,{"$f":"IF(OR((BO70=\"-\"),(ISNUMBER(BO70)=FALSE)),\"-\",ROUND(AM70*BO70,3))","v":"-"}]
[null,null,"細分類番号",null,null,null,null,null,null,null,null,null,null,null,null,null,null,null,null,null,null,null,null,null,null,null,null,null,null,null,null,null,null,null,null,null,null,null,null,null,null,null,null,null,null,"(単位：",null,null,null,null,null,")"]
[null,19,"工場等に係る\n事業の名称",null,null,null,null,null,null,{"$f":"IF(J75&L75&N75&P75=\"\",\"\",(IF(ISERROR(VLOOKUP(J75&L75&N75&P75,日本標準産業分類!A:B,2,FALSE)),\"該当の細分類がありません\",VLOOKUP(J75&L75&N75&P75,日本標準産業分類!A:B,2,FALSE))))","v":""},null,null,null,null,null,null,null,null,null,null,null,null,null,null,null,null,null,null,null,null,null,{"$f":"IF(R73=\"\",\"\",R73-Y73)","v":""},null,null,null,null,null,null,{"$f":"IF(AF73=\"\",\"\",IF($CM$379=0,\"\",IF(CM73=\"\",\"\",ROUND(AF73/$CM$379,3))))","v":""},null,null,null,null,null,null,null,null,null,null,null,null,null,{"$f":"IF(AT73=\"\",\"\",ROUND(AF73/AT73,3-INT(LOG(AF73/AT73))))","v":""},null,null,null,null,null,null,"-",null,null,null,null,null,null,{"$f":"IF(OR((BH73=\"-\"),(ISNUMBER(BH73)=FALSE)),\"-\",ROUND(BA73/BH73,3))","v":"-"},null,null,null,null,null,null,"⑲",null,null,null,null,null,null,null,null,null,null,null,null,null,null,null,null,{"$f":"IF(OR(BH73=\"\",BH73=\"-\"),\"\",AF73)","v":""}]
[null,null,null,null,null,null,null,null,null,null,null,null,null,null,null,null,null,null,null,null,null,null,null,null,null,null,null,null,null,null,null,null,null,null,null,null,null,null,null,null,null,null,null,null,null,"(名称：",null,null,null,null,null,")",null,null,null,null,null,null,null,null,null,null,null,null,null,null,null,null,null,null,null,null,null,{"$f":"IF(OR((BO73=\"-\"),(ISNUMBER(BO73)=FALSE)),\"-\",ROUND(AM73*BO73,3))","v":"-"}]
[null,null,"細分類番号",null,null,null,null,null,null,null,null,null,null,null,null,null,null,null,null,null,null,null,null,null,null,null,null,null,null,null,null,null,null,null,null,null,null,null,null,null,null,null,null,null,null,"(単位：",null,null,null,null,null,")"]
[null,20,"工場等に係る\n事業の名称",null,null,null,null,null,null,{"$f":"IF(J78&L78&N78&P78=\"\",\"\",(IF(ISERROR(VLOOKUP(J78&L78&N78&P78,日本標準産業分類!A:B,2,FALSE)),\"該当の細分類がありません\",VLOOKUP(J78&L78&N78&P78,日本標準産業分類!A:B,2,FALSE))))","v":""},null,null,null,null,null,null,null,null,null,null,null,null,null,null,null,null,null,null,null,null,null,{"$f":"IF(R76=\"\",\"\",R76-Y76)","v":""},null,null,null,null,null,null,{"$f":"IF(AF76=\"\",\"\",IF($CM$379=0,\"\",IF(CM76=\"\",\"\",ROUND(AF76/$CM$379,3))))","v":""},null,null,null,null,null,null,null,null,null,null,null,null,null,{"$f":"IF(AT76=\"\",\"\",ROUND(AF76/AT76,3-INT(LOG(AF76/AT76))))","v":""},null,null,null,null,null,null,"-",null,null,null,null,null,null,{"$f":"IF(OR((BH76=\"-\"),(ISNUMBER(BH76)=FALSE)),\"-\",ROUND(BA76/BH76,3))","v":"-"},null,null,null,null,null,null,"⑳",null,null,null,null,null,null,null,null,null,null,null,null,null,null,null,null,{"$f":"IF(OR(BH76=\"\",BH76=\"-\"),\"\",AF76)","v":""}]
[null,null,null,null,null,null,null,null,null,null,null,null,null,null,null,null,null,null,null,null,null,null,null,null,null,null,null,null,null,null,null,null,null,null,null,null,null,null,null,null,null,null,null,null,null,"(名称：",null,null,null,null,null,")",null,null,null,null,null,null,null,null,null,null,null,null,null,null,null,null,null,null,null,null,null,{"$f":"IF(OR((BO76=\"-\"),(ISNUMBER(BO76)=FALSE)),\"-\",ROUND(AM76*BO76,3))","v":"-"}]
[null,null,"細分類番号",null,null,null,null,null,null,null,null,null,null,null,null,null,null,null,null,null,null,null,null,null,null,null,null,null,null,null,null,null,null,null,null,null,null,null,null,null,null,null,null,null,null,"(単位：",null,null,null,null,null,")"]
[null,21,"工場等に係る\n事業の名称",null,null,null,null,null,null,{"$f":"IF(J81&L81&N81&P81=\"\",\"\",(IF(ISERROR(VLOOKUP(J81&L81&N81&P81,日本標準産業分類!A:B,2,FALSE)),\"該当の細分類がありません\",VLOOKUP(J81&L81&N81&P81,日本標準産業分類!A:B,2,FALSE))))","v":""},null,null,null,null,null,null,null,null,null,null,null,null,null,null,null,null,null,null,null,null,null,{"$f":"IF(R79=\"\",\"\",R79-Y79)","v":""},null,null,null,null,null,null,{"$f":"IF(AF79=\"\",\"\",IF($CM$379=0,\"\",IF(CM79=\"\",\"\",ROUND(AF79/$CM$379,3))))","v":""},null,null,null,null,null,null,null,null,null,null,null,null,null,{"$f":"IF(AT79=\"\",\"\",ROUND(AF79/AT79,3-INT(LOG(AF79/AT79))))","v":""},null,null,null,null,null,null,"-",null,null,null,null,null,null,{"$f":"IF(OR((BH79=\"-\"),(ISNUMBER(BH79)=FALSE)),\"-\",ROUND(BA79/BH79,3))","v":"-"},null,null,null,null,null,null,"㉑",null,null,null,null,null,null,null,null,null,null,null,null,null,null,null,null,{"$f":"IF(OR(BH79=\"\",BH79=\"-\"),\"\",AF79)","v":""}]
[null,null,null,null,null,null,null,null,null,null,null,null,null,null,null,null,null,null,null,null,null,null,null,null,null,null,null,null,null,null,null,null,null,null,null,null,null,null,null,null,null,null,null,null,null,"(名称：",null,null,null,null,null,")",null,null,null,null,null,null,null,null,null,null,null,null,null,null,null,null,null,null,null,null,null,{"$f":"IF(OR((BO79=\"-\"),(ISNUMBER(BO79)=FALSE)),\"-\",ROUND(AM79*BO79,3))","v":"-"}]
[null,null,"細分類番号",null,null,null,null,null,null,null,null,null,null,null,null,null,null,null,null,null,null,null,null,null,null,null,null,null,null,null,null,null,null,null,null,null,null,null,null,null,null,null,null,null,null,"(単位：",null,null,null,null,null,")"]
[null,22,"工場等に係る\n事業の名称",null,null,null,null,null,null,{"$f":"IF(J84&L84&N84&P84=\"\",\"\",(IF(ISERROR(VLOOKUP(J84&L84&N84&P84,日本標準産業分類!A:B,2,FALSE)),\"該当の細分類がありません\",VLOOKUP(J84&L84&N84&P84,日本標準産業分類!A:B,2,FALSE))))","v":""},null,null,null,null,null,null,null,null,null,null,null,null,null,null,null,null,null,null,null,null,null,{"$f":"IF(R82=\"\",\"\",R82-Y82)","v":""},null,null,null,null,null,null,{"$f":"IF(AF82=\"\",\"\",IF($CM$379=0,\"\",IF(CM82=\"\",\"\",ROUND(AF82/$CM$379,3))))","v":""},null,null,null,null,null,null,null,null,null,null,null,null,null,{"$f":"IF(AT82=\"\",\"\",ROUND(AF82/AT82,3-INT(LOG(AF82/AT82))))","v":""},null,null,null,null,null,null,"-",null,null,null,null,null,null,{"$f":"IF(OR((BH82=\"-\"),(ISNUMBER(BH82)=FALSE)),\"-\",ROUND(BA82/BH82,3))","v":"-"},null,null,null,null,null,null,"㉒",null,null,null,null,null,null,null,null,null,null,null,null,null,null,null,null,{"$f":"IF(OR(BH82=\"\",BH82=\"-\"),\"\",AF82)","v":""}]
[null,null,null,null,null,null,null,null,null,null,null,null,null,null,null,null,null,null,null,null,null,null,null,null,null,null,null,null,null,null,null,null,null,null,null,null,null,null,null,null,null,null,null,null,null,"(名称：",null,null,null,null,null,")",null,null,null,null,null,null,null,null,null,null,null,null,null,null,null,null,null,null,null,null,null,{"$f":"IF(OR((BO82=\"-\"),(ISNUMBER(BO82)=FALSE)),\"-\",ROUND(AM82*BO82,3))","v":"-"}]
[null,null,"細分類番号",null,null,null,null,null,null,null,null,null,null,null,null,null,null,null,null,null,null,null,null,null,null,null,null,null,null,null,null,null,null,null,null,null,null,null,null,null,null,null,null,null,null,"(単位：",null,null,null,null,null,")"]
[null,23,"工場等に係る\n事業の名称",null,null,null,null,null,null,{"$f":"IF(J87&L87&N87&P87=\"\",\"\",(IF(ISERROR(VLOOKUP(J87&L87&N87&P87,日本標準産業分類!A:B,2,FALSE)),\"該当の細分類がありません\",VLOOKUP(J87&L87&N87&P87,日本標準産業分類!A:B,2,FALSE))))","v":""},null,null,null,null,null,null,null,null,null,null,null,null,null,null,null,null,null,null,null,null,null,{"$f":"IF(R85=\"\",\"\",R85-Y85)","v":""},null,null,null,null,null,null,{"$f":"IF(AF85=\"\",\"\",IF($CM$379=0,\"\",IF(CM85=\"\",\"\",ROUND(AF85/$CM$379,3))))","v":""},null,null,null,null,null,null,null,null,null,null,null,null,null,{"$f":"IF(AT85=\"\",\"\",ROUND(AF85/AT85,3-INT(LOG(AF85/AT85))))","v":""},null,null,null,null,null,null,"-",null,null,null,null,null,null,{"$f":"IF(OR((BH85=\"-\"),(ISNUMBER(BH85)=FALSE)),\"-\",ROUND(BA85/BH85,3))","v":"-"},null,null,null,null,null,null,"㉓",null,null,null,null,null,null,null,null,null,null,null,null,null,null,null,null,{"$f":"IF(OR(BH85=\"\",BH85=\"-\"),\"\",AF85)","v":""}]
[null,null,null,null,null,null,null,null,null,null,null,null,null,null,null,null,null,null,null,null,null,null,null,null,null,null,null,null,null,null,null,null,null,null,null,null,null,null,null,null,null,null,null,null,null,"(名称：",null,null,null,null,null,")",null,null,null,null,null,null,null,null,null,null,null,null,null,null,null,null,null,null,null,null,null,{"$f":"IF(OR((BO85=\"-\"),(ISNUMBER(BO85)=FALSE)),\"-\",ROUND(AM85*BO85,3))","v":"-"}]
[null,null,"細分類番号",null,null,null,null,null,null,null,null,null,null,null,null,null,null,null,null,null,null,null,null,null,null,null,null,null,null,null,null,null,null,null,null,null,null,null,null,null,null,null,null,null,null,"(単位：",null,null,null,null,null,")"]
[null,24,"工場等に係る\n事業の名称",null,null,null,null,null,null,{"$f":"IF(J90&L90&N90&P90=\"\",\"\",(IF(ISERROR(VLOOKUP(J90&L90&N90&P90,日本標準産業分類!A:B,2,FALSE)),\"該当の細分類がありません\",VLOOKUP(J90&L90&N90&P90,日本標準産業分類!A:B,2,FALSE))))","v":""},null,null,null,null,null,null,null,null,null,null,null,null,null,null,null,null,null,null,null,null,null,{"$f":"IF(R88=\"\",\"\",R88-Y88)","v":""},null,null,null,null,null,null,{"$f":"IF(AF88=\"\",\"\",IF($CM$379=0,\"\",IF(CM88=\"\",\"\",ROUND(AF88/$CM$379,3))))","v":""},null,null,null,null,null,null,null,null,null,null,null,null,null,{"$f":"IF(AT88=\"\",\"\",ROUND(AF88/AT88,3-INT(LOG(AF88/AT88))))","v":""},null,null,null,null,null,null,"-",null,null,null,null,null,null,{"$f":"IF(OR((BH88=\"-\"),(ISNUMBER(BH88)=FALSE)),\"-\",ROUND(BA88/BH88,3))","v":"-"},null,null,null,null,null,null,"㉔",null,null,null,null,null,null,null,null,null,null,null,null,null,null,null,null,{"$f":"IF(OR(BH88=\"\",BH88=\"-\"),\"\",AF88)","v":""}]
[null,null,null,null,null,null,null,null,null,null,null,null,null,null,null,null,null,null,null,null,null,null,null,null,null,null,null,null,null,null,null,null,null,null,null,null,null,null,null,null,null,null,null,null,null,"(名称：",null,null,null,null,null,")",null,null,null,null,null,null,null,null,null,null,null,null,null,null,null,null,null,null,null,null,null,{"$f":"IF(OR((BO88=\"-\"),(ISNUMBER(BO88)=FALSE)),\"-\",ROUND(AM88*BO88,3))","v":"-"}]
[null,null,"細分類番号",null,null,null,null,null,null,null,null,null,null,null,null,null,null,null,null,null,null,null,null,null,null,null,null,null,null,null,null,null,null,null,null,null,null,null,null,null,null,null,null,null,null,"(単位：",null,null,null,null,null,")"]
[null,25,"工場等に係る\n事業の名称",null,null,null,null,null,null,{"$f":"IF(J93&L93&N93&P93=\"\",\"\",(IF(ISERROR(VLOOKUP(J93&L93&N93&P93,日本標準産業分類!A:B,2,FALSE)),\"該当の細分類がありません\",VLOOKUP(J93&L93&N93&P93,日本標準産業分類!A:B,2,FALSE))))","v":""},null,null,null,null,null,null,null,null,null,null,null,null,null,null,null,null,null,null,null,null,null,{"$f":"IF(R91=\"\",\"\",R91-Y91)","v":""},null,null,null,null,null,null,{"$f":"IF(AF91=\"\",\"\",IF($CM$379=0,\"\",IF(CM91=\"\",\"\",ROUND(AF91/$CM$379,3))))","v":""},null,null,null,null,null,null,null,null,null,null,null,null,null,{"$f":"IF(AT91=\"\",\"\",ROUND(AF91/AT91,3-INT(LOG(AF91/AT91))))","v":""},null,null,null,null,null,null,"-",null,null,null,null,null,null,{"$f":"IF(OR((BH91=\"-\"),(ISNUMBER(BH91)=FALSE)),\"-\",ROUND(BA91/BH91,3))","v":"-"},null,null,null,null,null,null,"㉕",null,null,null,null,null,null,null,null,null,null,null,null,null,null,null,null,{"$f":"IF(OR(BH91=\"\",BH91=\"-\"),\"\",AF91)","v":""}]
[null,null,null,null,null,null,null,null,null,null,null,null,null,null,null,null,null,null,null,null,null,null,null,null,null,null,null,null,null,null,null,null,null,null,null,null,null,null,null,null,null,null,null,null,null,"(名称：",null,null,null,null,null,")",null,null,null,null,null,null,null,null,null,null,null,null,null,null,null,null,null,null,null,null,null,{"$f":"IF(OR((BO91=\"-\"),(ISNUMBER(BO91)=FALSE)),\"-\",ROUND(AM91*BO91,3))","v":"-"}]
[null,null,"細分類番号",null,null,null,null,null,null,null,null,null,null,null,null,null,null,null,null,null,null,null,null,null,null,null,null,null,null,null,null,null,null,null,null,null,null,null,null,null,null,null,null,null,null,"(単位：",null,null,null,null,null,")"]
[null,26,"工場等に係る\n事業の名称",null,null,null,null,null,null,{"$f":"IF(J96&L96&N96&P96=\"\",\"\",(IF(ISERROR(VLOOKUP(J96&L96&N96&P96,日本標準産業分類!A:B,2,FALSE)),\"該当の細分類がありません\",VLOOKUP(J96&L96&N96&P96,日本標準産業分類!A:B,2,FALSE))))","v":""},null,null,null,null,null,null,null,null,null,null,null,null,null,null,null,null,null,null,null,null,null,{"$f":"IF(R94=\"\",\"\",R94-Y94)","v":""},null,null,null,null,null,null,{"$f":"IF(AF94=\"\",\"\",IF($CM$379=0,\"\",IF(CM94=\"\",\"\",ROUND(AF94/$CM$379,3))))","v":""},null,null,null,null,null,null,null,null,null,null,null,null,null,{"$f":"IF(AT94=\"\",\"\",ROUND(AF94/AT94,3-INT(LOG(AF94/AT94))))","v":""},null,null,null,null,null,null,"-",null,null,null,null,null,null,{"$f":"IF(OR((BH94=\"-\"),(ISNUMBER(BH94)=FALSE)),\"-\",ROUND(BA94/BH94,3))","v":"-"},null,null,null,null,null,null,"㉖",null,null,null,null,null,null,null,null,null,null,null,null,null,null,null,null,{"$f":"IF(OR(BH94=\"\",BH94=\"-\"),\"\",AF94)","v":""}]
[null,null,null,null,null,null,null,null,null,null,null,null,null,null,null,null,null,null,null,null,null,null,null,null,null,null,null,null,null,null,null,null,null,null,null,null,null,null,null,null,null,null,null,null,null,"(名称：",null,null,null,null,null,")",null,null,null,null,null,null,null,null,null,null,null,null,null,null,null,null,null,null,null,null,null,{"$f":"IF(OR((BO94=\"-\"),(ISNUMBER(BO94)=FALSE)),\"-\",ROUND(AM94*BO94,3))","v":"-"}]
[null,null,"細分類番号",null,null,null,null,null,null,null,null,null,null,null,null,null,null,null,null,null,null,null,null,null,null,null,null,null,null,null,null,null,null,null,null,null,null,null,null,null,null,null,null,null,null,"(単位：",null,null,null,null,null,")"]
[null,27,"工場等に係る\n事業の名称",null,null,null,null,null,null,{"$f":"IF(J99&L99&N99&P99=\"\",\"\",(IF(ISERROR(VLOOKUP(J99&L99&N99&P99,日本標準産業分類!A:B,2,FALSE)),\"該当の細分類がありません\",VLOOKUP(J99&L99&N99&P99,日本標準産業分類!A:B,2,FALSE))))","v":""},null,null,null,null,null,null,null,null,null,null,null,null,null,null,null,null,null,null,null,null,null,{"$f":"IF(R97=\"\",\"\",R97-Y97)","v":""},null,null,null,null,null,null,{"$f":"IF(AF97=\"\",\"\",IF($CM$379=0,\"\",IF(CM97=\"\",\"\",ROUND(AF97/$CM$379,3))))","v":""},null,null,null,null,null,null,null,null,null,null,null,null,null,{"$f":"IF(AT97=\"\",\"\",ROUND(AF97/AT97,3-INT(LOG(AF97/AT97))))","v":""},null,null,null,null,null,null,"-",null,null,null,null,null,null,{"$f":"IF(OR((BH97=\"-\"),(ISNUMBER(BH97)=FALSE)),\"-\",ROUND(BA97/BH97,3))","v":"-"},null,null,null,null,null,null,"㉗",null,null,null,null,null,null,null,null,null,null,null,null,null,null,null,null,{"$f":"IF(OR(BH97=\"\",BH97=\"-\"),\"\",AF97)","v":""}]
[null,null,null,null,null,null,null,null,null,null,null,null,null,null,null,null,null,null,null,null,null,null,null,null,null,null,null,null,null,null,null,null,null,null,null,null,null,null,null,null,null,null,null,null,null,"(名称：",null,null,null,null,null,")",null,null,null,null,null,null,null,null,null,null,null,null,null,null,null,null,null,null,null,null,null,{"$f":"IF(OR((BO97=\"-\"),(ISNUMBER(BO97)=FALSE)),\"-\",ROUND(AM97*BO97,3))","v":"-"}]
[null,null,"細分類番号",null,null,null,null,null,null,null,null,null,null,null,null,null,null,null,null,null,null,null,null,null,null,null,null,null,null,null,null,null,null,null,null,null,null,null,null,null,null,null,null,null,null,"(単位：",null,null,null,null,null,")"]
[null,28,"工場等に係る\n事業の名称",null,null,null,null,null,null,{"$f":"IF(J102&L102&N102&P102=\"\",\"\",(IF(ISERROR(VLOOKUP(J102&L102&N102&P102,日本標準産業分類!A:B,2,FALSE)),\"該当の細分類がありません\",VLOOKUP(J102&L102&N102&P102,日本標準産業分類!A:B,2,FALSE))))","v":""},null,null,null,null,null,null,null,null,null,null,null,null,null,null,null,null,null,null,null,null,null,{"$f":"IF(R100=\"\",\"\",R100-Y100)","v":""},null,null,null,null,null,null,{"$f":"IF(AF100=\"\",\"\",IF($CM$379=0,\"\",IF(CM100=\"\",\"\",ROUND(AF100/$CM$379,3))))","v":""},null,null,null,null,null,null,null,null,null,null,null,null,null,{"$f":"IF(AT100=\"\",\"\",ROUND(AF100/AT100,3-INT(LOG(AF100/AT100))))","v":""},null,null,null,null,null,null,"-",null,null,null,null,null,null,{"$f":"IF(OR((BH100=\"-\"),(ISNUMBER(BH100)=FALSE)),\"-\",ROUND(BA100/BH100,3))","v":"-"},null,null,null,null,null,null,"㉘",null,null,null,null,null,null,null,null,null,null,null,null,null,null,null,null,{"$f":"IF(OR(BH100=\"\",BH100=\"-\"),\"\",AF100)","v":""}]
[null,null,null,null,null,null,null,null,null,null,null,null,null,null,null,null,null,null,null,null,null,null,null,null,null,null,null,null,null,null,null,null,null,null,null,null,null,null,null,null,null,null,null,null,null,"(名称：",null,null,null,null,null,")",null,null,null,null,null,null,null,null,null,null,null,null,null,null,null,null,null,null,null,null,null,{"$f":"IF(OR((BO100=\"-\"),(ISNUMBER(BO100)=FALSE)),\"-\",ROUND(AM100*BO100,3))","v":"-"}]
[null,null,"細分類番号",null,null,null,null,null,null,null,null,null,null,null,null,null,null,null,null,null,null,null,null,null,null,null,null,null,null,null,null,null,null,null,null,null,null,null,null,null,null,null,null,null,null,"(単位：",null,null,null,null,null,")"]
[null,29,"工場等に係る\n事業の名称",null,null,null,null,null,null,{"$f":"IF(J105&L105&N105&P105=\"\",\"\",(IF(ISERROR(VLOOKUP(J105&L105&N105&P105,日本標準産業分類!A:B,2,FALSE)),\"該当の細分類がありません\",VLOOKUP(J105&L105&N105&P105,日本標準産業分類!A:B,2,FALSE))))","v":""},null,null,null,null,null,null,null,null,null,null,null,null,null,null,null,null,null,null,null,null,null,{"$f":"IF(R103=\"\",\"\",R103-Y103)","v":""},null,null,null,null,null,null,{"$f":"IF(AF103=\"\",\"\",IF($CM$379=0,\"\",IF(CM103=\"\",\"\",ROUND(AF103/$CM$379,3))))","v":""},null,null,null,null,null,null,null,null,null,null,null,null,null,{"$f":"IF(AT103=\"\",\"\",ROUND(AF103/AT103,3-INT(LOG(AF103/AT103))))","v":""},null,null,null,null,null,null,"-",null,null,null,null,null,null,{"$f":"IF(OR((BH103=\"-\"),(ISNUMBER(BH103)=FALSE)),\"-\",ROUND(BA103/BH103,3))","v":"-"},null,null,null,null,null,null,"㉙",null,null,null,null,null,null,null,null,null,null,null,null,null,null,null,null,{"$f":"IF(OR(BH103=\"\",BH103=\"-\"),\"\",AF103)","v":""}]
[null,null,null,null,null,null,null,null,null,null,null,null,null,null,null,null,null,null,null,null,null,null,null,null,null,null,null,null,null,null,null,null,null,null,null,null,null,null,null,null,null,null,null,null,null,"(名称：",null,null,null,null,null,")",null,null,null,null,null,null,null,null,null,null,null,null,null,null,null,null,null,null,null,null,null,{"$f":"IF(OR((BO103=\"-\"),(ISNUMBER(BO103)=FALSE)),\"-\",ROUND(AM103*BO103,3))","v":"-"}]
[null,null,"細分類番号",null,null,null,null,null,null,null,null,null,null,null,null,null,null,null,null,null,null,null,null,null,null,null,null,null,null,null,null,null,null,null,null,null,null,null,null,null,null,null,null,null,null,"(単位：",null,null,null,null,null,")"]
[null,30,"工場等に係る\n事業の名称",null,null,null,null,null,null,{"$f":"IF(J108&L108&N108&P108=\"\",\"\",(IF(ISERROR(VLOOKUP(J108&L108&N108&P108,日本標準産業分類!A:B,2,FALSE)),\"該当の細分類がありません\",VLOOKUP(J108&L108&N108&P108,日本標準産業分類!A:B,2,FALSE))))","v":""},null,null,null,null,null,null,null,null,null,null,null,null,null,null,null,null,null,null,null,null,null,{"$f":"IF(R106=\"\",\"\",R106-Y106)","v":""},null,null,null,null,null,null,{"$f":"IF(AF106=\"\",\"\",IF($CM$379=0,\"\",IF(CM106=\"\",\"\",ROUND(AF106/$CM$379,3))))","v":""},null,null,null,null,null,null,null,null,null,null,null,null,null,{"$f":"IF(AT106=\"\",\"\",ROUND(AF106/AT106,3-INT(LOG(AF106/AT106))))","v":""},null,null,null,null,null,null,"-",null,null,null,null,null,null,{"$f":"IF(OR((BH106=\"-\"),(ISNUMBER(BH106)=FALSE)),\"-\",ROUND(BA106/BH106,3))","v":"-"},null,null,null,null,null,null,"㉚",null,null,null,null,null,null,null,null,null,null,null,null,null,null,null,null,{"$f":"IF(OR(BH106=\"\",BH106=\"-\"),\"\",AF106)","v":""}]
[null,null,null,null,null,null,null,null,null,null,null,null,null,null,null,null,null,null,null,null,null,null,null,null,null,null,null,null,null,null,null,null,null,null,null,null,null,null,null,null,null,null,null,null,null,"(名称：",null,null,null,null,null,")",null,null,null,null,null,null,null,null,null,null,null,null,null,null,null,null,null,null,null,null,null,{"$f":"IF(OR((BO106=\"-\"),(ISNUMBER(BO106)=FALSE)),\"-\",ROUND(AM106*BO106,3))","v":"-"}]
[null,null,"細分類番号",null,null,null,null,null,null,null,null,null,null,null,null,null,null,null,null,null,null,null,null,null,null,null,null,null,null,null,null,null,null,null,null,null,null,null,null,null,null,null,null,null,null,"(単位：",null,null,null,null,null,")"]
[null,31,"工場等に係る\n事業の名称",null,null,null,null,null,null,{"$f":"IF(J111&L111&N111&P111=\"\",\"\",(IF(ISERROR(VLOOKUP(J111&L111&N111&P111,日本標準産業分類!A:B,2,FALSE)),\"該当の細分類がありません\",VLOOKUP(J111&L111&N111&P111,日本標準産業分類!A:B,2,FALSE))))","v":""},null,null,null,null,null,null,null,null,null,null,null,null,null,null,null,null,null,null,null,null,null,{"$f":"IF(R109=\"\",\"\",R109-Y109)","v":""},null,null,null,null,null,null,{"$f":"IF(AF109=\"\",\"\",IF($CM$379=0,\"\",IF(CM109=\"\",\"\",ROUND(AF109/$CM$379,3))))","v":""},null,null,null,null,null,null,null,null,null,null,null,null,null,{"$f":"IF(AT109=\"\",\"\",ROUND(AF109/AT109,3-INT(LOG(AF109/AT109))))","v":""},null,null,null,null,null,null,"-",null,null,null,null,null,null,{"$f":"IF(OR((BH109=\"-\"),(ISNUMBER(BH109)=FALSE)),\"-\",ROUND(BA109/BH109,3))","v":"-"},null,null,null,null,null,null,"㉛",null,null,null,null,null,null,null,null,null,null,null,null,null,null,null,null,{"$f":"IF(OR(BH109=\"\",BH109=\"-\"),\"\",AF109)","v":""}]
[null,null,null,null,null,null,null,null,null,null,null,null,null,null,null,null,null,null,null,null,null,null,null,null,null,null,null,null,null,null,null,null,null,null,null,null,null,null,null,null,null,null,null,null,null,"(名称：",null,null,null,null,null,")",null,null,null,null,null,null,null,null,null,null,null,null,null,null,null,null,null,null,null,null,null,{"$f":"IF(OR((BO109=\"-\"),(ISNUMBER(BO109)=FALSE)),\"-\",ROUND(AM109*BO109,3))","v":"-"}]
[null,null,"細分類番号",null,null,null,null,null,null,null,null,null,null,null,null,null,null,null,null,null,null,null,null,null,null,null,null,null,null,null,null,null,null,null,null,null,null,null,null,null,null,null,null,null,null,"(単位：",null,null,null,null,null,")"]
[null,32,"工場等に係る\n事業の名称",null,null,null,null,null,null,{"$f":"IF(J114&L114&N114&P114=\"\",\"\",(IF(ISERROR(VLOOKUP(J114&L114&N114&P114,日本標準産業分類!A:B,2,FALSE)),\"該当の細分類がありません\",VLOOKUP(J114&L114&N114&P114,日本標準産業分類!A:B,2,FALSE))))","v":""},null,null,null,null,null,null,null,null,null,null,null,null,null,null,null,null,null,null,null,null,null,{"$f":"IF(R112=\"\",\"\",R112-Y112)","v":""},null,null,null,null,null,null,{"$f":"IF(AF112=\"\",\"\",IF($CM$379=0,\"\",IF(CM112=\"\",\"\",ROUND(AF112/$CM$379,3))))","v":""},null,null,null,null,null,null,null,null,null,null,null,null,null,{"$f":"IF(AT112=\"\",\"\",ROUND(AF112/AT112,3-INT(LOG(AF112/AT112))))","v":""},null,null,null,null,null,null,"-",null,null,null,null,null,null,{"$f":"IF(OR((BH112=\"-\"),(ISNUMBER(BH112)=FALSE)),\"-\",ROUND(BA112/BH112,3))","v":"-"},null,null,null,null,null,null,"㉜",null,null,null,null,null,null,null,null,null,null,null,null,null,null,null,null,{"$f":"IF(OR(BH112=\"\",BH112=\"-\"),\"\",AF112)","v":""}]
[null,null,null,null,null,null,null,null,null,null,null,null,null,null,null,null,null,null,null,null,null,null,null,null,null,null,null,null,null,null,null,null,null,null,null,null,null,null,null,null,null,null,null,null,null,"(名称：",null,null,null,null,null,")",null,null,null,null,null,null,null,null,null,null,null,null,null,null,null,null,null,null,null,null,null,{"$f":"IF(OR((BO112=\"-\"),(ISNUMBER(BO112)=FALSE)),\"-\",ROUND(AM112*BO112,3))","v":"-"}]
[null,null,"細分類番号",null,null,null,null,null,null,null,null,null,null,null,null,null,null,null,null,null,null,null,null,null,null,null,null,null,null,null,null,null,null,null,null,null,null,null,null,null,null,null,null,null,null,"(単位：",null,null,null,null,null,")"]
[null,33,"工場等に係る\n事業の名称",null,null,null,null,null,null,{"$f":"IF(J117&L117&N117&P117=\"\",\"\",(IF(ISERROR(VLOOKUP(J117&L117&N117&P117,日本標準産業分類!A:B,2,FALSE)),\"該当の細分類がありません\",VLOOKUP(J117&L117&N117&P117,日本標準産業分類!A:B,2,FALSE))))","v":""},null,null,null,null,null,null,null,null,null,null,null,null,null,null,null,null,null,null,null,null,null,{"$f":"IF(R115=\"\",\"\",R115-Y115)","v":""},null,null,null,null,null,null,{"$f":"IF(AF115=\"\",\"\",IF($CM$379=0,\"\",IF(CM115=\"\",\"\",ROUND(AF115/$CM$379,3))))","v":""},null,null,null,null,null,null,null,null,null,null,null,null,null,{"$f":"IF(AT115=\"\",\"\",ROUND(AF115/AT115,3-INT(LOG(AF115/AT115))))","v":""},null,null,null,null,null,null,"-",null,null,null,null,null,null,{"$f":"IF(OR((BH115=\"-\"),(ISNUMBER(BH115)=FALSE)),\"-\",ROUND(BA115/BH115,3))","v":"-"},null,null,null,null,null,null,"㉝",null,null,null,null,null,null,null,null,null,null,null,null,null,null,null,null,{"$f":"IF(OR(BH115=\"\",BH115=\"-\"),\"\",AF115)","v":""}]
[null,null,null,null,null,null,null,null,null,null,null,null,null,null,null,null,null,null,null,null,null,null,null,null,null,null,null,null,null,null,null,null,null,null,null,null,null,null,null,null,null,null,null,null,null,"(名称：",null,null,null,null,null,")",null,null,null,null,null,null,null,null,null,null,null,null,null,null,null,null,null,null,null,null,null,{"$f":"IF(OR((BO115=\"-\"),(ISNUMBER(BO115)=FALSE)),\"-\",ROUND(AM115*BO115,3))","v":"-"}]
[null,null,"細分類番号",null,null,null,null,null,null,null,null,null,null,null,null,null,null,null,null,null,null,null,null,null,null,null,null,null,null,null,null,null,null,null,null,null,null,null,null,null,null,null,null,null,null,"(単位：",null,null,null,null,null,")"]
[null,34,"工場等に係る\n事業の名称",null,null,null,null,null,null,{"$f":"IF(J120&L120&N120&P120=\"\",\"\",(IF(ISERROR(VLOOKUP(J120&L120&N120&P120,日本標準産業分類!A:B,2,FALSE)),\"該当の細分類がありません\",VLOOKUP(J120&L120&N120&P120,日本標準産業分類!A:B,2,FALSE))))","v":""},null,null,null,null,null,null,null,null,null,null,null,null,null,null,null,null,null,null,null,null,null,{"$f":"IF(R118=\"\",\"\",R118-Y118)","v":""},null,null,null,null,null,null,{"$f":"IF(AF118=\"\",\"\",IF($CM$379=0,\"\",IF(CM118=\"\",\"\",ROUND(AF118/$CM$379,3))))","v":""},null,null,null,null,null,null,null,null,null,null,null,null,null,{"$f":"IF(AT118=\"\",\"\",ROUND(AF118/AT118,3-INT(LOG(AF118/AT118))))","v":""},null,null,null,null,null,null,"-",null,null,null,null,null,null,{"$f":"IF(OR((BH118=\"-\"),(ISNUMBER(BH118)=FALSE)),\"-\",ROUND(BA118/BH118,3))","v":"-"},null,null,null,null,null,null,"㉞",null,null,null,null,null,null,null,null,null,null,null,null,null,null,null,null,{"$f":"IF(OR(BH118=\"\",BH118=\"-\"),\"\",AF118)","v":""}]
[null,null,null,null,null,null,null,null,null,null,null,null,null,null,null,null,null,null,null,null,null,null,null,null,null,null,null,null,null,null,null,null,null,null,null,null,null,null,null,null,null,null,null,null,null,"(名称：",null,null,null,null,null,")",null,null,null,null,null,null,null,null,null,null,null,null,null,null,null,null,null,null,null,null,null,{"$f":"IF(OR((BO118=\"-\"),(ISNUMBER(BO118)=FALSE)),\"-\",ROUND(AM118*BO118,3))","v":"-"}]
[null,null,"細分類番号",null,null,null,null,null,null,null,null,null,null,null,null,null,null,null,null,null,null,null,null,null,null,null,null,null,null,null,null,null,null,null,null,null,null,null,null,null,null,null,null,null,null,"(単位：",null,null,null,null,null,")"]
[null,35,"工場等に係る\n事業の名称",null,null,null,null,null,null,{"$f":"IF(J123&L123&N123&P123=\"\",\"\",(IF(ISERROR(VLOOKUP(J123&L123&N123&P123,日本標準産業分類!A:B,2,FALSE)),\"該当の細分類がありません\",VLOOKUP(J123&L123&N123&P123,日本標準産業分類!A:B,2,FALSE))))","v":""},null,null,null,null,null,null,null,null,null,null,null,null,null,null,null,null,null,null,null,null,null,{"$f":"IF(R121=\"\",\"\",R121-Y121)","v":""},null,null,null,null,null,null,{"$f":"IF(AF121=\"\",\"\",IF($CM$379=0,\"\",IF(CM121=\"\",\"\",ROUND(AF121/$CM$379,3))))","v":""},null,null,null,null,null,null,null,null,null,null,null,null,null,{"$f":"IF(AT121=\"\",\"\",ROUND(AF121/AT121,3-INT(LOG(AF121/AT121))))","v":""},null,null,null,null,null,null,"-",null,null,null,null,null,null,{"$f":"IF(OR((BH121=\"-\"),(ISNUMBER(BH121)=FALSE)),\"-\",ROUND(BA121/BH121,3))","v":"-"},null,null,null,null,null,null,"㉟",null,null,null,null,null,null,null,null,null,null,null,null,null,null,null,null,{"$f":"IF(OR(BH121=\"\",BH121=\"-\"),\"\",AF121)","v":""}]
[null,null,null,null,null,null,null,null,null,null,null,null,null,null,null,null,null,null,null,null,null,null,null,null,null,null,null,null,null,null,null,null,null,null,null,null,null,null,null,null,null,null,null,null,null,"(名称：",null,null,null,null,null,")",null,null,null,null,null,null,null,null,null,null,null,null,null,null,null,null,null,null,null,null,null,{"$f":"IF(OR((BO121=\"-\"),(ISNUMBER(BO121)=FALSE)),\"-\",ROUND(AM121*BO121,3))","v":"-"}]
[null,null,"細分類番号",null,null,null,null,null,null,null,null,null,null,null,null,null,null,null,null,null,null,null,null,null,null,null,null,null,null,null,null,null,null,null,null,null,null,null,null,null,null,null,null,null,null,"(単位：",null,null,null,null,null,")"]
[null,36,"工場等に係る\n事業の名称",null,null,null,null,null,null,{"$f":"IF(J126&L126&N126&P126=\"\",\"\",(IF(ISERROR(VLOOKUP(J126&L126&N126&P126,日本標準産業分類!A:B,2,FALSE)),\"該当の細分類がありません\",VLOOKUP(J126&L126&N126&P126,日本標準産業分類!A:B,2,FALSE))))","v":""},null,null,null,null,null,null,null,null,null,null,null,null,null,null,null,null,null,null,null,null,null,{"$f":"IF(R124=\"\",\"\",R124-Y124)","v":""},null,null,null,null,null,null,{"$f":"IF(AF124=\"\",\"\",IF($CM$379=0,\"\",IF(CM124=\"\",\"\",ROUND(AF124/$CM$379,3))))","v":""},null,null,null,null,null,null,null,null,null,null,null,null,null,{"$f":"IF(AT124=\"\",\"\",ROUND(AF124/AT124,3-INT(LOG(AF124/AT124))))","v":""},null,null,null,null,null,null,"-",null,null,null,null,null,null,{"$f":"IF(OR((BH124=\"-\"),(ISNUMBER(BH124)=FALSE)),\"-\",ROUND(BA124/BH124,3))","v":"-"},null,null,null,null,null,null,"㊱",null,null,null,null,null,null,null,null,null,null,null,null,null,null,null,null,{"$f":"IF(OR(BH124=\"\",BH124=\"-\"),\"\",AF124)","v":""}]
[null,null,null,null,null,null,null,null,null,null,null,null,null,null,null,null,null,null,null,null,null,null,null,null,null,null,null,null,null,null,null,null,null,null,null,null,null,null,null,null,null,null,null,null,null,"(名称：",null,null,null,null,null,")",null,null,null,null,null,null,null,null,null,null,null,null,null,null,null,null,null,null,null,null,null,{"$f":"IF(OR((BO124=\"-\"),(ISNUMBER(BO124)=FALSE)),\"-\",ROUND(AM124*BO124,3))","v":"-"}]
[null,null,"細分類番号",null,null,null,null,null,null,null,null,null,null,null,null,null,null,null,null,null,null,null,null,null,null,null,null,null,null,null,null,null,null,null,null,null,null,null,null,null,null,null,null,null,null,"(単位：",null,null,null,null,null,")"]
[null,37,"工場等に係る\n事業の名称",null,null,null,null,null,null,{"$f":"IF(J129&L129&N129&P129=\"\",\"\",(IF(ISERROR(VLOOKUP(J129&L129&N129&P129,日本標準産業分類!A:B,2,FALSE)),\"該当の細分類がありません\",VLOOKUP(J129&L129&N129&P129,日本標準産業分類!A:B,2,FALSE))))","v":""},null,null,null,null,null,null,null,null,null,null,null,null,null,null,null,null,null,null,null,null,null,{"$f":"IF(R127=\"\",\"\",R127-Y127)","v":""},null,null,null,null,null,null,{"$f":"IF(AF127=\"\",\"\",IF($CM$379=0,\"\",IF(CM127=\"\",\"\",ROUND(AF127/$CM$379,3))))","v":""},null,null,null,null,null,null,null,null,null,null,null,null,null,{"$f":"IF(AT127=\"\",\"\",ROUND(AF127/AT127,3-INT(LOG(AF127/AT127))))","v":""},null,null,null,null,null,null,"-",null,null,null,null,null,null,{"$f":"IF(OR((BH127=\"-\"),(ISNUMBER(BH127)=FALSE)),\"-\",ROUND(BA127/BH127,3))","v":"-"},null,null,null,null,null,null,"㊲",null,null,null,null,null,null,null,null,null,null,null,null,null,null,null,null,{"$f":"IF(OR(BH127=\"\",BH127=\"-\"),\"\",AF127)","v":""}]
[null,null,null,null,null,null,null,null,null,null,null,null,null,null,null,null,null,null,null,null,null,null,null,null,null,null,null,null,null,null,null,null,null,null,null,null,null,null,null,null,null,null,null,null,null,"(名称：",null,null,null,null,null,")",null,null,null,null,null,null,null,null,null,null,null,null,null,null,null,null,null,null,null,null,null,{"$f":"IF(OR((BO127=\"-\"),(ISNUMBER(BO127)=FALSE)),\"-\",ROUND(AM127*BO127,3))","v":"-"}]
[null,null,"細分類番号",null,null,null,null,null,null,null,null,null,null,null,null,null,null,null,null,null,null,null,null,null,null,null,null,null,null,null,null,null,null,null,null,null,null,null,null,null,null,null,null,null,null,"(単位：",null,null,null,null,null,")"]
[null,38,"工場等に係る\n事業の名称",null,null,null,null,null,null,{"$f":"IF(J132&L132&N132&P132=\"\",\"\",(IF(ISERROR(VLOOKUP(J132&L132&N132&P132,日本標準産業分類!A:B,2,FALSE)),\"該当の細分類がありません\",VLOOKUP(J132&L132&N132&P132,日本標準産業分類!A:B,2,FALSE))))","v":""},null,null,null,null,null,null,null,null,null,null,null,null,null,null,null,null,null,null,null,null,null,{"$f":"IF(R130=\"\",\"\",R130-Y130)","v":""},null,null,null,null,null,null,{"$f":"IF(AF130=\"\",\"\",IF($CM$379=0,\"\",IF(CM130=\"\",\"\",ROUND(AF130/$CM$379,3))))","v":""},null,null,null,null,null,null,null,null,null,null,null,null,null,{"$f":"IF(AT130=\"\",\"\",ROUND(AF130/AT130,3-INT(LOG(AF130/AT130))))","v":""},null,null,null,null,null,null,"-",null,null,null,null,null,null,{"$f":"IF(OR((BH130=\"-\"),(ISNUMBER(BH130)=FALSE)),\"-\",ROUND(BA130/BH130,3))","v":"-"},null,null,null,null,null,null,"㊳",null,null,null,null,null,null,null,null,null,null,null,null,null,null,null,null,{"$f":"IF(OR(BH130=\"\",BH130=\"-\"),\"\",AF130)","v":""}]
[null,null,null,null,null,null,null,null,null,null,null,null,null,null,null,null,null,null,null,null,null,null,null,null,null,null,null,null,null,null,null,null,null,null,null,null,null,null,null,null,null,null,null,null,null,"(名称：",null,null,null,null,null,")",null,null,null,null,null,null,null,null,null,null,null,null,null,null,null,null,null,null,null,null,null,{"$f":"IF(OR((BO130=\"-\"),(ISNUMBER(BO130)=FALSE)),\"-\",ROUND(AM130*BO130,3))","v":"-"}]
[null,null,"細分類番号",null,null,null,null,null,null,null,null,null,null,null,null,null,null,null,null,null,null,null,null,null,null,null,null,null,null,null,null,null,null,null,null,null,null,null,null,null,null,null,null,null,null,"(単位：",null,null,null,null,null,")"]
[null,39,"工場等に係る\n事業の名称",null,null,null,null,null,null,{"$f":"IF(J135&L135&N135&P135=\"\",\"\",(IF(ISERROR(VLOOKUP(J135&L135&N135&P135,日本標準産業分類!A:B,2,FALSE)),\"該当の細分類がありません\",VLOOKUP(J135&L135&N135&P135,日本標準産業分類!A:B,2,FALSE))))","v":""},null,null,null,null,null,null,null,null,null,null,null,null,null,null,null,null,null,null,null,null,null,{"$f":"IF(R133=\"\",\"\",R133-Y133)","v":""},null,null,null,null,null,null,{"$f":"IF(AF133=\"\",\"\",IF($CM$379=0,\"\",IF(CM133=\"\",\"\",ROUND(AF133/$CM$379,3))))","v":""},null,null,null,null,null,null,null,null,null,null,null,null,null,{"$f":"IF(AT133=\"\",\"\",ROUND(AF133/AT133,3-INT(LOG(AF133/AT133))))","v":""},null,null,null,null,null,null,"-",null,null,null,null,null,null,{"$f":"IF(OR((BH133=\"-\"),(ISNUMBER(BH133)=FALSE)),\"-\",ROUND(BA133/BH133,3))","v":"-"},null,null,null,null,null,null,"㊴",null,null,null,null,null,null,null,null,null,null,null,null,null,null,null,null,{"$f":"IF(OR(BH133=\"\",BH133=\"-\"),\"\",AF133)","v":""}]
[null,null,null,null,null,null,null,null,null,null,null,null,null,null,null,null,null,null,null,null,null,null,null,null,null,null,null,null,null,null,null,null,null,null,null,null,null,null,null,null,null,null,null,null,null,"(名称：",null,null,null,null,null,")",null,null,null,null,null,null,null,null,null,null,null,null,null,null,null,null,null,null,null,null,null,{"$f":"IF(OR((BO133=\"-\"),(ISNUMBER(BO133)=FALSE)),\"-\",ROUND(AM133*BO133,3))","v":"-"}]
[null,null,"細分類番号",null,null,null,null,null,null,null,null,null,null,null,null,null,null,null,null,null,null,null,null,null,null,null,null,null,null,null,null,null,null,null,null,null,null,null,null,null,null,null,null,null,null,"(単位：",null,null,null,null,null,")"]
[null,40,"工場等に係る\n事業の名称",null,null,null,null,null,null,{"$f":"IF(J138&L138&N138&P138=\"\",\"\",(IF(ISERROR(VLOOKUP(J138&L138&N138&P138,日本標準産業分類!A:B,2,FALSE)),\"該当の細分類がありません\",VLOOKUP(J138&L138&N138&P138,日本標準産業分類!A:B,2,FALSE))))","v":""},null,null,null,null,null,null,null,null,null,null,null,null,null,null,null,null,null,null,null,null,null,{"$f":"IF(R136=\"\",\"\",R136-Y136)","v":""},null,null,null,null,null,null,{"$f":"IF(AF136=\"\",\"\",IF($CM$379=0,\"\",IF(CM136=\"\",\"\",ROUND(AF136/$CM$379,3))))","v":""},null,null,null,null,null,null,null,null,null,null,null,null,null,{"$f":"IF(AT136=\"\",\"\",ROUND(AF136/AT136,3-INT(LOG(AF136/AT136))))","v":""},null,null,null,null,null,null,"-",null,null,null,null,null,null,{"$f":"IF(OR((BH136=\"-\"),(ISNUMBER(BH136)=FALSE)),\"-\",ROUND(BA136/BH136,3))","v":"-"},null,null,null,null,null,null,"㊵",null,null,null,null,null,null,null,null,null,null,null,null,null,null,null,null,{"$f":"IF(OR(BH136=\"\",BH136=\"-\"),\"\",AF136)","v":""}]
[null,null,null,null,null,null,null,null,null,null,null,null,null,null,null,null,null,null,null,null,null,null,null,null,null,null,null,null,null,null,null,null,null,null,null,null,null,null,null,null,null,null,null,null,null,"(名称：",null,null,null,null,null,")",null,null,null,null,null,null,null,null,null,null,null,null,null,null,null,null,null,null,null,null,null,{"$f":"IF(OR((BO136=\"-\"),(ISNUMBER(BO136)=FALSE)),\"-\",ROUND(AM136*BO136,3))","v":"-"}]
[null,null,"細分類番号",null,null,null,null,null,null,null,null,null,null,null,null,null,null,null,null,null,null,null,null,null,null,null,null,null,null,null,null,null,null,null,null,null,null,null,null,null,null,null,null,null,null,"(単位：",null,null,null,null,null,")"]
[null,41,"工場等に係る\n事業の名称",null,null,null,null,null,null,{"$f":"IF(J141&L141&N141&P141=\"\",\"\",(IF(ISERROR(VLOOKUP(J141&L141&N141&P141,日本標準産業分類!A:B,2,FALSE)),\"該当の細分類がありません\",VLOOKUP(J141&L141&N141&P141,日本標準産業分類!A:B,2,FALSE))))","v":""},null,null,null,null,null,null,null,null,null,null,null,null,null,null,null,null,null,null,null,null,null,{"$f":"IF(R139=\"\",\"\",R139-Y139)","v":""},null,null,null,null,null,null,{"$f":"IF(AF139=\"\",\"\",IF($CM$379=0,\"\",IF(CM139=\"\",\"\",ROUND(AF139/$CM$379,3))))","v":""},null,null,null,null,null,null,null,null,null,null,null,null,null,{"$f":"IF(AT139=\"\",\"\",ROUND(AF139/AT139,3-INT(LOG(AF139/AT139))))","v":""},null,null,null,null,null,null,"-",null,null,null,null,null,null,{"$f":"IF(OR((BH139=\"-\"),(ISNUMBER(BH139)=FALSE)),\"-\",ROUND(BA139/BH139,3))","v":"-"},null,null,null,null,null,null,"㊶",null,null,null,null,null,null,null,null,null,null,null,null,null,null,null,null,{"$f":"IF(OR(BH139=\"\",BH139=\"-\"),\"\",AF139)","v":""}]
[null,null,null,null,null,null,null,null,null,null,null,null,null,null,null,null,null,null,null,null,null,null,null,null,null,null,null,null,null,null,null,null,null,null,null,null,null,null,null,null,null,null,null,null,null,"(名称：",null,null,null,null,null,")",null,null,null,null,null,null,null,null,null,null,null,null,null,null,null,null,null,null,null,null,null,{"$f":"IF(OR((BO139=\"-\"),(ISNUMBER(BO139)=FALSE)),\"-\",ROUND(AM139*BO139,3))","v":"-"}]
[null,null,"細分類番号",null,null,null,null,null,null,null,null,null,null,null,null,null,null,null,null,null,null,null,null,null,null,null,null,null,null,null,null,null,null,null,null,null,null,null,null,null,null,null,null,null,null,"(単位：",null,null,null,null,null,")"]
[null,42,"工場等に係る\n事業の名称",null,null,null,null,null,null,{"$f":"IF(J144&L144&N144&P144=\"\",\"\",(IF(ISERROR(VLOOKUP(J144&L144&N144&P144,日本標準産業分類!A:B,2,FALSE)),\"該当の細分類がありません\",VLOOKUP(J144&L144&N144&P144,日本標準産業分類!A:B,2,FALSE))))","v":""},null,null,null,null,null,null,null,null,null,null,null,null,null,null,null,null,null,null,null,null,null,{"$f":"IF(R142=\"\",\"\",R142-Y142)","v":""},null,null,null,null,null,null,{"$f":"IF(AF142=\"\",\"\",IF($CM$379=0,\"\",IF(CM142=\"\",\"\",ROUND(AF142/$CM$379,3))))","v":""},null,null,null,null,null,null,null,null,null,null,null,null,null,{"$f":"IF(AT142=\"\",\"\",ROUND(AF142/AT142,3-INT(LOG(AF142/AT142))))","v":""},null,null,null,null,null,null,"-",null,null,null,null,null,null,{"$f":"IF(OR((BH142=\"-\"),(ISNUMBER(BH142)=FALSE)),\"-\",ROUND(BA142/BH142,3))","v":"-"},null,null,null,null,null,null,"㊷",null,null,null,null,null,null,null,null,null,null,null,null,null,null,null,null,{"$f":"IF(OR(BH142=\"\",BH142=\"-\"),\"\",AF142)","v":""}]
[null,null,null,null,null,null,null,null,null,null,null,null,null,null,null,null,null,null,null,null,null,null,null,null,null,null,null,null,null,null,null,null,null,null,null,null,null,null,null,null,null,null,null,null,null,"(名称：",null,null,null,null,null,")",null,null,null,null,null,null,null,null,null,null,null,null,null,null,null,null,null,null,null,null,null,{"$f":"IF(OR((BO142=\"-\"),(ISNUMBER(BO142)=FALSE)),\"-\",ROUND(AM142*BO142,3))","v":"-"}]
[null,null,"細分類番号",null,null,null,null,null,null,null,null,null,null,null,null,null,null,null,null,null,null,null,null,null,null,null,null,null,null,null,null,null,null,null,null,null,null,null,null,null,null,null,null,null,null,"(単位：",null,null,null,null,null,")"]
[null,43,"工場等に係る\n事業の名称",null,null,null,null,null,null,{"$f":"IF(J147&L147&N147&P147=\"\",\"\",(IF(ISERROR(VLOOKUP(J147&L147&N147&P147,日本標準産業分類!A:B,2,FALSE)),\"該当の細分類がありません\",VLOOKUP(J147&L147&N147&P147,日本標準産業分類!A:B,2,FALSE))))","v":""},null,null,null,null,null,null,null,null,null,null,null,null,null,null,null,null,null,null,null,null,null,{"$f":"IF(R145=\"\",\"\",R145-Y145)","v":""},null,null,null,null,null,null,{"$f":"IF(AF145=\"\",\"\",IF($CM$379=0,\"\",IF(CM145=\"\",\"\",ROUND(AF145/$CM$379,3))))","v":""},null,null,null,null,null,null,null,null,null,null,null,null,null,{"$f":"IF(AT145=\"\",\"\",ROUND(AF145/AT145,3-INT(LOG(AF145/AT145))))","v":""},null,null,null,null,null,null,"-",null,null,null,null,null,null,{"$f":"IF(OR((BH145=\"-\"),(ISNUMBER(BH145)=FALSE)),\"-\",ROUND(BA145/BH145,3))","v":"-"},null,null,null,null,null,null,"㊸",null,null,null,null,null,null,null,null,null,null,null,null,null,null,null,null,{"$f":"IF(OR(BH145=\"\",BH145=\"-\"),\"\",AF145)","v":""}]
[null,null,null,null,null,null,null,null,null,null,null,null,null,null,null,null,null,null,null,null,null,null,null,null,null,null,null,null,null,null,null,null,null,null,null,null,null,null,null,null,null,null,null,null,null,"(名称：",null,null,null,null,null,")",null,null,null,null,null,null,null,null,null,null,null,null,null,null,null,null,null,null,null,null,null,{"$f":"IF(OR((BO145=\"-\"),(ISNUMBER(BO145)=FALSE)),\"-\",ROUND(AM145*BO145,3))","v":"-"}]
[null,null,"細分類番号",null,null,null,null,null,null,null,null,null,null,null,null,null,null,null,null,null,null,null,null,null,null,null,null,null,null,null,null,null,null,null,null,null,null,null,null,null,null,null,null,null,null,"(単位：",null,null,null,null,null,")"]
[null,44,"工場等に係る\n事業の名称",null,null,null,null,null,null,{"$f":"IF(J150&L150&N150&P150=\"\",\"\",(IF(ISERROR(VLOOKUP(J150&L150&N150&P150,日本標準産業分類!A:B,2,FALSE)),\"該当の細分類がありません\",VLOOKUP(J150&L150&N150&P150,日本標準産業分類!A:B,2,FALSE))))","v":""},null,null,null,null,null,null,null,null,null,null,null,null,null,null,null,null,null,null,null,null,null,{"$f":"IF(R148=\"\",\"\",R148-Y148)","v":""},null,null,null,null,null,null,{"$f":"IF(AF148=\"\",\"\",IF($CM$379=0,\"\",IF(CM148=\"\",\"\",ROUND(AF148/$CM$379,3))))","v":""},null,null,null,null,null,null,null,null,null,null,null,null,null,{"$f":"IF(AT148=\"\",\"\",ROUND(AF148/AT148,3-INT(LOG(AF148/AT148))))","v":""},null,null,null,null,null,null,"-",null,null,null,null,null,null,{"$f":"IF(OR((BH148=\"-\"),(ISNUMBER(BH148)=FALSE)),\"-\",ROUND(BA148/BH148,3))","v":"-"},null,null,null,null,null,null,"㊹",null,null,null,null,null,null,null,null,null,null,null,null,null,null,null,null,{"$f":"IF(OR(BH148=\"\",BH148=\"-\"),\"\",AF148)","v":""}]
[null,null,null,null,null,null,null,null,null,null,null,null,null,null,null,null,null,null,null,null,null,null,null,null,null,null,null,null,null,null,null,null,null,null,null,null,null,null,null,null,null,null,null,null,null,"(名称：",null,null,null,null,null,")",null,null,null,null,null,null,null,null,null,null,null,null,null,null,null,null,null,null,null,null,null,{"$f":"IF(OR((BO148=\"-\"),(ISNUMBER(BO148)=FALSE)),\"-\",ROUND(AM148*BO148,3))","v":"-"}]
[null,null,"細分類番号",null,null,null,null,null,null,null,null,null,null,null,null,null,null,null,null,null,null,null,null,null,null,null,null,null,null,null,null,null,null,null,null,null,null,null,null,null,null,null,null,null,null,"(単位：",null,null,null,null,null,")"]
[null,45,"工場等に係る\n事業の名称",null,null,null,null,null,null,{"$f":"IF(J153&L153&N153&P153=\"\",\"\",(IF(ISERROR(VLOOKUP(J153&L153&N153&P153,日本標準産業分類!A:B,2,FALSE)),\"該当の細分類がありません\",VLOOKUP(J153&L153&N153&P153,日本標準産業分類!A:B,2,FALSE))))","v":""},null,null,null,null,null,null,null,null,null,null,null,null,null,null,null,null,null,null,null,null,null,{"$f":"IF(R151=\"\",\"\",R151-Y151)","v":""},null,null,null,null,null,null,{"$f":"IF(AF151=\"\",\"\",IF($CM$379=0,\"\",IF(CM151=\"\",\"\",ROUND(AF151/$CM$379,3))))","v":""},null,null,null,null,null,null,null,null,null,null,null,null,null,{"$f":"IF(AT151=\"\",\"\",ROUND(AF151/AT151,3-INT(LOG(AF151/AT151))))","v":""},null,null,null,null,null,null,"-",null,null,null,null,null,null,{"$f":"IF(OR((BH151=\"-\"),(ISNUMBER(BH151)=FALSE)),\"-\",ROUND(BA151/BH151,3))","v":"-"},null,null,null,null,null,null,"㊺",null,null,null,null,null,null,null,null,null,null,null,null,null,null,null,null,{"$f":"IF(OR(BH151=\"\",BH151=\"-\"),\"\",AF151)","v":""}]
[null,null,null,null,null,null,null,null,null,null,null,null,null,null,null,null,null,null,null,null,null,null,null,null,null,null,null,null,null,null,null,null,null,null,null,null,null,null,null,null,null,null,null,null,null,"(名称：",null,null,null,null,null,")",null,null,null,null,null,null,null,null,null,null,null,null,null,null,null,null,null,null,null,null,null,{"$f":"IF(OR((BO151=\"-\"),(ISNUMBER(BO151)=FALSE)),\"-\",ROUND(AM151*BO151,3))","v":"-"}]
[null,null,"細分類番号",null,null,null,null,null,null,null,null,null,null,null,null,null,null,null,null,null,null,null,null,null,null,null,null,null,null,null,null,null,null,null,null,null,null,null,null,null,null,null,null,null,null,"(単位：",null,null,null,null,null,")"]
[null,46,"工場等に係る\n事業の名称",null,null,null,null,null,null,{"$f":"IF(J156&L156&N156&P156=\"\",\"\",(IF(ISERROR(VLOOKUP(J156&L156&N156&P156,日本標準産業分類!A:B,2,FALSE)),\"該当の細分類がありません\",VLOOKUP(J156&L156&N156&P156,日本標準産業分類!A:B,2,FALSE))))","v":""},null,null,null,null,null,null,null,null,null,null,null,null,null,null,null,null,null,null,null,null,null,{"$f":"IF(R154=\"\",\"\",R154-Y154)","v":""},null,null,null,null,null,null,{"$f":"IF(AF154=\"\",\"\",IF($CM$379=0,\"\",IF(CM154=\"\",\"\",ROUND(AF154/$CM$379,3))))","v":""},null,null,null,null,null,null,null,null,null,null,null,null,null,{"$f":"IF(AT154=\"\",\"\",ROUND(AF154/AT154,3-INT(LOG(AF154/AT154))))","v":""},null,null,null,null,null,null,"-",null,null,null,null,null,null,{"$f":"IF(OR((BH154=\"-\"),(ISNUMBER(BH154)=FALSE)),\"-\",ROUND(BA154/BH154,3))","v":"-"},null,null,null,null,null,null,"㊻",null,null,null,null,null,null,null,null,null,null,null,null,null,null,null,null,{"$f":"IF(OR(BH154=\"\",BH154=\"-\"),\"\",AF154)","v":""}]
[null,null,null,null,null,null,null,null,null,null,null,null,null,null,null,null,null,null,null,null,null,null,null,null,null,null,null,null,null,null,null,null,null,null,null,null,null,null,null,null,null,null,null,null,null,"(名称：",null,null,null,null,null,")",null,null,null,null,null,null,null,null,null,null,null,null,null,null,null,null,null,null,null,null,null,{"$f":"IF(OR((BO154=\"-\"),(ISNUMBER(BO154)=FALSE)),\"-\",ROUND(AM154*BO154,3))","v":"-"}]
[null,null,"細分類番号",null,null,null,null,null,null,null,null,null,null,null,null,null,null,null,null,null,null,null,null,null,null,null,null,null,null,null,null,null,null,null,null,null,null,null,null,null,null,null,null,null,null,"(単位：",null,null,null,null,null,")"]
[null,47,"工場等に係る\n事業の名称",null,null,null,null,null,null,{"$f":"IF(J159&L159&N159&P159=\"\",\"\",(IF(ISERROR(VLOOKUP(J159&L159&N159&P159,日本標準産業分類!A:B,2,FALSE)),\"該当の細分類がありません\",VLOOKUP(J159&L159&N159&P159,日本標準産業分類!A:B,2,FALSE))))","v":""},null,null,null,null,null,null,null,null,null,null,null,null,null,null,null,null,null,null,null,null,null,{"$f":"IF(R157=\"\",\"\",R157-Y157)","v":""},null,null,null,null,null,null,{"$f":"IF(AF157=\"\",\"\",IF($CM$379=0,\"\",IF(CM157=\"\",\"\",ROUND(AF157/$CM$379,3))))","v":""},null,null,null,null,null,null,null,null,null,null,null,null,null,{"$f":"IF(AT157=\"\",\"\",ROUND(AF157/AT157,3-INT(LOG(AF157/AT157))))","v":""},null,null,null,null,null,null,"-",null,null,null,null,null,null,{"$f":"IF(OR((BH157=\"-\"),(ISNUMBER(BH157)=FALSE)),\"-\",ROUND(BA157/BH157,3))","v":"-"},null,null,null,null,null,null,"㊼",null,null,null,null,null,null,null,null,null,null,null,null,null,null,null,null,{"$f":"IF(OR(BH157=\"\",BH157=\"-\"),\"\",AF157)","v":""}]
[null,null,null,null,null,null,null,null,null,null,null,null,null,null,null,null,null,null,null,null,null,null,null,null,null,null,null,null,null,null,null,null,null,null,null,null,null,null,null,null,null,null,null,null,null,"(名称：",null,null,null,null,null,")",null,null,null,null,null,null,null,null,null,null,null,null,null,null,null,null,null,null,null,null,null,{"$f":"IF(OR((BO157=\"-\"),(ISNUMBER(BO157)=FALSE)),\"-\",ROUND(AM157*BO157,3))","v":"-"}]
[null,null,"細分類番号",null,null,null,null,null,null,null,null,null,null,null,null,null,null,null,null,null,null,null,null,null,null,null,null,null,null,null,null,null,null,null,null,null,null,null,null,null,null,null,null,null,null,"(単位：",null,null,null,null,null,")"]
[null,48,"工場等に係る\n事業の名称",null,null,null,null,null,null,{"$f":"IF(J162&L162&N162&P162=\"\",\"\",(IF(ISERROR(VLOOKUP(J162&L162&N162&P162,日本標準産業分類!A:B,2,FALSE)),\"該当の細分類がありません\",VLOOKUP(J162&L162&N162&P162,日本標準産業分類!A:B,2,FALSE))))","v":""},null,null,null,null,null,null,null,null,null,null,null,null,null,null,null,null,null,null,null,null,null,{"$f":"IF(R160=\"\",\"\",R160-Y160)","v":""},null,null,null,null,null,null,{"$f":"IF(AF160=\"\",\"\",IF($CM$379=0,\"\",IF(CM160=\"\",\"\",ROUND(AF160/$CM$379,3))))","v":""},null,null,null,null,null,null,null,null,null,null,null,null,null,{"$f":"IF(AT160=\"\",\"\",ROUND(AF160/AT160,3-INT(LOG(AF160/AT160))))","v":""},null,null,null,null,null,null,"-",null,null,null,null,null,null,{"$f":"IF(OR((BH160=\"-\"),(ISNUMBER(BH160)=FALSE)),\"-\",ROUND(BA160/BH160,3))","v":"-"},null,null,null,null,null,null,"㊽",null,null,null,null,null,null,null,null,null,null,null,null,null,null,null,null,{"$f":"IF(OR(BH160=\"\",BH160=\"-\"),\"\",AF160)","v":""}]
[null,null,null,null,null,null,null,null,null,null,null,null,null,null,null,null,null,null,null,null,null,null,null,null,null,null,null,null,null,null,null,null,null,null,null,null,null,null,null,null,null,null,null,null,null,"(名称：",null,null,null,null,null,")",null,null,null,null,null,null,null,null,null,null,null,null,null,null,null,null,null,null,null,null,null,{"$f":"IF(OR((BO160=\"-\"),(ISNUMBER(BO160)=FALSE)),\"-\",ROUND(AM160*BO160,3))","v":"-"}]
[null,null,"細分類番号",null,null,null,null,null,null,null,null,null,null,null,null,null,null,null,null,null,null,null,null,null,null,null,null,null,null,null,null,null,null,null,null,null,null,null,null,null,null,null,null,null,null,"(単位：",null,null,null,null,null,")"]
[null,49,"工場等に係る\n事業の名称",null,null,null,null,null,null,{"$f":"IF(J165&L165&N165&P165=\"\",\"\",(IF(ISERROR(VLOOKUP(J165&L165&N165&P165,日本標準産業分類!A:B,2,FALSE)),\"該当の細分類がありません\",VLOOKUP(J165&L165&N165&P165,日本標準産業分類!A:B,2,FALSE))))","v":""},null,null,null,null,null,null,null,null,null,null,null,null,null,null,null,null,null,null,null,null,null,{"$f":"IF(R163=\"\",\"\",R163-Y163)","v":""},null,null,null,null,null,null,{"$f":"IF(AF163=\"\",\"\",IF($CM$379=0,\"\",IF(CM163=\"\",\"\",ROUND(AF163/$CM$379,3))))","v":""},null,null,null,null,null,null,null,null,null,null,null,null,null,{"$f":"IF(AT163=\"\",\"\",ROUND(AF163/AT163,3-INT(LOG(AF163/AT163))))","v":""},null,null,null,null,null,null,"-",null,null,null,null,null,null,{"$f":"IF(OR((BH163=\"-\"),(ISNUMBER(BH163)=FALSE)),\"-\",ROUND(BA163/BH163,3))","v":"-"},null,null,null,null,null,null,"㊾",null,null,null,null,null,null,null,null,null,null,null,null,null,null,null,null,{"$f":"IF(OR(BH163=\"\",BH163=\"-\"),\"\",AF163)","v":""}]
[null,null,null,null,null,null,null,null,null,null,null,null,null,null,null,null,null,null,null,null,null,null,null,null,null,null,null,null,null,null,null,null,null,null,null,null,null,null,null,null,null,null,null,null,null,"(名称：",null,null,null,null,null,")",null,null,null,null,null,null,null,null,null,null,null,null,null,null,null,null,null,null,null,null,null,{"$f":"IF(OR((BO163=\"-\"),(ISNUMBER(BO163)=FALSE)),\"-\",ROUND(AM163*BO163,3))","v":"-"}]
[null,null,"細分類番号",null,null,null,null,null,null,null,null,null,null,null,null,null,null,null,null,null,null,null,null,null,null,null,null,null,null,null,null,null,null,null,null,null,null,null,null,null,null,null,null,null,null,"(単位：",null,null,null,null,null,")"]
[null,50,"工場等に係る\n事業の名称",null,null,null,null,null,null,{"$f":"IF(J168&L168&N168&P168=\"\",\"\",(IF(ISERROR(VLOOKUP(J168&L168&N168&P168,日本標準産業分類!A:B,2,FALSE)),\"該当の細分類がありません\",VLOOKUP(J168&L168&N168&P168,日本標準産業分類!A:B,2,FALSE))))","v":""},null,null,null,null,null,null,null,null,null,null,null,null,null,null,null,null,null,null,null,null,null,{"$f":"IF(R166=\"\",\"\",R166-Y166)","v":""},null,null,null,null,null,null,{"$f":"IF(AF166=\"\",\"\",IF($CM$379=0,\"\",IF(CM166=\"\",\"\",ROUND(AF166/$CM$379,3))))","v":""},null,null,null,null,null,null,null,null,null,null,null,null,null,{"$f":"IF(AT166=\"\",\"\",ROUND(AF166/AT166,3-INT(LOG(AF166/AT166))))","v":""},null,null,null,null,null,null,"-",null,null,null,null,null,null,{"$f":"IF(OR((BH166=\"-\"),(ISNUMBER(BH166)=FALSE)),\"-\",ROUND(BA166/BH166,3))","v":"-"},null,null,null,null,null,null,"㊿",null,null,null,null,null,null,null,null,null,null,null,null,null,null,null,null,{"$f":"IF(OR(BH166=\"\",BH166=\"-\"),\"\",AF166)","v":""}]
[null,null,null,null,null,null,null,null,null,null,null,null,null,null,null,null,null,null,null,null,null,null,null,null,null,null,null,null,null,null,null,null,null,null,null,null,null,null,null,null,null,null,null,null,null,"(名称：",null,null,null,null,null,")",null,null,null,null,null,null,null,null,null,null,null,null,null,null,null,null,null,null,null,null,null,{"$f":"IF(OR((BO166=\"-\"),(ISNUMBER(BO166)=FALSE)),\"-\",ROUND(AM166*BO166,3))","v":"-"}]
[null,null,"細分類番号",null,null,null,null,null,null,null,null,null,null,null,null,null,null,null,null,null,null,null,null,null,null,null,null,null,null,null,null,null,null,null,null,null,null,null,null,null,null,null,null,null,null,"(単位：",null,null,null,null,null,")"]
[null,51,"工場等に係る\n事業の名称",null,null,null,null,null,null,{"$f":"IF(J171&L171&N171&P171=\"\",\"\",(IF(ISERROR(VLOOKUP(J171&L171&N171&P171,日本標準産業分類!A:B,2,FALSE)),\"該当の細分類がありません\",VLOOKUP(J171&L171&N171&P171,日本標準産業分類!A:B,2,FALSE))))","v":""},null,null,null,null,null,null,null,null,null,null,null,null,null,null,null,null,null,null,null,null,null,{"$f":"IF(R169=\"\",\"\",R169-Y169)","v":""},null,null,null,null,null,null,{"$f":"IF(AF169=\"\",\"\",IF($CM$379=0,\"\",IF(CM169=\"\",\"\",ROUND(AF169/$CM$379,3))))","v":""},null,null,null,null,null,null,null,null,null,null,null,null,null,{"$f":"IF(AT169=\"\",\"\",ROUND(AF169/AT169,3-INT(LOG(AF169/AT169))))","v":""},null,null,null,null,null,null,"-",null,null,null,null,null,null,{"$f":"IF(OR((BH169=\"-\"),(ISNUMBER(BH169)=FALSE)),\"-\",ROUND(BA169/BH169,3))","v":"-"},null,null,null,null,null,null,null,null,null,null,null,null,null,null,null,null,null,null,null,null,null,null,null,{"$f":"IF(OR(BH169=\"\",BH169=\"-\"),\"\",AF169)","v":""}]
[null,null,null,null,null,null,null,null,null,null,null,null,null,null,null,null,null,null,null,null,null,null,null,null,null,null,null,null,null,null,null,null,null,null,null,null,null,null,null,null,null,null,null,null,null,"(名称：",null,null,null,null,null,")",null,null,null,null,null,null,null,null,null,null,null,null,null,null,null,null,null,null,null,null,null,{"$f":"IF(OR((BO169=\"-\"),(ISNUMBER(BO169)=FALSE)),\"-\",ROUND(AM169*BO169,3))","v":"-"}]
[null,null,"細分類番号",null,null,null,null,null,null,null,null,null,null,null,null,null,null,null,null,null,null,null,null,null,null,null,null,null,null,null,null,null,null,null,null,null,null,null,null,null,null,null,null,null,null,"(単位：",null,null,null,null,null,")"]
[null,52,"工場等に係る\n事業の名称",null,null,null,null,null,null,{"$f":"IF(J174&L174&N174&P174=\"\",\"\",(IF(ISERROR(VLOOKUP(J174&L174&N174&P174,日本標準産業分類!A:B,2,FALSE)),\"該当の細分類がありません\",VLOOKUP(J174&L174&N174&P174,日本標準産業分類!A:B,2,FALSE))))","v":""},null,null,null,null,null,null,null,null,null,null,null,null,null,null,null,null,null,null,null,null,null,{"$f":"IF(R172=\"\",\"\",R172-Y172)","v":""},null,null,null,null,null,null,{"$f":"IF(AF172=\"\",\"\",IF($CM$379=0,\"\",IF(CM172=\"\",\"\",ROUND(AF172/$CM$379,3))))","v":""},null,null,null,null,null,null,null,null,null,null,null,null,null,{"$f":"IF(AT172=\"\",\"\",ROUND(AF172/AT172,3-INT(LOG(AF172/AT172))))","v":""},null,null,null,null,null,null,"-",null,null,null,null,null,null,{"$f":"IF(OR((BH172=\"-\"),(ISNUMBER(BH172)=FALSE)),\"-\",ROUND(BA172/BH172,3))","v":"-"},null,null,null,null,null,null,null,null,null,null,null,null,null,null,null,null,null,null,null,null,null,null,null,{"$f":"IF(OR(BH172=\"\",BH172=\"-\"),\"\",AF172)","v":""}]
[null,null,null,null,null,null,null,null,null,null,null,null,null,null,null,null,null,null,null,null,null,null,null,null,null,null,null,null,null,null,null,null,null,null,null,null,null,null,null,null,null,null,null,null,null,"(名称：",null,null,null,null,null,")",null,null,null,null,null,null,null,null,null,null,null,null,null,null,null,null,null,null,null,null,null,{"$f":"IF(OR((BO172=\"-\"),(ISNUMBER(BO172)=FALSE)),\"-\",ROUND(AM172*BO172,3))","v":"-"}]
[null,null,"細分類番号",null,null,null,null,null,null,null,null,null,null,null,null,null,null,null,null,null,null,null,null,null,null,null,null,null,null,null,null,null,null,null,null,null,null,null,null,null,null,null,null,null,null,"(単位：",null,null,null,null,null,")"]
[null,53,"工場等に係る\n事業の名称",null,null,null,null,null,null,{"$f":"IF(J177&L177&N177&P177=\"\",\"\",(IF(ISERROR(VLOOKUP(J177&L177&N177&P177,日本標準産業分類!A:B,2,FALSE)),\"該当の細分類がありません\",VLOOKUP(J177&L177&N177&P177,日本標準産業分類!A:B,2,FALSE))))","v":""},null,null,null,null,null,null,null,null,null,null,null,null,null,null,null,null,null,null,null,null,null,{"$f":"IF(R175=\"\",\"\",R175-Y175)","v":""},null,null,null,null,null,null,{"$f":"IF(AF175=\"\",\"\",IF($CM$379=0,\"\",IF(CM175=\"\",\"\",ROUND(AF175/$CM$379,3))))","v":""},null,null,null,null,null,null,null,null,null,null,null,null,null,{"$f":"IF(AT175=\"\",\"\",ROUND(AF175/AT175,3-INT(LOG(AF175/AT175))))","v":""},null,null,null,null,null,null,"-",null,null,null,null,null,null,{"$f":"IF(OR((BH175=\"-\"),(ISNUMBER(BH175)=FALSE)),\"-\",ROUND(BA175/BH175,3))","v":"-"},null,null,null,null,null,null,null,null,null,null,null,null,null,null,null,null,null,null,null,null,null,null,null,{"$f":"IF(OR(BH175=\"\",BH175=\"-\"),\"\",AF175)","v":""}]
[null,null,null,null,null,null,null,null,null,null,null,null,null,null,null,null,null,null,null,null,null,null,null,null,null,null,null,null,null,null,null,null,null,null,null,null,null,null,null,null,null,null,null,null,null,"(名称：",null,null,null,null,null,")",null,null,null,null,null,null,null,null,null,null,null,null,null,null,null,null,null,null,null,null,null,{"$f":"IF(OR((BO175=\"-\"),(ISNUMBER(BO175)=FALSE)),\"-\",ROUND(AM175*BO175,3))","v":"-"}]
[null,null,"細分類番号",null,null,null,null,null,null,null,null,null,null,null,null,null,null,null,null,null,null,null,null,null,null,null,null,null,null,null,null,null,null,null,null,null,null,null,null,null,null,null,null,null,null,"(単位：",null,null,null,null,null,")"]
[null,54,"工場等に係る\n事業の名称",null,null,null,null,null,null,{"$f":"IF(J180&L180&N180&P180=\"\",\"\",(IF(ISERROR(VLOOKUP(J180&L180&N180&P180,日本標準産業分類!A:B,2,FALSE)),\"該当の細分類がありません\",VLOOKUP(J180&L180&N180&P180,日本標準産業分類!A:B,2,FALSE))))","v":""},null,null,null,null,null,null,null,null,null,null,null,null,null,null,null,null,null,null,null,null,null,{"$f":"IF(R178=\"\",\"\",R178-Y178)","v":""},null,null,null,null,null,null,{"$f":"IF(AF178=\"\",\"\",IF($CM$379=0,\"\",IF(CM178=\"\",\"\",ROUND(AF178/$CM$379,3))))","v":""},null,null,null,null,null,null,null,null,null,null,null,null,null,{"$f":"IF(AT178=\"\",\"\",ROUND(AF178/AT178,3-INT(LOG(AF178/AT178))))","v":""},null,null,null,null,null,null,"-",null,null,null,null,null,null,{"$f":"IF(OR((BH178=\"-\"),(ISNUMBER(BH178)=FALSE)),\"-\",ROUND(BA178/BH178,3))","v":"-"},null,null,null,null,null,null,null,null,null,null,null,null,null,null,null,null,null,null,null,null,null,null,null,{"$f":"IF(OR(BH178=\"\",BH178=\"-\"),\"\",AF178)","v":""}]
[null,null,null,null,null,null,null,null,null,null,null,null,null,null,null,null,null,null,null,null,null,null,null,null,null,null,null,null,null,null,null,null,null,null,null,null,null,null,null,null,null,null,null,null,null,"(名称：",null,null,null,null,null,")",null,null,null,null,null,null,null,null,null,null,null,null,null,null,null,null,null,null,null,null,null,{"$f":"IF(OR((BO178=\"-\"),(ISNUMBER(BO178)=FALSE)),\"-\",ROUND(AM178*BO178,3))","v":"-"}]
[null,null,"細分類番号",null,null,null,null,null,null,null,null,null,null,null,null,null,null,null,null,null,null,null,null,null,null,null,null,null,null,null,null,null,null,null,null,null,null,null,null,null,null,null,null,null,null,"(単位：",null,null,null,null,null,")"]
[null,55,"工場等に係る\n事業の名称",null,null,null,null,null,null,{"$f":"IF(J183&L183&N183&P183=\"\",\"\",(IF(ISERROR(VLOOKUP(J183&L183&N183&P183,日本標準産業分類!A:B,2,FALSE)),\"該当の細分類がありません\",VLOOKUP(J183&L183&N183&P183,日本標準産業分類!A:B,2,FALSE))))","v":""},null,null,null,null,null,null,null,null,null,null,null,null,null,null,null,null,null,null,null,null,null,{"$f":"IF(R181=\"\",\"\",R181-Y181)","v":""},null,null,null,null,null,null,{"$f":"IF(AF181=\"\",\"\",IF($CM$379=0,\"\",IF(CM181=\"\",\"\",ROUND(AF181/$CM$379,3))))","v":""},null,null,null,null,null,null,null,null,null,null,null,null,null,{"$f":"IF(AT181=\"\",\"\",ROUND(AF181/AT181,3-INT(LOG(AF181/AT181))))","v":""},null,null,null,null,null,null,"-",null,null,null,null,null,null,{"$f":"IF(OR((BH181=\"-\"),(ISNUMBER(BH181)=FALSE)),\"-\",ROUND(BA181/BH181,3))","v":"-"},null,null,null,null,null,null,null,null,null,null,null,null,null,null,null,null,null,null,null,null,null,null,null,{"$f":"IF(OR(BH181=\"\",BH181=\"-\"),\"\",AF181)","v":""}]
[null,null,null,null,null,null,null,null,null,null,null,null,null,null,null,null,null,null,null,null,null,null,null,null,null,null,null,null,null,null,null,null,null,null,null,null,null,null,null,null,null,null,null,null,null,"(名称：",null,null,null,null,null,")",null,null,null,null,null,null,null,null,null,null,null,null,null,null,null,null,null,null,null,null,null,{"$f":"IF(OR((BO181=\"-\"),(ISNUMBER(BO181)=FALSE)),\"-\",ROUND(AM181*BO181,3))","v":"-"}]
[null,null,"細分類番号",null,null,null,null,null,null,null,null,null,null,null,null,null,null,null,null,null,null,null,null,null,null,null,null,null,null,null,null,null,null,null,null,null,null,null,null,null,null,null,null,null,null,"(単位：",null,null,null,null,null,")"]
[null,56,"工場等に係る\n事業の名称",null,null,null,null,null,null,{"$f":"IF(J186&L186&N186&P186=\"\",\"\",(IF(ISERROR(VLOOKUP(J186&L186&N186&P186,日本標準産業分類!A:B,2,FALSE)),\"該当の細分類がありません\",VLOOKUP(J186&L186&N186&P186,日本標準産業分類!A:B,2,FALSE))))","v":""},null,null,null,null,null,null,null,null,null,null,null,null,null,null,null,null,null,null,null,null,null,{"$f":"IF(R184=\"\",\"\",R184-Y184)","v":""},null,null,null,null,null,null,{"$f":"IF(AF184=\"\",\"\",IF($CM$379=0,\"\",IF(CM184=\"\",\"\",ROUND(AF184/$CM$379,3))))","v":""},null,null,null,null,null,null,null,null,null,null,null,null,null,{"$f":"IF(AT184=\"\",\"\",ROUND(AF184/AT184,3-INT(LOG(AF184/AT184))))","v":""},null,null,null,null,null,null,"-",null,null,null,null,null,null,{"$f":"IF(OR((BH184=\"-\"),(ISNUMBER(BH184)=FALSE)),\"-\",ROUND(BA184/BH184,3))","v":"-"},null,null,null,null,null,null,null,null,null,null,null,null,null,null,null,null,null,null,null,null,null,null,null,{"$f":"IF(OR(BH184=\"\",BH184=\"-\"),\"\",AF184)","v":""}]
[null,null,null,null,null,null,null,null,null,null,null,null,null,null,null,null,null,null,null,null,null,null,null,null,null,null,null,null,null,null,null,null,null,null,null,null,null,null,null,null,null,null,null,null,null,"(名称：",null,null,null,null,null,")",null,null,null,null,null,null,null,null,null,null,null,null,null,null,null,null,null,null,null,null,null,{"$f":"IF(OR((BO184=\"-\"),(ISNUMBER(BO184)=FALSE)),\"-\",ROUND(AM184*BO184,3))","v":"-"}]
[null,null,"細分類番号",null,null,null,null,null,null,null,null,null,null,null,null,null,null,null,null,null,null,null,null,null,null,null,null,null,null,null,null,null,null,null,null,null,null,null,null,null,null,null,null,null,null,"(単位：",null,null,null,null,null,")"]
[null,57,"工場等に係る\n事業の名称",null,null,null,null,null,null,{"$f":"IF(J189&L189&N189&P189=\"\",\"\",(IF(ISERROR(VLOOKUP(J189&L189&N189&P189,日本標準産業分類!A:B,2,FALSE)),\"該当の細分類がありません\",VLOOKUP(J189&L189&N189&P189,日本標準産業分類!A:B,2,FALSE))))","v":""},null,null,null,null,null,null,null,null,null,null,null,null,null,null,null,null,null,null,null,null,null,{"$f":"IF(R187=\"\",\"\",R187-Y187)","v":""},null,null,null,null,null,null,{"$f":"IF(AF187=\"\",\"\",IF($CM$379=0,\"\",IF(CM187=\"\",\"\",ROUND(AF187/$CM$379,3))))","v":""},null,null,null,null,null,null,null,null,null,null,null,null,null,{"$f":"IF(AT187=\"\",\"\",ROUND(AF187/AT187,3-INT(LOG(AF187/AT187))))","v":""},null,null,null,null,null,null,"-",null,null,null,null,null,null,{"$f":"IF(OR((BH187=\"-\"),(ISNUMBER(BH187)=FALSE)),\"-\",ROUND(BA187/BH187,3))","v":"-"},null,null,null,null,null,null,null,null,null,null,null,null,null,null,null,null,null,null,null,null,null,null,null,{"$f":"IF(OR(BH187=\"\",BH187=\"-\"),\"\",AF187)","v":""}]
[null,null,null,null,null,null,null,null,null,null,null,null,null,null,null,null,null,null,null,null,null,null,null,null,null,null,null,null,null,null,null,null,null,null,null,null,null,null,null,null,null,null,null,null,null,"(名称：",null,null,null,null,null,")",null,null,null,null,null,null,null,null,null,null,null,null,null,null,null,null,null,null,null,null,null,{"$f":"IF(OR((BO187=\"-\"),(ISNUMBER(BO187)=FALSE)),\"-\",ROUND(AM187*BO187,3))","v":"-"}]
[null,null,"細分類番号",null,null,null,null,null,null,null,null,null,null,null,null,null,null,null,null,null,null,null,null,null,null,null,null,null,null,null,null,null,null,null,null,null,null,null,null,null,null,null,null,null,null,"(単位：",null,null,null,null,null,")"]
[null,58,"工場等に係る\n事業の名称",null,null,null,null,null,null,{"$f":"IF(J192&L192&N192&P192=\"\",\"\",(IF(ISERROR(VLOOKUP(J192&L192&N192&P192,日本標準産業分類!A:B,2,FALSE)),\"該当の細分類がありません\",VLOOKUP(J192&L192&N192&P192,日本標準産業分類!A:B,2,FALSE))))","v":""},null,null,null,null,null,null,null,null,null,null,null,null,null,null,null,null,null,null,null,null,null,{"$f":"IF(R190=\"\",\"\",R190-Y190)","v":""},null,null,null,null,null,null,{"$f":"IF(AF190=\"\",\"\",IF($CM$379=0,\"\",IF(CM190=\"\",\"\",ROUND(AF190/$CM$379,3))))","v":""},null,null,null,null,null,null,null,null,null,null,null,null,null,{"$f":"IF(AT190=\"\",\"\",ROUND(AF190/AT190,3-INT(LOG(AF190/AT190))))","v":""},null,null,null,null,null,null,"-",null,null,null,null,null,null,{"$f":"IF(OR((BH190=\"-\"),(ISNUMBER(BH190)=FALSE)),\"-\",ROUND(BA190/BH190,3))","v":"-"},null,null,null,null,null,null,null,null,null,null,null,null,null,null,null,null,null,null,null,null,null,null,null,{"$f":"IF(OR(BH190=\"\",BH190=\"-\"),\"\",AF190)","v":""}]
[null,null,null,null,null,null,null,null,null,null,null,null,null,null,null,null,null,null,null,null,null,null,null,null,null,null,null,null,null,null,null,null,null,null,null,null,null,null,null,null,null,null,null,null,null,"(名称：",null,null,null,null,null,")",null,null,null,null,null,null,null,null,null,null,null,null,null,null,null,null,null,null,null,null,null,{"$f":"IF(OR((BO190=\"-\"),(ISNUMBER(BO190)=FALSE)),\"-\",ROUND(AM190*BO190,3))","v":"-"}]
[null,null,"細分類番号",null,null,null,null,null,null,null,null,null,null,null,null,null,null,null,null,null,null,null,null,null,null,null,null,null,null,null,null,null,null,null,null,null,null,null,null,null,null,null,null,null,null,"(単位：",null,null,null,null,null,")"]
[null,59,"工場等に係る\n事業の名称",null,null,null,null,null,null,{"$f":"IF(J195&L195&N195&P195=\"\",\"\",(IF(ISERROR(VLOOKUP(J195&L195&N195&P195,日本標準産業分類!A:B,2,FALSE)),\"該当の細分類がありません\",VLOOKUP(J195&L195&N195&P195,日本標準産業分類!A:B,2,FALSE))))","v":""},null,null,null,null,null,null,null,null,null,null,null,null,null,null,null,null,null,null,null,null,null,{"$f":"IF(R193=\"\",\"\",R193-Y193)","v":""},null,null,null,null,null,null,{"$f":"IF(AF193=\"\",\"\",IF($CM$379=0,\"\",IF(CM193=\"\",\"\",ROUND(AF193/$CM$379,3))))","v":""},null,null,null,null,null,null,null,null,null,null,null,null,null,{"$f":"IF(AT193=\"\",\"\",ROUND(AF193/AT193,3-INT(LOG(AF193/AT193))))","v":""},null,null,null,null,null,null,"-",null,null,null,null,null,null,{"$f":"IF(OR((BH193=\"-\"),(ISNUMBER(BH193)=FALSE)),\"-\",ROUND(BA193/BH193,3))","v":"-"},null,null,null,null,null,null,null,null,null,null,null,null,null,null,null,null,null,null,null,null,null,null,null,{"$f":"IF(OR(BH193=\"\",BH193=\"-\"),\"\",AF193)","v":""}]
[null,null,null,null,null,null,null,null,null,null,null,null,null,null,null,null,null,null,null,null,null,null,null,null,null,null,null,null,null,null,null,null,null,null,null,null,null,null,null,null,null,null,null,null,null,"(名称：",null,null,null,null,null,")",null,null,null,null,null,null,null,null,null,null,null,null,null,null,null,null,null,null,null,null,null,{"$f":"IF(OR((BO193=\"-\"),(ISNUMBER(BO193)=FALSE)),\"-\",ROUND(AM193*BO193,3))","v":"-"}]
[null,null,"細分類番号",null,null,null,null,null,null,null,null,null,null,null,null,null,null,null,null,null,null,null,null,null,null,null,null,null,null,null,null,null,null,null,null,null,null,null,null,null,null,null,null,null,null,"(単位：",null,null,null,null,null,")"]
[null,60,"工場等に係る\n事業の名称",null,null,null,null,null,null,{"$f":"IF(J198&L198&N198&P198=\"\",\"\",(IF(ISERROR(VLOOKUP(J198&L198&N198&P198,日本標準産業分類!A:B,2,FALSE)),\"該当の細分類がありません\",VLOOKUP(J198&L198&N198&P198,日本標準産業分類!A:B,2,FALSE))))","v":""},null,null,null,null,null,null,null,null,null,null,null,null,null,null,null,null,null,null,null,null,null,{"$f":"IF(R196=\"\",\"\",R196-Y196)","v":""},null,null,null,null,null,null,{"$f":"IF(AF196=\"\",\"\",IF($CM$379=0,\"\",IF(CM196=\"\",\"\",ROUND(AF196/$CM$379,3))))","v":""},null,null,null,null,null,null,null,null,null,null,null,null,null,{"$f":"IF(AT196=\"\",\"\",ROUND(AF196/AT196,3-INT(LOG(AF196/AT196))))","v":""},null,null,null,null,null,null,"-",null,null,null,null,null,null,{"$f":"IF(OR((BH196=\"-\"),(ISNUMBER(BH196)=FALSE)),\"-\",ROUND(BA196/BH196,3))","v":"-"},null,null,null,null,null,null,null,null,null,null,null,null,null,null,null,null,null,null,null,null,null,null,null,{"$f":"IF(OR(BH196=\"\",BH196=\"-\"),\"\",AF196)","v":""}]
[null,null,null,null,null,null,null,null,null,null,null,null,null,null,null,null,null,null,null,null,null,null,null,null,null,null,null,null,null,null,null,null,null,null,null,null,null,null,null,null,null,null,null,null,null,"(名称：",null,null,null,null,null,")",null,null,null,null,null,null,null,null,null,null,null,null,null,null,null,null,null,null,null,null,null,{"$f":"IF(OR((BO196=\"-\"),(ISNUMBER(BO196)=FALSE)),\"-\",ROUND(AM196*BO196,3))","v":"-"}]
[null,null,"細分類番号",null,null,null,null,null,null,null,null,null,null,null,null,null,null,null,null,null,null,null,null,null,null,null,null,null,null,null,null,null,null,null,null,null,null,null,null,null,null,null,null,null,null,"(単位：",null,null,null,null,null,")"]
[null,61,"工場等に係る\n事業の名称",null,null,null,null,null,null,{"$f":"IF(J201&L201&N201&P201=\"\",\"\",(IF(ISERROR(VLOOKUP(J201&L201&N201&P201,日本標準産業分類!A:B,2,FALSE)),\"該当の細分類がありません\",VLOOKUP(J201&L201&N201&P201,日本標準産業分類!A:B,2,FALSE))))","v":""},null,null,null,null,null,null,null,null,null,null,null,null,null,null,null,null,null,null,null,null,null,{"$f":"IF(R199=\"\",\"\",R199-Y199)","v":""},null,null,null,null,null,null,{"$f":"IF(AF199=\"\",\"\",IF($CM$379=0,\"\",IF(CM199=\"\",\"\",ROUND(AF199/$CM$379,3))))","v":""},null,null,null,null,null,null,null,null,null,null,null,null,null,{"$f":"IF(AT199=\"\",\"\",ROUND(AF199/AT199,3-INT(LOG(AF199/AT199))))","v":""},null,null,null,null,null,null,"-",null,null,null,null,null,null,{"$f":"IF(OR((BH199=\"-\"),(ISNUMBER(BH199)=FALSE)),\"-\",ROUND(BA199/BH199,3))","v":"-"},null,null,null,null,null,null,null,null,null,null,null,null,null,null,null,null,null,null,null,null,null,null,null,{"$f":"IF(OR(BH199=\"\",BH199=\"-\"),\"\",AF199)","v":""}]
[null,null,null,null,null,null,null,null,null,null,null,null,null,null,null,null,null,null,null,null,null,null,null,null,null,null,null,null,null,null,null,null,null,null,null,null,null,null,null,null,null,null,null,null,null,"(名称：",null,null,null,null,null,")",null,null,null,null,null,null,null,null,null,null,null,null,null,null,null,null,null,null,null,null,null,{"$f":"IF(OR((BO199=\"-\"),(ISNUMBER(BO199)=FALSE)),\"-\",ROUND(AM199*BO199,3))","v":"-"}]
[null,null,"細分類番号",null,null,null,null,null,null,null,null,null,null,null,null,null,null,null,null,null,null,null,null,null,null,null,null,null,null,null,null,null,null,null,null,null,null,null,null,null,null,null,null,null,null,"(単位：",null,null,null,null,null,")"]
[null,62,"工場等に係る\n事業の名称",null,null,null,null,null,null,{"$f":"IF(J204&L204&N204&P204=\"\",\"\",(IF(ISERROR(VLOOKUP(J204&L204&N204&P204,日本標準産業分類!A:B,2,FALSE)),\"該当の細分類がありません\",VLOOKUP(J204&L204&N204&P204,日本標準産業分類!A:B,2,FALSE))))","v":""},null,null,null,null,null,null,null,null,null,null,null,null,null,null,null,null,null,null,null,null,null,{"$f":"IF(R202=\"\",\"\",R202-Y202)","v":""},null,null,null,null,null,null,{"$f":"IF(AF202=\"\",\"\",IF($CM$379=0,\"\",IF(CM202=\"\",\"\",ROUND(AF202/$CM$379,3))))","v":""},null,null,null,null,null,null,null,null,null,null,null,null,null,{"$f":"IF(AT202=\"\",\"\",ROUND(AF202/AT202,3-INT(LOG(AF202/AT202))))","v":""},null,null,null,null,null,null,"-",null,null,null,null,null,null,{"$f":"IF(OR((BH202=\"-\"),(ISNUMBER(BH202)=FALSE)),\"-\",ROUND(BA202/BH202,3))","v":"-"},null,null,null,null,null,null,null,null,null,null,null,null,null,null,null,null,null,null,null,null,null,null,null,{"$f":"IF(OR(BH202=\"\",BH202=\"-\"),\"\",AF202)","v":""}]
[null,null,null,null,null,null,null,null,null,null,null,null,null,null,null,null,null,null,null,null,null,null,null,null,null,null,null,null,null,null,null,null,null,null,null,null,null,null,null,null,null,null,null,null,null,"(名称：",null,null,null,null,null,")",null,null,null,null,null,null,null,null,null,null,null,null,null,null,null,null,null,null,null,null,null,{"$f":"IF(OR((BO202=\"-\"),(ISNUMBER(BO202)=FALSE)),\"-\",ROUND(AM202*BO202,3))","v":"-"}]
[null,null,"細分類番号",null,null,null,null,null,null,null,null,null,null,null,null,null,null,null,null,null,null,null,null,null,null,null,null,null,null,null,null,null,null,null,null,null,null,null,null,null,null,null,null,null,null,"(単位：",null,null,null,null,null,")"]
[null,63,"工場等に係る\n事業の名称",null,null,null,null,null,null,{"$f":"IF(J207&L207&N207&P207=\"\",\"\",(IF(ISERROR(VLOOKUP(J207&L207&N207&P207,日本標準産業分類!A:B,2,FALSE)),\"該当の細分類がありません\",VLOOKUP(J207&L207&N207&P207,日本標準産業分類!A:B,2,FALSE))))","v":""},null,null,null,null,null,null,null,null,null,null,null,null,null,null,null,null,null,null,null,null,null,{"$f":"IF(R205=\"\",\"\",R205-Y205)","v":""},null,null,null,null,null,null,{"$f":"IF(AF205=\"\",\"\",IF($CM$379=0,\"\",IF(CM205=\"\",\"\",ROUND(AF205/$CM$379,3))))","v":""},null,null,null,null,null,null,null,null,null,null,null,null,null,{"$f":"IF(AT205=\"\",\"\",ROUND(AF205/AT205,3-INT(LOG(AF205/AT205))))","v":""},null,null,null,null,null,null,"-",null,null,null,null,null,null,{"$f":"IF(OR((BH205=\"-\"),(ISNUMBER(BH205)=FALSE)),\"-\",ROUND(BA205/BH205,3))","v":"-"},null,null,null,null,null,null,null,null,null,null,null,null,null,null,null,null,null,null,null,null,null,null,null,{"$f":"IF(OR(BH205=\"\",BH205=\"-\"),\"\",AF205)","v":""}]
[null,null,null,null,null,null,null,null,null,null,null,null,null,null,null,null,null,null,null,null,null,null,null,null,null,null,null,null,null,null,null,null,null,null,null,null,null,null,null,null,null,null,null,null,null,"(名称：",null,null,null,null,null,")",null,null,null,null,null,null,null,null,null,null,null,null,null,null,null,null,null,null,null,null,null,{"$f":"IF(OR((BO205=\"-\"),(ISNUMBER(BO205)=FALSE)),\"-\",ROUND(AM205*BO205,3))","v":"-"}]
[null,null,"細分類番号",null,null,null,null,null,null,null,null,null,null,null,null,null,null,null,null,null,null,null,null,null,null,null,null,null,null,null,null,null,null,null,null,null,null,null,null,null,null,null,null,null,null,"(単位：",null,null,null,null,null,")"]
[null,64,"工場等に係る\n事業の名称",null,null,null,null,null,null,{"$f":"IF(J210&L210&N210&P210=\"\",\"\",(IF(ISERROR(VLOOKUP(J210&L210&N210&P210,日本標準産業分類!A:B,2,FALSE)),\"該当の細分類がありません\",VLOOKUP(J210&L210&N210&P210,日本標準産業分類!A:B,2,FALSE))))","v":""},null,null,null,null,null,null,null,null,null,null,null,null,null,null,null,null,null,null,null,null,null,{"$f":"IF(R208=\"\",\"\",R208-Y208)","v":""},null,null,null,null,null,null,{"$f":"IF(AF208=\"\",\"\",IF($CM$379=0,\"\",IF(CM208=\"\",\"\",ROUND(AF208/$CM$379,3))))","v":""},null,null,null,null,null,null,null,null,null,null,null,null,null,{"$f":"IF(AT208=\"\",\"\",ROUND(AF208/AT208,3-INT(LOG(AF208/AT208))))","v":""},null,null,null,null,null,null,"-",null,null,null,null,null,null,{"$f":"IF(OR((BH208=\"-\"),(ISNUMBER(BH208)=FALSE)),\"-\",ROUND(BA208/BH208,3))","v":"-"},null,null,null,null,null,null,null,null,null,null,null,null,null,null,null,null,null,null,null,null,null,null,null,{"$f":"IF(OR(BH208=\"\",BH208=\"-\"),\"\",AF208)","v":""}]
[null,null,null,null,null,null,null,null,null,null,null,null,null,null,null,null,null,null,null,null,null,null,null,null,null,null,null,null,null,null,null,null,null,null,null,null,null,null,null,null,null,null,null,null,null,"(名称：",null,null,null,null,null,")",null,null,null,null,null,null,null,null,null,null,null,null,null,null,null,null,null,null,null,null,null,{"$f":"IF(OR((BO208=\"-\"),(ISNUMBER(BO208)=FALSE)),\"-\",ROUND(AM208*BO208,3))","v":"-"}]
[null,null,"細分類番号",null,null,null,null,null,null,null,null,null,null,null,null,null,null,null,null,null,null,null,null,null,null,null,null,null,null,null,null,null,null,null,null,null,null,null,null,null,null,null,null,null,null,"(単位：",null,null,null,null,null,")"]
[null,65,"工場等に係る\n事業の名称",null,null,null,null,null,null,{"$f":"IF(J213&L213&N213&P213=\"\",\"\",(IF(ISERROR(VLOOKUP(J213&L213&N213&P213,日本標準産業分類!A:B,2,FALSE)),\"該当の細分類がありません\",VLOOKUP(J213&L213&N213&P213,日本標準産業分類!A:B,2,FALSE))))","v":""},null,null,null,null,null,null,null,null,null,null,null,null,null,null,null,null,null,null,null,null,null,{"$f":"IF(R211=\"\",\"\",R211-Y211)","v":""},null,null,null,null,null,null,{"$f":"IF(AF211=\"\",\"\",IF($CM$379=0,\"\",IF(CM211=\"\",\"\",ROUND(AF211/$CM$379,3))))","v":""},null,null,null,null,null,null,null,null,null,null,null,null,null,{"$f":"IF(AT211=\"\",\"\",ROUND(AF211/AT211,3-INT(LOG(AF211/AT211))))","v":""},null,null,null,null,null,null,"-",null,null,null,null,null,null,{"$f":"IF(OR((BH211=\"-\"),(ISNUMBER(BH211)=FALSE)),\"-\",ROUND(BA211/BH211,3))","v":"-"},null,null,null,null,null,null,null,null,null,null,null,null,null,null,null,null,null,null,null,null,null,null,null,{"$f":"IF(OR(BH211=\"\",BH211=\"-\"),\"\",AF211)","v":""}]
[null,null,null,null,null,null,null,null,null,null,null,null,null,null,null,null,null,null,null,null,null,null,null,null,null,null,null,null,null,null,null,null,null,null,null,null,null,null,null,null,null,null,null,null,null,"(名称：",null,null,null,null,null,")",null,null,null,null,null,null,null,null,null,null,null,null,null,null,null,null,null,null,null,null,null,{"$f":"IF(OR((BO211=\"-\"),(ISNUMBER(BO211)=FALSE)),\"-\",ROUND(AM211*BO211,3))","v":"-"}]
[null,null,"細分類番号",null,null,null,null,null,null,null,null,null,null,null,null,null,null,null,null,null,null,null,null,null,null,null,null,null,null,null,null,null,null,null,null,null,null,null,null,null,null,null,null,null,null,"(単位：",null,null,null,null,null,")"]
[null,66,"工場等に係る\n事業の名称",null,null,null,null,null,null,{"$f":"IF(J216&L216&N216&P216=\"\",\"\",(IF(ISERROR(VLOOKUP(J216&L216&N216&P216,日本標準産業分類!A:B,2,FALSE)),\"該当の細分類がありません\",VLOOKUP(J216&L216&N216&P216,日本標準産業分類!A:B,2,FALSE))))","v":""},null,null,null,null,null,null,null,null,null,null,null,null,null,null,null,null,null,null,null,null,null,{"$f":"IF(R214=\"\",\"\",R214-Y214)","v":""},null,null,null,null,null,null,{"$f":"IF(AF214=\"\",\"\",IF($CM$379=0,\"\",IF(CM214=\"\",\"\",ROUND(AF214/$CM$379,3))))","v":""},null,null,null,null,null,null,null,null,null,null,null,null,null,{"$f":"IF(AT214=\"\",\"\",ROUND(AF214/AT214,3-INT(LOG(AF214/AT214))))","v":""},null,null,null,null,null,null,"-",null,null,null,null,null,null,{"$f":"IF(OR((BH214=\"-\"),(ISNUMBER(BH214)=FALSE)),\"-\",ROUND(BA214/BH214,3))","v":"-"},null,null,null,null,null,null,null,null,null,null,null,null,null,null,null,null,null,null,null,null,null,null,null,{"$f":"IF(OR(BH214=\"\",BH214=\"-\"),\"\",AF214)","v":""}]
[null,null,null,null,null,null,null,null,null,null,null,null,null,null,null,null,null,null,null,null,null,null,null,null,null,null,null,null,null,null,null,null,null,null,null,null,null,null,null,null,null,null,null,null,null,"(名称：",null,null,null,null,null,")",null,null,null,null,null,null,null,null,null,null,null,null,null,null,null,null,null,null,null,null,null,{"$f":"IF(OR((BO214=\"-\"),(ISNUMBER(BO214)=FALSE)),\"-\",ROUND(AM214*BO214,3))","v":"-"}]
[null,null,"細分類番号",null,null,null,null,null,null,null,null,null,null,null,null,null,null,null,null,null,null,null,null,null,null,null,null,null,null,null,null,null,null,null,null,null,null,null,null,null,null,null,null,null,null,"(単位：",null,null,null,null,null,")"]
[null,67,"工場等に係る\n事業の名称",null,null,null,null,null,null,{"$f":"IF(J219&L219&N219&P219=\"\",\"\",(IF(ISERROR(VLOOKUP(J219&L219&N219&P219,日本標準産業分類!A:B,2,FALSE)),\"該当の細分類がありません\",VLOOKUP(J219&L219&N219&P219,日本標準産業分類!A:B,2,FALSE))))","v":""},null,null,null,null,null,null,null,null,null,null,null,null,null,null,null,null,null,null,null,null,null,{"$f":"IF(R217=\"\",\"\",R217-Y217)","v":""},null,null,null,null,null,null,{"$f":"IF(AF217=\"\",\"\",IF($CM$379=0,\"\",IF(CM217=\"\",\"\",ROUND(AF217/$CM$379,3))))","v":""},null,null,null,null,null,null,null,null,null,null,null,null,null,{"$f":"IF(AT217=\"\",\"\",ROUND(AF217/AT217,3-INT(LOG(AF217/AT217))))","v":""},null,null,null,null,null,null,"-",null,null,null,null,null,null,{"$f":"IF(OR((BH217=\"-\"),(ISNUMBER(BH217)=FALSE)),\"-\",ROUND(BA217/BH217,3))","v":"-"},null,null,null,null,null,null,null,null,null,null,null,null,null,null,null,null,null,null,null,null,null,null,null,{"$f":"IF(OR(BH217=\"\",BH217=\"-\"),\"\",AF217)","v":""}]
[null,null,null,null,null,null,null,null,null,null,null,null,null,null,null,null,null,null,null,null,null,null,null,null,null,null,null,null,null,null,null,null,null,null,null,null,null,null,null,null,null,null,null,null,null,"(名称：",null,null,null,null,null,")",null,null,null,null,null,null,null,null,null,null,null,null,null,null,null,null,null,null,null,null,null,{"$f":"IF(OR((BO217=\"-\"),(ISNUMBER(BO217)=FALSE)),\"-\",ROUND(AM217*BO217,3))","v":"-"}]
[null,null,"細分類番号",null,null,null,null,null,null,null,null,null,null,null,null,null,null,null,null,null,null,null,null,null,null,null,null,null,null,null,null,null,null,null,null,null,null,null,null,null,null,null,null,null,null,"(単位：",null,null,null,null,null,")"]
[null,68,"工場等に係る\n事業の名称",null,null,null,null,null,null,{"$f":"IF(J222&L222&N222&P222=\"\",\"\",(IF(ISERROR(VLOOKUP(J222&L222&N222&P222,日本標準産業分類!A:B,2,FALSE)),\"該当の細分類がありません\",VLOOKUP(J222&L222&N222&P222,日本標準産業分類!A:B,2,FALSE))))","v":""},null,null,null,null,null,null,null,null,null,null,null,null,null,null,null,null,null,null,null,null,null,{"$f":"IF(R220=\"\",\"\",R220-Y220)","v":""},null,null,null,null,null,null,{"$f":"IF(AF220=\"\",\"\",IF($CM$379=0,\"\",IF(CM220=\"\",\"\",ROUND(AF220/$CM$379,3))))","v":""},null,null,null,null,null,null,null,null,null,null,null,null,null,{"$f":"IF(AT220=\"\",\"\",ROUND(AF220/AT220,3-INT(LOG(AF220/AT220))))","v":""},null,null,null,null,null,null,"-",null,null,null,null,null,null,{"$f":"IF(OR((BH220=\"-\"),(ISNUMBER(BH220)=FALSE)),\"-\",ROUND(BA220/BH220,3))","v":"-"},null,null,null,null,null,null,null,null,null,null,null,null,null,null,null,null,null,null,null,null,null,null,null,{"$f":"IF(OR(BH220=\"\",BH220=\"-\"),\"\",AF220)","v":""}]
[null,null,null,null,null,null,null,null,null,null,null,null,null,null,null,null,null,null,null,null,null,null,null,null,null,null,null,null,null,null,null,null,null,null,null,null,null,null,null,null,null,null,null,null,null,"(名称：",null,null,null,null,null,")",null,null,null,null,null,null,null,null,null,null,null,null,null,null,null,null,null,null,null,null,null,{"$f":"IF(OR((BO220=\"-\"),(ISNUMBER(BO220)=FALSE)),\"-\",ROUND(AM220*BO220,3))","v":"-"}]
[null,null,"細分類番号",null,null,null,null,null,null,null,null,null,null,null,null,null,null,null,null,null,null,null,null,null,null,null,null,null,null,null,null,null,null,null,null,null,null,null,null,null,null,null,null,null,null,"(単位：",null,null,null,null,null,")"]
[null,69,"工場等に係る\n事業の名称",null,null,null,null,null,null,{"$f":"IF(J225&L225&N225&P225=\"\",\"\",(IF(ISERROR(VLOOKUP(J225&L225&N225&P225,日本標準産業分類!A:B,2,FALSE)),\"該当の細分類がありません\",VLOOKUP(J225&L225&N225&P225,日本標準産業分類!A:B,2,FALSE))))","v":""},null,null,null,null,null,null,null,null,null,null,null,null,null,null,null,null,null,null,null,null,null,{"$f":"IF(R223=\"\",\"\",R223-Y223)","v":""},null,null,null,null,null,null,{"$f":"IF(AF223=\"\",\"\",IF($CM$379=0,\"\",IF(CM223=\"\",\"\",ROUND(AF223/$CM$379,3))))","v":""},null,null,null,null,null,null,null,null,null,null,null,null,null,{"$f":"IF(AT223=\"\",\"\",ROUND(AF223/AT223,3-INT(LOG(AF223/AT223))))","v":""},null,null,null,null,null,null,"-",null,null,null,null,null,null,{"$f":"IF(OR((BH223=\"-\"),(ISNUMBER(BH223)=FALSE)),\"-\",ROUND(BA223/BH223,3))","v":"-"},null,null,null,null,null,null,null,null,null,null,null,null,null,null,null,null,null,null,null,null,null,null,null,{"$f":"IF(OR(BH223=\"\",BH223=\"-\"),\"\",AF223)","v":""}]
[null,null,null,null,null,null,null,null,null,null,null,null,null,null,null,null,null,null,null,null,null,null,null,null,null,null,null,null,null,null,null,null,null,null,null,null,null,null,null,null,null,null,null,null,null,"(名称：",null,null,null,null,null,")",null,null,null,null,null,null,null,null,null,null,null,null,null,null,null,null,null,null,null,null,null,{"$f":"IF(OR((BO223=\"-\"),(ISNUMBER(BO223)=FALSE)),\"-\",ROUND(AM223*BO223,3))","v":"-"}]
[null,null,"細分類番号",null,null,null,null,null,null,null,null,null,null,null,null,null,null,null,null,null,null,null,null,null,null,null,null,null,null,null,null,null,null,null,null,null,null,null,null,null,null,null,null,null,null,"(単位：",null,null,null,null,null,")"]
[null,70,"工場等に係る\n事業の名称",null,null,null,null,null,null,{"$f":"IF(J228&L228&N228&P228=\"\",\"\",(IF(ISERROR(VLOOKUP(J228&L228&N228&P228,日本標準産業分類!A:B,2,FALSE)),\"該当の細分類がありません\",VLOOKUP(J228&L228&N228&P228,日本標準産業分類!A:B,2,FALSE))))","v":""},null,null,null,null,null,null,null,null,null,null,null,null,null,null,null,null,null,null,null,null,null,{"$f":"IF(R226=\"\",\"\",R226-Y226)","v":""},null,null,null,null,null,null,{"$f":"IF(AF226=\"\",\"\",IF($CM$379=0,\"\",IF(CM226=\"\",\"\",ROUND(AF226/$CM$379,3))))","v":""},null,null,null,null,null,null,null,null,null,null,null,null,null,{"$f":"IF(AT226=\"\",\"\",ROUND(AF226/AT226,3-INT(LOG(AF226/AT226))))","v":""},null,null,null,null,null,null,"-",null,null,null,null,null,null,{"$f":"IF(OR((BH226=\"-\"),(ISNUMBER(BH226)=FALSE)),\"-\",ROUND(BA226/BH226,3))","v":"-"},null,null,null,null,null,null,null,null,null,null,null,null,null,null,null,null,null,null,null,null,null,null,null,{"$f":"IF(OR(BH226=\"\",BH226=\"-\"),\"\",AF226)","v":""}]
[null,null,null,null,null,null,null,null,null,null,null,null,null,null,null,null,null,null,null,null,null,null,null,null,null,null,null,null,null,null,null,null,null,null,null,null,null,null,null,null,null,null,null,null,null,"(名称：",null,null,null,null,null,")",null,null,null,null,null,null,null,null,null,null,null,null,null,null,null,null,null,null,null,null,null,{"$f":"IF(OR((BO226=\"-\"),(ISNUMBER(BO226)=FALSE)),\"-\",ROUND(AM226*BO226,3))","v":"-"}]
[null,null,"細分類番号",null,null,null,null,null,null,null,null,null,null,null,null,null,null,null,null,null,null,null,null,null,null,null,null,null,null,null,null,null,null,null,null,null,null,null,null,null,null,null,null,null,null,"(単位：",null,null,null,null,null,")"]
[null,71,"工場等に係る\n事業の名称",null,null,null,null,null,null,{"$f":"IF(J231&L231&N231&P231=\"\",\"\",(IF(ISERROR(VLOOKUP(J231&L231&N231&P231,日本標準産業分類!A:B,2,FALSE)),\"該当の細分類がありません\",VLOOKUP(J231&L231&N231&P231,日本標準産業分類!A:B,2,FALSE))))","v":""},null,null,null,null,null,null,null,null,null,null,null,null,null,null,null,null,null,null,null,null,null,{"$f":"IF(R229=\"\",\"\",R229-Y229)","v":""},null,null,null,null,null,null,{"$f":"IF(AF229=\"\",\"\",IF($CM$379=0,\"\",IF(CM229=\"\",\"\",ROUND(AF229/$CM$379,3))))","v":""},null,null,null,null,null,null,null,null,null,null,null,null,null,{"$f":"IF(AT229=\"\",\"\",ROUND(AF229/AT229,3-INT(LOG(AF229/AT229))))","v":""},null,null,null,null,null,null,"-",null,null,null,null,null,null,{"$f":"IF(OR((BH229=\"-\"),(ISNUMBER(BH229)=FALSE)),\"-\",ROUND(BA229/BH229,3))","v":"-"},null,null,null,null,null,null,null,null,null,null,null,null,null,null,null,null,null,null,null,null,null,null,null,{"$f":"IF(OR(BH229=\"\",BH229=\"-\"),\"\",AF229)","v":""}]
[null,null,null,null,null,null,null,null,null,null,null,null,null,null,null,null,null,null,null,null,null,null,null,null,null,null,null,null,null,null,null,null,null,null,null,null,null,null,null,null,null,null,null,null,null,"(名称：",null,null,null,null,null,")",null,null,null,null,null,null,null,null,null,null,null,null,null,null,null,null,null,null,null,null,null,{"$f":"IF(OR((BO229=\"-\"),(ISNUMBER(BO229)=FALSE)),\"-\",ROUND(AM229*BO229,3))","v":"-"}]
[null,null,"細分類番号",null,null,null,null,null,null,null,null,null,null,null,null,null,null,null,null,null,null,null,null,null,null,null,null,null,null,null,null,null,null,null,null,null,null,null,null,null,null,null,null,null,null,"(単位：",null,null,null,null,null,")"]
[null,72,"工場等に係る\n事業の名称",null,null,null,null,null,null,{"$f":"IF(J234&L234&N234&P234=\"\",\"\",(IF(ISERROR(VLOOKUP(J234&L234&N234&P234,日本標準産業分類!A:B,2,FALSE)),\"該当の細分類がありません\",VLOOKUP(J234&L234&N234&P234,日本標準産業分類!A:B,2,FALSE))))","v":""},null,null,null,null,null,null,null,null,null,null,null,null,null,null,null,null,null,null,null,null,null,{"$f":"IF(R232=\"\",\"\",R232-Y232)","v":""},null,null,null,null,null,null,{"$f":"IF(AF232=\"\",\"\",IF($CM$379=0,\"\",IF(CM232=\"\",\"\",ROUND(AF232/$CM$379,3))))","v":""},null,null,null,null,null,null,null,null,null,null,null,null,null,{"$f":"IF(AT232=\"\",\"\",ROUND(AF232/AT232,3-INT(LOG(AF232/AT232))))","v":""},null,null,null,null,null,null,"-",null,null,null,null,null,null,{"$f":"IF(OR((BH232=\"-\"),(ISNUMBER(BH232)=FALSE)),\"-\",ROUND(BA232/BH232,3))","v":"-"},null,null,null,null,null,null,null,null,null,null,null,null,null,null,null,null,null,null,null,null,null,null,null,{"$f":"IF(OR(BH232=\"\",BH232=\"-\"),\"\",AF232)","v":""}]
[null,null,null,null,null,null,null,null,null,null,null,null,null,null,null,null,null,null,null,null,null,null,null,null,null,null,null,null,null,null,null,null,null,null,null,null,null,null,null,null,null,null,null,null,null,"(名称：",null,null,null,null,null,")",null,null,null,null,null,null,null,null,null,null,null,null,null,null,null,null,null,null,null,null,null,{"$f":"IF(OR((BO232=\"-\"),(ISNUMBER(BO232)=FALSE)),\"-\",ROUND(AM232*BO232,3))","v":"-"}]
[null,null,"細分類番号",null,null,null,null,null,null,null,null,null,null,null,null,null,null,null,null,null,null,null,null,null,null,null,null,null,null,null,null,null,null,null,null,null,null,null,null,null,null,null,null,null,null,"(単位：",null,null,null,null,null,")"]
[null,73,"工場等に係る\n事業の名称",null,null,null,null,null,null,{"$f":"IF(J237&L237&N237&P237=\"\",\"\",(IF(ISERROR(VLOOKUP(J237&L237&N237&P237,日本標準産業分類!A:B,2,FALSE)),\"該当の細分類がありません\",VLOOKUP(J237&L237&N237&P237,日本標準産業分類!A:B,2,FALSE))))","v":""},null,null,null,null,null,null,null,null,null,null,null,null,null,null,null,null,null,null,null,null,null,{"$f":"IF(R235=\"\",\"\",R235-Y235)","v":""},null,null,null,null,null,null,{"$f":"IF(AF235=\"\",\"\",IF($CM$379=0,\"\",IF(CM235=\"\",\"\",ROUND(AF235/$CM$379,3))))","v":""},null,null,null,null,null,null,null,null,null,null,null,null,null,{"$f":"IF(AT235=\"\",\"\",ROUND(AF235/AT235,3-INT(LOG(AF235/AT235))))","v":""},null,null,null,null,null,null,"-",null,null,null,null,null,null,{"$f":"IF(OR((BH235=\"-\"),(ISNUMBER(BH235)=FALSE)),\"-\",ROUND(BA235/BH235,3))","v":"-"},null,null,null,null,null,null,null,null,null,null,null,null,null,null,null,null,null,null,null,null,null,null,null,{"$f":"IF(OR(BH235=\"\",BH235=\"-\"),\"\",AF235)","v":""}]
[null,null,null,null,null,null,null,null,null,null,null,null,null,null,null,null,null,null,null,null,null,null,null,null,null,null,null,null,null,null,null,null,null,null,null,null,null,null,null,null,null,null,null,null,null,"(名称：",null,null,null,null,null,")",null,null,null,null,null,null,null,null,null,null,null,null,null,null,null,null,null,null,null,null,null,{"$f":"IF(OR((BO235=\"-\"),(ISNUMBER(BO235)=FALSE)),\"-\",ROUND(AM235*BO235,3))","v":"-"}]
[null,null,"細分類番号",null,null,null,null,null,null,null,null,null,null,null,null,null,null,null,null,null,null,null,null,null,null,null,null,null,null,null,null,null,null,null,null,null,null,null,null,null,null,null,null,null,null,"(単位：",null,null,null,null,null,")"]
[null,74,"工場等に係る\n事業の名称",null,null,null,null,null,null,{"$f":"IF(J240&L240&N240&P240=\"\",\"\",(IF(ISERROR(VLOOKUP(J240&L240&N240&P240,日本標準産業分類!A:B,2,FALSE)),\"該当の細分類がありません\",VLOOKUP(J240&L240&N240&P240,日本標準産業分類!A:B,2,FALSE))))","v":""},null,null,null,null,null,null,null,null,null,null,null,null,null,null,null,null,null,null,null,null,null,{"$f":"IF(R238=\"\",\"\",R238-Y238)","v":""},null,null,null,null,null,null,{"$f":"IF(AF238=\"\",\"\",IF($CM$379=0,\"\",IF(CM238=\"\",\"\",ROUND(AF238/$CM$379,3))))","v":""},null,null,null,null,null,null,null,null,null,null,null,null,null,{"$f":"IF(AT238=\"\",\"\",ROUND(AF238/AT238,3-INT(LOG(AF238/AT238))))","v":""},null,null,null,null,null,null,"-",null,null,null,null,null,null,{"$f":"IF(OR((BH238=\"-\"),(ISNUMBER(BH238)=FALSE)),\"-\",ROUND(BA238/BH238,3))","v":"-"},null,null,null,null,null,null,null,null,null,null,null,null,null,null,null,null,null,null,null,null,null,null,null,{"$f":"IF(OR(BH238=\"\",BH238=\"-\"),\"\",AF238)","v":""}]
[null,null,null,null,null,null,null,null,null,null,null,null,null,null,null,null,null,null,null,null,null,null,null,null,null,null,null,null,null,null,null,null,null,null,null,null,null,null,null,null,null,null,null,null,null,"(名称：",null,null,null,null,null,")",null,null,null,null,null,null,null,null,null,null,null,null,null,null,null,null,null,null,null,null,null,{"$f":"IF(OR((BO238=\"-\"),(ISNUMBER(BO238)=FALSE)),\"-\",ROUND(AM238*BO238,3))","v":"-"}]
[null,null,"細分類番号",null,null,null,null,null,null,null,null,null,null,null,null,null,null,null,null,null,null,null,null,null,null,null,null,null,null,null,null,null,null,null,null,null,null,null,null,null,null,null,null,null,null,"(単位：",null,null,null,null,null,")"]
[null,75,"工場等に係る\n事業の名称",null,null,null,null,null,null,{"$f":"IF(J243&L243&N243&P243=\"\",\"\",(IF(ISERROR(VLOOKUP(J243&L243&N243&P243,日本標準産業分類!A:B,2,FALSE)),\"該当の細分類がありません\",VLOOKUP(J243&L243&N243&P243,日本標準産業分類!A:B,2,FALSE))))","v":""},null,null,null,null,null,null,null,null,null,null,null,null,null,null,null,null,null,null,null,null,null,{"$f":"IF(R241=\"\",\"\",R241-Y241)","v":""},null,null,null,null,null,null,{"$f":"IF(AF241=\"\",\"\",IF($CM$379=0,\"\",IF(CM241=\"\",\"\",ROUND(AF241/$CM$379,3))))","v":""},null,null,null,null,null,null,null,null,null,null,null,null,null,{"$f":"IF(AT241=\"\",\"\",ROUND(AF241/AT241,3-INT(LOG(AF241/AT241))))","v":""},null,null,null,null,null,null,"-",null,null,null,null,null,null,{"$f":"IF(OR((BH241=\"-\"),(ISNUMBER(BH241)=FALSE)),\"-\",ROUND(BA241/BH241,3))","v":"-"},null,null,null,null,null,null,null,null,null,null,null,null,null,null,null,null,null,null,null,null,null,null,null,{"$f":"IF(OR(BH241=\"\",BH241=\"-\"),\"\",AF241)","v":""}]
[null,null,null,null,null,null,null,null,null,null,null,null,null,null,null,null,null,null,null,null,null,null,null,null,null,null,null,null,null,null,null,null,null,null,null,null,null,null,null,null,null,null,null,null,null,"(名称：",null,null,null,null,null,")",null,null,null,null,null,null,null,null,null,null,null,null,null,null,null,null,null,null,null,null,null,{"$f":"IF(OR((BO241=\"-\"),(ISNUMBER(BO241)=FALSE)),\"-\",ROUND(AM241*BO241,3))","v":"-"}]
[null,null,"細分類番号",null,null,null,null,null,null,null,null,null,null,null,null,null,null,null,null,null,null,null,null,null,null,null,null,null,null,null,null,null,null,null,null,null,null,null,null,null,null,null,null,null,null,"(単位：",null,null,null,null,null,")"]
[null,76,"工場等に係る\n事業の名称",null,null,null,null,null,null,{"$f":"IF(J246&L246&N246&P246=\"\",\"\",(IF(ISERROR(VLOOKUP(J246&L246&N246&P246,日本標準産業分類!A:B,2,FALSE)),\"該当の細分類がありません\",VLOOKUP(J246&L246&N246&P246,日本標準産業分類!A:B,2,FALSE))))","v":""},null,null,null,null,null,null,null,null,null,null,null,null,null,null,null,null,null,null,null,null,null,{"$f":"IF(R244=\"\",\"\",R244-Y244)","v":""},null,null,null,null,null,null,{"$f":"IF(AF244=\"\",\"\",IF($CM$379=0,\"\",IF(CM244=\"\",\"\",ROUND(AF244/$CM$379,3))))","v":""},null,null,null,null,null,null,null,null,null,null,null,null,null,{"$f":"IF(AT244=\"\",\"\",ROUND(AF244/AT244,3-INT(LOG(AF244/AT244))))","v":""},null,null,null,null,null,null,"-",null,null,null,null,null,null,{"$f":"IF(OR((BH244=\"-\"),(ISNUMBER(BH244)=FALSE)),\"-\",ROUND(BA244/BH244,3))","v":"-"},null,null,null,null,null,null,null,null,null,null,null,null,null,null,null,null,null,null,null,null,null,null,null,{"$f":"IF(OR(BH244=\"\",BH244=\"-\"),\"\",AF244)","v":""}]
[null,null,null,null,null,null,null,null,null,null,null,null,null,null,null,null,null,null,null,null,null,null,null,null,null,null,null,null,null,null,null,null,null,null,null,null,null,null,null,null,null,null,null,null,null,"(名称：",null,null,null,null,null,")",null,null,null,null,null,null,null,null,null,null,null,null,null,null,null,null,null,null,null,null,null,{"$f":"IF(OR((BO244=\"-\"),(ISNUMBER(BO244)=FALSE)),\"-\",ROUND(AM244*BO244,3))","v":"-"}]
[null,null,"細分類番号",null,null,null,null,null,null,null,null,null,null,null,null,null,null,null,null,null,null,null,null,null,null,null,null,null,null,null,null,null,null,null,null,null,null,null,null,null,null,null,null,null,null,"(単位：",null,null,null,null,null,")"]
[null,77,"工場等に係る\n事業の名称",null,null,null,null,null,null,{"$f":"IF(J249&L249&N249&P249=\"\",\"\",(IF(ISERROR(VLOOKUP(J249&L249&N249&P249,日本標準産業分類!A:B,2,FALSE)),\"該当の細分類がありません\",VLOOKUP(J249&L249&N249&P249,日本標準産業分類!A:B,2,FALSE))))","v":""},null,null,null,null,null,null,null,null,null,null,null,null,null,null,null,null,null,null,null,null,null,{"$f":"IF(R247=\"\",\"\",R247-Y247)","v":""},null,null,null,null,null,null,{"$f":"IF(AF247=\"\",\"\",IF($CM$379=0,\"\",IF(CM247=\"\",\"\",ROUND(AF247/$CM$379,3))))","v":""},null,null,null,null,null,null,null,null,null,null,null,null,null,{"$f":"IF(AT247=\"\",\"\",ROUND(AF247/AT247,3-INT(LOG(AF247/AT247))))","v":""},null,null,null,null,null,null,"-",null,null,null,null,null,null,{"$f":"IF(OR((BH247=\"-\"),(ISNUMBER(BH247)=FALSE)),\"-\",ROUND(BA247/BH247,3))","v":"-"},null,null,null,null,null,null,null,null,null,null,null,null,null,null,null,null,null,null,null,null,null,null,null,{"$f":"IF(OR(BH247=\"\",BH247=\"-\"),\"\",AF247)","v":""}]
[null,null,null,null,null,null,null,null,null,null,null,null,null,null,null,null,null,null,null,null,null,null,null,null,null,null,null,null,null,null,null,null,null,null,null,null,null,null,null,null,null,null,null,null,null,"(名称：",null,null,null,null,null,")",null,null,null,null,null,null,null,null,null,null,null,null,null,null,null,null,null,null,null,null,null,{"$f":"IF(OR((BO247=\"-\"),(ISNUMBER(BO247)=FALSE)),\"-\",ROUND(AM247*BO247,3))","v":"-"}]
[null,null,"細分類番号",null,null,null,null,null,null,null,null,null,null,null,null,null,null,null,null,null,null,null,null,null,null,null,null,null,null,null,null,null,null,null,null,null,null,null,null,null,null,null,null,null,null,"(単位：",null,null,null,null,null,")"]
[null,78,"工場等に係る\n事業の名称",null,null,null,null,null,null,{"$f":"IF(J252&L252&N252&P252=\"\",\"\",(IF(ISERROR(VLOOKUP(J252&L252&N252&P252,日本標準産業分類!A:B,2,FALSE)),\"該当の細分類がありません\",VLOOKUP(J252&L252&N252&P252,日本標準産業分類!A:B,2,FALSE))))","v":""},null,null,null,null,null,null,null,null,null,null,null,null,null,null,null,null,null,null,null,null,null,{"$f":"IF(R250=\"\",\"\",R250-Y250)","v":""},null,null,null,null,null,null,{"$f":"IF(AF250=\"\",\"\",IF($CM$379=0,\"\",IF(CM250=\"\",\"\",ROUND(AF250/$CM$379,3))))","v":""},null,null,null,null,null,null,null,null,null,null,null,null,null,{"$f":"IF(AT250=\"\",\"\",ROUND(AF250/AT250,3-INT(LOG(AF250/AT250))))","v":""},null,null,null,null,null,null,"-",null,null,null,null,null,null,{"$f":"IF(OR((BH250=\"-\"),(ISNUMBER(BH250)=FALSE)),\"-\",ROUND(BA250/BH250,3))","v":"-"},null,null,null,null,null,null,null,null,null,null,null,null,null,null,null,null,null,null,null,null,null,null,null,{"$f":"IF(OR(BH250=\"\",BH250=\"-\"),\"\",AF250)","v":""}]
[null,null,null,null,null,null,null,null,null,null,null,null,null,null,null,null,null,null,null,null,null,null,null,null,null,null,null,null,null,null,null,null,null,null,null,null,null,null,null,null,null,null,null,null,null,"(名称：",null,null,null,null,null,")",null,null,null,null,null,null,null,null,null,null,null,null,null,null,null,null,null,null,null,null,null,{"$f":"IF(OR((BO250=\"-\"),(ISNUMBER(BO250)=FALSE)),\"-\",ROUND(AM250*BO250,3))","v":"-"}]
[null,null,"細分類番号",null,null,null,null,null,null,null,null,null,null,null,null,null,null,null,null,null,null,null,null,null,null,null,null,null,null,null,null,null,null,null,null,null,null,null,null,null,null,null,null,null,null,"(単位：",null,null,null,null,null,")"]
[null,79,"工場等に係る\n事業の名称",null,null,null,null,null,null,{"$f":"IF(J255&L255&N255&P255=\"\",\"\",(IF(ISERROR(VLOOKUP(J255&L255&N255&P255,日本標準産業分類!A:B,2,FALSE)),\"該当の細分類がありません\",VLOOKUP(J255&L255&N255&P255,日本標準産業分類!A:B,2,FALSE))))","v":""},null,null,null,null,null,null,null,null,null,null,null,null,null,null,null,null,null,null,null,null,null,{"$f":"IF(R253=\"\",\"\",R253-Y253)","v":""},null,null,null,null,null,null,{"$f":"IF(AF253=\"\",\"\",IF($CM$379=0,\"\",IF(CM253=\"\",\"\",ROUND(AF253/$CM$379,3))))","v":""},null,null,null,null,null,null,null,null,null,null,null,null,null,{"$f":"IF(AT253=\"\",\"\",ROUND(AF253/AT253,3-INT(LOG(AF253/AT253))))","v":""},null,null,null,null,null,null,"-",null,null,null,null,null,null,{"$f":"IF(OR((BH253=\"-\"),(ISNUMBER(BH253)=FALSE)),\"-\",ROUND(BA253/BH253,3))","v":"-"},null,null,null,null,null,null,null,null,null,null,null,null,null,null,null,null,null,null,null,null,null,null,null,{"$f":"IF(OR(BH253=\"\",BH253=\"-\"),\"\",AF253)","v":""}]
[null,null,null,null,null,null,null,null,null,null,null,null,null,null,null,null,null,null,null,null,null,null,null,null,null,null,null,null,null,null,null,null,null,null,null,null,null,null,null,null,null,null,null,null,null,"(名称：",null,null,null,null,null,")",null,null,null,null,null,null,null,null,null,null,null,null,null,null,null,null,null,null,null,null,null,{"$f":"IF(OR((BO253=\"-\"),(ISNUMBER(BO253)=FALSE)),\"-\",ROUND(AM253*BO253,3))","v":"-"}]
[null,null,"細分類番号",null,null,null,null,null,null,null,null,null,null,null,null,null,null,null,null,null,null,null,null,null,null,null,null,null,null,null,null,null,null,null,null,null,null,null,null,null,null,null,null,null,null,"(単位：",null,null,null,null,null,")"]
[null,80,"工場等に係る\n事業の名称",null,null,null,null,null,null,{"$f":"IF(J258&L258&N258&P258=\"\",\"\",(IF(ISERROR(VLOOKUP(J258&L258&N258&P258,日本標準産業分類!A:B,2,FALSE)),\"該当の細分類がありません\",VLOOKUP(J258&L258&N258&P258,日本標準産業分類!A:B,2,FALSE))))","v":""},null,null,null,null,null,null,null,null,null,null,null,null,null,null,null,null,null,null,null,null,null,{"$f":"IF(R256=\"\",\"\",R256-Y256)","v":""},null,null,null,null,null,null,{"$f":"IF(AF256=\"\",\"\",IF($CM$379=0,\"\",IF(CM256=\"\",\"\",ROUND(AF256/$CM$379,3))))","v":""},null,null,null,null,null,null,null,null,null,null,null,null,null,{"$f":"IF(AT256=\"\",\"\",ROUND(AF256/AT256,3-INT(LOG(AF256/AT256))))","v":""},null,null,null,null,null,null,"-",null,null,null,null,null,null,{"$f":"IF(OR((BH256=\"-\"),(ISNUMBER(BH256)=FALSE)),\"-\",ROUND(BA256/BH256,3))","v":"-"},null,null,null,null,null,null,null,null,null,null,null,null,null,null,null,null,null,null,null,null,null,null,null,{"$f":"IF(OR(BH256=\"\",BH256=\"-\"),\"\",AF256)","v":""}]
[null,null,null,null,null,null,null,null,null,null,null,null,null,null,null,null,null,null,null,null,null,null,null,null,null,null,null,null,null,null,null,null,null,null,null,null,null,null,null,null,null,null,null,null,null,"(名称：",null,null,null,null,null,")",null,null,null,null,null,null,null,null,null,null,null,null,null,null,null,null,null,null,null,null,null,{"$f":"IF(OR((BO256=\"-\"),(ISNUMBER(BO256)=FALSE)),\"-\",ROUND(AM256*BO256,3))","v":"-"}]
[null,null,"細分類番号",null,null,null,null,null,null,null,null,null,null,null,null,null,null,null,null,null,null,null,null,null,null,null,null,null,null,null,null,null,null,null,null,null,null,null,null,null,null,null,null,null,null,"(単位：",null,null,null,null,null,")"]
[null,81,"工場等に係る\n事業の名称",null,null,null,null,null,null,{"$f":"IF(J261&L261&N261&P261=\"\",\"\",(IF(ISERROR(VLOOKUP(J261&L261&N261&P261,日本標準産業分類!A:B,2,FALSE)),\"該当の細分類がありません\",VLOOKUP(J261&L261&N261&P261,日本標準産業分類!A:B,2,FALSE))))","v":""},null,null,null,null,null,null,null,null,null,null,null,null,null,null,null,null,null,null,null,null,null,{"$f":"IF(R259=\"\",\"\",R259-Y259)","v":""},null,null,null,null,null,null,{"$f":"IF(AF259=\"\",\"\",IF($CM$379=0,\"\",IF(CM259=\"\",\"\",ROUND(AF259/$CM$379,3))))","v":""},null,null,null,null,null,null,null,null,null,null,null,null,null,{"$f":"IF(AT259=\"\",\"\",ROUND(AF259/AT259,3-INT(LOG(AF259/AT259))))","v":""},null,null,null,null,null,null,"-",null,null,null,null,null,null,{"$f":"IF(OR((BH259=\"-\"),(ISNUMBER(BH259)=FALSE)),\"-\",ROUND(BA259/BH259,3))","v":"-"},null,null,null,null,null,null,null,null,null,null,null,null,null,null,null,null,null,null,null,null,null,null,null,{"$f":"IF(OR(BH259=\"\",BH259=\"-\"),\"\",AF259)","v":""}]
[null,null,null,null,null,null,null,null,null,null,null,null,null,null,null,null,null,null,null,null,null,null,null,null,null,null,null,null,null,null,null,null,null,null,null,null,null,null,null,null,null,null,null,null,null,"(名称：",null,null,null,null,null,")",null,null,null,null,null,null,null,null,null,null,null,null,null,null,null,null,null,null,null,null,null,{"$f":"IF(OR((BO259=\"-\"),(ISNUMBER(BO259)=FALSE)),\"-\",ROUND(AM259*BO259,3))","v":"-"}]
[null,null,"細分類番号",null,null,null,null,null,null,null,null,null,null,null,null,null,null,null,null,null,null,null,null,null,null,null,null,null,null,null,null,null,null,null,null,null,null,null,null,null,null,null,null,null,null,"(単位：",null,null,null,null,null,")"]
[null,82,"工場等に係る\n事業の名称",null,null,null,null,null,null,{"$f":"IF(J264&L264&N264&P264=\"\",\"\",(IF(ISERROR(VLOOKUP(J264&L264&N264&P264,日本標準産業分類!A:B,2,FALSE)),\"該当の細分類がありません\",VLOOKUP(J264&L264&N264&P264,日本標準産業分類!A:B,2,FALSE))))","v":""},null,null,null,null,null,null,null,null,null,null,null,null,null,null,null,null,null,null,null,null,null,{"$f":"IF(R262=\"\",\"\",R262-Y262)","v":""},null,null,null,null,null,null,{"$f":"IF(AF262=\"\",\"\",IF($CM$379=0,\"\",IF(CM262=\"\",\"\",ROUND(AF262/$CM$379,3))))","v":""},null,null,null,null,null,null,null,null,null,null,null,null,null,{"$f":"IF(AT262=\"\",\"\",ROUND(AF262/AT262,3-INT(LOG(AF262/AT262))))","v":""},null,null,null,null,null,null,"-",null,null,null,null,null,null,{"$f":"IF(OR((BH262=\"-\"),(ISNUMBER(BH262)=FALSE)),\"-\",ROUND(BA262/BH262,3))","v":"-"},null,null,null,null,null,null,null,null,null,null,null,null,null,null,null,null,null,null,null,null,null,null,null,{"$f":"IF(OR(BH262=\"\",BH262=\"-\"),\"\",AF262)","v":""}]
[null,null,null,null,null,null,null,null,null,null,null,null,null,null,null,null,null,null,null,null,null,null,null,null,null,null,null,null,null,null,null,null,null,null,null,null,null,null,null,null,null,null,null,null,null,"(名称：",null,null,null,null,null,")",null,null,null,null,null,null,null,null,null,null,null,null,null,null,null,null,null,null,null,null,null,{"$f":"IF(OR((BO262=\"-\"),(ISNUMBER(BO262)=FALSE)),\"-\",ROUND(AM262*BO262,3))","v":"-"}]
[null,null,"細分類番号",null,null,null,null,null,null,null,null,null,null,null,null,null,null,null,null,null,null,null,null,null,null,null,null,null,null,null,null,null,null,null,null,null,null,null,null,null,null,null,null,null,null,"(単位：",null,null,null,null,null,")"]
[null,83,"工場等に係る\n事業の名称",null,null,null,null,null,null,{"$f":"IF(J267&L267&N267&P267=\"\",\"\",(IF(ISERROR(VLOOKUP(J267&L267&N267&P267,日本標準産業分類!A:B,2,FALSE)),\"該当の細分類がありません\",VLOOKUP(J267&L267&N267&P267,日本標準産業分類!A:B,2,FALSE))))","v":""},null,null,null,null,null,null,null,null,null,null,null,null,null,null,null,null,null,null,null,null,null,{"$f":"IF(R265=\"\",\"\",R265-Y265)","v":""},null,null,null,null,null,null,{"$f":"IF(AF265=\"\",\"\",IF($CM$379=0,\"\",IF(CM265=\"\",\"\",ROUND(AF265/$CM$379,3))))","v":""},null,null,null,null,null,null,null,null,null,null,null,null,null,{"$f":"IF(AT265=\"\",\"\",ROUND(AF265/AT265,3-INT(LOG(AF265/AT265))))","v":""},null,null,null,null,null,null,"-",null,null,null,null,null,null,{"$f":"IF(OR((BH265=\"-\"),(ISNUMBER(BH265)=FALSE)),\"-\",ROUND(BA265/BH265,3))","v":"-"},null,null,null,null,null,null,null,null,null,null,null,null,null,null,null,null,null,null,null,null,null,null,null,{"$f":"IF(OR(BH265=\"\",BH265=\"-\"),\"\",AF265)","v":""}]
[null,null,null,null,null,null,null,null,null,null,null,null,null,null,null,null,null,null,null,null,null,null,null,null,null,null,null,null,null,null,null,null,null,null,null,null,null,null,null,null,null,null,null,null,null,"(名称：",null,null,null,null,null,")",null,null,null,null,null,null,null,null,null,null,null,null,null,null,null,null,null,null,null,null,null,{"$f":"IF(OR((BO265=\"-\"),(ISNUMBER(BO265)=FALSE)),\"-\",ROUND(AM265*BO265,3))","v":"-"}]
[null,null,"細分類番号",null,null,null,null,null,null,null,null,null,null,null,null,null,null,null,null,null,null,null,null,null,null,null,null,null,null,null,null,null,null,null,null,null,null,null,null,null,null,null,null,null,null,"(単位：",null,null,null,null,null,")"]
[null,84,"工場等に係る\n事業の名称",null,null,null,null,null,null,{"$f":"IF(J270&L270&N270&P270=\"\",\"\",(IF(ISERROR(VLOOKUP(J270&L270&N270&P270,日本標準産業分類!A:B,2,FALSE)),\"該当の細分類がありません\",VLOOKUP(J270&L270&N270&P270,日本標準産業分類!A:B,2,FALSE))))","v":""},null,null,null,null,null,null,null,null,null,null,null,null,null,null,null,null,null,null,null,null,null,{"$f":"IF(R268=\"\",\"\",R268-Y268)","v":""},null,null,null,null,null,null,{"$f":"IF(AF268=\"\",\"\",IF($CM$379=0,\"\",IF(CM268=\"\",\"\",ROUND(AF268/$CM$379,3))))","v":""},null,null,null,null,null,null,null,null,null,null,null,null,null,{"$f":"IF(AT268=\"\",\"\",ROUND(AF268/AT268,3-INT(LOG(AF268/AT268))))","v":""},null,null,null,null,null,null,"-",null,null,null,null,null,null,{"$f":"IF(OR((BH268=\"-\"),(ISNUMBER(BH268)=FALSE)),\"-\",ROUND(BA268/BH268,3))","v":"-"},null,null,null,null,null,null,null,null,null,null,null,null,null,null,null,null,null,null,null,null,null,null,null,{"$f":"IF(OR(BH268=\"\",BH268=\"-\"),\"\",AF268)","v":""}]
[null,null,null,null,null,null,null,null,null,null,null,null,null,null,null,null,null,null,null,null,null,null,null,null,null,null,null,null,null,null,null,null,null,null,null,null,null,null,null,null,null,null,null,null,null,"(名称：",null,null,null,null,null,")",null,null,null,null,null,null,null,null,null,null,null,null,null,null,null,null,null,null,null,null,null,{"$f":"IF(OR((BO268=\"-\"),(ISNUMBER(BO268)=FALSE)),\"-\",ROUND(AM268*BO268,3))","v":"-"}]
[null,null,"細分類番号",null,null,null,null,null,null,null,null,null,null,null,null,null,null,null,null,null,null,null,null,null,null,null,null,null,null,null,null,null,null,null,null,null,null,null,null,null,null,null,null,null,null,"(単位：",null,null,null,null,null,")"]
[null,85,"工場等に係る\n事業の名称",null,null,null,null,null,null,{"$f":"IF(J273&L273&N273&P273=\"\",\"\",(IF(ISERROR(VLOOKUP(J273&L273&N273&P273,日本標準産業分類!A:B,2,FALSE)),\"該当の細分類がありません\",VLOOKUP(J273&L273&N273&P273,日本標準産業分類!A:B,2,FALSE))))","v":""},null,null,null,null,null,null,null,null,null,null,null,null,null,null,null,null,null,null,null,null,null,{"$f":"IF(R271=\"\",\"\",R271-Y271)","v":""},null,null,null,null,null,null,{"$f":"IF(AF271=\"\",\"\",IF($CM$379=0,\"\",IF(CM271=\"\",\"\",ROUND(AF271/$CM$379,3))))","v":""},null,null,null,null,null,null,null,null,null,null,null,null,null,{"$f":"IF(AT271=\"\",\"\",ROUND(AF271/AT271,3-INT(LOG(AF271/AT271))))","v":""},null,null,null,null,null,null,"-",null,null,null,null,null,null,{"$f":"IF(OR((BH271=\"-\"),(ISNUMBER(BH271)=FALSE)),\"-\",ROUND(BA271/BH271,3))","v":"-"},null,null,null,null,null,null,null,null,null,null,null,null,null,null,null,null,null,null,null,null,null,null,null,{"$f":"IF(OR(BH271=\"\",BH271=\"-\"),\"\",AF271)","v":""}]
[null,null,null,null,null,null,null,null,null,null,null,null,null,null,null,null,null,null,null,null,null,null,null,null,null,null,null,null,null,null,null,null,null,null,null,null,null,null,null,null,null,null,null,null,null,"(名称：",null,null,null,null,null,")",null,null,null,null,null,null,null,null,null,null,null,null,null,null,null,null,null,null,null,null,null,{"$f":"IF(OR((BO271=\"-\"),(ISNUMBER(BO271)=FALSE)),\"-\",ROUND(AM271*BO271,3))","v":"-"}]
[null,null,"細分類番号",null,null,null,null,null,null,null,null,null,null,null,null,null,null,null,null,null,null,null,null,null,null,null,null,null,null,null,null,null,null,null,null,null,null,null,null,null,null,null,null,null,null,"(単位：",null,null,null,null,null,")"]
[null,86,"工場等に係る\n事業の名称",null,null,null,null,null,null,{"$f":"IF(J276&L276&N276&P276=\"\",\"\",(IF(ISERROR(VLOOKUP(J276&L276&N276&P276,日本標準産業分類!A:B,2,FALSE)),\"該当の細分類がありません\",VLOOKUP(J276&L276&N276&P276,日本標準産業分類!A:B,2,FALSE))))","v":""},null,null,null,null,null,null,null,null,null,null,null,null,null,null,null,null,null,null,null,null,null,{"$f":"IF(R274=\"\",\"\",R274-Y274)","v":""},null,null,null,null,null,null,{"$f":"IF(AF274=\"\",\"\",IF($CM$379=0,\"\",IF(CM274=\"\",\"\",ROUND(AF274/$CM$379,3))))","v":""},null,null,null,null,null,null,null,null,null,null,null,null,null,{"$f":"IF(AT274=\"\",\"\",ROUND(AF274/AT274,3-INT(LOG(AF274/AT274))))","v":""},null,null,null,null,null,null,"-",null,null,null,null,null,null,{"$f":"IF(OR((BH274=\"-\"),(ISNUMBER(BH274)=FALSE)),\"-\",ROUND(BA274/BH274,3))","v":"-"},null,null,null,null,null,null,null,null,null,null,null,null,null,null,null,null,null,null,null,null,null,null,null,{"$f":"IF(OR(BH274=\"\",BH274=\"-\"),\"\",AF274)","v":""}]
[null,null,null,null,null,null,null,null,null,null,null,null,null,null,null,null,null,null,null,null,null,null,null,null,null,null,null,null,null,null,null,null,null,null,null,null,null,null,null,null,null,null,null,null,null,"(名称：",null,null,null,null,null,")",null,null,null,null,null,null,null,null,null,null,null,null,null,null,null,null,null,null,null,null,null,{"$f":"IF(OR((BO274=\"-\"),(ISNUMBER(BO274)=FALSE)),\"-\",ROUND(AM274*BO274,3))","v":"-"}]
[null,null,"細分類番号",null,null,null,null,null,null,null,null,null,null,null,null,null,null,null,null,null,null,null,null,null,null,null,null,null,null,null,null,null,null,null,null,null,null,null,null,null,null,null,null,null,null,"(単位：",null,null,null,null,null,")"]
[null,87,"工場等に係る\n事業の名称",null,null,null,null,null,null,{"$f":"IF(J279&L279&N279&P279=\"\",\"\",(IF(ISERROR(VLOOKUP(J279&L279&N279&P279,日本標準産業分類!A:B,2,FALSE)),\"該当の細分類がありません\",VLOOKUP(J279&L279&N279&P279,日本標準産業分類!A:B,2,FALSE))))","v":""},null,null,null,null,null,null,null,null,null,null,null,null,null,null,null,null,null,null,null,null,null,{"$f":"IF(R277=\"\",\"\",R277-Y277)","v":""},null,null,null,null,null,null,{"$f":"IF(AF277=\"\",\"\",IF($CM$379=0,\"\",IF(CM277=\"\",\"\",ROUND(AF277/$CM$379,3))))","v":""},null,null,null,null,null,null,null,null,null,null,null,null,null,{"$f":"IF(AT277=\"\",\"\",ROUND(AF277/AT277,3-INT(LOG(AF277/AT277))))","v":""},null,null,null,null,null,null,"-",null,null,null,null,null,null,{"$f":"IF(OR((BH277=\"-\"),(ISNUMBER(BH277)=FALSE)),\"-\",ROUND(BA277/BH277,3))","v":"-"},null,null,null,null,null,null,null,null,null,null,null,null,null,null,null,null,null,null,null,null,null,null,null,{"$f":"IF(OR(BH277=\"\",BH277=\"-\"),\"\",AF277)","v":""}]
[null,null,null,null,null,null,null,null,null,null,null,null,null,null,null,null,null,null,null,null,null,null,null,null,null,null,null,null,null,null,null,null,null,null,null,null,null,null,null,null,null,null,null,null,null,"(名称：",null,null,null,null,null,")",null,null,null,null,null,null,null,null,null,null,null,null,null,null,null,null,null,null,null,null,null,{"$f":"IF(OR((BO277=\"-\"),(ISNUMBER(BO277)=FALSE)),\"-\",ROUND(AM277*BO277,3))","v":"-"}]
[null,null,"細分類番号",null,null,null,null,null,null,null,null,null,null,null,null,null,null,null,null,null,null,null,null,null,null,null,null,null,null,null,null,null,null,null,null,null,null,null,null,null,null,null,null,null,null,"(単位：",null,null,null,null,null,")"]
[null,88,"工場等に係る\n事業の名称",null,null,null,null,null,null,{"$f":"IF(J282&L282&N282&P282=\"\",\"\",(IF(ISERROR(VLOOKUP(J282&L282&N282&P282,日本標準産業分類!A:B,2,FALSE)),\"該当の細分類がありません\",VLOOKUP(J282&L282&N282&P282,日本標準産業分類!A:B,2,FALSE))))","v":""},null,null,null,null,null,null,null,null,null,null,null,null,null,null,null,null,null,null,null,null,null,{"$f":"IF(R280=\"\",\"\",R280-Y280)","v":""},null,null,null,null,null,null,{"$f":"IF(AF280=\"\",\"\",IF($CM$379=0,\"\",IF(CM280=\"\",\"\",ROUND(AF280/$CM$379,3))))","v":""},null,null,null,null,null,null,null,null,null,null,null,null,null,{"$f":"IF(AT280=\"\",\"\",ROUND(AF280/AT280,3-INT(LOG(AF280/AT280))))","v":""},null,null,null,null,null,null,"-",null,null,null,null,null,null,{"$f":"IF(OR((BH280=\"-\"),(ISNUMBER(BH280)=FALSE)),\"-\",ROUND(BA280/BH280,3))","v":"-"},null,null,null,null,null,null,null,null,null,null,null,null,null,null,null,null,null,null,null,null,null,null,null,{"$f":"IF(OR(BH280=\"\",BH280=\"-\"),\"\",AF280)","v":""}]
[null,null,null,null,null,null,null,null,null,null,null,null,null,null,null,null,null,null,null,null,null,null,null,null,null,null,null,null,null,null,null,null,null,null,null,null,null,null,null,null,null,null,null,null,null,"(名称：",null,null,null,null,null,")",null,null,null,null,null,null,null,null,null,null,null,null,null,null,null,null,null,null,null,null,null,{"$f":"IF(OR((BO280=\"-\"),(ISNUMBER(BO280)=FALSE)),\"-\",ROUND(AM280*BO280,3))","v":"-"}]
[null,null,"細分類番号",null,null,null,null,null,null,null,null,null,null,null,null,null,null,null,null,null,null,null,null,null,null,null,null,null,null,null,null,null,null,null,null,null,null,null,null,null,null,null,null,null,null,"(単位：",null,null,null,null,null,")"]
[null,89,"工場等に係る\n事業の名称",null,null,null,null,null,null,{"$f":"IF(J285&L285&N285&P285=\"\",\"\",(IF(ISERROR(VLOOKUP(J285&L285&N285&P285,日本標準産業分類!A:B,2,FALSE)),\"該当の細分類がありません\",VLOOKUP(J285&L285&N285&P285,日本標準産業分類!A:B,2,FALSE))))","v":""},null,null,null,null,null,null,null,null,null,null,null,null,null,null,null,null,null,null,null,null,null,{"$f":"IF(R283=\"\",\"\",R283-Y283)","v":""},null,null,null,null,null,null,{"$f":"IF(AF283=\"\",\"\",IF($CM$379=0,\"\",IF(CM283=\"\",\"\",ROUND(AF283/$CM$379,3))))","v":""},null,null,null,null,null,null,null,null,null,null,null,null,null,{"$f":"IF(AT283=\"\",\"\",ROUND(AF283/AT283,3-INT(LOG(AF283/AT283))))","v":""},null,null,null,null,null,null,"-",null,null,null,null,null,null,{"$f":"IF(OR((BH283=\"-\"),(ISNUMBER(BH283)=FALSE)),\"-\",ROUND(BA283/BH283,3))","v":"-"},null,null,null,null,null,null,null,null,null,null,null,null,null,null,null,null,null,null,null,null,null,null,null,{"$f":"IF(OR(BH283=\"\",BH283=\"-\"),\"\",AF283)","v":""}]
[null,null,null,null,null,null,null,null,null,null,null,null,null,null,null,null,null,null,null,null,null,null,null,null,null,null,null,null,null,null,null,null,null,null,null,null,null,null,null,null,null,null,null,null,null,"(名称：",null,null,null,null,null,")",null,null,null,null,null,null,null,null,null,null,null,null,null,null,null,null,null,null,null,null,null,{"$f":"IF(OR((BO283=\"-\"),(ISNUMBER(BO283)=FALSE)),\"-\",ROUND(AM283*BO283,3))","v":"-"}]
[null,null,"細分類番号",null,null,null,null,null,null,null,null,null,null,null,null,null,null,null,null,null,null,null,null,null,null,null,null,null,null,null,null,null,null,null,null,null,null,null,null,null,null,null,null,null,null,"(単位：",null,null,null,null,null,")"]
[null,90,"工場等に係る\n事業の名称",null,null,null,null,null,null,{"$f":"IF(J288&L288&N288&P288=\"\",\"\",(IF(ISERROR(VLOOKUP(J288&L288&N288&P288,日本標準産業分類!A:B,2,FALSE)),\"該当の細分類がありません\",VLOOKUP(J288&L288&N288&P288,日本標準産業分類!A:B,2,FALSE))))","v":""},null,null,null,null,null,null,null,null,null,null,null,null,null,null,null,null,null,null,null,null,null,{"$f":"IF(R286=\"\",\"\",R286-Y286)","v":""},null,null,null,null,null,null,{"$f":"IF(AF286=\"\",\"\",IF($CM$379=0,\"\",IF(CM286=\"\",\"\",ROUND(AF286/$CM$379,3))))","v":""},null,null,null,null,null,null,null,null,null,null,null,null,null,{"$f":"IF(AT286=\"\",\"\",ROUND(AF286/AT286,3-INT(LOG(AF286/AT286))))","v":""},null,null,null,null,null,null,"-",null,null,null,null,null,null,{"$f":"IF(OR((BH286=\"-\"),(ISNUMBER(BH286)=FALSE)),\"-\",ROUND(BA286/BH286,3))","v":"-"},null,null,null,null,null,null,null,null,null,null,null,null,null,null,null,null,null,null,null,null,null,null,null,{"$f":"IF(OR(BH286=\"\",BH286=\"-\"),\"\",AF286)","v":""}]
[null,null,null,null,null,null,null,null,null,null,null,null,null,null,null,null,null,null,null,null,null,null,null,null,null,null,null,null,null,null,null,null,null,null,null,null,null,null,null,null,null,null,null,null,null,"(名称：",null,null,null,null,null,")",null,null,null,null,null,null,null,null,null,null,null,null,null,null,null,null,null,null,null,null,null,{"$f":"IF(OR((BO286=\"-\"),(ISNUMBER(BO286)=FALSE)),\"-\",ROUND(AM286*BO286,3))","v":"-"}]
[null,null,"細分類番号",null,null,null,null,null,null,null,null,null,null,null,null,null,null,null,null,null,null,null,null,null,null,null,null,null,null,null,null,null,null,null,null,null,null,null,null,null,null,null,null,null,null,"(単位：",null,null,null,null,null,")"]
[null,91,"工場等に係る\n事業の名称",null,null,null,null,null,null,{"$f":"IF(J291&L291&N291&P291=\"\",\"\",(IF(ISERROR(VLOOKUP(J291&L291&N291&P291,日本標準産業分類!A:B,2,FALSE)),\"該当の細分類がありません\",VLOOKUP(J291&L291&N291&P291,日本標準産業分類!A:B,2,FALSE))))","v":""},null,null,null,null,null,null,null,null,null,null,null,null,null,null,null,null,null,null,null,null,null,{"$f":"IF(R289=\"\",\"\",R289-Y289)","v":""},null,null,null,null,null,null,{"$f":"IF(AF289=\"\",\"\",IF($CM$379=0,\"\",IF(CM289=\"\",\"\",ROUND(AF289/$CM$379,3))))","v":""},null,null,null,null,null,null,null,null,null,null,null,null,null,{"$f":"IF(AT289=\"\",\"\",ROUND(AF289/AT289,3-INT(LOG(AF289/AT289))))","v":""},null,null,null,null,null,null,"-",null,null,null,null,null,null,{"$f":"IF(OR((BH289=\"-\"),(ISNUMBER(BH289)=FALSE)),\"-\",ROUND(BA289/BH289,3))","v":"-"},null,null,null,null,null,null,null,null,null,null,null,null,null,null,null,null,null,null,null,null,null,null,null,{"$f":"IF(OR(BH289=\"\",BH289=\"-\"),\"\",AF289)","v":""}]
[null,null,null,null,null,null,null,null,null,null,null,null,null,null,null,null,null,null,null,null,null,null,null,null,null,null,null,null,null,null,null,null,null,null,null,null,null,null,null,null,null,null,null,null,null,"(名称：",null,null,null,null,null,")",null,null,null,null,null,null,null,null,null,null,null,null,null,null,null,null,null,null,null,null,null,{"$f":"IF(OR((BO289=\"-\"),(ISNUMBER(BO289)=FALSE)),\"-\",ROUND(AM289*BO289,3))","v":"-"}]
[null,null,"細分類番号",null,null,null,null,null,null,null,null,null,null,null,null,null,null,null,null,null,null,null,null,null,null,null,null,null,null,null,null,null,null,null,null,null,null,null,null,null,null,null,null,null,null,"(単位：",null,null,null,null,null,")"]
[null,92,"工場等に係る\n事業の名称",null,null,null,null,null,null,{"$f":"IF(J294&L294&N294&P294=\"\",\"\",(IF(ISERROR(VLOOKUP(J294&L294&N294&P294,日本標準産業分類!A:B,2,FALSE)),\"該当の細分類がありません\",VLOOKUP(J294&L294&N294&P294,日本標準産業分類!A:B,2,FALSE))))","v":""},null,null,null,null,null,null,null,null,null,null,null,null,null,null,null,null,null,null,null,null,null,{"$f":"IF(R292=\"\",\"\",R292-Y292)","v":""},null,null,null,null,null,null,{"$f":"IF(AF292=\"\",\"\",IF($CM$379=0,\"\",IF(CM292=\"\",\"\",ROUND(AF292/$CM$379,3))))","v":""},null,null,null,null,null,null,null,null,null,null,null,null,null,{"$f":"IF(AT292=\"\",\"\",ROUND(AF292/AT292,3-INT(LOG(AF292/AT292))))","v":""},null,null,null,null,null,null,"-",null,null,null,null,null,null,{"$f":"IF(OR((BH292=\"-\"),(ISNUMBER(BH292)=FALSE)),\"-\",ROUND(BA292/BH292,3))","v":"-"},null,null,null,null,null,null,null,null,null,null,null,null,null,null,null,null,null,null,null,null,null,null,null,{"$f":"IF(OR(BH292=\"\",BH292=\"-\"),\"\",AF292)","v":""}]
[null,null,null,null,null,null,null,null,null,null,null,null,null,null,null,null,null,null,null,null,null,null,null,null,null,null,null,null,null,null,null,null,null,null,null,null,null,null,null,null,null,null,null,null,null,"(名称：",null,null,null,null,null,")",null,null,null,null,null,null,null,null,null,null,null,null,null,null,null,null,null,null,null,null,null,{"$f":"IF(OR((BO292=\"-\"),(ISNUMBER(BO292)=FALSE)),\"-\",ROUND(AM292*BO292,3))","v":"-"}]
[null,null,"細分類番号",null,null,null,null,null,null,null,null,null,null,null,null,null,null,null,null,null,null,null,null,null,null,null,null,null,null,null,null,null,null,null,null,null,null,null,null,null,null,null,null,null,null,"(単位：",null,null,null,null,null,")"]
[null,93,"工場等に係る\n事業の名称",null,null,null,null,null,null,{"$f":"IF(J297&L297&N297&P297=\"\",\"\",(IF(ISERROR(VLOOKUP(J297&L297&N297&P297,日本標準産業分類!A:B,2,FALSE)),\"該当の細分類がありません\",VLOOKUP(J297&L297&N297&P297,日本標準産業分類!A:B,2,FALSE))))","v":""},null,null,null,null,null,null,null,null,null,null,null,null,null,null,null,null,null,null,null,null,null,{"$f":"IF(R295=\"\",\"\",R295-Y295)","v":""},null,null,null,null,null,null,{"$f":"IF(AF295=\"\",\"\",IF($CM$379=0,\"\",IF(CM295=\"\",\"\",ROUND(AF295/$CM$379,3))))","v":""},null,null,null,null,null,null,null,null,null,null,null,null,null,{"$f":"IF(AT295=\"\",\"\",ROUND(AF295/AT295,3-INT(LOG(AF295/AT295))))","v":""},null,null,null,null,null,null,"-",null,null,null,null,null,null,{"$f":"IF(OR((BH295=\"-\"),(ISNUMBER(BH295)=FALSE)),\"-\",ROUND(BA295/BH295,3))","v":"-"},null,null,null,null,null,null,null,null,null,null,null,null,null,null,null,null,null,null,null,null,null,null,null,{"$f":"IF(OR(BH295=\"\",BH295=\"-\"),\"\",AF295)","v":""}]
[null,null,null,null,null,null,null,null,null,null,null,null,null,null,null,null,null,null,null,null,null,null,null,null,null,null,null,null,null,null,null,null,null,null,null,null,null,null,null,null,null,null,null,null,null,"(名称：",null,null,null,null,null,")",null,null,null,null,null,null,null,null,null,null,null,null,null,null,null,null,null,null,null,null,null,{"$f":"IF(OR((BO295=\"-\"),(ISNUMBER(BO295)=FALSE)),\"-\",ROUND(AM295*BO295,3))","v":"-"}]
[null,null,"細分類番号",null,null,null,null,null,null,null,null,null,null,null,null,null,null,null,null,null,null,null,null,null,null,null,null,null,null,null,null,null,null,null,null,null,null,null,null,null,null,null,null,null,null,"(単位：",null,null,null,null,null,")"]
[null,94,"工場等に係る\n事業の名称",null,null,null,null,null,null,{"$f":"IF(J300&L300&N300&P300=\"\",\"\",(IF(ISERROR(VLOOKUP(J300&L300&N300&P300,日本標準産業分類!A:B,2,FALSE)),\"該当の細分類がありません\",VLOOKUP(J300&L300&N300&P300,日本標準産業分類!A:B,2,FALSE))))","v":""},null,null,null,null,null,null,null,null,null,null,null,null,null,null,null,null,null,null,null,null,null,{"$f":"IF(R298=\"\",\"\",R298-Y298)","v":""},null,null,null,null,null,null,{"$f":"IF(AF298=\"\",\"\",IF($CM$379=0,\"\",IF(CM298=\"\",\"\",ROUND(AF298/$CM$379,3))))","v":""},null,null,null,null,null,null,null,null,null,null,null,null,null,{"$f":"IF(AT298=\"\",\"\",ROUND(AF298/AT298,3-INT(LOG(AF298/AT298))))","v":""},null,null,null,null,null,null,"-",null,null,null,null,null,null,{"$f":"IF(OR((BH298=\"-\"),(ISNUMBER(BH298)=FALSE)),\"-\",ROUND(BA298/BH298,3))","v":"-"},null,null,null,null,null,null,null,null,null,null,null,null,null,null,null,null,null,null,null,null,null,null,null,{"$f":"IF(OR(BH298=\"\",BH298=\"-\"),\"\",AF298)","v":""}]
[null,null,null,null,null,null,null,null,null,null,null,null,null,null,null,null,null,null,null,null,null,null,null,null,null,null,null,null,null,null,null,null,null,null,null,null,null,null,null,null,null,null,null,null,null,"(名称：",null,null,null,null,null,")",null,null,null,null,null,null,null,null,null,null,null,null,null,null,null,null,null,null,null,null,null,{"$f":"IF(OR((BO298=\"-\"),(ISNUMBER(BO298)=FALSE)),\"-\",ROUND(AM298*BO298,3))","v":"-"}]
[null,null,"細分類番号",null,null,null,null,null,null,null,null,null,null,null,null,null,null,null,null,null,null,null,null,null,null,null,null,null,null,null,null,null,null,null,null,null,null,null,null,null,null,null,null,null,null,"(単位：",null,null,null,null,null,")"]
[null,95,"工場等に係る\n事業の名称",null,null,null,null,null,null,{"$f":"IF(J303&L303&N303&P303=\"\",\"\",(IF(ISERROR(VLOOKUP(J303&L303&N303&P303,日本標準産業分類!A:B,2,FALSE)),\"該当の細分類がありません\",VLOOKUP(J303&L303&N303&P303,日本標準産業分類!A:B,2,FALSE))))","v":""},null,null,null,null,null,null,null,null,null,null,null,null,null,null,null,null,null,null,null,null,null,{"$f":"IF(R301=\"\",\"\",R301-Y301)","v":""},null,null,null,null,null,null,{"$f":"IF(AF301=\"\",\"\",IF($CM$379=0,\"\",IF(CM301=\"\",\"\",ROUND(AF301/$CM$379,3))))","v":""},null,null,null,null,null,null,null,null,null,null,null,null,null,{"$f":"IF(AT301=\"\",\"\",ROUND(AF301/AT301,3-INT(LOG(AF301/AT301))))","v":""},null,null,null,null,null,null,"-",null,null,null,null,null,null,{"$f":"IF(OR((BH301=\"-\"),(ISNUMBER(BH301)=FALSE)),\"-\",ROUND(BA301/BH301,3))","v":"-"},null,null,null,null,null,null,null,null,null,null,null,null,null,null,null,null,null,null,null,null,null,null,null,{"$f":"IF(OR(BH301=\"\",BH301=\"-\"),\"\",AF301)","v":""}]
[null,null,null,null,null,null,null,null,null,null,null,null,null,null,null,null,null,null,null,null,null,null,null,null,null,null,null,null,null,null,null,null,null,null,null,null,null,null,null,null,null,null,null,null,null,"(名称：",null,null,null,null,null,")",null,null,null,null,null,null,null,null,null,null,null,null,null,null,null,null,null,null,null,null,null,{"$f":"IF(OR((BO301=\"-\"),(ISNUMBER(BO301)=FALSE)),\"-\",ROUND(AM301*BO301,3))","v":"-"}]
[null,null,"細分類番号",null,null,null,null,null,null,null,null,null,null,null,null,null,null,null,null,null,null,null,null,null,null,null,null,null,null,null,null,null,null,null,null,null,null,null,null,null,null,null,null,null,null,"(単位：",null,null,null,null,null,")"]
[null,96,"工場等に係る\n事業の名称",null,null,null,null,null,null,{"$f":"IF(J306&L306&N306&P306=\"\",\"\",(IF(ISERROR(VLOOKUP(J306&L306&N306&P306,日本標準産業分類!A:B,2,FALSE)),\"該当の細分類がありません\",VLOOKUP(J306&L306&N306&P306,日本標準産業分類!A:B,2,FALSE))))","v":""},null,null,null,null,null,null,null,null,null,null,null,null,null,null,null,null,null,null,null,null,null,{"$f":"IF(R304=\"\",\"\",R304-Y304)","v":""},null,null,null,null,null,null,{"$f":"IF(AF304=\"\",\"\",IF($CM$379=0,\"\",IF(CM304=\"\",\"\",ROUND(AF304/$CM$379,3))))","v":""},null,null,null,null,null,null,null,null,null,null,null,null,null,{"$f":"IF(AT304=\"\",\"\",ROUND(AF304/AT304,3-INT(LOG(AF304/AT304))))","v":""},null,null,null,null,null,null,"-",null,null,null,null,null,null,{"$f":"IF(OR((BH304=\"-\"),(ISNUMBER(BH304)=FALSE)),\"-\",ROUND(BA304/BH304,3))","v":"-"},null,null,null,null,null,null,null,null,null,null,null,null,null,null,null,null,null,null,null,null,null,null,null,{"$f":"IF(OR(BH304=\"\",BH304=\"-\"),\"\",AF304)","v":""}]
[null,null,null,null,null,null,null,null,null,null,null,null,null,null,null,null,null,null,null,null,null,null,null,null,null,null,null,null,null,null,null,null,null,null,null,null,null,null,null,null,null,null,null,null,null,"(名称：",null,null,null,null,null,")",null,null,null,null,null,null,null,null,null,null,null,null,null,null,null,null,null,null,null,null,null,{"$f":"IF(OR((BO304=\"-\"),(ISNUMBER(BO304)=FALSE)),\"-\",ROUND(AM304*BO304,3))","v":"-"}]
[null,null,"細分類番号",null,null,null,null,null,null,null,null,null,null,null,null,null,null,null,null,null,null,null,null,null,null,null,null,null,null,null,null,null,null,null,null,null,null,null,null,null,null,null,null,null,null,"(単位：",null,null,null,null,null,")"]
[null,97,"工場等に係る\n事業の名称",null,null,null,null,null,null,{"$f":"IF(J309&L309&N309&P309=\"\",\"\",(IF(ISERROR(VLOOKUP(J309&L309&N309&P309,日本標準産業分類!A:B,2,FALSE)),\"該当の細分類がありません\",VLOOKUP(J309&L309&N309&P309,日本標準産業分類!A:B,2,FALSE))))","v":""},null,null,null,null,null,null,null,null,null,null,null,null,null,null,null,null,null,null,null,null,null,{"$f":"IF(R307=\"\",\"\",R307-Y307)","v":""},null,null,null,null,null,null,{"$f":"IF(AF307=\"\",\"\",IF($CM$379=0,\"\",IF(CM307=\"\",\"\",ROUND(AF307/$CM$379,3))))","v":""},null,null,null,null,null,null,null,null,null,null,null,null,null,{"$f":"IF(AT307=\"\",\"\",ROUND(AF307/AT307,3-INT(LOG(AF307/AT307))))","v":""},null,null,null,null,null,null,"-",null,null,null,null,null,null,{"$f":"IF(OR((BH307=\"-\"),(ISNUMBER(BH307)=FALSE)),\"-\",ROUND(BA307/BH307,3))","v":"-"},null,null,null,null,null,null,null,null,null,null,null,null,null,null,null,null,null,null,null,null,null,null,null,{"$f":"IF(OR(BH307=\"\",BH307=\"-\"),\"\",AF307)","v":""}]
[null,null,null,null,null,null,null,null,null,null,null,null,null,null,null,null,null,null,null,null,null,null,null,null,null,null,null,null,null,null,null,null,null,null,null,null,null,null,null,null,null,null,null,null,null,"(名称：",null,null,null,null,null,")",null,null,null,null,null,null,null,null,null,null,null,null,null,null,null,null,null,null,null,null,null,{"$f":"IF(OR((BO307=\"-\"),(ISNUMBER(BO307)=FALSE)),\"-\",ROUND(AM307*BO307,3))","v":"-"}]
[null,null,"細分類番号",null,null,null,null,null,null,null,null,null,null,null,null,null,null,null,null,null,null,null,null,null,null,null,null,null,null,null,null,null,null,null,null,null,null,null,null,null,null,null,null,null,null,"(単位：",null,null,null,null,null,")"]
[null,98,"工場等に係る\n事業の名称",null,null,null,null,null,null,{"$f":"IF(J312&L312&N312&P312=\"\",\"\",(IF(ISERROR(VLOOKUP(J312&L312&N312&P312,日本標準産業分類!A:B,2,FALSE)),\"該当の細分類がありません\",VLOOKUP(J312&L312&N312&P312,日本標準産業分類!A:B,2,FALSE))))","v":""},null,null,null,null,null,null,null,null,null,null,null,null,null,null,null,null,null,null,null,null,null,{"$f":"IF(R310=\"\",\"\",R310-Y310)","v":""},null,null,null,null,null,null,{"$f":"IF(AF310=\"\",\"\",IF($CM$379=0,\"\",IF(CM310=\"\",\"\",ROUND(AF310/$CM$379,3))))","v":""},null,null,null,null,null,null,null,null,null,null,null,null,null,{"$f":"IF(AT310=\"\",\"\",ROUND(AF310/AT310,3-INT(LOG(AF310/AT310))))","v":""},null,null,null,null,null,null,"-",null,null,null,null,null,null,{"$f":"IF(OR((BH310=\"-\"),(ISNUMBER(BH310)=FALSE)),\"-\",ROUND(BA310/BH310,3))","v":"-"},null,null,null,null,null,null,null,null,null,null,null,null,null,null,null,null,null,null,null,null,null,null,null,{"$f":"IF(OR(BH310=\"\",BH310=\"-\"),\"\",AF310)","v":""}]
[null,null,null,null,null,null,null,null,null,null,null,null,null,null,null,null,null,null,null,null,null,null,null,null,null,null,null,null,null,null,null,null,null,null,null,null,null,null,null,null,null,null,null,null,null,"(名称：",null,null,null,null,null,")",null,null,null,null,null,null,null,null,null,null,null,null,null,null,null,null,null,null,null,null,null,{"$f":"IF(OR((BO310=\"-\"),(ISNUMBER(BO310)=FALSE)),\"-\",ROUND(AM310*BO310,3))","v":"-"}]
[null,null,"細分類番号",null,null,null,null,null,null,null,null,null,null,null,null,null,null,null,null,null,null,null,null,null,null,null,null,null,null,null,null,null,null,null,null,null,null,null,null,null,null,null,null,null,null,"(単位：",null,null,null,null,null,")"]
[null,99,"工場等に係る\n事業の名称",null,null,null,null,null,null,{"$f":"IF(J315&L315&N315&P315=\"\",\"\",(IF(ISERROR(VLOOKUP(J315&L315&N315&P315,日本標準産業分類!A:B,2,FALSE)),\"該当の細分類がありません\",VLOOKUP(J315&L315&N315&P315,日本標準産業分類!A:B,2,FALSE))))","v":""},null,null,null,null,null,null,null,null,null,null,null,null,null,null,null,null,null,null,null,null,null,{"$f":"IF(R313=\"\",\"\",R313-Y313)","v":""},null,null,null,null,null,null,{"$f":"IF(AF313=\"\",\"\",IF($CM$379=0,\"\",IF(CM313=\"\",\"\",ROUND(AF313/$CM$379,3))))","v":""},null,null,null,null,null,null,null,null,null,null,null,null,null,{"$f":"IF(AT313=\"\",\"\",ROUND(AF313/AT313,3-INT(LOG(AF313/AT313))))","v":""},null,null,null,null,null,null,"-",null,null,null,null,null,null,{"$f":"IF(OR((BH313=\"-\"),(ISNUMBER(BH313)=FALSE)),\"-\",ROUND(BA313/BH313,3))","v":"-"},null,null,null,null,null,null,null,null,null,null,null,null,null,null,null,null,null,null,null,null,null,null,null,{"$f":"IF(OR(BH313=\"\",BH313=\"-\"),\"\",AF313)","v":""}]
[null,null,null,null,null,null,null,null,null,null,null,null,null,null,null,null,null,null,null,null,null,null,null,null,null,null,null,null,null,null,null,null,null,null,null,null,null,null,null,null,null,null,null,null,null,"(名称：",null,null,null,null,null,")",null,null,null,null,null,null,null,null,null,null,null,null,null,null,null,null,null,null,null,null,null,{"$f":"IF(OR((BO313=\"-\"),(ISNUMBER(BO313)=FALSE)),\"-\",ROUND(AM313*BO313,3))","v":"-"}]
[null,null,"細分類番号",null,null,null,null,null,null,null,null,null,null,null,null,null,null,null,null,null,null,null,null,null,null,null,null,null,null,null,null,null,null,null,null,null,null,null,null,null,null,null,null,null,null,"(単位：",null,null,null,null,null,")"]
[null,100,"工場等に係る\n事業の名称",null,null,null,null,null,null,{"$f":"IF(J318&L318&N318&P318=\"\",\"\",(IF(ISERROR(VLOOKUP(J318&L318&N318&P318,日本標準産業分類!A:B,2,FALSE)),\"該当の細分類がありません\",VLOOKUP(J318&L318&N318&P318,日本標準産業分類!A:B,2,FALSE))))","v":""},null,null,null,null,null,null,null,null,null,null,null,null,null,null,null,null,null,null,null,null,null,{"$f":"IF(R316=\"\",\"\",R316-Y316)","v":""},null,null,null,null,null,null,{"$f":"IF(AF316=\"\",\"\",IF($CM$379=0,\"\",IF(CM316=\"\",\"\",ROUND(AF316/$CM$379,3))))","v":""},null,null,null,null,null,null,null,null,null,null,null,null,null,{"$f":"IF(AT316=\"\",\"\",ROUND(AF316/AT316,3-INT(LOG(AF316/AT316))))","v":""},null,null,null,null,null,null,"-",null,null,null,null,null,null,{"$f":"IF(OR((BH316=\"-\"),(ISNUMBER(BH316)=FALSE)),\"-\",ROUND(BA316/BH316,3))","v":"-"},null,null,null,null,null,null,null,null,null,null,null,null,null,null,null,null,null,null,null,null,null,null,null,{"$f":"IF(OR(BH316=\"\",BH316=\"-\"),\"\",AF316)","v":""}]
[null,null,null,null,null,null,null,null,null,null,null,null,null,null,null,null,null,null,null,null,null,null,null,null,null,null,null,null,null,null,null,null,null,null,null,null,null,null,null,null,null,null,null,null,null,"(名称：",null,null,null,null,null,")",null,null,null,null,null,null,null,null,null,null,null,null,null,null,null,null,null,null,null,null,null,{"$f":"IF(OR((BO316=\"-\"),(ISNUMBER(BO316)=FALSE)),\"-\",ROUND(AM316*BO316,3))","v":"-"}]
[null,null,"細分類番号",null,null,null,null,null,null,null,null,null,null,null,null,null,null,null,null,null,null,null,null,null,null,null,null,null,null,null,null,null,null,null,null,null,null,null,null,null,null,null,null,null,null,"(単位：",null,null,null,null,null,")"]
[null,101,"工場等に係る\n事業の名称",null,null,null,null,null,null,{"$f":"IF(J321&L321&N321&P321=\"\",\"\",(IF(ISERROR(VLOOKUP(J321&L321&N321&P321,日本標準産業分類!A:B,2,FALSE)),\"該当の細分類がありません\",VLOOKUP(J321&L321&N321&P321,日本標準産業分類!A:B,2,FALSE))))","v":""},null,null,null,null,null,null,null,null,null,null,null,null,null,null,null,null,null,null,null,null,null,{"$f":"IF(R319=\"\",\"\",R319-Y319)","v":""},null,null,null,null,null,null,{"$f":"IF(AF319=\"\",\"\",IF($CM$379=0,\"\",IF(CM319=\"\",\"\",ROUND(AF319/$CM$379,3))))","v":""},null,null,null,null,null,null,null,null,null,null,null,null,null,{"$f":"IF(AT319=\"\",\"\",ROUND(AF319/AT319,3-INT(LOG(AF319/AT319))))","v":""},null,null,null,null,null,null,"-",null,null,null,null,null,null,{"$f":"IF(OR((BH319=\"-\"),(ISNUMBER(BH319)=FALSE)),\"-\",ROUND(BA319/BH319,3))","v":"-"},null,null,null,null,null,null,null,null,null,null,null,null,null,null,null,null,null,null,null,null,null,null,null,{"$f":"IF(OR(BH319=\"\",BH319=\"-\"),\"\",AF319)","v":""}]
[null,null,null,null,null,null,null,null,null,null,null,null,null,null,null,null,null,null,null,null,null,null,null,null,null,null,null,null,null,null,null,null,null,null,null,null,null,null,null,null,null,null,null,null,null,"(名称：",null,null,null,null,null,")",null,null,null,null,null,null,null,null,null,null,null,null,null,null,null,null,null,null,null,null,null,{"$f":"IF(OR((BO319=\"-\"),(ISNUMBER(BO319)=FALSE)),\"-\",ROUND(AM319*BO319,3))","v":"-"}]
[null,null,"細分類番号",null,null,null,null,null,null,null,null,null,null,null,null,null,null,null,null,null,null,null,null,null,null,null,null,null,null,null,null,null,null,null,null,null,null,null,null,null,null,null,null,null,null,"(単位：",null,null,null,null,null,")"]
[null,102,"工場等に係る\n事業の名称",null,null,null,null,null,null,{"$f":"IF(J324&L324&N324&P324=\"\",\"\",(IF(ISERROR(VLOOKUP(J324&L324&N324&P324,日本標準産業分類!A:B,2,FALSE)),\"該当の細分類がありません\",VLOOKUP(J324&L324&N324&P324,日本標準産業分類!A:B,2,FALSE))))","v":""},null,null,null,null,null,null,null,null,null,null,null,null,null,null,null,null,null,null,null,null,null,{"$f":"IF(R322=\"\",\"\",R322-Y322)","v":""},null,null,null,null,null,null,{"$f":"IF(AF322=\"\",\"\",IF($CM$379=0,\"\",IF(CM322=\"\",\"\",ROUND(AF322/$CM$379,3))))","v":""},null,null,null,null,null,null,null,null,null,null,null,null,null,{"$f":"IF(AT322=\"\",\"\",ROUND(AF322/AT322,3-INT(LOG(AF322/AT322))))","v":""},null,null,null,null,null,null,"-",null,null,null,null,null,null,{"$f":"IF(OR((BH322=\"-\"),(ISNUMBER(BH322)=FALSE)),\"-\",ROUND(BA322/BH322,3))","v":"-"},null,null,null,null,null,null,null,null,null,null,null,null,null,null,null,null,null,null,null,null,null,null,null,{"$f":"IF(OR(BH322=\"\",BH322=\"-\"),\"\",AF322)","v":""}]
[null,null,null,null,null,null,null,null,null,null,null,null,null,null,null,null,null,null,null,null,null,null,null,null,null,null,null,null,null,null,null,null,null,null,null,null,null,null,null,null,null,null,null,null,null,"(名称：",null,null,null,null,null,")",null,null,null,null,null,null,null,null,null,null,null,null,null,null,null,null,null,null,null,null,null,{"$f":"IF(OR((BO322=\"-\"),(ISNUMBER(BO322)=FALSE)),\"-\",ROUND(AM322*BO322,3))","v":"-"}]
[null,null,"細分類番号",null,null,null,null,null,null,null,null,null,null,null,null,null,null,null,null,null,null,null,null,null,null,null,null,null,null,null,null,null,null,null,null,null,null,null,null,null,null,null,null,null,null,"(単位：",null,null,null,null,null,")"]
[null,103,"工場等に係る\n事業の名称",null,null,null,null,null,null,{"$f":"IF(J327&L327&N327&P327=\"\",\"\",(IF(ISERROR(VLOOKUP(J327&L327&N327&P327,日本標準産業分類!A:B,2,FALSE)),\"該当の細分類がありません\",VLOOKUP(J327&L327&N327&P327,日本標準産業分類!A:B,2,FALSE))))","v":""},null,null,null,null,null,null,null,null,null,null,null,null,null,null,null,null,null,null,null,null,null,{"$f":"IF(R325=\"\",\"\",R325-Y325)","v":""},null,null,null,null,null,null,{"$f":"IF(AF325=\"\",\"\",IF($CM$379=0,\"\",IF(CM325=\"\",\"\",ROUND(AF325/$CM$379,3))))","v":""},null,null,null,null,null,null,null,null,null,null,null,null,null,{"$f":"IF(AT325=\"\",\"\",ROUND(AF325/AT325,3-INT(LOG(AF325/AT325))))","v":""},null,null,null,null,null,null,"-",null,null,null,null,null,null,{"$f":"IF(OR((BH325=\"-\"),(ISNUMBER(BH325)=FALSE)),\"-\",ROUND(BA325/BH325,3))","v":"-"},null,null,null,null,null,null,null,null,null,null,null,null,null,null,null,null,null,null,null,null,null,null,null,{"$f":"IF(OR(BH325=\"\",BH325=\"-\"),\"\",AF325)","v":""}]
[null,null,null,null,null,null,null,null,null,null,null,null,null,null,null,null,null,null,null,null,null,null,null,null,null,null,null,null,null,null,null,null,null,null,null,null,null,null,null,null,null,null,null,null,null,"(名称：",null,null,null,null,null,")",null,null,null,null,null,null,null,null,null,null,null,null,null,null,null,null,null,null,null,null,null,{"$f":"IF(OR((BO325=\"-\"),(ISNUMBER(BO325)=FALSE)),\"-\",ROUND(AM325*BO325,3))","v":"-"}]
[null,null,"細分類番号",null,null,null,null,null,null,null,null,null,null,null,null,null,null,null,null,null,null,null,null,null,null,null,null,null,null,null,null,null,null,null,null,null,null,null,null,null,null,null,null,null,null,"(単位：",null,null,null,null,null,")"]
[null,104,"工場等に係る\n事業の名称",null,null,null,null,null,null,{"$f":"IF(J330&L330&N330&P330=\"\",\"\",(IF(ISERROR(VLOOKUP(J330&L330&N330&P330,日本標準産業分類!A:B,2,FALSE)),\"該当の細分類がありません\",VLOOKUP(J330&L330&N330&P330,日本標準産業分類!A:B,2,FALSE))))","v":""},null,null,null,null,null,null,null,null,null,null,null,null,null,null,null,null,null,null,null,null,null,{"$f":"IF(R328=\"\",\"\",R328-Y328)","v":""},null,null,null,null,null,null,{"$f":"IF(AF328=\"\",\"\",IF($CM$379=0,\"\",IF(CM328=\"\",\"\",ROUND(AF328/$CM$379,3))))","v":""},null,null,null,null,null,null,null,null,null,null,null,null,null,{"$f":"IF(AT328=\"\",\"\",ROUND(AF328/AT328,3-INT(LOG(AF328/AT328))))","v":""},null,null,null,null,null,null,"-",null,null,null,null,null,null,{"$f":"IF(OR((BH328=\"-\"),(ISNUMBER(BH328)=FALSE)),\"-\",ROUND(BA328/BH328,3))","v":"-"},null,null,null,null,null,null,null,null,null,null,null,null,null,null,null,null,null,null,null,null,null,null,null,{"$f":"IF(OR(BH328=\"\",BH328=\"-\"),\"\",AF328)","v":""}]
[null,null,null,null,null,null,null,null,null,null,null,null,null,null,null,null,null,null,null,null,null,null,null,null,null,null,null,null,null,null,null,null,null,null,null,null,null,null,null,null,null,null,null,null,null,"(名称：",null,null,null,null,null,")",null,null,null,null,null,null,null,null,null,null,null,null,null,null,null,null,null,null,null,null,null,{"$f":"IF(OR((BO328=\"-\"),(ISNUMBER(BO328)=FALSE)),\"-\",ROUND(AM328*BO328,3))","v":"-"}]
[null,null,"細分類番号",null,null,null,null,null,null,null,null,null,null,null,null,null,null,null,null,null,null,null,null,null,null,null,null,null,null,null,null,null,null,null,null,null,null,null,null,null,null,null,null,null,null,"(単位：",null,null,null,null,null,")"]
[null,105,"工場等に係る\n事業の名称",null,null,null,null,null,null,{"$f":"IF(J333&L333&N333&P333=\"\",\"\",(IF(ISERROR(VLOOKUP(J333&L333&N333&P333,日本標準産業分類!A:B,2,FALSE)),\"該当の細分類がありません\",VLOOKUP(J333&L333&N333&P333,日本標準産業分類!A:B,2,FALSE))))","v":""},null,null,null,null,null,null,null,null,null,null,null,null,null,null,null,null,null,null,null,null,null,{"$f":"IF(R331=\"\",\"\",R331-Y331)","v":""},null,null,null,null,null,null,{"$f":"IF(AF331=\"\",\"\",IF($CM$379=0,\"\",IF(CM331=\"\",\"\",ROUND(AF331/$CM$379,3))))","v":""},null,null,null,null,null,null,null,null,null,null,null,null,null,{"$f":"IF(AT331=\"\",\"\",ROUND(AF331/AT331,3-INT(LOG(AF331/AT331))))","v":""},null,null,null,null,null,null,"-",null,null,null,null,null,null,{"$f":"IF(OR((BH331=\"-\"),(ISNUMBER(BH331)=FALSE)),\"-\",ROUND(BA331/BH331,3))","v":"-"},null,null,null,null,null,null,null,null,null,null,null,null,null,null,null,null,null,null,null,null,null,null,null,{"$f":"IF(OR(BH331=\"\",BH331=\"-\"),\"\",AF331)","v":""}]
[null,null,null,null,null,null,null,null,null,null,null,null,null,null,null,null,null,null,null,null,null,null,null,null,null,null,null,null,null,null,null,null,null,null,null,null,null,null,null,null,null,null,null,null,null,"(名称：",null,null,null,null,null,")",null,null,null,null,null,null,null,null,null,null,null,null,null,null,null,null,null,null,null,null,null,{"$f":"IF(OR((BO331=\"-\"),(ISNUMBER(BO331)=FALSE)),\"-\",ROUND(AM331*BO331,3))","v":"-"}]
[null,null,"細分類番号",null,null,null,null,null,null,null,null,null,null,null,null,null,null,null,null,null,null,null,null,null,null,null,null,null,null,null,null,null,null,null,null,null,null,null,null,null,null,null,null,null,null,"(単位：",null,null,null,null,null,")"]
[null,106,"工場等に係る\n事業の名称",null,null,null,null,null,null,{"$f":"IF(J336&L336&N336&P336=\"\",\"\",(IF(ISERROR(VLOOKUP(J336&L336&N336&P336,日本標準産業分類!A:B,2,FALSE)),\"該当の細分類がありません\",VLOOKUP(J336&L336&N336&P336,日本標準産業分類!A:B,2,FALSE))))","v":""},null,null,null,null,null,null,null,null,null,null,null,null,null,null,null,null,null,null,null,null,null,{"$f":"IF(R334=\"\",\"\",R334-Y334)","v":""},null,null,null,null,null,null,{"$f":"IF(AF334=\"\",\"\",IF($CM$379=0,\"\",IF(CM334=\"\",\"\",ROUND(AF334/$CM$379,3))))","v":""},null,null,null,null,null,null,null,null,null,null,null,null,null,{"$f":"IF(AT334=\"\",\"\",ROUND(AF334/AT334,3-INT(LOG(AF334/AT334))))","v":""},null,null,null,null,null,null,"-",null,null,null,null,null,null,{"$f":"IF(OR((BH334=\"-\"),(ISNUMBER(BH334)=FALSE)),\"-\",ROUND(BA334/BH334,3))","v":"-"},null,null,null,null,null,null,null,null,null,null,null,null,null,null,null,null,null,null,null,null,null,null,null,{"$f":"IF(OR(BH334=\"\",BH334=\"-\"),\"\",AF334)","v":""}]
[null,null,null,null,null,null,null,null,null,null,null,null,null,null,null,null,null,null,null,null,null,null,null,null,null,null,null,null,null,null,null,null,null,null,null,null,null,null,null,null,null,null,null,null,null,"(名称：",null,null,null,null,null,")",null,null,null,null,null,null,null,null,null,null,null,null,null,null,null,null,null,null,null,null,null,{"$f":"IF(OR((BO334=\"-\"),(ISNUMBER(BO334)=FALSE)),\"-\",ROUND(AM334*BO334,3))","v":"-"}]
[null,null,"細分類番号",null,null,null,null,null,null,null,null,null,null,null,null,null,null,null,null,null,null,null,null,null,null,null,null,null,null,null,null,null,null,null,null,null,null,null,null,null,null,null,null,null,null,"(単位：",null,null,null,null,null,")"]
[null,107,"工場等に係る\n事業の名称",null,null,null,null,null,null,{"$f":"IF(J339&L339&N339&P339=\"\",\"\",(IF(ISERROR(VLOOKUP(J339&L339&N339&P339,日本標準産業分類!A:B,2,FALSE)),\"該当の細分類がありません\",VLOOKUP(J339&L339&N339&P339,日本標準産業分類!A:B,2,FALSE))))","v":""},null,null,null,null,null,null,null,null,null,null,null,null,null,null,null,null,null,null,null,null,null,{"$f":"IF(R337=\"\",\"\",R337-Y337)","v":""},null,null,null,null,null,null,{"$f":"IF(AF337=\"\",\"\",IF($CM$379=0,\"\",IF(CM337=\"\",\"\",ROUND(AF337/$CM$379,3))))","v":""},null,null,null,null,null,null,null,null,null,null,null,null,null,{"$f":"IF(AT337=\"\",\"\",ROUND(AF337/AT337,3-INT(LOG(AF337/AT337))))","v":""},null,null,null,null,null,null,"-",null,null,null,null,null,null,{"$f":"IF(OR((BH337=\"-\"),(ISNUMBER(BH337)=FALSE)),\"-\",ROUND(BA337/BH337,3))","v":"-"},null,null,null,null,null,null,null,null,null,null,null,null,null,null,null,null,null,null,null,null,null,null,null,{"$f":"IF(OR(BH337=\"\",BH337=\"-\"),\"\",AF337)","v":""}]
[null,null,null,null,null,null,null,null,null,null,null,null,null,null,null,null,null,null,null,null,null,null,null,null,null,null,null,null,null,null,null,null,null,null,null,null,null,null,null,null,null,null,null,null,null,"(名称：",null,null,null,null,null,")",null,null,null,null,null,null,null,null,null,null,null,null,null,null,null,null,null,null,null,null,null,{"$f":"IF(OR((BO337=\"-\"),(ISNUMBER(BO337)=FALSE)),\"-\",ROUND(AM337*BO337,3))","v":"-"}]
[null,null,"細分類番号",null,null,null,null,null,null,null,null,null,null,null,null,null,null,null,null,null,null,null,null,null,null,null,null,null,null,null,null,null,null,null,null,null,null,null,null,null,null,null,null,null,null,"(単位：",null,null,null,null,null,")"]
[null,108,"工場等に係る\n事業の名称",null,null,null,null,null,null,{"$f":"IF(J342&L342&N342&P342=\"\",\"\",(IF(ISERROR(VLOOKUP(J342&L342&N342&P342,日本標準産業分類!A:B,2,FALSE)),\"該当の細分類がありません\",VLOOKUP(J342&L342&N342&P342,日本標準産業分類!A:B,2,FALSE))))","v":""},null,null,null,null,null,null,null,null,null,null,null,null,null,null,null,null,null,null,null,null,null,{"$f":"IF(R340=\"\",\"\",R340-Y340)","v":""},null,null,null,null,null,null,{"$f":"IF(AF340=\"\",\"\",IF($CM$379=0,\"\",IF(CM340=\"\",\"\",ROUND(AF340/$CM$379,3))))","v":""},null,null,null,null,null,null,null,null,null,null,null,null,null,{"$f":"IF(AT340=\"\",\"\",ROUND(AF340/AT340,3-INT(LOG(AF340/AT340))))","v":""},null,null,null,null,null,null,"-",null,null,null,null,null,null,{"$f":"IF(OR((BH340=\"-\"),(ISNUMBER(BH340)=FALSE)),\"-\",ROUND(BA340/BH340,3))","v":"-"},null,null,null,null,null,null,null,null,null,null,null,null,null,null,null,null,null,null,null,null,null,null,null,{"$f":"IF(OR(BH340=\"\",BH340=\"-\"),\"\",AF340)","v":""}]
[null,null,null,null,null,null,null,null,null,null,null,null,null,null,null,null,null,null,null,null,null,null,null,null,null,null,null,null,null,null,null,null,null,null,null,null,null,null,null,null,null,null,null,null,null,"(名称：",null,null,null,null,null,")",null,null,null,null,null,null,null,null,null,null,null,null,null,null,null,null,null,null,null,null,null,{"$f":"IF(OR((BO340=\"-\"),(ISNUMBER(BO340)=FALSE)),\"-\",ROUND(AM340*BO340,3))","v":"-"}]
[null,null,"細分類番号",null,null,null,null,null,null,null,null,null,null,null,null,null,null,null,null,null,null,null,null,null,null,null,null,null,null,null,null,null,null,null,null,null,null,null,null,null,null,null,null,null,null,"(単位：",null,null,null,null,null,")"]
[null,109,"工場等に係る\n事業の名称",null,null,null,null,null,null,{"$f":"IF(J345&L345&N345&P345=\"\",\"\",(IF(ISERROR(VLOOKUP(J345&L345&N345&P345,日本標準産業分類!A:B,2,FALSE)),\"該当の細分類がありません\",VLOOKUP(J345&L345&N345&P345,日本標準産業分類!A:B,2,FALSE))))","v":""},null,null,null,null,null,null,null,null,null,null,null,null,null,null,null,null,null,null,null,null,null,{"$f":"IF(R343=\"\",\"\",R343-Y343)","v":""},null,null,null,null,null,null,{"$f":"IF(AF343=\"\",\"\",IF($CM$379=0,\"\",IF(CM343=\"\",\"\",ROUND(AF343/$CM$379,3))))","v":""},null,null,null,null,null,null,null,null,null,null,null,null,null,{"$f":"IF(AT343=\"\",\"\",ROUND(AF343/AT343,3-INT(LOG(AF343/AT343))))","v":""},null,null,null,null,null,null,"-",null,null,null,null,null,null,{"$f":"IF(OR((BH343=\"-\"),(ISNUMBER(BH343)=FALSE)),\"-\",ROUND(BA343/BH343,3))","v":"-"},null,null,null,null,null,null,null,null,null,null,null,null,null,null,null,null,null,null,null,null,null,null,null,{"$f":"IF(OR(BH343=\"\",BH343=\"-\"),\"\",AF343)","v":""}]
[null,null,null,null,null,null,null,null,null,null,null,null,null,null,null,null,null,null,null,null,null,null,null,null,null,null,null,null,null,null,null,null,null,null,null,null,null,null,null,null,null,null,null,null,null,"(名称：",null,null,null,null,null,")",null,null,null,null,null,null,null,null,null,null,null,null,null,null,null,null,null,null,null,null,null,{"$f":"IF(OR((BO343=\"-\"),(ISNUMBER(BO343)=FALSE)),\"-\",ROUND(AM343*BO343,3))","v":"-"}]
[null,null,"細分類番号",null,null,null,null,null,null,null,null,null,null,null,null,null,null,null,null,null,null,null,null,null,null,null,null,null,null,null,null,null,null,null,null,null,null,null,null,null,null,null,null,null,null,"(単位：",null,null,null,null,null,")"]
[null,110,"工場等に係る\n事業の名称",null,null,null,null,null,null,{"$f":"IF(J348&L348&N348&P348=\"\",\"\",(IF(ISERROR(VLOOKUP(J348&L348&N348&P348,日本標準産業分類!A:B,2,FALSE)),\"該当の細分類がありません\",VLOOKUP(J348&L348&N348&P348,日本標準産業分類!A:B,2,FALSE))))","v":""},null,null,null,null,null,null,null,null,null,null,null,null,null,null,null,null,null,null,null,null,null,{"$f":"IF(R346=\"\",\"\",R346-Y346)","v":""},null,null,null,null,null,null,{"$f":"IF(AF346=\"\",\"\",IF($CM$379=0,\"\",IF(CM346=\"\",\"\",ROUND(AF346/$CM$379,3))))","v":""},null,null,null,null,null,null,null,null,null,null,null,null,null,{"$f":"IF(AT346=\"\",\"\",ROUND(AF346/AT346,3-INT(LOG(AF346/AT346))))","v":""},null,null,null,null,null,null,"-",null,null,null,null,null,null,{"$f":"IF(OR((BH346=\"-\"),(ISNUMBER(BH346)=FALSE)),\"-\",ROUND(BA346/BH346,3))","v":"-"},null,null,null,null,null,null,null,null,null,null,null,null,null,null,null,null,null,null,null,null,null,null,null,{"$f":"IF(OR(BH346=\"\",BH346=\"-\"),\"\",AF346)","v":""}]
[null,null,null,null,null,null,null,null,null,null,null,null,null,null,null,null,null,null,null,null,null,null,null,null,null,null,null,null,null,null,null,null,null,null,null,null,null,null,null,null,null,null,null,null,null,"(名称：",null,null,null,null,null,")",null,null,null,null,null,null,null,null,null,null,null,null,null,null,null,null,null,null,null,null,null,{"$f":"IF(OR((BO346=\"-\"),(ISNUMBER(BO346)=FALSE)),\"-\",ROUND(AM346*BO346,3))","v":"-"}]
[null,null,"細分類番号",null,null,null,null,null,null,null,null,null,null,null,null,null,null,null,null,null,null,null,null,null,null,null,null,null,null,null,null,null,null,null,null,null,null,null,null,null,null,null,null,null,null,"(単位：",null,null,null,null,null,")"]
[null,111,"工場等に係る\n事業の名称",null,null,null,null,null,null,{"$f":"IF(J351&L351&N351&P351=\"\",\"\",(IF(ISERROR(VLOOKUP(J351&L351&N351&P351,日本標準産業分類!A:B,2,FALSE)),\"該当の細分類がありません\",VLOOKUP(J351&L351&N351&P351,日本標準産業分類!A:B,2,FALSE))))","v":""},null,null,null,null,null,null,null,null,null,null,null,null,null,null,null,null,null,null,null,null,null,{"$f":"IF(R349=\"\",\"\",R349-Y349)","v":""},null,null,null,null,null,null,{"$f":"IF(AF349=\"\",\"\",IF($CM$379=0,\"\",IF(CM349=\"\",\"\",ROUND(AF349/$CM$379,3))))","v":""},null,null,null,null,null,null,null,null,null,null,null,null,null,{"$f":"IF(AT349=\"\",\"\",ROUND(AF349/AT349,3-INT(LOG(AF349/AT349))))","v":""},null,null,null,null,null,null,"-",null,null,null,null,null,null,{"$f":"IF(OR((BH349=\"-\"),(ISNUMBER(BH349)=FALSE)),\"-\",ROUND(BA349/BH349,3))","v":"-"},null,null,null,null,null,null,null,null,null,null,null,null,null,null,null,null,null,null,null,null,null,null,null,{"$f":"IF(OR(BH349=\"\",BH349=\"-\"),\"\",AF349)","v":""}]
[null,null,null,null,null,null,null,null,null,null,null,null,null,null,null,null,null,null,null,null,null,null,null,null,null,null,null,null,null,null,null,null,null,null,null,null,null,null,null,null,null,null,null,null,null,"(名称：",null,null,null,null,null,")",null,null,null,null,null,null,null,null,null,null,null,null,null,null,null,null,null,null,null,null,null,{"$f":"IF(OR((BO349=\"-\"),(ISNUMBER(BO349)=FALSE)),\"-\",ROUND(AM349*BO349,3))","v":"-"}]
[null,null,"細分類番号",null,null,null,null,null,null,null,null,null,null,null,null,null,null,null,null,null,null,null,null,null,null,null,null,null,null,null,null,null,null,null,null,null,null,null,null,null,null,null,null,null,null,"(単位：",null,null,null,null,null,")"]
[null,112,"工場等に係る\n事業の名称",null,null,null,null,null,null,{"$f":"IF(J354&L354&N354&P354=\"\",\"\",(IF(ISERROR(VLOOKUP(J354&L354&N354&P354,日本標準産業分類!A:B,2,FALSE)),\"該当の細分類がありません\",VLOOKUP(J354&L354&N354&P354,日本標準産業分類!A:B,2,FALSE))))","v":""},null,null,null,null,null,null,null,null,null,null,null,null,null,null,null,null,null,null,null,null,null,{"$f":"IF(R352=\"\",\"\",R352-Y352)","v":""},null,null,null,null,null,null,{"$f":"IF(AF352=\"\",\"\",IF($CM$379=0,\"\",IF(CM352=\"\",\"\",ROUND(AF352/$CM$379,3))))","v":""},null,null,null,null,null,null,null,null,null,null,null,null,null,{"$f":"IF(AT352=\"\",\"\",ROUND(AF352/AT352,3-INT(LOG(AF352/AT352))))","v":""},null,null,null,null,null,null,"-",null,null,null,null,null,null,{"$f":"IF(OR((BH352=\"-\"),(ISNUMBER(BH352)=FALSE)),\"-\",ROUND(BA352/BH352,3))","v":"-"},null,null,null,null,null,null,null,null,null,null,null,null,null,null,null,null,null,null,null,null,null,null,null,{"$f":"IF(OR(BH352=\"\",BH352=\"-\"),\"\",AF352)","v":""}]
[null,null,null,null,null,null,null,null,null,null,null,null,null,null,null,null,null,null,null,null,null,null,null,null,null,null,null,null,null,null,null,null,null,null,null,null,null,null,null,null,null,null,null,null,null,"(名称：",null,null,null,null,null,")",null,null,null,null,null,null,null,null,null,null,null,null,null,null,null,null,null,null,null,null,null,{"$f":"IF(OR((BO352=\"-\"),(ISNUMBER(BO352)=FALSE)),\"-\",ROUND(AM352*BO352,3))","v":"-"}]
[null,null,"細分類番号",null,null,null,null,null,null,null,null,null,null,null,null,null,null,null,null,null,null,null,null,null,null,null,null,null,null,null,null,null,null,null,null,null,null,null,null,null,null,null,null,null,null,"(単位：",null,null,null,null,null,")"]
[null,113,"工場等に係る\n事業の名称",null,null,null,null,null,null,{"$f":"IF(J357&L357&N357&P357=\"\",\"\",(IF(ISERROR(VLOOKUP(J357&L357&N357&P357,日本標準産業分類!A:B,2,FALSE)),\"該当の細分類がありません\",VLOOKUP(J357&L357&N357&P357,日本標準産業分類!A:B,2,FALSE))))","v":""},null,null,null,null,null,null,null,null,null,null,null,null,null,null,null,null,null,null,null,null,null,{"$f":"IF(R355=\"\",\"\",R355-Y355)","v":""},null,null,null,null,null,null,{"$f":"IF(AF355=\"\",\"\",IF($CM$379=0,\"\",IF(CM355=\"\",\"\",ROUND(AF355/$CM$379,3))))","v":""},null,null,null,null,null,null,null,null,null,null,null,null,null,{"$f":"IF(AT355=\"\",\"\",ROUND(AF355/AT355,3-INT(LOG(AF355/AT355))))","v":""},null,null,null,null,null,null,"-",null,null,null,null,null,null,{"$f":"IF(OR((BH355=\"-\"),(ISNUMBER(BH355)=FALSE)),\"-\",ROUND(BA355/BH355,3))","v":"-"},null,null,null,null,null,null,null,null,null,null,null,null,null,null,null,null,null,null,null,null,null,null,null,{"$f":"IF(OR(BH355=\"\",BH355=\"-\"),\"\",AF355)","v":""}]
[null,null,null,null,null,null,null,null,null,null,null,null,null,null,null,null,null,null,null,null,null,null,null,null,null,null,null,null,null,null,null,null,null,null,null,null,null,null,null,null,null,null,null,null,null,"(名称：",null,null,null,null,null,")",null,null,null,null,null,null,null,null,null,null,null,null,null,null,null,null,null,null,null,null,null,{"$f":"IF(OR((BO355=\"-\"),(ISNUMBER(BO355)=FALSE)),\"-\",ROUND(AM355*BO355,3))","v":"-"}]
[null,null,"細分類番号",null,null,null,null,null,null,null,null,null,null,null,null,null,null,null,null,null,null,null,null,null,null,null,null,null,null,null,null,null,null,null,null,null,null,null,null,null,null,null,null,null,null,"(単位：",null,null,null,null,null,")"]
[null,114,"工場等に係る\n事業の名称",null,null,null,null,null,null,{"$f":"IF(J360&L360&N360&P360=\"\",\"\",(IF(ISERROR(VLOOKUP(J360&L360&N360&P360,日本標準産業分類!A:B,2,FALSE)),\"該当の細分類がありません\",VLOOKUP(J360&L360&N360&P360,日本標準産業分類!A:B,2,FALSE))))","v":""},null,null,null,null,null,null,null,null,null,null,null,null,null,null,null,null,null,null,null,null,null,{"$f":"IF(R358=\"\",\"\",R358-Y358)","v":""},null,null,null,null,null,null,{"$f":"IF(AF358=\"\",\"\",IF($CM$379=0,\"\",IF(CM358=\"\",\"\",ROUND(AF358/$CM$379,3))))","v":""},null,null,null,null,null,null,null,null,null,null,null,null,null,{"$f":"IF(AT358=\"\",\"\",ROUND(AF358/AT358,3-INT(LOG(AF358/AT358))))","v":""},null,null,null,null,null,null,"-",null,null,null,null,null,null,{"$f":"IF(OR((BH358=\"-\"),(ISNUMBER(BH358)=FALSE)),\"-\",ROUND(BA358/BH358,3))","v":"-"},null,null,null,null,null,null,null,null,null,null,null,null,null,null,null,null,null,null,null,null,null,null,null,{"$f":"IF(OR(BH358=\"\",BH358=\"-\"),\"\",AF358)","v":""}]
[null,null,null,null,null,null,null,null,null,null,null,null,null,null,null,null,null,null,null,null,null,null,null,null,null,null,null,null,null,null,null,null,null,null,null,null,null,null,null,null,null,null,null,null,null,"(名称：",null,null,null,null,null,")",null,null,null,null,null,null,null,null,null,null,null,null,null,null,null,null,null,null,null,null,null,{"$f":"IF(OR((BO358=\"-\"),(ISNUMBER(BO358)=FALSE)),\"-\",ROUND(AM358*BO358,3))","v":"-"}]
[null,null,"細分類番号",null,null,null,null,null,null,null,null,null,null,null,null,null,null,null,null,null,null,null,null,null,null,null,null,null,null,null,null,null,null,null,null,null,null,null,null,null,null,null,null,null,null,"(単位：",null,null,null,null,null,")"]
[null,115,"工場等に係る\n事業の名称",null,null,null,null,null,null,{"$f":"IF(J363&L363&N363&P363=\"\",\"\",(IF(ISERROR(VLOOKUP(J363&L363&N363&P363,日本標準産業分類!A:B,2,FALSE)),\"該当の細分類がありません\",VLOOKUP(J363&L363&N363&P363,日本標準産業分類!A:B,2,FALSE))))","v":""},null,null,null,null,null,null,null,null,null,null,null,null,null,null,null,null,null,null,null,null,null,{"$f":"IF(R361=\"\",\"\",R361-Y361)","v":""},null,null,null,null,null,null,{"$f":"IF(AF361=\"\",\"\",IF($CM$379=0,\"\",IF(CM361=\"\",\"\",ROUND(AF361/$CM$379,3))))","v":""},null,null,null,null,null,null,null,null,null,null,null,null,null,{"$f":"IF(AT361=\"\",\"\",ROUND(AF361/AT361,3-INT(LOG(AF361/AT361))))","v":""},null,null,null,null,null,null,"-",null,null,null,null,null,null,{"$f":"IF(OR((BH361=\"-\"),(ISNUMBER(BH361)=FALSE)),\"-\",ROUND(BA361/BH361,3))","v":"-"},null,null,null,null,null,null,null,null,null,null,null,null,null,null,null,null,null,null,null,null,null,null,null,{"$f":"IF(OR(BH361=\"\",BH361=\"-\"),\"\",AF361)","v":""}]
[null,null,null,null,null,null,null,null,null,null,null,null,null,null,null,null,null,null,null,null,null,null,null,null,null,null,null,null,null,null,null,null,null,null,null,null,null,null,null,null,null,null,null,null,null,"(名称：",null,null,null,null,null,")",null,null,null,null,null,null,null,null,null,null,null,null,null,null,null,null,null,null,null,null,null,{"$f":"IF(OR((BO361=\"-\"),(ISNUMBER(BO361)=FALSE)),\"-\",ROUND(AM361*BO361,3))","v":"-"}]
[null,null,"細分類番号",null,null,null,null,null,null,null,null,null,null,null,null,null,null,null,null,null,null,null,null,null,null,null,null,null,null,null,null,null,null,null,null,null,null,null,null,null,null,null,null,null,null,"(単位：",null,null,null,null,null,")"]
[null,116,"工場等に係る\n事業の名称",null,null,null,null,null,null,{"$f":"IF(J366&L366&N366&P366=\"\",\"\",(IF(ISERROR(VLOOKUP(J366&L366&N366&P366,日本標準産業分類!A:B,2,FALSE)),\"該当の細分類がありません\",VLOOKUP(J366&L366&N366&P366,日本標準産業分類!A:B,2,FALSE))))","v":""},null,null,null,null,null,null,null,null,null,null,null,null,null,null,null,null,null,null,null,null,null,{"$f":"IF(R364=\"\",\"\",R364-Y364)","v":""},null,null,null,null,null,null,{"$f":"IF(AF364=\"\",\"\",IF($CM$379=0,\"\",IF(CM364=\"\",\"\",ROUND(AF364/$CM$379,3))))","v":""},null,null,null,null,null,null,null,null,null,null,null,null,null,{"$f":"IF(AT364=\"\",\"\",ROUND(AF364/AT364,3-INT(LOG(AF364/AT364))))","v":""},null,null,null,null,null,null,"-",null,null,null,null,null,null,{"$f":"IF(OR((BH364=\"-\"),(ISNUMBER(BH364)=FALSE)),\"-\",ROUND(BA364/BH364,3))","v":"-"},null,null,null,null,null,null,null,null,null,null,null,null,null,null,null,null,null,null,null,null,null,null,null,{"$f":"IF(OR(BH364=\"\",BH364=\"-\"),\"\",AF364)","v":""}]
[null,null,null,null,null,null,null,null,null,null,null,null,null,null,null,null,null,null,null,null,null,null,null,null,null,null,null,null,null,null,null,null,null,null,null,null,null,null,null,null,null,null,null,null,null,"(名称：",null,null,null,null,null,")",null,null,null,null,null,null,null,null,null,null,null,null,null,null,null,null,null,null,null,null,null,{"$f":"IF(OR((BO364=\"-\"),(ISNUMBER(BO364)=FALSE)),\"-\",ROUND(AM364*BO364,3))","v":"-"}]
[null,null,"細分類番号",null,null,null,null,null,null,null,null,null,null,null,null,null,null,null,null,null,null,null,null,null,null,null,null,null,null,null,null,null,null,null,null,null,null,null,null,null,null,null,null,null,null,"(単位：",null,null,null,null,null,")"]
[null,117,"工場等に係る\n事業の名称",null,null,null,null,null,null,{"$f":"IF(J369&L369&N369&P369=\"\",\"\",(IF(ISERROR(VLOOKUP(J369&L369&N369&P369,日本標準産業分類!A:B,2,FALSE)),\"該当の細分類がありません\",VLOOKUP(J369&L369&N369&P369,日本標準産業分類!A:B,2,FALSE))))","v":""},null,null,null,null,null,null,null,null,null,null,null,null,null,null,null,null,null,null,null,null,null,{"$f":"IF(R367=\"\",\"\",R367-Y367)","v":""},null,null,null,null,null,null,{"$f":"IF(AF367=\"\",\"\",IF($CM$379=0,\"\",IF(CM367=\"\",\"\",ROUND(AF367/$CM$379,3))))","v":""},null,null,null,null,null,null,null,null,null,null,null,null,null,{"$f":"IF(AT367=\"\",\"\",ROUND(AF367/AT367,3-INT(LOG(AF367/AT367))))","v":""},null,null,null,null,null,null,"-",null,null,null,null,null,null,{"$f":"IF(OR((BH367=\"-\"),(ISNUMBER(BH367)=FALSE)),\"-\",ROUND(BA367/BH367,3))","v":"-"},null,null,null,null,null,null,null,null,null,null,null,null,null,null,null,null,null,null,null,null,null,null,null,{"$f":"IF(OR(BH367=\"\",BH367=\"-\"),\"\",AF367)","v":""}]
[null,null,null,null,null,null,null,null,null,null,null,null,null,null,null,null,null,null,null,null,null,null,null,null,null,null,null,null,null,null,null,null,null,null,null,null,null,null,null,null,null,null,null,null,null,"(名称：",null,null,null,null,null,")",null,null,null,null,null,null,null,null,null,null,null,null,null,null,null,null,null,null,null,null,null,{"$f":"IF(OR((BO367=\"-\"),(ISNUMBER(BO367)=FALSE)),\"-\",ROUND(AM367*BO367,3))","v":"-"}]
[null,null,"細分類番号",null,null,null,null,null,null,null,null,null,null,null,null,null,null,null,null,null,null,null,null,null,null,null,null,null,null,null,null,null,null,null,null,null,null,null,null,null,null,null,null,null,null,"(単位：",null,null,null,null,null,")"]
[null,118,"工場等に係る\n事業の名称",null,null,null,null,null,null,{"$f":"IF(J372&L372&N372&P372=\"\",\"\",(IF(ISERROR(VLOOKUP(J372&L372&N372&P372,日本標準産業分類!A:B,2,FALSE)),\"該当の細分類がありません\",VLOOKUP(J372&L372&N372&P372,日本標準産業分類!A:B,2,FALSE))))","v":""},null,null,null,null,null,null,null,null,null,null,null,null,null,null,null,null,null,null,null,null,null,{"$f":"IF(R370=\"\",\"\",R370-Y370)","v":""},null,null,null,null,null,null,{"$f":"IF(AF370=\"\",\"\",IF($CM$379=0,\"\",IF(CM370=\"\",\"\",ROUND(AF370/$CM$379,3))))","v":""},null,null,null,null,null,null,null,null,null,null,null,null,null,{"$f":"IF(AT370=\"\",\"\",ROUND(AF370/AT370,3-INT(LOG(AF370/AT370))))","v":""},null,null,null,null,null,null,"-",null,null,null,null,null,null,{"$f":"IF(OR((BH370=\"-\"),(ISNUMBER(BH370)=FALSE)),\"-\",ROUND(BA370/BH370,3))","v":"-"},null,null,null,null,null,null,null,null,null,null,null,null,null,null,null,null,null,null,null,null,null,null,null,{"$f":"IF(OR(BH370=\"\",BH370=\"-\"),\"\",AF370)","v":""}]
[null,null,null,null,null,null,null,null,null,null,null,null,null,null,null,null,null,null,null,null,null,null,null,null,null,null,null,null,null,null,null,null,null,null,null,null,null,null,null,null,null,null,null,null,null,"(名称：",null,null,null,null,null,")",null,null,null,null,null,null,null,null,null,null,null,null,null,null,null,null,null,null,null,null,null,{"$f":"IF(OR((BO370=\"-\"),(ISNUMBER(BO370)=FALSE)),\"-\",ROUND(AM370*BO370,3))","v":"-"}]
[null,null,"細分類番号",null,null,null,null,null,null,null,null,null,null,null,null,null,null,null,null,null,null,null,null,null,null,null,null,null,null,null,null,null,null,null,null,null,null,null,null,null,null,null,null,null,null,"(単位：",null,null,null,null,null,")"]
[null,119,"工場等に係る\n事業の名称",null,null,null,null,null,null,{"$f":"IF(J375&L375&N375&P375=\"\",\"\",(IF(ISERROR(VLOOKUP(J375&L375&N375&P375,日本標準産業分類!A:B,2,FALSE)),\"該当の細分類がありません\",VLOOKUP(J375&L375&N375&P375,日本標準産業分類!A:B,2,FALSE))))","v":""},null,null,null,null,null,null,null,null,null,null,null,null,null,null,null,null,null,null,null,null,null,{"$f":"IF(R373=\"\",\"\",R373-Y373)","v":""},null,null,null,null,null,null,{"$f":"IF(AF373=\"\",\"\",IF($CM$379=0,\"\",IF(CM373=\"\",\"\",ROUND(AF373/$CM$379,3))))","v":""},null,null,null,null,null,null,null,null,null,null,null,null,null,{"$f":"IF(AT373=\"\",\"\",ROUND(AF373/AT373,3-INT(LOG(AF373/AT373))))","v":""},null,null,null,null,null,null,"-",null,null,null,null,null,null,{"$f":"IF(OR((BH373=\"-\"),(ISNUMBER(BH373)=FALSE)),\"-\",ROUND(BA373/BH373,3))","v":"-"},null,null,null,null,null,null,null,null,null,null,null,null,null,null,null,null,null,null,null,null,null,null,null,{"$f":"IF(OR(BH373=\"\",BH373=\"-\"),\"\",AF373)","v":""}]
[null,null,null,null,null,null,null,null,null,null,null,null,null,null,null,null,null,null,null,null,null,null,null,null,null,null,null,null,null,null,null,null,null,null,null,null,null,null,null,null,null,null,null,null,null,"(名称：",null,null,null,null,null,")",null,null,null,null,null,null,null,null,null,null,null,null,null,null,null,null,null,null,null,null,null,{"$f":"IF(OR((BO373=\"-\"),(ISNUMBER(BO373)=FALSE)),\"-\",ROUND(AM373*BO373,3))","v":"-"}]
[null,null,"細分類番号",null,null,null,null,null,null,null,null,null,null,null,null,null,null,null,null,null,null,null,null,null,null,null,null,null,null,null,null,null,null,null,null,null,null,null,null,null,null,null,null,null,null,"(単位：",null,null,null,null,null,")"]
[null,120,"工場等に係る\n事業の名称",null,null,null,null,null,null,{"$f":"IF(J378&L378&N378&P378=\"\",\"\",(IF(ISERROR(VLOOKUP(J378&L378&N378&P378,日本標準産業分類!A:B,2,FALSE)),\"該当の細分類がありません\",VLOOKUP(J378&L378&N378&P378,日本標準産業分類!A:B,2,FALSE))))","v":""},null,null,null,null,null,null,null,null,null,null,null,null,null,null,null,null,null,null,null,null,null,{"$f":"IF(R376=\"\",\"\",R376-Y376)","v":""},null,null,null,null,null,null,{"$f":"IF(AF376=\"\",\"\",IF($CM$379=0,\"\",IF(CM376=\"\",\"\",ROUND(AF376/$CM$379,3))))","v":""},null,null,null,null,null,null,null,null,null,null,null,null,null,{"$f":"IF(AT376=\"\",\"\",ROUND(AF376/AT376,3-INT(LOG(AF376/AT376))))","v":""},null,null,null,null,null,null,"-",null,null,null,null,null,null,{"$f":"IF(OR((BH376=\"-\"),(ISNUMBER(BH376)=FALSE)),\"-\",ROUND(BA376/BH376,3))","v":"-"},null,null,null,null,null,null,null,null,null,null,null,null,null,null,null,null,null,null,null,null,null,null,null,{"$f":"IF(OR(BH376=\"\",BH376=\"-\"),\"\",AF376)","v":""}]
[null,null,null,null,null,null,null,null,null,null,null,null,null,null,null,null,null,null,null,null,null,null,null,null,null,null,null,null,null,null,null,null,null,null,null,null,null,null,null,null,null,null,null,null,null,"(名称：",null,null,null,null,null,")",null,null,null,null,null,null,null,null,null,null,null,null,null,null,null,null,null,null,null,null,null,{"$f":"IF(OR((BO376=\"-\"),(ISNUMBER(BO376)=FALSE)),\"-\",ROUND(AM376*BO376,3))","v":"-"}]
[null,null,"細分類番号",null,null,null,null,null,null,null,null,null,null,null,null,null,null,null,null,null,null,null,null,null,null,null,null,null,null,null,null,null,null,null,null,null,null,null,null,null,null,null,null,null,null,"(単位：",null,null,null,null,null,")"]
[null,"事業者全体",null,null,null,null,null,null,null,null,null,null,null,null,null,null,null,"Ⓢ（合計）",null,null,null,null,null,null,"Ⓣ（合計）",null,null,null,null,null,null,"Ⓤ （合計）",null,null,null,null,null,null,1,null,null,null,null,null,null,"Ⓥ",null,null,null,null,null,null,"Ⓦ",null,null,null,null,null,null,"Ⓧ",null,null,null,null,null,null,"Ⓨ=Ⓦ/Ⓧ×100",null,null,null,null,null,null,null,null,null,null,null,null,null,null,null,null,null,null,null,null,null,null,null,{"$f":"SUM(CM19:CS378)","v":1894}]
[null,null,null,null,null,null,null,null,null,null,null,null,null,null,null,null,null,{"$f":"IF(R19=\"\",\"\",SUM(R19:X378))","v":1894},null,null,null,null,null,null,{"$f":"IF(Y19=\"\",\"\",SUM(Y19:AE378))","v":0},null,null,null,null,null,null,{"$f":"IF(AF19=\"\",\"\",SUM(AF19:AL378))","v":1894},null,null,null,null,null,null,null,null,null,null,null,null,null,{"$f":"AT19+AT22","v":29235},null,null,null,null,null,null,{"$f":"IF(AT380=\"\",\"\",ROUND(AF380/AT380,3-INT(LOG(AF380/AT380))))","v":6.479E-2},null,null,null,null,null,null,{"$f":"IF($C$5=FALSE,\"-\",IF(入力・計算補助!M17=\"\",\"-\",入力・計算補助!M17))","v":"0.0678"}]
[null,null,null,null,null,null,null,null,null,null,null,null,null,null,null,null,null,null,null,null,null,null,null,null,null,null,null,null,null,null,null,null,null,null,null,null,null,null,null,null,null,null,null,null,null,"(名称：",null,null,"延床面積",null,null,")",null,null,null,null,null,null,null,null,null,null,null,null,null,null,{"$f":"IF(OR(BH380=\"\",BH380=\"-\"),\"-\",ROUND(BA380/BH380,3))","v":0.95599999999999996}]
[null,null,null,null,null,null,null,null,null,null,null,null,null,null,null,null,null,null,null,null,null,null,null,null,null,null,null,null,null,null,null,null,null,null,null,null,null,null,null,null,null,null,null,null,null,"(単位：",null,null,"ｍ2",null,null,")"]
[null,null,null,null,null,null,null,null,null,null,null,null,null,null,null,null,null,null,null,null,null,null,null,null,null,null,null,null,null,null,null,null,null,null,null,null,null,null,null,null,null,null,null,null,null,null,null,null,null,null,null,null,null,null,null,null,null,null,null,null,null,null,null,null,null,null,"Ⓩ＝①+②+③+…\n"]
[null,null,null,null,null,null,null,null,null,null,null,null,null,null,null,null,null,null,null,null,null,null,null,null,null,null,null,null,null,null,null,null,null,null,null,null,null,null,null,null,null,null,null,null,null,null,null,null,null,null,null,null,null,null,null,null,null,null,null,null,null,null,null,null,null,null,{"$f":"IF(COUNT(BV20:BV378)=0,\"-\",SUM(BV19:CB384))","v":0.96000000000000008}]
[null,null,null,null,null,null,null,null,null,null,null,null,null,null,null,null,null,null,null,null,null,null,null,null,null,null,null,null,null,null,null,null,null,null,null,null,null,null,null,null,null,null,null,null,null,{"$f":"IF(CD20+CD21=0,\"事業分類ごとのエネルギーの使用に係る原単位かⓋ～Ⓧの事業者全体の原単位を記入して下さい\",\"\")","v":""}]
[null,null,null,null,null,null,null,null,null,null,null,null,null,null,null,null,null,null,null,null,null,null,null,null,null,null,null,null,null,null,null,null,null,null,null,null,null,null,null,null,null,null,null,null,null,{"$f":"IF(CD20+CD21=2,\"Ⓥ～Ⓧの事業者全体の原単位を記入する場合は事業ごとの原単位は記入不要です。\",\"\")","v":"Ⓥ～Ⓧの事業者全体の原単位を記入する場合は事業ごとの原単位は記入不要です。"}]
[null,null,"備考",null,null,"１　エネルギー管理指定工場等及びエネルギー管理指定工場等以外の工場等を事業分類ごとに合計した値をそれぞれ記入する。"]
[null,null,null,null,null,"２　工場等に係る事業の名称及び細分類番号は、原則として日本標準産業分類とする。事業分類が４分類以上になる場合には、項の追加を行うこと。"]
[null,null,null,null,null,"３　事業者全体の「エネルギーの使用に係る原単位Ⓦ」の算出が難しい場合は、「エネルギーの使用に係る原単位の対前年度比の寄与度の合計値Ⓩ」を事業者全体のエネルギー　　"]
[null,null,null,null,null,"　の使用に係る原単位の対前年度比としてもよい。その際、ⓋⓌⓍⓎは記入不要。"]
[null,null,null,null,null,"４　事業者全体の「エネルギーの使用に係る原単位Ⓦ」が算出できる場合は、事業分類ごとのⒶⒷⒸ及び事業者全体のⓈからⓎまで記入すること。 "]
[]
[]
[]
[null,"２　電気需要平準化評価原単位等",null,null,null,null,null,null,null,null,null,null,null,null,null,null,null,null,null,null,null,null,null,null,null,null,null,null,null,null,null,null,null,null,null,null,null,null,null,null,null,null,null,null,null,null,null,null,null,null,null,null,null,null,null,null,null,null,null,null,null,null,null,null,null,null,null,null,null,null,null,null,null,null,null,null,null,null,null,null,null,null,null,null,null,null,null,null,null,null,"計算用、非表示"]
[null,null,null,null,null,null,null,null,null,null,null,null,null,null,null,null,null,null,null,null,null,null,null,null,null,null,null,null,null,null,null,null,null,null,null,null,null,null,null,null,null,null,null,null,null,null,null,null,null,null,null,null,null,null,null,null,null,null,null,null,null,null,null,null,null,null,null,null,null,null,null,null,null,null,null,null,null,null,null,null,null,null,null,null,null,null,null,null,null,null,null,"↓"]
[null,"番\n号","事業分類",null,null,null,null,null,null,null,null,null,null,null,null,null,null,"事業分類ごとの電気需要平準化評価原単位等の計算"]
[null,null,null,null,null,null,null,null,null,null,null,null,null,null,null,null,null,"エネルギーの使用量\n(原油換算ｋｌ)",null,null,null,null,null,null,"電気需要平準化時間帯の買電量\n(原油換算ｋｌ)",null,null,null,null,null,null,"販売した副生エネルギーの量\n(原油換算ｋｌ)",null,null,null,null,null,null,"Ⓒ'=\nⒶ+Ⓐ'×(評価係数-1)-Ⓑ\n",null,null,null,null,null,null,"Ⓒの構成割合（％）\n\n　　　 Ⓓ\n（特定第３表１のⒹと同じ値）",null,null,null,null,null,null,"生産数量又は建物延床面積その他のエネルギー使用量と密接な関係をもつ値",null,null,null,null,null,null,"電気需要平準化評価原単位",null,null,null,null,null,null,"前年度の電気需要平準化評価原単位",null,null,null,null,null,null,"電気需要平準化評価原単位の対前年度比（％）\n",null,null,null,null,null,null,"電気需要平準化評価原単位の対前年度比の寄与度（％）\n"]
[null,null,null,null,null,null,null,null,null,null,null,null,null,null,null,null,null,"Ⓐ",null,null,null,null,null,null,"Ⓐ'",null,null,null,null,null,null,"Ⓑ",null,null,null,null,null,null,null,null,null,null,null,null,null,null,null,null,null,null,null,null,"Ⓔ",null,null,null,null,null,null,"Ⓕ'=\nⒸ'/Ⓔ",null,null,null,null,null,null,"Ⓖ'",null,null,null,null,null,null,"Ⓗ'=\nⒻ'/Ⓖ'×100",null,null,null,null,null,null,"Ⓘ'=\nⒹ×Ⓗ'/100",null,null,null,null,null,null,null,null,null,"Ⓒ=Ⓐ-Ⓑ"]
[null,1,"工場等に係る\n事業の名称",null,null,null,null,null,null,{"$f":"IF(J19=\"\",\"\",J19)","v":"ジュエリー製品小売"},null,null,null,null,null,null,null,{"$f":"IF(R19=\"\",\"\",R19)","v":1777},null,null,null,null,null,null,1003,null,null,null,null,null,null,{"$f":"IF(Y19=\"\",\"\",Y19)","v":0},null,null,null,null,null,null,{"$f":"IF(R400=\"\",\"\",IF(AF400=\"\",R400+(Y400*(1.3-1)),R400+(Y400*(1.3-1))-AF400))","v":2077.9},null,null,null,null,null,null,{"$f":"IF(AM400=\"\",\"\",IF($CM$761=0,\"\",IF(CM400=\"\",\"\",ROUND(CM400/$CM$761,3))))","v":0.93799999999999994},null,null,null,null,null,null,{"$f":"IF(AT19=\"\",\"\",AT19)","v":25411},null,null,null,null,null,null,{"$f":"IF(BA400=\"\",\"\",ROUND(AM400/BA400,3-INT(LOG(AM400/BA400))))","v":8.1769999999999995E-2},null,null,null,null,null,null,8.4900000000000003E-2,null,null,null,null,null,null,{"$f":"IF(OR((BO400=\"-\"),(ISNUMBER(BO400)=FALSE)),\"-\",ROUND(BH400/BO400,3))","v":0.96299999999999997},null,null,null,null,null,null,"①'",null,null,null,null,null,null,null,null,null,{"$f":"CM19","v":1777}]
[null,null,null,null,null,null,null,null,null,null,null,null,null,null,null,null,null,null,null,null,null,null,null,null,null,null,null,null,null,null,null,null,null,null,null,null,null,null,null,null,null,null,null,null,null,null,null,null,null,null,null,null,"(名称：",null,null,{"$f":"IF(AW20=\"\",\"\",AW20)","v":"延床面積"},null,null,")",null,null,null,null,null,null,null,null,null,null,null,null,null,null,null,null,null,null,null,null,null,{"$f":"IF(OR((BV400=\"-\"),(ISNUMBER(BV400)=FALSE)),\"-\",ROUND(AT400*BV400,3))","v":0.90300000000000002},null,null,null,null,null,null,null,null,{"$f":"IF(BA400>0,1,0)","v":1}]
[null,null,"細分類番号",null,null,null,null,null,null,{"$f":"IF(J21=\"\",\"\",J21)","v":6},null,{"$f":"IF(L21=\"\",\"\",L21)","v":0},null,{"$f":"IF(N21=\"\",\"\",N21)","v":9},null,{"$f":"IF(P21=\"\",\"\",P21)","v":5},null,null,null,null,null,null,null,null,null,null,null,null,null,null,null,null,null,null,null,null,null,null,null,null,null,null,null,null,null,null,null,null,null,null,null,null,"(単位：",null,null,{"$f":"IF(AW21=\"\",\"\",AW21)","v":"ｍ2"},null,null,")",null,null,null,null,null,null,null,null,null,null,null,null,null,null,null,null,null,null,null,null,null,null,null,null,null,null,null,null,null,null,{"$f":"IF(BA761>0,1,0)","v":1}]
[null,2,"工場等に係る\n事業の名称",null,null,null,null,null,null,{"$f":"IF(J22=\"\",\"\",J22)","v":"主として管理事務を行う事務所"},null,null,null,null,null,null,null,{"$f":"IF(R22=\"\",\"\",R22)","v":117},null,null,null,null,null,null,117,null,null,null,null,null,null,{"$f":"IF(Y22=\"\",\"\",Y22)","v":0},null,null,null,null,null,null,{"$f":"IF(R403=\"\",\"\",IF(AF403=\"\",R403+(Y403*(1.3-1)),R403+(Y403*(1.3-1))-AF403))","v":152.10000000000002},null,null,null,null,null,null,{"$f":"IF(AM403=\"\",\"\",IF($CM$761=0,\"\",IF(CM403=\"\",\"\",ROUND(CM403/$CM$761,3))))","v":6.2E-2},null,null,null,null,null,null,{"$f":"IF(AT22=\"\",\"\",AT22)","v":3824},null,null,null,null,null,null,{"$f":"IF(BA403=\"\",\"\",ROUND(AM403/BA403,3-INT(LOG(AM403/BA403))))","v":3.9780000000000003E-2},null,null,null,null,null,null,4.6300000000000001E-2,null,null,null,null,null,null,{"$f":"IF(OR((BO403=\"-\"),(ISNUMBER(BO403)=FALSE)),\"-\",ROUND(BH403/BO403,3))","v":0.85899999999999999},null,null,null,null,null,null,"②'",null,null,null,null,null,null,null,null,null,{"$f":"CM22","v":117}]
[null,null,null,null,null,null,null,null,null,null,null,null,null,null,null,null,null,null,null,null,null,null,null,null,null,null,null,null,null,null,null,null,null,null,null,null,null,null,null,null,null,null,null,null,null,null,null,null,null,null,null,null,"(名称：",null,null,{"$f":"IF(AW23=\"\",\"\",AW23)","v":"延床面積"},null,null,")",null,null,null,null,null,null,null,null,null,null,null,null,null,null,null,null,null,null,null,null,null,{"$f":"IF(OR((BV403=\"-\"),(ISNUMBER(BV403)=FALSE)),\"-\",ROUND(AT403*BV403,3))","v":5.2999999999999999E-2}]
[null,null,"細分類番号",null,null,null,null,null,null,{"$f":"IF(J24=\"\",\"\",J24)","v":6},null,{"$f":"IF(L24=\"\",\"\",L24)","v":0},null,{"$f":"IF(N24=\"\",\"\",N24)","v":0},null,{"$f":"IF(P24=\"\",\"\",P24)","v":0},null,null,null,null,null,null,null,null,null,null,null,null,null,null,null,null,null,null,null,null,null,null,null,null,null,null,null,null,null,null,null,null,null,null,null,null,"(単位：",null,null,{"$f":"IF(AW24=\"\",\"\",AW24)","v":"ｍ2"},null,null,")"]
[null,3,"工場等に係る\n事業の名称",null,null,null,null,null,null,{"$f":"IF(J25=\"\",\"\",J25)","v":""},null,null,null,null,null,null,null,{"$f":"IF(R25=\"\",\"\",R25)","v":""},null,null,null,null,null,null,null,null,null,null,null,null,null,{"$f":"IF(Y25=\"\",\"\",Y25)","v":""},null,null,null,null,null,null,{"$f":"IF(R406=\"\",\"\",IF(AF406=\"\",R406+(Y406*(1.3-1)),R406+(Y406*(1.3-1))-AF406))","v":""},null,null,null,null,null,null,{"$f":"IF(AM406=\"\",\"\",IF($CM$761=0,\"\",IF(CM406=\"\",\"\",ROUND(CM406/$CM$761,3))))","v":""},null,null,null,null,null,null,{"$f":"IF(AT25=\"\",\"\",AT25)","v":""},null,null,null,null,null,null,{"$f":"IF(BA406=\"\",\"\",ROUND(AM406/BA406,3-INT(LOG(AM406/BA406))))","v":""},null,null,null,null,null,null,"-",null,null,null,null,null,null,{"$f":"IF(OR((BO406=\"-\"),(ISNUMBER(BO406)=FALSE)),\"-\",ROUND(BH406/BO406,3))","v":"-"},null,null,null,null,null,null,"③'",null,null,null,null,null,null,null,null,null,{"$f":"CM25","v":""}]
[null,null,null,null,null,null,null,null,null,null,null,null,null,null,null,null,null,null,null,null,null,null,null,null,null,null,null,null,null,null,null,null,null,null,null,null,null,null,null,null,null,null,null,null,null,null,null,null,null,null,null,null,"(名称：",null,null,{"$f":"IF(AW26=\"\",\"\",AW26)","v":""},null,null,")",null,null,null,null,null,null,null,null,null,null,null,null,null,null,null,null,null,null,null,null,null,{"$f":"IF(OR((BV406=\"-\"),(ISNUMBER(BV406)=FALSE)),\"-\",ROUND(AT406*BV406,3))","v":"-"}]
[null,null,"細分類番号",null,null,null,null,null,null,{"$f":"IF(J27=\"\",\"\",J27)","v":""},null,{"$f":"IF(L27=\"\",\"\",L27)","v":""},null,{"$f":"IF(N27=\"\",\"\",N27)","v":""},null,{"$f":"IF(P27=\"\",\"\",P27)","v":""},null,null,null,null,null,null,null,null,null,null,null,null,null,null,null,null,null,null,null,null,null,null,null,null,null,null,null,null,null,null,null,null,null,null,null,null,"(単位：",null,null,{"$f":"IF(AW27=\"\",\"\",AW27)","v":""},null,null,")"]
[null,4,"工場等に係る\n事業の名称",null,null,null,null,null,null,{"$f":"IF(J28=\"\",\"\",J28)","v":""},null,null,null,null,null,null,null,{"$f":"IF(R28=\"\",\"\",R28)","v":""},null,null,null,null,null,null,null,null,null,null,null,null,null,{"$f":"IF(Y28=\"\",\"\",Y28)","v":""},null,null,null,null,null,null,{"$f":"IF(R409=\"\",\"\",IF(AF409=\"\",R409+(Y409*(1.3-1)),R409+(Y409*(1.3-1))-AF409))","v":""},null,null,null,null,null,null,{"$f":"IF(AM409=\"\",\"\",IF($CM$761=0,\"\",IF(CM409=\"\",\"\",ROUND(CM409/$CM$761,3))))","v":""},null,null,null,null,null,null,{"$f":"IF(AT28=\"\",\"\",AT28)","v":""},null,null,null,null,null,null,{"$f":"IF(BA409=\"\",\"\",ROUND(AM409/BA409,3-INT(LOG(AM409/BA409))))","v":""},null,null,null,null,null,null,"-",null,null,null,null,null,null,{"$f":"IF(OR((BO409=\"-\"),(ISNUMBER(BO409)=FALSE)),\"-\",ROUND(BH409/BO409,3))","v":"-"},null,null,null,null,null,null,"④'",null,null,null,null,null,null,null,null,null,{"$f":"CM28","v":""}]
[null,null,null,null,null,null,null,null,null,null,null,null,null,null,null,null,null,null,null,null,null,null,null,null,null,null,null,null,null,null,null,null,null,null,null,null,null,null,null,null,null,null,null,null,null,null,null,null,null,null,null,null,"(名称：",null,null,{"$f":"IF(AW29=\"\",\"\",AW29)","v":""},null,null,")",null,null,null,null,null,null,null,null,null,null,null,null,null,null,null,null,null,null,null,null,null,{"$f":"IF(OR((BV409=\"-\"),(ISNUMBER(BV409)=FALSE)),\"-\",ROUND(AT409*BV409,3))","v":"-"}]
[null,null,"細分類番号",null,null,null,null,null,null,{"$f":"IF(J30=\"\",\"\",J30)","v":""},null,{"$f":"IF(L30=\"\",\"\",L30)","v":""},null,{"$f":"IF(N30=\"\",\"\",N30)","v":""},null,{"$f":"IF(P30=\"\",\"\",P30)","v":""},null,null,null,null,null,null,null,null,null,null,null,null,null,null,null,null,null,null,null,null,null,null,null,null,null,null,null,null,null,null,null,null,null,null,null,null,"(単位：",null,null,{"$f":"IF(AW30=\"\",\"\",AW30)","v":""},null,null,")"]
[null,5,"工場等に係る\n事業の名称",null,null,null,null,null,null,{"$f":"IF(J31=\"\",\"\",J31)","v":""},null,null,null,null,null,null,null,{"$f":"IF(R31=\"\",\"\",R31)","v":""},null,null,null,null,null,null,null,null,null,null,null,null,null,{"$f":"IF(Y31=\"\",\"\",Y31)","v":""},null,null,null,null,null,null,{"$f":"IF(R412=\"\",\"\",IF(AF412=\"\",R412+(Y412*(1.3-1)),R412+(Y412*(1.3-1))-AF412))","v":""},null,null,null,null,null,null,{"$f":"IF(AM412=\"\",\"\",IF($CM$761=0,\"\",IF(CM412=\"\",\"\",ROUND(CM412/$CM$761,3))))","v":""},null,null,null,null,null,null,{"$f":"IF(AT31=\"\",\"\",AT31)","v":""},null,null,null,null,null,null,{"$f":"IF(BA412=\"\",\"\",ROUND(AM412/BA412,3-INT(LOG(AM412/BA412))))","v":""},null,null,null,null,null,null,"-",null,null,null,null,null,null,{"$f":"IF(OR((BO412=\"-\"),(ISNUMBER(BO412)=FALSE)),\"-\",ROUND(BH412/BO412,3))","v":"-"},null,null,null,null,null,null,"⑤'",null,null,null,null,null,null,null,null,null,{"$f":"CM31","v":""}]
[null,null,null,null,null,null,null,null,null,null,null,null,null,null,null,null,null,null,null,null,null,null,null,null,null,null,null,null,null,null,null,null,null,null,null,null,null,null,null,null,null,null,null,null,null,null,null,null,null,null,null,null,"(名称：",null,null,{"$f":"IF(AW32=\"\",\"\",AW32)","v":""},null,null,")",null,null,null,null,null,null,null,null,null,null,null,null,null,null,null,null,null,null,null,null,null,{"$f":"IF(OR((BV412=\"-\"),(ISNUMBER(BV412)=FALSE)),\"-\",ROUND(AT412*BV412,3))","v":"-"}]
[null,null,"細分類番号",null,null,null,null,null,null,{"$f":"IF(J33=\"\",\"\",J33)","v":""},null,{"$f":"IF(L33=\"\",\"\",L33)","v":""},null,{"$f":"IF(N33=\"\",\"\",N33)","v":""},null,{"$f":"IF(P33=\"\",\"\",P33)","v":""},null,null,null,null,null,null,null,null,null,null,null,null,null,null,null,null,null,null,null,null,null,null,null,null,null,null,null,null,null,null,null,null,null,null,null,null,"(単位：",null,null,{"$f":"IF(AW33=\"\",\"\",AW33)","v":""},null,null,")"]
[null,6,"工場等に係る\n事業の名称",null,null,null,null,null,null,{"$f":"IF(J34=\"\",\"\",J34)","v":""},null,null,null,null,null,null,null,{"$f":"IF(R34=\"\",\"\",R34)","v":""},null,null,null,null,null,null,null,null,null,null,null,null,null,{"$f":"IF(Y34=\"\",\"\",Y34)","v":""},null,null,null,null,null,null,{"$f":"IF(R415=\"\",\"\",IF(AF415=\"\",R415+(Y415*(1.3-1)),R415+(Y415*(1.3-1))-AF415))","v":""},null,null,null,null,null,null,{"$f":"IF(AM415=\"\",\"\",IF($CM$761=0,\"\",IF(CM415=\"\",\"\",ROUND(CM415/$CM$761,3))))","v":""},null,null,null,null,null,null,{"$f":"IF(AT34=\"\",\"\",AT34)","v":""},null,null,null,null,null,null,{"$f":"IF(BA415=\"\",\"\",ROUND(AM415/BA415,3-INT(LOG(AM415/BA415))))","v":""},null,null,null,null,null,null,"-",null,null,null,null,null,null,{"$f":"IF(OR((BO415=\"-\"),(ISNUMBER(BO415)=FALSE)),\"-\",ROUND(BH415/BO415,3))","v":"-"},null,null,null,null,null,null,"⑥'",null,null,null,null,null,null,null,null,null,{"$f":"CM34","v":""}]
[null,null,null,null,null,null,null,null,null,null,null,null,null,null,null,null,null,null,null,null,null,null,null,null,null,null,null,null,null,null,null,null,null,null,null,null,null,null,null,null,null,null,null,null,null,null,null,null,null,null,null,null,"(名称：",null,null,{"$f":"IF(AW35=\"\",\"\",AW35)","v":""},null,null,")",null,null,null,null,null,null,null,null,null,null,null,null,null,null,null,null,null,null,null,null,null,{"$f":"IF(OR((BV415=\"-\"),(ISNUMBER(BV415)=FALSE)),\"-\",ROUND(AT415*BV415,3))","v":"-"}]
[null,null,"細分類番号",null,null,null,null,null,null,{"$f":"IF(J36=\"\",\"\",J36)","v":""},null,{"$f":"IF(L36=\"\",\"\",L36)","v":""},null,{"$f":"IF(N36=\"\",\"\",N36)","v":""},null,{"$f":"IF(P36=\"\",\"\",P36)","v":""},null,null,null,null,null,null,null,null,null,null,null,null,null,null,null,null,null,null,null,null,null,null,null,null,null,null,null,null,null,null,null,null,null,null,null,null,"(単位：",null,null,{"$f":"IF(AW36=\"\",\"\",AW36)","v":""},null,null,")"]
[null,7,"工場等に係る\n事業の名称",null,null,null,null,null,null,{"$f":"IF(J37=\"\",\"\",J37)","v":""},null,null,null,null,null,null,null,{"$f":"IF(R37=\"\",\"\",R37)","v":""},null,null,null,null,null,null,null,null,null,null,null,null,null,{"$f":"IF(Y37=\"\",\"\",Y37)","v":""},null,null,null,null,null,null,{"$f":"IF(R418=\"\",\"\",IF(AF418=\"\",R418+(Y418*(1.3-1)),R418+(Y418*(1.3-1))-AF418))","v":""},null,null,null,null,null,null,{"$f":"IF(AM418=\"\",\"\",IF($CM$761=0,\"\",IF(CM418=\"\",\"\",ROUND(CM418/$CM$761,3))))","v":""},null,null,null,null,null,null,{"$f":"IF(AT37=\"\",\"\",AT37)","v":""},null,null,null,null,null,null,{"$f":"IF(BA418=\"\",\"\",ROUND(AM418/BA418,3-INT(LOG(AM418/BA418))))","v":""},null,null,null,null,null,null,"-",null,null,null,null,null,null,{"$f":"IF(OR((BO418=\"-\"),(ISNUMBER(BO418)=FALSE)),\"-\",ROUND(BH418/BO418,3))","v":"-"},null,null,null,null,null,null,"⑦'",null,null,null,null,null,null,null,null,null,{"$f":"CM37","v":""}]
[null,null,null,null,null,null,null,null,null,null,null,null,null,null,null,null,null,null,null,null,null,null,null,null,null,null,null,null,null,null,null,null,null,null,null,null,null,null,null,null,null,null,null,null,null,null,null,null,null,null,null,null,"(名称：",null,null,{"$f":"IF(AW38=\"\",\"\",AW38)","v":""},null,null,")",null,null,null,null,null,null,null,null,null,null,null,null,null,null,null,null,null,null,null,null,null,{"$f":"IF(OR((BV418=\"-\"),(ISNUMBER(BV418)=FALSE)),\"-\",ROUND(AT418*BV418,3))","v":"-"}]
[null,null,"細分類番号",null,null,null,null,null,null,{"$f":"IF(J39=\"\",\"\",J39)","v":""},null,{"$f":"IF(L39=\"\",\"\",L39)","v":""},null,{"$f":"IF(N39=\"\",\"\",N39)","v":""},null,{"$f":"IF(P39=\"\",\"\",P39)","v":""},null,null,null,null,null,null,null,null,null,null,null,null,null,null,null,null,null,null,null,null,null,null,null,null,null,null,null,null,null,null,null,null,null,null,null,null,"(単位：",null,null,{"$f":"IF(AW39=\"\",\"\",AW39)","v":""},null,null,")"]
[null,8,"工場等に係る\n事業の名称",null,null,null,null,null,null,{"$f":"IF(J40=\"\",\"\",J40)","v":""},null,null,null,null,null,null,null,{"$f":"IF(R40=\"\",\"\",R40)","v":""},null,null,null,null,null,null,null,null,null,null,null,null,null,{"$f":"IF(Y40=\"\",\"\",Y40)","v":""},null,null,null,null,null,null,{"$f":"IF(R421=\"\",\"\",IF(AF421=\"\",R421+(Y421*(1.3-1)),R421+(Y421*(1.3-1))-AF421))","v":""},null,null,null,null,null,null,{"$f":"IF(AM421=\"\",\"\",IF($CM$761=0,\"\",IF(CM421=\"\",\"\",ROUND(CM421/$CM$761,3))))","v":""},null,null,null,null,null,null,{"$f":"IF(AT40=\"\",\"\",AT40)","v":""},null,null,null,null,null,null,{"$f":"IF(BA421=\"\",\"\",ROUND(AM421/BA421,3-INT(LOG(AM421/BA421))))","v":""},null,null,null,null,null,null,"-",null,null,null,null,null,null,{"$f":"IF(OR((BO421=\"-\"),(ISNUMBER(BO421)=FALSE)),\"-\",ROUND(BH421/BO421,3))","v":"-"},null,null,null,null,null,null,"⑧'",null,null,null,null,null,null,null,null,null,{"$f":"CM40","v":""}]
[null,null,null,null,null,null,null,null,null,null,null,null,null,null,null,null,null,null,null,null,null,null,null,null,null,null,null,null,null,null,null,null,null,null,null,null,null,null,null,null,null,null,null,null,null,null,null,null,null,null,null,null,"(名称：",null,null,{"$f":"IF(AW41=\"\",\"\",AW41)","v":""},null,null,")",null,null,null,null,null,null,null,null,null,null,null,null,null,null,null,null,null,null,null,null,null,{"$f":"IF(OR((BV421=\"-\"),(ISNUMBER(BV421)=FALSE)),\"-\",ROUND(AT421*BV421,3))","v":"-"}]
[null,null,"細分類番号",null,null,null,null,null,null,{"$f":"IF(J42=\"\",\"\",J42)","v":""},null,{"$f":"IF(L42=\"\",\"\",L42)","v":""},null,{"$f":"IF(N42=\"\",\"\",N42)","v":""},null,{"$f":"IF(P42=\"\",\"\",P42)","v":""},null,null,null,null,null,null,null,null,null,null,null,null,null,null,null,null,null,null,null,null,null,null,null,null,null,null,null,null,null,null,null,null,null,null,null,null,"(単位：",null,null,{"$f":"IF(AW42=\"\",\"\",AW42)","v":""},null,null,")"]
[null,9,"工場等に係る\n事業の名称",null,null,null,null,null,null,{"$f":"IF(J43=\"\",\"\",J43)","v":""},null,null,null,null,null,null,null,{"$f":"IF(R43=\"\",\"\",R43)","v":""},null,null,null,null,null,null,null,null,null,null,null,null,null,{"$f":"IF(Y43=\"\",\"\",Y43)","v":""},null,null,null,null,null,null,{"$f":"IF(R424=\"\",\"\",IF(AF424=\"\",R424+(Y424*(1.3-1)),R424+(Y424*(1.3-1))-AF424))","v":""},null,null,null,null,null,null,{"$f":"IF(AM424=\"\",\"\",IF($CM$761=0,\"\",IF(CM424=\"\",\"\",ROUND(CM424/$CM$761,3))))","v":""},null,null,null,null,null,null,{"$f":"IF(AT43=\"\",\"\",AT43)","v":""},null,null,null,null,null,null,{"$f":"IF(BA424=\"\",\"\",ROUND(AM424/BA424,3-INT(LOG(AM424/BA424))))","v":""},null,null,null,null,null,null,"-",null,null,null,null,null,null,{"$f":"IF(OR((BO424=\"-\"),(ISNUMBER(BO424)=FALSE)),\"-\",ROUND(BH424/BO424,3))","v":"-"},null,null,null,null,null,null,"⑨'",null,null,null,null,null,null,null,null,null,{"$f":"CM43","v":""}]
[null,null,null,null,null,null,null,null,null,null,null,null,null,null,null,null,null,null,null,null,null,null,null,null,null,null,null,null,null,null,null,null,null,null,null,null,null,null,null,null,null,null,null,null,null,null,null,null,null,null,null,null,"(名称：",null,null,{"$f":"IF(AW44=\"\",\"\",AW44)","v":""},null,null,")",null,null,null,null,null,null,null,null,null,null,null,null,null,null,null,null,null,null,null,null,null,{"$f":"IF(OR((BV424=\"-\"),(ISNUMBER(BV424)=FALSE)),\"-\",ROUND(AT424*BV424,3))","v":"-"}]
[null,null,"細分類番号",null,null,null,null,null,null,{"$f":"IF(J45=\"\",\"\",J45)","v":""},null,{"$f":"IF(L45=\"\",\"\",L45)","v":""},null,{"$f":"IF(N45=\"\",\"\",N45)","v":""},null,{"$f":"IF(P45=\"\",\"\",P45)","v":""},null,null,null,null,null,null,null,null,null,null,null,null,null,null,null,null,null,null,null,null,null,null,null,null,null,null,null,null,null,null,null,null,null,null,null,null,"(単位：",null,null,{"$f":"IF(AW45=\"\",\"\",AW45)","v":""},null,null,")"]
[null,10,"工場等に係る\n事業の名称",null,null,null,null,null,null,{"$f":"IF(J46=\"\",\"\",J46)","v":""},null,null,null,null,null,null,null,{"$f":"IF(R46=\"\",\"\",R46)","v":""},null,null,null,null,null,null,null,null,null,null,null,null,null,{"$f":"IF(Y46=\"\",\"\",Y46)","v":""},null,null,null,null,null,null,{"$f":"IF(R427=\"\",\"\",IF(AF427=\"\",R427+(Y427*(1.3-1)),R427+(Y427*(1.3-1))-AF427))","v":""},null,null,null,null,null,null,{"$f":"IF(AM427=\"\",\"\",IF($CM$761=0,\"\",IF(CM427=\"\",\"\",ROUND(CM427/$CM$761,3))))","v":""},null,null,null,null,null,null,{"$f":"IF(AT46=\"\",\"\",AT46)","v":""},null,null,null,null,null,null,{"$f":"IF(BA427=\"\",\"\",ROUND(AM427/BA427,3-INT(LOG(AM427/BA427))))","v":""},null,null,null,null,null,null,"-",null,null,null,null,null,null,{"$f":"IF(OR((BO427=\"-\"),(ISNUMBER(BO427)=FALSE)),\"-\",ROUND(BH427/BO427,3))","v":"-"},null,null,null,null,null,null,"⑩'",null,null,null,null,null,null,null,null,null,{"$f":"CM46","v":""}]
[null,null,null,null,null,null,null,null,null,null,null,null,null,null,null,null,null,null,null,null,null,null,null,null,null,null,null,null,null,null,null,null,null,null,null,null,null,null,null,null,null,null,null,null,null,null,null,null,null,null,null,null,"(名称：",null,null,{"$f":"IF(AW47=\"\",\"\",AW47)","v":""},null,null,")",null,null,null,null,null,null,null,null,null,null,null,null,null,null,null,null,null,null,null,null,null,{"$f":"IF(OR((BV427=\"-\"),(ISNUMBER(BV427)=FALSE)),\"-\",ROUND(AT427*BV427,3))","v":"-"}]
[null,null,"細分類番号",null,null,null,null,null,null,{"$f":"IF(J48=\"\",\"\",J48)","v":""},null,{"$f":"IF(L48=\"\",\"\",L48)","v":""},null,{"$f":"IF(N48=\"\",\"\",N48)","v":""},null,{"$f":"IF(P48=\"\",\"\",P48)","v":""},null,null,null,null,null,null,null,null,null,null,null,null,null,null,null,null,null,null,null,null,null,null,null,null,null,null,null,null,null,null,null,null,null,null,null,null,"(単位：",null,null,{"$f":"IF(AW48=\"\",\"\",AW48)","v":""},null,null,")"]
[null,11,"工場等に係る\n事業の名称",null,null,null,null,null,null,{"$f":"IF(J49=\"\",\"\",J49)","v":""},null,null,null,null,null,null,null,{"$f":"IF(R49=\"\",\"\",R49)","v":""},null,null,null,null,null,null,null,null,null,null,null,null,null,{"$f":"IF(Y49=\"\",\"\",Y49)","v":""},null,null,null,null,null,null,{"$f":"IF(R430=\"\",\"\",IF(AF430=\"\",R430+(Y430*(1.3-1)),R430+(Y430*(1.3-1))-AF430))","v":""},null,null,null,null,null,null,{"$f":"IF(AM430=\"\",\"\",IF($CM$761=0,\"\",IF(CM430=\"\",\"\",ROUND(CM430/$CM$761,3))))","v":""},null,null,null,null,null,null,{"$f":"IF(AT49=\"\",\"\",AT49)","v":""},null,null,null,null,null,null,{"$f":"IF(BA430=\"\",\"\",ROUND(AM430/BA430,3-INT(LOG(AM430/BA430))))","v":""},null,null,null,null,null,null,"-",null,null,null,null,null,null,{"$f":"IF(OR((BO430=\"-\"),(ISNUMBER(BO430)=FALSE)),\"-\",ROUND(BH430/BO430,3))","v":"-"},null,null,null,null,null,null,"⑪'",null,null,null,null,null,null,null,null,null,{"$f":"CM49","v":""}]
[null,null,null,null,null,null,null,null,null,null,null,null,null,null,null,null,null,null,null,null,null,null,null,null,null,null,null,null,null,null,null,null,null,null,null,null,null,null,null,null,null,null,null,null,null,null,null,null,null,null,null,null,"(名称：",null,null,{"$f":"IF(AW50=\"\",\"\",AW50)","v":""},null,null,")",null,null,null,null,null,null,null,null,null,null,null,null,null,null,null,null,null,null,null,null,null,{"$f":"IF(OR((BV430=\"-\"),(ISNUMBER(BV430)=FALSE)),\"-\",ROUND(AT430*BV430,3))","v":"-"}]
[null,null,"細分類番号",null,null,null,null,null,null,{"$f":"IF(J51=\"\",\"\",J51)","v":""},null,{"$f":"IF(L51=\"\",\"\",L51)","v":""},null,{"$f":"IF(N51=\"\",\"\",N51)","v":""},null,{"$f":"IF(P51=\"\",\"\",P51)","v":""},null,null,null,null,null,null,null,null,null,null,null,null,null,null,null,null,null,null,null,null,null,null,null,null,null,null,null,null,null,null,null,null,null,null,null,null,"(単位：",null,null,{"$f":"IF(AW51=\"\",\"\",AW51)","v":""},null,null,")"]
[null,12,"工場等に係る\n事業の名称",null,null,null,null,null,null,{"$f":"IF(J52=\"\",\"\",J52)","v":""},null,null,null,null,null,null,null,{"$f":"IF(R52=\"\",\"\",R52)","v":""},null,null,null,null,null,null,null,null,null,null,null,null,null,{"$f":"IF(Y52=\"\",\"\",Y52)","v":""},null,null,null,null,null,null,{"$f":"IF(R433=\"\",\"\",IF(AF433=\"\",R433+(Y433*(1.3-1)),R433+(Y433*(1.3-1))-AF433))","v":""},null,null,null,null,null,null,{"$f":"IF(AM433=\"\",\"\",IF($CM$761=0,\"\",IF(CM433=\"\",\"\",ROUND(CM433/$CM$761,3))))","v":""},null,null,null,null,null,null,{"$f":"IF(AT52=\"\",\"\",AT52)","v":""},null,null,null,null,null,null,{"$f":"IF(BA433=\"\",\"\",ROUND(AM433/BA433,3-INT(LOG(AM433/BA433))))","v":""},null,null,null,null,null,null,"-",null,null,null,null,null,null,{"$f":"IF(OR((BO433=\"-\"),(ISNUMBER(BO433)=FALSE)),\"-\",ROUND(BH433/BO433,3))","v":"-"},null,null,null,null,null,null,"⑫'",null,null,null,null,null,null,null,null,null,{"$f":"CM52","v":""}]
[null,null,null,null,null,null,null,null,null,null,null,null,null,null,null,null,null,null,null,null,null,null,null,null,null,null,null,null,null,null,null,null,null,null,null,null,null,null,null,null,null,null,null,null,null,null,null,null,null,null,null,null,"(名称：",null,null,{"$f":"IF(AW53=\"\",\"\",AW53)","v":""},null,null,")",null,null,null,null,null,null,null,null,null,null,null,null,null,null,null,null,null,null,null,null,null,{"$f":"IF(OR((BV433=\"-\"),(ISNUMBER(BV433)=FALSE)),\"-\",ROUND(AT433*BV433,3))","v":"-"}]
[null,null,"細分類番号",null,null,null,null,null,null,{"$f":"IF(J54=\"\",\"\",J54)","v":""},null,{"$f":"IF(L54=\"\",\"\",L54)","v":""},null,{"$f":"IF(N54=\"\",\"\",N54)","v":""},null,{"$f":"IF(P54=\"\",\"\",P54)","v":""},null,null,null,null,null,null,null,null,null,null,null,null,null,null,null,null,null,null,null,null,null,null,null,null,null,null,null,null,null,null,null,null,null,null,null,null,"(単位：",null,null,{"$f":"IF(AW54=\"\",\"\",AW54)","v":""},null,null,")"]
[null,13,"工場等に係る\n事業の名称",null,null,null,null,null,null,{"$f":"IF(J55=\"\",\"\",J55)","v":""},null,null,null,null,null,null,null,{"$f":"IF(R55=\"\",\"\",R55)","v":""},null,null,null,null,null,null,null,null,null,null,null,null,null,{"$f":"IF(Y55=\"\",\"\",Y55)","v":""},null,null,null,null,null,null,{"$f":"IF(R436=\"\",\"\",IF(AF436=\"\",R436+(Y436*(1.3-1)),R436+(Y436*(1.3-1))-AF436))","v":""},null,null,null,null,null,null,{"$f":"IF(AM436=\"\",\"\",IF($CM$761=0,\"\",IF(CM436=\"\",\"\",ROUND(CM436/$CM$761,3))))","v":""},null,null,null,null,null,null,{"$f":"IF(AT55=\"\",\"\",AT55)","v":""},null,null,null,null,null,null,{"$f":"IF(BA436=\"\",\"\",ROUND(AM436/BA436,3-INT(LOG(AM436/BA436))))","v":""},null,null,null,null,null,null,"-",null,null,null,null,null,null,{"$f":"IF(OR((BO436=\"-\"),(ISNUMBER(BO436)=FALSE)),\"-\",ROUND(BH436/BO436,3))","v":"-"},null,null,null,null,null,null,"⑬'",null,null,null,null,null,null,null,null,null,{"$f":"CM55","v":""}]
[null,null,null,null,null,null,null,null,null,null,null,null,null,null,null,null,null,null,null,null,null,null,null,null,null,null,null,null,null,null,null,null,null,null,null,null,null,null,null,null,null,null,null,null,null,null,null,null,null,null,null,null,"(名称：",null,null,{"$f":"IF(AW56=\"\",\"\",AW56)","v":""},null,null,")",null,null,null,null,null,null,null,null,null,null,null,null,null,null,null,null,null,null,null,null,null,{"$f":"IF(OR((BV436=\"-\"),(ISNUMBER(BV436)=FALSE)),\"-\",ROUND(AT436*BV436,3))","v":"-"}]
[null,null,"細分類番号",null,null,null,null,null,null,{"$f":"IF(J57=\"\",\"\",J57)","v":""},null,{"$f":"IF(L57=\"\",\"\",L57)","v":""},null,{"$f":"IF(N57=\"\",\"\",N57)","v":""},null,{"$f":"IF(P57=\"\",\"\",P57)","v":""},null,null,null,null,null,null,null,null,null,null,null,null,null,null,null,null,null,null,null,null,null,null,null,null,null,null,null,null,null,null,null,null,null,null,null,null,"(単位：",null,null,{"$f":"IF(AW57=\"\",\"\",AW57)","v":""},null,null,")"]
[null,14,"工場等に係る\n事業の名称",null,null,null,null,null,null,{"$f":"IF(J58=\"\",\"\",J58)","v":""},null,null,null,null,null,null,null,{"$f":"IF(R58=\"\",\"\",R58)","v":""},null,null,null,null,null,null,null,null,null,null,null,null,null,{"$f":"IF(Y58=\"\",\"\",Y58)","v":""},null,null,null,null,null,null,{"$f":"IF(R439=\"\",\"\",IF(AF439=\"\",R439+(Y439*(1.3-1)),R439+(Y439*(1.3-1))-AF439))","v":""},null,null,null,null,null,null,{"$f":"IF(AM439=\"\",\"\",IF($CM$761=0,\"\",IF(CM439=\"\",\"\",ROUND(CM439/$CM$761,3))))","v":""},null,null,null,null,null,null,{"$f":"IF(AT58=\"\",\"\",AT58)","v":""},null,null,null,null,null,null,{"$f":"IF(BA439=\"\",\"\",ROUND(AM439/BA439,3-INT(LOG(AM439/BA439))))","v":""},null,null,null,null,null,null,"-",null,null,null,null,null,null,{"$f":"IF(OR((BO439=\"-\"),(ISNUMBER(BO439)=FALSE)),\"-\",ROUND(BH439/BO439,3))","v":"-"},null,null,null,null,null,null,"⑭'",null,null,null,null,null,null,null,null,null,{"$f":"CM58","v":""}]
[null,null,null,null,null,null,null,null,null,null,null,null,null,null,null,null,null,null,null,null,null,null,null,null,null,null,null,null,null,null,null,null,null,null,null,null,null,null,null,null,null,null,null,null,null,null,null,null,null,null,null,null,"(名称：",null,null,{"$f":"IF(AW59=\"\",\"\",AW59)","v":""},null,null,")",null,null,null,null,null,null,null,null,null,null,null,null,null,null,null,null,null,null,null,null,null,{"$f":"IF(OR((BV439=\"-\"),(ISNUMBER(BV439)=FALSE)),\"-\",ROUND(AT439*BV439,3))","v":"-"}]
[null,null,"細分類番号",null,null,null,null,null,null,{"$f":"IF(J60=\"\",\"\",J60)","v":""},null,{"$f":"IF(L60=\"\",\"\",L60)","v":""},null,{"$f":"IF(N60=\"\",\"\",N60)","v":""},null,{"$f":"IF(P60=\"\",\"\",P60)","v":""},null,null,null,null,null,null,null,null,null,null,null,null,null,null,null,null,null,null,null,null,null,null,null,null,null,null,null,null,null,null,null,null,null,null,null,null,"(単位：",null,null,{"$f":"IF(AW60=\"\",\"\",AW60)","v":""},null,null,")"]
[null,15,"工場等に係る\n事業の名称",null,null,null,null,null,null,{"$f":"IF(J61=\"\",\"\",J61)","v":""},null,null,null,null,null,null,null,{"$f":"IF(R61=\"\",\"\",R61)","v":""},null,null,null,null,null,null,null,null,null,null,null,null,null,{"$f":"IF(Y61=\"\",\"\",Y61)","v":""},null,null,null,null,null,null,{"$f":"IF(R442=\"\",\"\",IF(AF442=\"\",R442+(Y442*(1.3-1)),R442+(Y442*(1.3-1))-AF442))","v":""},null,null,null,null,null,null,{"$f":"IF(AM442=\"\",\"\",IF($CM$761=0,\"\",IF(CM442=\"\",\"\",ROUND(CM442/$CM$761,3))))","v":""},null,null,null,null,null,null,{"$f":"IF(AT61=\"\",\"\",AT61)","v":""},null,null,null,null,null,null,{"$f":"IF(BA442=\"\",\"\",ROUND(AM442/BA442,3-INT(LOG(AM442/BA442))))","v":""},null,null,null,null,null,null,"-",null,null,null,null,null,null,{"$f":"IF(OR((BO442=\"-\"),(ISNUMBER(BO442)=FALSE)),\"-\",ROUND(BH442/BO442,3))","v":"-"},null,null,null,null,null,null,"⑮'",null,null,null,null,null,null,null,null,null,{"$f":"CM61","v":""}]
[null,null,null,null,null,null,null,null,null,null,null,null,null,null,null,null,null,null,null,null,null,null,null,null,null,null,null,null,null,null,null,null,null,null,null,null,null,null,null,null,null,null,null,null,null,null,null,null,null,null,null,null,"(名称：",null,null,{"$f":"IF(AW62=\"\",\"\",AW62)","v":""},null,null,")",null,null,null,null,null,null,null,null,null,null,null,null,null,null,null,null,null,null,null,null,null,{"$f":"IF(OR((BV442=\"-\"),(ISNUMBER(BV442)=FALSE)),\"-\",ROUND(AT442*BV442,3))","v":"-"}]
[null,null,"細分類番号",null,null,null,null,null,null,{"$f":"IF(J63=\"\",\"\",J63)","v":""},null,{"$f":"IF(L63=\"\",\"\",L63)","v":""},null,{"$f":"IF(N63=\"\",\"\",N63)","v":""},null,{"$f":"IF(P63=\"\",\"\",P63)","v":""},null,null,null,null,null,null,null,null,null,null,null,null,null,null,null,null,null,null,null,null,null,null,null,null,null,null,null,null,null,null,null,null,null,null,null,null,"(単位：",null,null,{"$f":"IF(AW63=\"\",\"\",AW63)","v":""},null,null,")"]
[null,16,"工場等に係る\n事業の名称",null,null,null,null,null,null,{"$f":"IF(J64=\"\",\"\",J64)","v":""},null,null,null,null,null,null,null,{"$f":"IF(R64=\"\",\"\",R64)","v":""},null,null,null,null,null,null,null,null,null,null,null,null,null,{"$f":"IF(Y64=\"\",\"\",Y64)","v":""},null,null,null,null,null,null,{"$f":"IF(R445=\"\",\"\",IF(AF445=\"\",R445+(Y445*(1.3-1)),R445+(Y445*(1.3-1))-AF445))","v":""},null,null,null,null,null,null,{"$f":"IF(AM445=\"\",\"\",IF($CM$761=0,\"\",IF(CM445=\"\",\"\",ROUND(CM445/$CM$761,3))))","v":""},null,null,null,null,null,null,{"$f":"IF(AT64=\"\",\"\",AT64)","v":""},null,null,null,null,null,null,{"$f":"IF(BA445=\"\",\"\",ROUND(AM445/BA445,3-INT(LOG(AM445/BA445))))","v":""},null,null,null,null,null,null,"-",null,null,null,null,null,null,{"$f":"IF(OR((BO445=\"-\"),(ISNUMBER(BO445)=FALSE)),\"-\",ROUND(BH445/BO445,3))","v":"-"},null,null,null,null,null,null,"⑯'",null,null,null,null,null,null,null,null,null,{"$f":"CM64","v":""}]
[null,null,null,null,null,null,null,null,null,null,null,null,null,null,null,null,null,null,null,null,null,null,null,null,null,null,null,null,null,null,null,null,null,null,null,null,null,null,null,null,null,null,null,null,null,null,null,null,null,null,null,null,"(名称：",null,null,{"$f":"IF(AW65=\"\",\"\",AW65)","v":""},null,null,")",null,null,null,null,null,null,null,null,null,null,null,null,null,null,null,null,null,null,null,null,null,{"$f":"IF(OR((BV445=\"-\"),(ISNUMBER(BV445)=FALSE)),\"-\",ROUND(AT445*BV445,3))","v":"-"}]
[null,null,"細分類番号",null,null,null,null,null,null,{"$f":"IF(J66=\"\",\"\",J66)","v":""},null,{"$f":"IF(L66=\"\",\"\",L66)","v":""},null,{"$f":"IF(N66=\"\",\"\",N66)","v":""},null,{"$f":"IF(P66=\"\",\"\",P66)","v":""},null,null,null,null,null,null,null,null,null,null,null,null,null,null,null,null,null,null,null,null,null,null,null,null,null,null,null,null,null,null,null,null,null,null,null,null,"(単位：",null,null,{"$f":"IF(AW66=\"\",\"\",AW66)","v":""},null,null,")"]
[null,17,"工場等に係る\n事業の名称",null,null,null,null,null,null,{"$f":"IF(J67=\"\",\"\",J67)","v":""},null,null,null,null,null,null,null,{"$f":"IF(R67=\"\",\"\",R67)","v":""},null,null,null,null,null,null,null,null,null,null,null,null,null,{"$f":"IF(Y67=\"\",\"\",Y67)","v":""},null,null,null,null,null,null,{"$f":"IF(R448=\"\",\"\",IF(AF448=\"\",R448+(Y448*(1.3-1)),R448+(Y448*(1.3-1))-AF448))","v":""},null,null,null,null,null,null,{"$f":"IF(AM448=\"\",\"\",IF($CM$761=0,\"\",IF(CM448=\"\",\"\",ROUND(CM448/$CM$761,3))))","v":""},null,null,null,null,null,null,{"$f":"IF(AT67=\"\",\"\",AT67)","v":""},null,null,null,null,null,null,{"$f":"IF(BA448=\"\",\"\",ROUND(AM448/BA448,3-INT(LOG(AM448/BA448))))","v":""},null,null,null,null,null,null,"-",null,null,null,null,null,null,{"$f":"IF(OR((BO448=\"-\"),(ISNUMBER(BO448)=FALSE)),\"-\",ROUND(BH448/BO448,3))","v":"-"},null,null,null,null,null,null,"⑰'",null,null,null,null,null,null,null,null,null,{"$f":"CM67","v":""}]
[null,null,null,null,null,null,null,null,null,null,null,null,null,null,null,null,null,null,null,null,null,null,null,null,null,null,null,null,null,null,null,null,null,null,null,null,null,null,null,null,null,null,null,null,null,null,null,null,null,null,null,null,"(名称：",null,null,{"$f":"IF(AW68=\"\",\"\",AW68)","v":""},null,null,")",null,null,null,null,null,null,null,null,null,null,null,null,null,null,null,null,null,null,null,null,null,{"$f":"IF(OR((BV448=\"-\"),(ISNUMBER(BV448)=FALSE)),\"-\",ROUND(AT448*BV448,3))","v":"-"}]
[null,null,"細分類番号",null,null,null,null,null,null,{"$f":"IF(J69=\"\",\"\",J69)","v":""},null,{"$f":"IF(L69=\"\",\"\",L69)","v":""},null,{"$f":"IF(N69=\"\",\"\",N69)","v":""},null,{"$f":"IF(P69=\"\",\"\",P69)","v":""},null,null,null,null,null,null,null,null,null,null,null,null,null,null,null,null,null,null,null,null,null,null,null,null,null,null,null,null,null,null,null,null,null,null,null,null,"(単位：",null,null,{"$f":"IF(AW69=\"\",\"\",AW69)","v":""},null,null,")"]
[null,18,"工場等に係る\n事業の名称",null,null,null,null,null,null,{"$f":"IF(J70=\"\",\"\",J70)","v":""},null,null,null,null,null,null,null,{"$f":"IF(R70=\"\",\"\",R70)","v":""},null,null,null,null,null,null,null,null,null,null,null,null,null,{"$f":"IF(Y70=\"\",\"\",Y70)","v":""},null,null,null,null,null,null,{"$f":"IF(R451=\"\",\"\",IF(AF451=\"\",R451+(Y451*(1.3-1)),R451+(Y451*(1.3-1))-AF451))","v":""},null,null,null,null,null,null,{"$f":"IF(AM451=\"\",\"\",IF($CM$761=0,\"\",IF(CM451=\"\",\"\",ROUND(CM451/$CM$761,3))))","v":""},null,null,null,null,null,null,{"$f":"IF(AT70=\"\",\"\",AT70)","v":""},null,null,null,null,null,null,{"$f":"IF(BA451=\"\",\"\",ROUND(AM451/BA451,3-INT(LOG(AM451/BA451))))","v":""},null,null,null,null,null,null,"-",null,null,null,null,null,null,{"$f":"IF(OR((BO451=\"-\"),(ISNUMBER(BO451)=FALSE)),\"-\",ROUND(BH451/BO451,3))","v":"-"},null,null,null,null,null,null,"⑱'",null,null,null,null,null,null,null,null,null,{"$f":"CM70","v":""}]
[null,null,null,null,null,null,null,null,null,null,null,null,null,null,null,null,null,null,null,null,null,null,null,null,null,null,null,null,null,null,null,null,null,null,null,null,null,null,null,null,null,null,null,null,null,null,null,null,null,null,null,null,"(名称：",null,null,{"$f":"IF(AW71=\"\",\"\",AW71)","v":""},null,null,")",null,null,null,null,null,null,null,null,null,null,null,null,null,null,null,null,null,null,null,null,null,{"$f":"IF(OR((BV451=\"-\"),(ISNUMBER(BV451)=FALSE)),\"-\",ROUND(AT451*BV451,3))","v":"-"}]
[null,null,"細分類番号",null,null,null,null,null,null,{"$f":"IF(J72=\"\",\"\",J72)","v":""},null,{"$f":"IF(L72=\"\",\"\",L72)","v":""},null,{"$f":"IF(N72=\"\",\"\",N72)","v":""},null,{"$f":"IF(P72=\"\",\"\",P72)","v":""},null,null,null,null,null,null,null,null,null,null,null,null,null,null,null,null,null,null,null,null,null,null,null,null,null,null,null,null,null,null,null,null,null,null,null,null,"(単位：",null,null,{"$f":"IF(AW72=\"\",\"\",AW72)","v":""},null,null,")"]
[null,19,"工場等に係る\n事業の名称",null,null,null,null,null,null,{"$f":"IF(J73=\"\",\"\",J73)","v":""},null,null,null,null,null,null,null,{"$f":"IF(R73=\"\",\"\",R73)","v":""},null,null,null,null,null,null,null,null,null,null,null,null,null,{"$f":"IF(Y73=\"\",\"\",Y73)","v":""},null,null,null,null,null,null,{"$f":"IF(R454=\"\",\"\",IF(AF454=\"\",R454+(Y454*(1.3-1)),R454+(Y454*(1.3-1))-AF454))","v":""},null,null,null,null,null,null,{"$f":"IF(AM454=\"\",\"\",IF($CM$761=0,\"\",IF(CM454=\"\",\"\",ROUND(CM454/$CM$761,3))))","v":""},null,null,null,null,null,null,{"$f":"IF(AT73=\"\",\"\",AT73)","v":""},null,null,null,null,null,null,{"$f":"IF(BA454=\"\",\"\",ROUND(AM454/BA454,3-INT(LOG(AM454/BA454))))","v":""},null,null,null,null,null,null,"-",null,null,null,null,null,null,{"$f":"IF(OR((BO454=\"-\"),(ISNUMBER(BO454)=FALSE)),\"-\",ROUND(BH454/BO454,3))","v":"-"},null,null,null,null,null,null,"⑲'",null,null,null,null,null,null,null,null,null,{"$f":"CM73","v":""}]
[null,null,null,null,null,null,null,null,null,null,null,null,null,null,null,null,null,null,null,null,null,null,null,null,null,null,null,null,null,null,null,null,null,null,null,null,null,null,null,null,null,null,null,null,null,null,null,null,null,null,null,null,"(名称：",null,null,{"$f":"IF(AW74=\"\",\"\",AW74)","v":""},null,null,")",null,null,null,null,null,null,null,null,null,null,null,null,null,null,null,null,null,null,null,null,null,{"$f":"IF(OR((BV454=\"-\"),(ISNUMBER(BV454)=FALSE)),\"-\",ROUND(AT454*BV454,3))","v":"-"}]
[null,null,"細分類番号",null,null,null,null,null,null,{"$f":"IF(J75=\"\",\"\",J75)","v":""},null,{"$f":"IF(L75=\"\",\"\",L75)","v":""},null,{"$f":"IF(N75=\"\",\"\",N75)","v":""},null,{"$f":"IF(P75=\"\",\"\",P75)","v":""},null,null,null,null,null,null,null,null,null,null,null,null,null,null,null,null,null,null,null,null,null,null,null,null,null,null,null,null,null,null,null,null,null,null,null,null,"(単位：",null,null,{"$f":"IF(AW75=\"\",\"\",AW75)","v":""},null,null,")"]
[null,20,"工場等に係る\n事業の名称",null,null,null,null,null,null,{"$f":"IF(J76=\"\",\"\",J76)","v":""},null,null,null,null,null,null,null,{"$f":"IF(R76=\"\",\"\",R76)","v":""},null,null,null,null,null,null,null,null,null,null,null,null,null,{"$f":"IF(Y76=\"\",\"\",Y76)","v":""},null,null,null,null,null,null,{"$f":"IF(R457=\"\",\"\",IF(AF457=\"\",R457+(Y457*(1.3-1)),R457+(Y457*(1.3-1))-AF457))","v":""},null,null,null,null,null,null,{"$f":"IF(AM457=\"\",\"\",IF($CM$761=0,\"\",IF(CM457=\"\",\"\",ROUND(CM457/$CM$761,3))))","v":""},null,null,null,null,null,null,{"$f":"IF(AT76=\"\",\"\",AT76)","v":""},null,null,null,null,null,null,{"$f":"IF(BA457=\"\",\"\",ROUND(AM457/BA457,3-INT(LOG(AM457/BA457))))","v":""},null,null,null,null,null,null,"-",null,null,null,null,null,null,{"$f":"IF(OR((BO457=\"-\"),(ISNUMBER(BO457)=FALSE)),\"-\",ROUND(BH457/BO457,3))","v":"-"},null,null,null,null,null,null,"⑳'",null,null,null,null,null,null,null,null,null,{"$f":"CM76","v":""}]
[null,null,null,null,null,null,null,null,null,null,null,null,null,null,null,null,null,null,null,null,null,null,null,null,null,null,null,null,null,null,null,null,null,null,null,null,null,null,null,null,null,null,null,null,null,null,null,null,null,null,null,null,"(名称：",null,null,{"$f":"IF(AW77=\"\",\"\",AW77)","v":""},null,null,")",null,null,null,null,null,null,null,null,null,null,null,null,null,null,null,null,null,null,null,null,null,{"$f":"IF(OR((BV457=\"-\"),(ISNUMBER(BV457)=FALSE)),\"-\",ROUND(AT457*BV457,3))","v":"-"}]
[null,null,"細分類番号",null,null,null,null,null,null,{"$f":"IF(J78=\"\",\"\",J78)","v":""},null,{"$f":"IF(L78=\"\",\"\",L78)","v":""},null,{"$f":"IF(N78=\"\",\"\",N78)","v":""},null,{"$f":"IF(P78=\"\",\"\",P78)","v":""},null,null,null,null,null,null,null,null,null,null,null,null,null,null,null,null,null,null,null,null,null,null,null,null,null,null,null,null,null,null,null,null,null,null,null,null,"(単位：",null,null,{"$f":"IF(AW78=\"\",\"\",AW78)","v":""},null,null,")"]
[null,21,"工場等に係る\n事業の名称",null,null,null,null,null,null,{"$f":"IF(J79=\"\",\"\",J79)","v":""},null,null,null,null,null,null,null,{"$f":"IF(R79=\"\",\"\",R79)","v":""},null,null,null,null,null,null,null,null,null,null,null,null,null,{"$f":"IF(Y79=\"\",\"\",Y79)","v":""},null,null,null,null,null,null,{"$f":"IF(R460=\"\",\"\",IF(AF460=\"\",R460+(Y460*(1.3-1)),R460+(Y460*(1.3-1))-AF460))","v":""},null,null,null,null,null,null,{"$f":"IF(AM460=\"\",\"\",IF($CM$761=0,\"\",IF(CM460=\"\",\"\",ROUND(CM460/$CM$761,3))))","v":""},null,null,null,null,null,null,{"$f":"IF(AT79=\"\",\"\",AT79)","v":""},null,null,null,null,null,null,{"$f":"IF(BA460=\"\",\"\",ROUND(AM460/BA460,3-INT(LOG(AM460/BA460))))","v":""},null,null,null,null,null,null,"-",null,null,null,null,null,null,{"$f":"IF(OR((BO460=\"-\"),(ISNUMBER(BO460)=FALSE)),\"-\",ROUND(BH460/BO460,3))","v":"-"},null,null,null,null,null,null,"㉑'",null,null,null,null,null,null,null,null,null,{"$f":"CM79","v":""}]
[null,null,null,null,null,null,null,null,null,null,null,null,null,null,null,null,null,null,null,null,null,null,null,null,null,null,null,null,null,null,null,null,null,null,null,null,null,null,null,null,null,null,null,null,null,null,null,null,null,null,null,null,"(名称：",null,null,{"$f":"IF(AW80=\"\",\"\",AW80)","v":""},null,null,")",null,null,null,null,null,null,null,null,null,null,null,null,null,null,null,null,null,null,null,null,null,{"$f":"IF(OR((BV460=\"-\"),(ISNUMBER(BV460)=FALSE)),\"-\",ROUND(AT460*BV460,3))","v":"-"}]
[null,null,"細分類番号",null,null,null,null,null,null,{"$f":"IF(J81=\"\",\"\",J81)","v":""},null,{"$f":"IF(L81=\"\",\"\",L81)","v":""},null,{"$f":"IF(N81=\"\",\"\",N81)","v":""},null,{"$f":"IF(P81=\"\",\"\",P81)","v":""},null,null,null,null,null,null,null,null,null,null,null,null,null,null,null,null,null,null,null,null,null,null,null,null,null,null,null,null,null,null,null,null,null,null,null,null,"(単位：",null,null,{"$f":"IF(AW81=\"\",\"\",AW81)","v":""},null,null,")"]
[null,22,"工場等に係る\n事業の名称",null,null,null,null,null,null,{"$f":"IF(J82=\"\",\"\",J82)","v":""},null,null,null,null,null,null,null,{"$f":"IF(R82=\"\",\"\",R82)","v":""},null,null,null,null,null,null,null,null,null,null,null,null,null,{"$f":"IF(Y82=\"\",\"\",Y82)","v":""},null,null,null,null,null,null,{"$f":"IF(R463=\"\",\"\",IF(AF463=\"\",R463+(Y463*(1.3-1)),R463+(Y463*(1.3-1))-AF463))","v":""},null,null,null,null,null,null,{"$f":"IF(AM463=\"\",\"\",IF($CM$761=0,\"\",IF(CM463=\"\",\"\",ROUND(CM463/$CM$761,3))))","v":""},null,null,null,null,null,null,{"$f":"IF(AT82=\"\",\"\",AT82)","v":""},null,null,null,null,null,null,{"$f":"IF(BA463=\"\",\"\",ROUND(AM463/BA463,3-INT(LOG(AM463/BA463))))","v":""},null,null,null,null,null,null,"-",null,null,null,null,null,null,{"$f":"IF(OR((BO463=\"-\"),(ISNUMBER(BO463)=FALSE)),\"-\",ROUND(BH463/BO463,3))","v":"-"},null,null,null,null,null,null,"㉒'",null,null,null,null,null,null,null,null,null,{"$f":"CM82","v":""}]
[null,null,null,null,null,null,null,null,null,null,null,null,null,null,null,null,null,null,null,null,null,null,null,null,null,null,null,null,null,null,null,null,null,null,null,null,null,null,null,null,null,null,null,null,null,null,null,null,null,null,null,null,"(名称：",null,null,{"$f":"IF(AW83=\"\",\"\",AW83)","v":""},null,null,")",null,null,null,null,null,null,null,null,null,null,null,null,null,null,null,null,null,null,null,null,null,{"$f":"IF(OR((BV463=\"-\"),(ISNUMBER(BV463)=FALSE)),\"-\",ROUND(AT463*BV463,3))","v":"-"}]
[null,null,"細分類番号",null,null,null,null,null,null,{"$f":"IF(J84=\"\",\"\",J84)","v":""},null,{"$f":"IF(L84=\"\",\"\",L84)","v":""},null,{"$f":"IF(N84=\"\",\"\",N84)","v":""},null,{"$f":"IF(P84=\"\",\"\",P84)","v":""},null,null,null,null,null,null,null,null,null,null,null,null,null,null,null,null,null,null,null,null,null,null,null,null,null,null,null,null,null,null,null,null,null,null,null,null,"(単位：",null,null,{"$f":"IF(AW84=\"\",\"\",AW84)","v":""},null,null,")"]
[null,23,"工場等に係る\n事業の名称",null,null,null,null,null,null,{"$f":"IF(J85=\"\",\"\",J85)","v":""},null,null,null,null,null,null,null,{"$f":"IF(R85=\"\",\"\",R85)","v":""},null,null,null,null,null,null,null,null,null,null,null,null,null,{"$f":"IF(Y85=\"\",\"\",Y85)","v":""},null,null,null,null,null,null,{"$f":"IF(R466=\"\",\"\",IF(AF466=\"\",R466+(Y466*(1.3-1)),R466+(Y466*(1.3-1))-AF466))","v":""},null,null,null,null,null,null,{"$f":"IF(AM466=\"\",\"\",IF($CM$761=0,\"\",IF(CM466=\"\",\"\",ROUND(CM466/$CM$761,3))))","v":""},null,null,null,null,null,null,{"$f":"IF(AT85=\"\",\"\",AT85)","v":""},null,null,null,null,null,null,{"$f":"IF(BA466=\"\",\"\",ROUND(AM466/BA466,3-INT(LOG(AM466/BA466))))","v":""},null,null,null,null,null,null,"-",null,null,null,null,null,null,{"$f":"IF(OR((BO466=\"-\"),(ISNUMBER(BO466)=FALSE)),\"-\",ROUND(BH466/BO466,3))","v":"-"},null,null,null,null,null,null,"㉓'",null,null,null,null,null,null,null,null,null,{"$f":"CM85","v":""}]
[null,null,null,null,null,null,null,null,null,null,null,null,null,null,null,null,null,null,null,null,null,null,null,null,null,null,null,null,null,null,null,null,null,null,null,null,null,null,null,null,null,null,null,null,null,null,null,null,null,null,null,null,"(名称：",null,null,{"$f":"IF(AW86=\"\",\"\",AW86)","v":""},null,null,")",null,null,null,null,null,null,null,null,null,null,null,null,null,null,null,null,null,null,null,null,null,{"$f":"IF(OR((BV466=\"-\"),(ISNUMBER(BV466)=FALSE)),\"-\",ROUND(AT466*BV466,3))","v":"-"}]
[null,null,"細分類番号",null,null,null,null,null,null,{"$f":"IF(J87=\"\",\"\",J87)","v":""},null,{"$f":"IF(L87=\"\",\"\",L87)","v":""},null,{"$f":"IF(N87=\"\",\"\",N87)","v":""},null,{"$f":"IF(P87=\"\",\"\",P87)","v":""},null,null,null,null,null,null,null,null,null,null,null,null,null,null,null,null,null,null,null,null,null,null,null,null,null,null,null,null,null,null,null,null,null,null,null,null,"(単位：",null,null,{"$f":"IF(AW87=\"\",\"\",AW87)","v":""},null,null,")"]
[null,24,"工場等に係る\n事業の名称",null,null,null,null,null,null,{"$f":"IF(J88=\"\",\"\",J88)","v":""},null,null,null,null,null,null,null,{"$f":"IF(R88=\"\",\"\",R88)","v":""},null,null,null,null,null,null,null,null,null,null,null,null,null,{"$f":"IF(Y88=\"\",\"\",Y88)","v":""},null,null,null,null,null,null,{"$f":"IF(R469=\"\",\"\",IF(AF469=\"\",R469+(Y469*(1.3-1)),R469+(Y469*(1.3-1))-AF469))","v":""},null,null,null,null,null,null,{"$f":"IF(AM469=\"\",\"\",IF($CM$761=0,\"\",IF(CM469=\"\",\"\",ROUND(CM469/$CM$761,3))))","v":""},null,null,null,null,null,null,{"$f":"IF(AT88=\"\",\"\",AT88)","v":""},null,null,null,null,null,null,{"$f":"IF(BA469=\"\",\"\",ROUND(AM469/BA469,3-INT(LOG(AM469/BA469))))","v":""},null,null,null,null,null,null,"-",null,null,null,null,null,null,{"$f":"IF(OR((BO469=\"-\"),(ISNUMBER(BO469)=FALSE)),\"-\",ROUND(BH469/BO469,3))","v":"-"},null,null,null,null,null,null,"㉔'",null,null,null,null,null,null,null,null,null,{"$f":"CM88","v":""}]
[null,null,null,null,null,null,null,null,null,null,null,null,null,null,null,null,null,null,null,null,null,null,null,null,null,null,null,null,null,null,null,null,null,null,null,null,null,null,null,null,null,null,null,null,null,null,null,null,null,null,null,null,"(名称：",null,null,{"$f":"IF(AW89=\"\",\"\",AW89)","v":""},null,null,")",null,null,null,null,null,null,null,null,null,null,null,null,null,null,null,null,null,null,null,null,null,{"$f":"IF(OR((BV469=\"-\"),(ISNUMBER(BV469)=FALSE)),\"-\",ROUND(AT469*BV469,3))","v":"-"}]
[null,null,"細分類番号",null,null,null,null,null,null,{"$f":"IF(J90=\"\",\"\",J90)","v":""},null,{"$f":"IF(L90=\"\",\"\",L90)","v":""},null,{"$f":"IF(N90=\"\",\"\",N90)","v":""},null,{"$f":"IF(P90=\"\",\"\",P90)","v":""},null,null,null,null,null,null,null,null,null,null,null,null,null,null,null,null,null,null,null,null,null,null,null,null,null,null,null,null,null,null,null,null,null,null,null,null,"(単位：",null,null,{"$f":"IF(AW90=\"\",\"\",AW90)","v":""},null,null,")"]
[null,25,"工場等に係る\n事業の名称",null,null,null,null,null,null,{"$f":"IF(J91=\"\",\"\",J91)","v":""},null,null,null,null,null,null,null,{"$f":"IF(R91=\"\",\"\",R91)","v":""},null,null,null,null,null,null,null,null,null,null,null,null,null,{"$f":"IF(Y91=\"\",\"\",Y91)","v":""},null,null,null,null,null,null,{"$f":"IF(R472=\"\",\"\",IF(AF472=\"\",R472+(Y472*(1.3-1)),R472+(Y472*(1.3-1))-AF472))","v":""},null,null,null,null,null,null,{"$f":"IF(AM472=\"\",\"\",IF($CM$761=0,\"\",IF(CM472=\"\",\"\",ROUND(CM472/$CM$761,3))))","v":""},null,null,null,null,null,null,{"$f":"IF(AT91=\"\",\"\",AT91)","v":""},null,null,null,null,null,null,{"$f":"IF(BA472=\"\",\"\",ROUND(AM472/BA472,3-INT(LOG(AM472/BA472))))","v":""},null,null,null,null,null,null,"-",null,null,null,null,null,null,{"$f":"IF(OR((BO472=\"-\"),(ISNUMBER(BO472)=FALSE)),\"-\",ROUND(BH472/BO472,3))","v":"-"},null,null,null,null,null,null,"㉕'",null,null,null,null,null,null,null,null,null,{"$f":"CM91","v":""}]
[null,null,null,null,null,null,null,null,null,null,null,null,null,null,null,null,null,null,null,null,null,null,null,null,null,null,null,null,null,null,null,null,null,null,null,null,null,null,null,null,null,null,null,null,null,null,null,null,null,null,null,null,"(名称：",null,null,{"$f":"IF(AW92=\"\",\"\",AW92)","v":""},null,null,")",null,null,null,null,null,null,null,null,null,null,null,null,null,null,null,null,null,null,null,null,null,{"$f":"IF(OR((BV472=\"-\"),(ISNUMBER(BV472)=FALSE)),\"-\",ROUND(AT472*BV472,3))","v":"-"}]
[null,null,"細分類番号",null,null,null,null,null,null,{"$f":"IF(J93=\"\",\"\",J93)","v":""},null,{"$f":"IF(L93=\"\",\"\",L93)","v":""},null,{"$f":"IF(N93=\"\",\"\",N93)","v":""},null,{"$f":"IF(P93=\"\",\"\",P93)","v":""},null,null,null,null,null,null,null,null,null,null,null,null,null,null,null,null,null,null,null,null,null,null,null,null,null,null,null,null,null,null,null,null,null,null,null,null,"(単位：",null,null,{"$f":"IF(AW93=\"\",\"\",AW93)","v":""},null,null,")"]
[null,26,"工場等に係る\n事業の名称",null,null,null,null,null,null,{"$f":"IF(J94=\"\",\"\",J94)","v":""},null,null,null,null,null,null,null,{"$f":"IF(R94=\"\",\"\",R94)","v":""},null,null,null,null,null,null,null,null,null,null,null,null,null,{"$f":"IF(Y94=\"\",\"\",Y94)","v":""},null,null,null,null,null,null,{"$f":"IF(R475=\"\",\"\",IF(AF475=\"\",R475+(Y475*(1.3-1)),R475+(Y475*(1.3-1))-AF475))","v":""},null,null,null,null,null,null,{"$f":"IF(AM475=\"\",\"\",IF($CM$761=0,\"\",IF(CM475=\"\",\"\",ROUND(CM475/$CM$761,3))))","v":""},null,null,null,null,null,null,{"$f":"IF(AT94=\"\",\"\",AT94)","v":""},null,null,null,null,null,null,{"$f":"IF(BA475=\"\",\"\",ROUND(AM475/BA475,3-INT(LOG(AM475/BA475))))","v":""},null,null,null,null,null,null,"-",null,null,null,null,null,null,{"$f":"IF(OR((BO475=\"-\"),(ISNUMBER(BO475)=FALSE)),\"-\",ROUND(BH475/BO475,3))","v":"-"},null,null,null,null,null,null,"㉖'",null,null,null,null,null,null,null,null,null,{"$f":"CM94","v":""}]
[null,null,null,null,null,null,null,null,null,null,null,null,null,null,null,null,null,null,null,null,null,null,null,null,null,null,null,null,null,null,null,null,null,null,null,null,null,null,null,null,null,null,null,null,null,null,null,null,null,null,null,null,"(名称：",null,null,{"$f":"IF(AW95=\"\",\"\",AW95)","v":""},null,null,")",null,null,null,null,null,null,null,null,null,null,null,null,null,null,null,null,null,null,null,null,null,{"$f":"IF(OR((BV475=\"-\"),(ISNUMBER(BV475)=FALSE)),\"-\",ROUND(AT475*BV475,3))","v":"-"}]
[null,null,"細分類番号",null,null,null,null,null,null,{"$f":"IF(J96=\"\",\"\",J96)","v":""},null,{"$f":"IF(L96=\"\",\"\",L96)","v":""},null,{"$f":"IF(N96=\"\",\"\",N96)","v":""},null,{"$f":"IF(P96=\"\",\"\",P96)","v":""},null,null,null,null,null,null,null,null,null,null,null,null,null,null,null,null,null,null,null,null,null,null,null,null,null,null,null,null,null,null,null,null,null,null,null,null,"(単位：",null,null,{"$f":"IF(AW96=\"\",\"\",AW96)","v":""},null,null,")"]
[null,27,"工場等に係る\n事業の名称",null,null,null,null,null,null,{"$f":"IF(J97=\"\",\"\",J97)","v":""},null,null,null,null,null,null,null,{"$f":"IF(R97=\"\",\"\",R97)","v":""},null,null,null,null,null,null,null,null,null,null,null,null,null,{"$f":"IF(Y97=\"\",\"\",Y97)","v":""},null,null,null,null,null,null,{"$f":"IF(R478=\"\",\"\",IF(AF478=\"\",R478+(Y478*(1.3-1)),R478+(Y478*(1.3-1))-AF478))","v":""},null,null,null,null,null,null,{"$f":"IF(AM478=\"\",\"\",IF($CM$761=0,\"\",IF(CM478=\"\",\"\",ROUND(CM478/$CM$761,3))))","v":""},null,null,null,null,null,null,{"$f":"IF(AT97=\"\",\"\",AT97)","v":""},null,null,null,null,null,null,{"$f":"IF(BA478=\"\",\"\",ROUND(AM478/BA478,3-INT(LOG(AM478/BA478))))","v":""},null,null,null,null,null,null,"-",null,null,null,null,null,null,{"$f":"IF(OR((BO478=\"-\"),(ISNUMBER(BO478)=FALSE)),\"-\",ROUND(BH478/BO478,3))","v":"-"},null,null,null,null,null,null,"㉗'",null,null,null,null,null,null,null,null,null,{"$f":"CM97","v":""}]
[null,null,null,null,null,null,null,null,null,null,null,null,null,null,null,null,null,null,null,null,null,null,null,null,null,null,null,null,null,null,null,null,null,null,null,null,null,null,null,null,null,null,null,null,null,null,null,null,null,null,null,null,"(名称：",null,null,{"$f":"IF(AW98=\"\",\"\",AW98)","v":""},null,null,")",null,null,null,null,null,null,null,null,null,null,null,null,null,null,null,null,null,null,null,null,null,{"$f":"IF(OR((BV478=\"-\"),(ISNUMBER(BV478)=FALSE)),\"-\",ROUND(AT478*BV478,3))","v":"-"}]
[null,null,"細分類番号",null,null,null,null,null,null,{"$f":"IF(J99=\"\",\"\",J99)","v":""},null,{"$f":"IF(L99=\"\",\"\",L99)","v":""},null,{"$f":"IF(N99=\"\",\"\",N99)","v":""},null,{"$f":"IF(P99=\"\",\"\",P99)","v":""},null,null,null,null,null,null,null,null,null,null,null,null,null,null,null,null,null,null,null,null,null,null,null,null,null,null,null,null,null,null,null,null,null,null,null,null,"(単位：",null,null,{"$f":"IF(AW99=\"\",\"\",AW99)","v":""},null,null,")"]
[null,28,"工場等に係る\n事業の名称",null,null,null,null,null,null,{"$f":"IF(J100=\"\",\"\",J100)","v":""},null,null,null,null,null,null,null,{"$f":"IF(R100=\"\",\"\",R100)","v":""},null,null,null,null,null,null,null,null,null,null,null,null,null,{"$f":"IF(Y100=\"\",\"\",Y100)","v":""},null,null,null,null,null,null,{"$f":"IF(R481=\"\",\"\",IF(AF481=\"\",R481+(Y481*(1.3-1)),R481+(Y481*(1.3-1))-AF481))","v":""},null,null,null,null,null,null,{"$f":"IF(AM481=\"\",\"\",IF($CM$761=0,\"\",IF(CM481=\"\",\"\",ROUND(CM481/$CM$761,3))))","v":""},null,null,null,null,null,null,{"$f":"IF(AT100=\"\",\"\",AT100)","v":""},null,null,null,null,null,null,{"$f":"IF(BA481=\"\",\"\",ROUND(AM481/BA481,3-INT(LOG(AM481/BA481))))","v":""},null,null,null,null,null,null,"-",null,null,null,null,null,null,{"$f":"IF(OR((BO481=\"-\"),(ISNUMBER(BO481)=FALSE)),\"-\",ROUND(BH481/BO481,3))","v":"-"},null,null,null,null,null,null,"㉘'",null,null,null,null,null,null,null,null,null,{"$f":"CM100","v":""}]
[null,null,null,null,null,null,null,null,null,null,null,null,null,null,null,null,null,null,null,null,null,null,null,null,null,null,null,null,null,null,null,null,null,null,null,null,null,null,null,null,null,null,null,null,null,null,null,null,null,null,null,null,"(名称：",null,null,{"$f":"IF(AW101=\"\",\"\",AW101)","v":""},null,null,")",null,null,null,null,null,null,null,null,null,null,null,null,null,null,null,null,null,null,null,null,null,{"$f":"IF(OR((BV481=\"-\"),(ISNUMBER(BV481)=FALSE)),\"-\",ROUND(AT481*BV481,3))","v":"-"}]
[null,null,"細分類番号",null,null,null,null,null,null,{"$f":"IF(J102=\"\",\"\",J102)","v":""},null,{"$f":"IF(L102=\"\",\"\",L102)","v":""},null,{"$f":"IF(N102=\"\",\"\",N102)","v":""},null,{"$f":"IF(P102=\"\",\"\",P102)","v":""},null,null,null,null,null,null,null,null,null,null,null,null,null,null,null,null,null,null,null,null,null,null,null,null,null,null,null,null,null,null,null,null,null,null,null,null,"(単位：",null,null,{"$f":"IF(AW102=\"\",\"\",AW102)","v":""},null,null,")"]
[null,29,"工場等に係る\n事業の名称",null,null,null,null,null,null,{"$f":"IF(J103=\"\",\"\",J103)","v":""},null,null,null,null,null,null,null,{"$f":"IF(R103=\"\",\"\",R103)","v":""},null,null,null,null,null,null,null,null,null,null,null,null,null,{"$f":"IF(Y103=\"\",\"\",Y103)","v":""},null,null,null,null,null,null,{"$f":"IF(R484=\"\",\"\",IF(AF484=\"\",R484+(Y484*(1.3-1)),R484+(Y484*(1.3-1))-AF484))","v":""},null,null,null,null,null,null,{"$f":"IF(AM484=\"\",\"\",IF($CM$761=0,\"\",IF(CM484=\"\",\"\",ROUND(CM484/$CM$761,3))))","v":""},null,null,null,null,null,null,{"$f":"IF(AT103=\"\",\"\",AT103)","v":""},null,null,null,null,null,null,{"$f":"IF(BA484=\"\",\"\",ROUND(AM484/BA484,3-INT(LOG(AM484/BA484))))","v":""},null,null,null,null,null,null,"-",null,null,null,null,null,null,{"$f":"IF(OR((BO484=\"-\"),(ISNUMBER(BO484)=FALSE)),\"-\",ROUND(BH484/BO484,3))","v":"-"},null,null,null,null,null,null,"㉙'",null,null,null,null,null,null,null,null,null,{"$f":"CM103","v":""}]
[null,null,null,null,null,null,null,null,null,null,null,null,null,null,null,null,null,null,null,null,null,null,null,null,null,null,null,null,null,null,null,null,null,null,null,null,null,null,null,null,null,null,null,null,null,null,null,null,null,null,null,null,"(名称：",null,null,{"$f":"IF(AW104=\"\",\"\",AW104)","v":""},null,null,")",null,null,null,null,null,null,null,null,null,null,null,null,null,null,null,null,null,null,null,null,null,{"$f":"IF(OR((BV484=\"-\"),(ISNUMBER(BV484)=FALSE)),\"-\",ROUND(AT484*BV484,3))","v":"-"}]
[null,null,"細分類番号",null,null,null,null,null,null,{"$f":"IF(J105=\"\",\"\",J105)","v":""},null,{"$f":"IF(L105=\"\",\"\",L105)","v":""},null,{"$f":"IF(N105=\"\",\"\",N105)","v":""},null,{"$f":"IF(P105=\"\",\"\",P105)","v":""},null,null,null,null,null,null,null,null,null,null,null,null,null,null,null,null,null,null,null,null,null,null,null,null,null,null,null,null,null,null,null,null,null,null,null,null,"(単位：",null,null,{"$f":"IF(AW105=\"\",\"\",AW105)","v":""},null,null,")"]
[null,30,"工場等に係る\n事業の名称",null,null,null,null,null,null,{"$f":"IF(J106=\"\",\"\",J106)","v":""},null,null,null,null,null,null,null,{"$f":"IF(R106=\"\",\"\",R106)","v":""},null,null,null,null,null,null,null,null,null,null,null,null,null,{"$f":"IF(Y106=\"\",\"\",Y106)","v":""},null,null,null,null,null,null,{"$f":"IF(R487=\"\",\"\",IF(AF487=\"\",R487+(Y487*(1.3-1)),R487+(Y487*(1.3-1))-AF487))","v":""},null,null,null,null,null,null,{"$f":"IF(AM487=\"\",\"\",IF($CM$761=0,\"\",IF(CM487=\"\",\"\",ROUND(CM487/$CM$761,3))))","v":""},null,null,null,null,null,null,{"$f":"IF(AT106=\"\",\"\",AT106)","v":""},null,null,null,null,null,null,{"$f":"IF(BA487=\"\",\"\",ROUND(AM487/BA487,3-INT(LOG(AM487/BA487))))","v":""},null,null,null,null,null,null,"-",null,null,null,null,null,null,{"$f":"IF(OR((BO487=\"-\"),(ISNUMBER(BO487)=FALSE)),\"-\",ROUND(BH487/BO487,3))","v":"-"},null,null,null,null,null,null,"㉚'",null,null,null,null,null,null,null,null,null,{"$f":"CM106","v":""}]
[null,null,null,null,null,null,null,null,null,null,null,null,null,null,null,null,null,null,null,null,null,null,null,null,null,null,null,null,null,null,null,null,null,null,null,null,null,null,null,null,null,null,null,null,null,null,null,null,null,null,null,null,"(名称：",null,null,{"$f":"IF(AW107=\"\",\"\",AW107)","v":""},null,null,")",null,null,null,null,null,null,null,null,null,null,null,null,null,null,null,null,null,null,null,null,null,{"$f":"IF(OR((BV487=\"-\"),(ISNUMBER(BV487)=FALSE)),\"-\",ROUND(AT487*BV487,3))","v":"-"}]
[null,null,"細分類番号",null,null,null,null,null,null,{"$f":"IF(J108=\"\",\"\",J108)","v":""},null,{"$f":"IF(L108=\"\",\"\",L108)","v":""},null,{"$f":"IF(N108=\"\",\"\",N108)","v":""},null,{"$f":"IF(P108=\"\",\"\",P108)","v":""},null,null,null,null,null,null,null,null,null,null,null,null,null,null,null,null,null,null,null,null,null,null,null,null,null,null,null,null,null,null,null,null,null,null,null,null,"(単位：",null,null,{"$f":"IF(AW108=\"\",\"\",AW108)","v":""},null,null,")"]
[null,31,"工場等に係る\n事業の名称",null,null,null,null,null,null,{"$f":"IF(J109=\"\",\"\",J109)","v":""},null,null,null,null,null,null,null,{"$f":"IF(R109=\"\",\"\",R109)","v":""},null,null,null,null,null,null,null,null,null,null,null,null,null,{"$f":"IF(Y109=\"\",\"\",Y109)","v":""},null,null,null,null,null,null,{"$f":"IF(R490=\"\",\"\",IF(AF490=\"\",R490+(Y490*(1.3-1)),R490+(Y490*(1.3-1))-AF490))","v":""},null,null,null,null,null,null,{"$f":"IF(AM490=\"\",\"\",IF($CM$761=0,\"\",IF(CM490=\"\",\"\",ROUND(CM490/$CM$761,3))))","v":""},null,null,null,null,null,null,{"$f":"IF(AT109=\"\",\"\",AT109)","v":""},null,null,null,null,null,null,{"$f":"IF(BA490=\"\",\"\",ROUND(AM490/BA490,3-INT(LOG(AM490/BA490))))","v":""},null,null,null,null,null,null,"-",null,null,null,null,null,null,{"$f":"IF(OR((BO490=\"-\"),(ISNUMBER(BO490)=FALSE)),\"-\",ROUND(BH490/BO490,3))","v":"-"},null,null,null,null,null,null,"㉛'",null,null,null,null,null,null,null,null,null,{"$f":"CM109","v":""}]
[null,null,null,null,null,null,null,null,null,null,null,null,null,null,null,null,null,null,null,null,null,null,null,null,null,null,null,null,null,null,null,null,null,null,null,null,null,null,null,null,null,null,null,null,null,null,null,null,null,null,null,null,"(名称：",null,null,{"$f":"IF(AW110=\"\",\"\",AW110)","v":""},null,null,")",null,null,null,null,null,null,null,null,null,null,null,null,null,null,null,null,null,null,null,null,null,{"$f":"IF(OR((BV490=\"-\"),(ISNUMBER(BV490)=FALSE)),\"-\",ROUND(AT490*BV490,3))","v":"-"}]
[null,null,"細分類番号",null,null,null,null,null,null,{"$f":"IF(J111=\"\",\"\",J111)","v":""},null,{"$f":"IF(L111=\"\",\"\",L111)","v":""},null,{"$f":"IF(N111=\"\",\"\",N111)","v":""},null,{"$f":"IF(P111=\"\",\"\",P111)","v":""},null,null,null,null,null,null,null,null,null,null,null,null,null,null,null,null,null,null,null,null,null,null,null,null,null,null,null,null,null,null,null,null,null,null,null,null,"(単位：",null,null,{"$f":"IF(AW111=\"\",\"\",AW111)","v":""},null,null,")"]
[null,32,"工場等に係る\n事業の名称",null,null,null,null,null,null,{"$f":"IF(J112=\"\",\"\",J112)","v":""},null,null,null,null,null,null,null,{"$f":"IF(R112=\"\",\"\",R112)","v":""},null,null,null,null,null,null,null,null,null,null,null,null,null,{"$f":"IF(Y112=\"\",\"\",Y112)","v":""},null,null,null,null,null,null,{"$f":"IF(R493=\"\",\"\",IF(AF493=\"\",R493+(Y493*(1.3-1)),R493+(Y493*(1.3-1))-AF493))","v":""},null,null,null,null,null,null,{"$f":"IF(AM493=\"\",\"\",IF($CM$761=0,\"\",IF(CM493=\"\",\"\",ROUND(CM493/$CM$761,3))))","v":""},null,null,null,null,null,null,{"$f":"IF(AT112=\"\",\"\",AT112)","v":""},null,null,null,null,null,null,{"$f":"IF(BA493=\"\",\"\",ROUND(AM493/BA493,3-INT(LOG(AM493/BA493))))","v":""},null,null,null,null,null,null,"-",null,null,null,null,null,null,{"$f":"IF(OR((BO493=\"-\"),(ISNUMBER(BO493)=FALSE)),\"-\",ROUND(BH493/BO493,3))","v":"-"},null,null,null,null,null,null,"㉜'",null,null,null,null,null,null,null,null,null,{"$f":"CM112","v":""}]
[null,null,null,null,null,null,null,null,null,null,null,null,null,null,null,null,null,null,null,null,null,null,null,null,null,null,null,null,null,null,null,null,null,null,null,null,null,null,null,null,null,null,null,null,null,null,null,null,null,null,null,null,"(名称：",null,null,{"$f":"IF(AW113=\"\",\"\",AW113)","v":""},null,null,")",null,null,null,null,null,null,null,null,null,null,null,null,null,null,null,null,null,null,null,null,null,{"$f":"IF(OR((BV493=\"-\"),(ISNUMBER(BV493)=FALSE)),\"-\",ROUND(AT493*BV493,3))","v":"-"}]
[null,null,"細分類番号",null,null,null,null,null,null,{"$f":"IF(J114=\"\",\"\",J114)","v":""},null,{"$f":"IF(L114=\"\",\"\",L114)","v":""},null,{"$f":"IF(N114=\"\",\"\",N114)","v":""},null,{"$f":"IF(P114=\"\",\"\",P114)","v":""},null,null,null,null,null,null,null,null,null,null,null,null,null,null,null,null,null,null,null,null,null,null,null,null,null,null,null,null,null,null,null,null,null,null,null,null,"(単位：",null,null,{"$f":"IF(AW114=\"\",\"\",AW114)","v":""},null,null,")"]
[null,33,"工場等に係る\n事業の名称",null,null,null,null,null,null,{"$f":"IF(J115=\"\",\"\",J115)","v":""},null,null,null,null,null,null,null,{"$f":"IF(R115=\"\",\"\",R115)","v":""},null,null,null,null,null,null,null,null,null,null,null,null,null,{"$f":"IF(Y115=\"\",\"\",Y115)","v":""},null,null,null,null,null,null,{"$f":"IF(R496=\"\",\"\",IF(AF496=\"\",R496+(Y496*(1.3-1)),R496+(Y496*(1.3-1))-AF496))","v":""},null,null,null,null,null,null,{"$f":"IF(AM496=\"\",\"\",IF($CM$761=0,\"\",IF(CM496=\"\",\"\",ROUND(CM496/$CM$761,3))))","v":""},null,null,null,null,null,null,{"$f":"IF(AT115=\"\",\"\",AT115)","v":""},null,null,null,null,null,null,{"$f":"IF(BA496=\"\",\"\",ROUND(AM496/BA496,3-INT(LOG(AM496/BA496))))","v":""},null,null,null,null,null,null,"-",null,null,null,null,null,null,{"$f":"IF(OR((BO496=\"-\"),(ISNUMBER(BO496)=FALSE)),\"-\",ROUND(BH496/BO496,3))","v":"-"},null,null,null,null,null,null,"㉝'",null,null,null,null,null,null,null,null,null,{"$f":"CM115","v":""}]
[null,null,null,null,null,null,null,null,null,null,null,null,null,null,null,null,null,null,null,null,null,null,null,null,null,null,null,null,null,null,null,null,null,null,null,null,null,null,null,null,null,null,null,null,null,null,null,null,null,null,null,null,"(名称：",null,null,{"$f":"IF(AW116=\"\",\"\",AW116)","v":""},null,null,")",null,null,null,null,null,null,null,null,null,null,null,null,null,null,null,null,null,null,null,null,null,{"$f":"IF(OR((BV496=\"-\"),(ISNUMBER(BV496)=FALSE)),\"-\",ROUND(AT496*BV496,3))","v":"-"}]
[null,null,"細分類番号",null,null,null,null,null,null,{"$f":"IF(J117=\"\",\"\",J117)","v":""},null,{"$f":"IF(L117=\"\",\"\",L117)","v":""},null,{"$f":"IF(N117=\"\",\"\",N117)","v":""},null,{"$f":"IF(P117=\"\",\"\",P117)","v":""},null,null,null,null,null,null,null,null,null,null,null,null,null,null,null,null,null,null,null,null,null,null,null,null,null,null,null,null,null,null,null,null,null,null,null,null,"(単位：",null,null,{"$f":"IF(AW117=\"\",\"\",AW117)","v":""},null,null,")"]
[null,34,"工場等に係る\n事業の名称",null,null,null,null,null,null,{"$f":"IF(J118=\"\",\"\",J118)","v":""},null,null,null,null,null,null,null,{"$f":"IF(R118=\"\",\"\",R118)","v":""},null,null,null,null,null,null,null,null,null,null,null,null,null,{"$f":"IF(Y118=\"\",\"\",Y118)","v":""},null,null,null,null,null,null,{"$f":"IF(R499=\"\",\"\",IF(AF499=\"\",R499+(Y499*(1.3-1)),R499+(Y499*(1.3-1))-AF499))","v":""},null,null,null,null,null,null,{"$f":"IF(AM499=\"\",\"\",IF($CM$761=0,\"\",IF(CM499=\"\",\"\",ROUND(CM499/$CM$761,3))))","v":""},null,null,null,null,null,null,{"$f":"IF(AT118=\"\",\"\",AT118)","v":""},null,null,null,null,null,null,{"$f":"IF(BA499=\"\",\"\",ROUND(AM499/BA499,3-INT(LOG(AM499/BA499))))","v":""},null,null,null,null,null,null,"-",null,null,null,null,null,null,{"$f":"IF(OR((BO499=\"-\"),(ISNUMBER(BO499)=FALSE)),\"-\",ROUND(BH499/BO499,3))","v":"-"},null,null,null,null,null,null,"㉞'",null,null,null,null,null,null,null,null,null,{"$f":"CM118","v":""}]
[null,null,null,null,null,null,null,null,null,null,null,null,null,null,null,null,null,null,null,null,null,null,null,null,null,null,null,null,null,null,null,null,null,null,null,null,null,null,null,null,null,null,null,null,null,null,null,null,null,null,null,null,"(名称：",null,null,{"$f":"IF(AW119=\"\",\"\",AW119)","v":""},null,null,")",null,null,null,null,null,null,null,null,null,null,null,null,null,null,null,null,null,null,null,null,null,{"$f":"IF(OR((BV499=\"-\"),(ISNUMBER(BV499)=FALSE)),\"-\",ROUND(AT499*BV499,3))","v":"-"}]
[null,null,"細分類番号",null,null,null,null,null,null,{"$f":"IF(J120=\"\",\"\",J120)","v":""},null,{"$f":"IF(L120=\"\",\"\",L120)","v":""},null,{"$f":"IF(N120=\"\",\"\",N120)","v":""},null,{"$f":"IF(P120=\"\",\"\",P120)","v":""},null,null,null,null,null,null,null,null,null,null,null,null,null,null,null,null,null,null,null,null,null,null,null,null,null,null,null,null,null,null,null,null,null,null,null,null,"(単位：",null,null,{"$f":"IF(AW120=\"\",\"\",AW120)","v":""},null,null,")"]
[null,35,"工場等に係る\n事業の名称",null,null,null,null,null,null,{"$f":"IF(J121=\"\",\"\",J121)","v":""},null,null,null,null,null,null,null,{"$f":"IF(R121=\"\",\"\",R121)","v":""},null,null,null,null,null,null,null,null,null,null,null,null,null,{"$f":"IF(Y121=\"\",\"\",Y121)","v":""},null,null,null,null,null,null,{"$f":"IF(R502=\"\",\"\",IF(AF502=\"\",R502+(Y502*(1.3-1)),R502+(Y502*(1.3-1))-AF502))","v":""},null,null,null,null,null,null,{"$f":"IF(AM502=\"\",\"\",IF($CM$761=0,\"\",IF(CM502=\"\",\"\",ROUND(CM502/$CM$761,3))))","v":""},null,null,null,null,null,null,{"$f":"IF(AT121=\"\",\"\",AT121)","v":""},null,null,null,null,null,null,{"$f":"IF(BA502=\"\",\"\",ROUND(AM502/BA502,3-INT(LOG(AM502/BA502))))","v":""},null,null,null,null,null,null,"-",null,null,null,null,null,null,{"$f":"IF(OR((BO502=\"-\"),(ISNUMBER(BO502)=FALSE)),\"-\",ROUND(BH502/BO502,3))","v":"-"},null,null,null,null,null,null,"㉟'",null,null,null,null,null,null,null,null,null,{"$f":"CM121","v":""}]
[null,null,null,null,null,null,null,null,null,null,null,null,null,null,null,null,null,null,null,null,null,null,null,null,null,null,null,null,null,null,null,null,null,null,null,null,null,null,null,null,null,null,null,null,null,null,null,null,null,null,null,null,"(名称：",null,null,{"$f":"IF(AW122=\"\",\"\",AW122)","v":""},null,null,")",null,null,null,null,null,null,null,null,null,null,null,null,null,null,null,null,null,null,null,null,null,{"$f":"IF(OR((BV502=\"-\"),(ISNUMBER(BV502)=FALSE)),\"-\",ROUND(AT502*BV502,3))","v":"-"}]
[null,null,"細分類番号",null,null,null,null,null,null,{"$f":"IF(J123=\"\",\"\",J123)","v":""},null,{"$f":"IF(L123=\"\",\"\",L123)","v":""},null,{"$f":"IF(N123=\"\",\"\",N123)","v":""},null,{"$f":"IF(P123=\"\",\"\",P123)","v":""},null,null,null,null,null,null,null,null,null,null,null,null,null,null,null,null,null,null,null,null,null,null,null,null,null,null,null,null,null,null,null,null,null,null,null,null,"(単位：",null,null,{"$f":"IF(AW123=\"\",\"\",AW123)","v":""},null,null,")"]
[null,36,"工場等に係る\n事業の名称",null,null,null,null,null,null,{"$f":"IF(J124=\"\",\"\",J124)","v":""},null,null,null,null,null,null,null,{"$f":"IF(R124=\"\",\"\",R124)","v":""},null,null,null,null,null,null,null,null,null,null,null,null,null,{"$f":"IF(Y124=\"\",\"\",Y124)","v":""},null,null,null,null,null,null,{"$f":"IF(R505=\"\",\"\",IF(AF505=\"\",R505+(Y505*(1.3-1)),R505+(Y505*(1.3-1))-AF505))","v":""},null,null,null,null,null,null,{"$f":"IF(AM505=\"\",\"\",IF($CM$761=0,\"\",IF(CM505=\"\",\"\",ROUND(CM505/$CM$761,3))))","v":""},null,null,null,null,null,null,{"$f":"IF(AT124=\"\",\"\",AT124)","v":""},null,null,null,null,null,null,{"$f":"IF(BA505=\"\",\"\",ROUND(AM505/BA505,3-INT(LOG(AM505/BA505))))","v":""},null,null,null,null,null,null,"-",null,null,null,null,null,null,{"$f":"IF(OR((BO505=\"-\"),(ISNUMBER(BO505)=FALSE)),\"-\",ROUND(BH505/BO505,3))","v":"-"},null,null,null,null,null,null,"㊱'",null,null,null,null,null,null,null,null,null,{"$f":"CM124","v":""}]
[null,null,null,null,null,null,null,null,null,null,null,null,null,null,null,null,null,null,null,null,null,null,null,null,null,null,null,null,null,null,null,null,null,null,null,null,null,null,null,null,null,null,null,null,null,null,null,null,null,null,null,null,"(名称：",null,null,{"$f":"IF(AW125=\"\",\"\",AW125)","v":""},null,null,")",null,null,null,null,null,null,null,null,null,null,null,null,null,null,null,null,null,null,null,null,null,{"$f":"IF(OR((BV505=\"-\"),(ISNUMBER(BV505)=FALSE)),\"-\",ROUND(AT505*BV505,3))","v":"-"}]
[null,null,"細分類番号",null,null,null,null,null,null,{"$f":"IF(J126=\"\",\"\",J126)","v":""},null,{"$f":"IF(L126=\"\",\"\",L126)","v":""},null,{"$f":"IF(N126=\"\",\"\",N126)","v":""},null,{"$f":"IF(P126=\"\",\"\",P126)","v":""},null,null,null,null,null,null,null,null,null,null,null,null,null,null,null,null,null,null,null,null,null,null,null,null,null,null,null,null,null,null,null,null,null,null,null,null,"(単位：",null,null,{"$f":"IF(AW126=\"\",\"\",AW126)","v":""},null,null,")"]
[null,37,"工場等に係る\n事業の名称",null,null,null,null,null,null,{"$f":"IF(J127=\"\",\"\",J127)","v":""},null,null,null,null,null,null,null,{"$f":"IF(R127=\"\",\"\",R127)","v":""},null,null,null,null,null,null,null,null,null,null,null,null,null,{"$f":"IF(Y127=\"\",\"\",Y127)","v":""},null,null,null,null,null,null,{"$f":"IF(R508=\"\",\"\",IF(AF508=\"\",R508+(Y508*(1.3-1)),R508+(Y508*(1.3-1))-AF508))","v":""},null,null,null,null,null,null,{"$f":"IF(AM508=\"\",\"\",IF($CM$761=0,\"\",IF(CM508=\"\",\"\",ROUND(CM508/$CM$761,3))))","v":""},null,null,null,null,null,null,{"$f":"IF(AT127=\"\",\"\",AT127)","v":""},null,null,null,null,null,null,{"$f":"IF(BA508=\"\",\"\",ROUND(AM508/BA508,3-INT(LOG(AM508/BA508))))","v":""},null,null,null,null,null,null,"-",null,null,null,null,null,null,{"$f":"IF(OR((BO508=\"-\"),(ISNUMBER(BO508)=FALSE)),\"-\",ROUND(BH508/BO508,3))","v":"-"},null,null,null,null,null,null,"㊲'",null,null,null,null,null,null,null,null,null,{"$f":"CM127","v":""}]
[null,null,null,null,null,null,null,null,null,null,null,null,null,null,null,null,null,null,null,null,null,null,null,null,null,null,null,null,null,null,null,null,null,null,null,null,null,null,null,null,null,null,null,null,null,null,null,null,null,null,null,null,"(名称：",null,null,{"$f":"IF(AW128=\"\",\"\",AW128)","v":""},null,null,")",null,null,null,null,null,null,null,null,null,null,null,null,null,null,null,null,null,null,null,null,null,{"$f":"IF(OR((BV508=\"-\"),(ISNUMBER(BV508)=FALSE)),\"-\",ROUND(AT508*BV508,3))","v":"-"}]
[null,null,"細分類番号",null,null,null,null,null,null,{"$f":"IF(J129=\"\",\"\",J129)","v":""},null,{"$f":"IF(L129=\"\",\"\",L129)","v":""},null,{"$f":"IF(N129=\"\",\"\",N129)","v":""},null,{"$f":"IF(P129=\"\",\"\",P129)","v":""},null,null,null,null,null,null,null,null,null,null,null,null,null,null,null,null,null,null,null,null,null,null,null,null,null,null,null,null,null,null,null,null,null,null,null,null,"(単位：",null,null,{"$f":"IF(AW129=\"\",\"\",AW129)","v":""},null,null,")"]
[null,38,"工場等に係る\n事業の名称",null,null,null,null,null,null,{"$f":"IF(J130=\"\",\"\",J130)","v":""},null,null,null,null,null,null,null,{"$f":"IF(R130=\"\",\"\",R130)","v":""},null,null,null,null,null,null,null,null,null,null,null,null,null,{"$f":"IF(Y130=\"\",\"\",Y130)","v":""},null,null,null,null,null,null,{"$f":"IF(R511=\"\",\"\",IF(AF511=\"\",R511+(Y511*(1.3-1)),R511+(Y511*(1.3-1))-AF511))","v":""},null,null,null,null,null,null,{"$f":"IF(AM511=\"\",\"\",IF($CM$761=0,\"\",IF(CM511=\"\",\"\",ROUND(CM511/$CM$761,3))))","v":""},null,null,null,null,null,null,{"$f":"IF(AT130=\"\",\"\",AT130)","v":""},null,null,null,null,null,null,{"$f":"IF(BA511=\"\",\"\",ROUND(AM511/BA511,3-INT(LOG(AM511/BA511))))","v":""},null,null,null,null,null,null,"-",null,null,null,null,null,null,{"$f":"IF(OR((BO511=\"-\"),(ISNUMBER(BO511)=FALSE)),\"-\",ROUND(BH511/BO511,3))","v":"-"},null,null,null,null,null,null,"㊳'",null,null,null,null,null,null,null,null,null,{"$f":"CM130","v":""}]
[null,null,null,null,null,null,null,null,null,null,null,null,null,null,null,null,null,null,null,null,null,null,null,null,null,null,null,null,null,null,null,null,null,null,null,null,null,null,null,null,null,null,null,null,null,null,null,null,null,null,null,null,"(名称：",null,null,{"$f":"IF(AW131=\"\",\"\",AW131)","v":""},null,null,")",null,null,null,null,null,null,null,null,null,null,null,null,null,null,null,null,null,null,null,null,null,{"$f":"IF(OR((BV511=\"-\"),(ISNUMBER(BV511)=FALSE)),\"-\",ROUND(AT511*BV511,3))","v":"-"}]
[null,null,"細分類番号",null,null,null,null,null,null,{"$f":"IF(J132=\"\",\"\",J132)","v":""},null,{"$f":"IF(L132=\"\",\"\",L132)","v":""},null,{"$f":"IF(N132=\"\",\"\",N132)","v":""},null,{"$f":"IF(P132=\"\",\"\",P132)","v":""},null,null,null,null,null,null,null,null,null,null,null,null,null,null,null,null,null,null,null,null,null,null,null,null,null,null,null,null,null,null,null,null,null,null,null,null,"(単位：",null,null,{"$f":"IF(AW132=\"\",\"\",AW132)","v":""},null,null,")"]
[null,39,"工場等に係る\n事業の名称",null,null,null,null,null,null,{"$f":"IF(J133=\"\",\"\",J133)","v":""},null,null,null,null,null,null,null,{"$f":"IF(R133=\"\",\"\",R133)","v":""},null,null,null,null,null,null,null,null,null,null,null,null,null,{"$f":"IF(Y133=\"\",\"\",Y133)","v":""},null,null,null,null,null,null,{"$f":"IF(R514=\"\",\"\",IF(AF514=\"\",R514+(Y514*(1.3-1)),R514+(Y514*(1.3-1))-AF514))","v":""},null,null,null,null,null,null,{"$f":"IF(AM514=\"\",\"\",IF($CM$761=0,\"\",IF(CM514=\"\",\"\",ROUND(CM514/$CM$761,3))))","v":""},null,null,null,null,null,null,{"$f":"IF(AT133=\"\",\"\",AT133)","v":""},null,null,null,null,null,null,{"$f":"IF(BA514=\"\",\"\",ROUND(AM514/BA514,3-INT(LOG(AM514/BA514))))","v":""},null,null,null,null,null,null,"-",null,null,null,null,null,null,{"$f":"IF(OR((BO514=\"-\"),(ISNUMBER(BO514)=FALSE)),\"-\",ROUND(BH514/BO514,3))","v":"-"},null,null,null,null,null,null,"㊴'",null,null,null,null,null,null,null,null,null,{"$f":"CM133","v":""}]
[null,null,null,null,null,null,null,null,null,null,null,null,null,null,null,null,null,null,null,null,null,null,null,null,null,null,null,null,null,null,null,null,null,null,null,null,null,null,null,null,null,null,null,null,null,null,null,null,null,null,null,null,"(名称：",null,null,{"$f":"IF(AW134=\"\",\"\",AW134)","v":""},null,null,")",null,null,null,null,null,null,null,null,null,null,null,null,null,null,null,null,null,null,null,null,null,{"$f":"IF(OR((BV514=\"-\"),(ISNUMBER(BV514)=FALSE)),\"-\",ROUND(AT514*BV514,3))","v":"-"}]
[null,null,"細分類番号",null,null,null,null,null,null,{"$f":"IF(J135=\"\",\"\",J135)","v":""},null,{"$f":"IF(L135=\"\",\"\",L135)","v":""},null,{"$f":"IF(N135=\"\",\"\",N135)","v":""},null,{"$f":"IF(P135=\"\",\"\",P135)","v":""},null,null,null,null,null,null,null,null,null,null,null,null,null,null,null,null,null,null,null,null,null,null,null,null,null,null,null,null,null,null,null,null,null,null,null,null,"(単位：",null,null,{"$f":"IF(AW135=\"\",\"\",AW135)","v":""},null,null,")"]
[null,40,"工場等に係る\n事業の名称",null,null,null,null,null,null,{"$f":"IF(J136=\"\",\"\",J136)","v":""},null,null,null,null,null,null,null,{"$f":"IF(R136=\"\",\"\",R136)","v":""},null,null,null,null,null,null,null,null,null,null,null,null,null,{"$f":"IF(Y136=\"\",\"\",Y136)","v":""},null,null,null,null,null,null,{"$f":"IF(R517=\"\",\"\",IF(AF517=\"\",R517+(Y517*(1.3-1)),R517+(Y517*(1.3-1))-AF517))","v":""},null,null,null,null,null,null,{"$f":"IF(AM517=\"\",\"\",IF($CM$761=0,\"\",IF(CM517=\"\",\"\",ROUND(CM517/$CM$761,3))))","v":""},null,null,null,null,null,null,{"$f":"IF(AT136=\"\",\"\",AT136)","v":""},null,null,null,null,null,null,{"$f":"IF(BA517=\"\",\"\",ROUND(AM517/BA517,3-INT(LOG(AM517/BA517))))","v":""},null,null,null,null,null,null,"-",null,null,null,null,null,null,{"$f":"IF(OR((BO517=\"-\"),(ISNUMBER(BO517)=FALSE)),\"-\",ROUND(BH517/BO517,3))","v":"-"},null,null,null,null,null,null,"㊵'",null,null,null,null,null,null,null,null,null,{"$f":"CM136","v":""}]
[null,null,null,null,null,null,null,null,null,null,null,null,null,null,null,null,null,null,null,null,null,null,null,null,null,null,null,null,null,null,null,null,null,null,null,null,null,null,null,null,null,null,null,null,null,null,null,null,null,null,null,null,"(名称：",null,null,{"$f":"IF(AW137=\"\",\"\",AW137)","v":""},null,null,")",null,null,null,null,null,null,null,null,null,null,null,null,null,null,null,null,null,null,null,null,null,{"$f":"IF(OR((BV517=\"-\"),(ISNUMBER(BV517)=FALSE)),\"-\",ROUND(AT517*BV517,3))","v":"-"}]
[null,null,"細分類番号",null,null,null,null,null,null,{"$f":"IF(J138=\"\",\"\",J138)","v":""},null,{"$f":"IF(L138=\"\",\"\",L138)","v":""},null,{"$f":"IF(N138=\"\",\"\",N138)","v":""},null,{"$f":"IF(P138=\"\",\"\",P138)","v":""},null,null,null,null,null,null,null,null,null,null,null,null,null,null,null,null,null,null,null,null,null,null,null,null,null,null,null,null,null,null,null,null,null,null,null,null,"(単位：",null,null,{"$f":"IF(AW138=\"\",\"\",AW138)","v":""},null,null,")"]
[null,41,"工場等に係る\n事業の名称",null,null,null,null,null,null,{"$f":"IF(J139=\"\",\"\",J139)","v":""},null,null,null,null,null,null,null,{"$f":"IF(R139=\"\",\"\",R139)","v":""},null,null,null,null,null,null,null,null,null,null,null,null,null,{"$f":"IF(Y139=\"\",\"\",Y139)","v":""},null,null,null,null,null,null,{"$f":"IF(R520=\"\",\"\",IF(AF520=\"\",R520+(Y520*(1.3-1)),R520+(Y520*(1.3-1))-AF520))","v":""},null,null,null,null,null,null,{"$f":"IF(AM520=\"\",\"\",IF($CM$761=0,\"\",IF(CM520=\"\",\"\",ROUND(CM520/$CM$761,3))))","v":""},null,null,null,null,null,null,{"$f":"IF(AT139=\"\",\"\",AT139)","v":""},null,null,null,null,null,null,{"$f":"IF(BA520=\"\",\"\",ROUND(AM520/BA520,3-INT(LOG(AM520/BA520))))","v":""},null,null,null,null,null,null,"-",null,null,null,null,null,null,{"$f":"IF(OR((BO520=\"-\"),(ISNUMBER(BO520)=FALSE)),\"-\",ROUND(BH520/BO520,3))","v":"-"},null,null,null,null,null,null,"㊶'",null,null,null,null,null,null,null,null,null,{"$f":"CM139","v":""}]
[null,null,null,null,null,null,null,null,null,null,null,null,null,null,null,null,null,null,null,null,null,null,null,null,null,null,null,null,null,null,null,null,null,null,null,null,null,null,null,null,null,null,null,null,null,null,null,null,null,null,null,null,"(名称：",null,null,{"$f":"IF(AW140=\"\",\"\",AW140)","v":""},null,null,")",null,null,null,null,null,null,null,null,null,null,null,null,null,null,null,null,null,null,null,null,null,{"$f":"IF(OR((BV520=\"-\"),(ISNUMBER(BV520)=FALSE)),\"-\",ROUND(AT520*BV520,3))","v":"-"}]
[null,null,"細分類番号",null,null,null,null,null,null,{"$f":"IF(J141=\"\",\"\",J141)","v":""},null,{"$f":"IF(L141=\"\",\"\",L141)","v":""},null,{"$f":"IF(N141=\"\",\"\",N141)","v":""},null,{"$f":"IF(P141=\"\",\"\",P141)","v":""},null,null,null,null,null,null,null,null,null,null,null,null,null,null,null,null,null,null,null,null,null,null,null,null,null,null,null,null,null,null,null,null,null,null,null,null,"(単位：",null,null,{"$f":"IF(AW141=\"\",\"\",AW141)","v":""},null,null,")"]
[null,42,"工場等に係る\n事業の名称",null,null,null,null,null,null,{"$f":"IF(J142=\"\",\"\",J142)","v":""},null,null,null,null,null,null,null,{"$f":"IF(R142=\"\",\"\",R142)","v":""},null,null,null,null,null,null,null,null,null,null,null,null,null,{"$f":"IF(Y142=\"\",\"\",Y142)","v":""},null,null,null,null,null,null,{"$f":"IF(R523=\"\",\"\",IF(AF523=\"\",R523+(Y523*(1.3-1)),R523+(Y523*(1.3-1))-AF523))","v":""},null,null,null,null,null,null,{"$f":"IF(AM523=\"\",\"\",IF($CM$761=0,\"\",IF(CM523=\"\",\"\",ROUND(CM523/$CM$761,3))))","v":""},null,null,null,null,null,null,{"$f":"IF(AT142=\"\",\"\",AT142)","v":""},null,null,null,null,null,null,{"$f":"IF(BA523=\"\",\"\",ROUND(AM523/BA523,3-INT(LOG(AM523/BA523))))","v":""},null,null,null,null,null,null,"-",null,null,null,null,null,null,{"$f":"IF(OR((BO523=\"-\"),(ISNUMBER(BO523)=FALSE)),\"-\",ROUND(BH523/BO523,3))","v":"-"},null,null,null,null,null,null,"㊷'",null,null,null,null,null,null,null,null,null,{"$f":"CM142","v":""}]
[null,null,null,null,null,null,null,null,null,null,null,null,null,null,null,null,null,null,null,null,null,null,null,null,null,null,null,null,null,null,null,null,null,null,null,null,null,null,null,null,null,null,null,null,null,null,null,null,null,null,null,null,"(名称：",null,null,{"$f":"IF(AW143=\"\",\"\",AW143)","v":""},null,null,")",null,null,null,null,null,null,null,null,null,null,null,null,null,null,null,null,null,null,null,null,null,{"$f":"IF(OR((BV523=\"-\"),(ISNUMBER(BV523)=FALSE)),\"-\",ROUND(AT523*BV523,3))","v":"-"}]
[null,null,"細分類番号",null,null,null,null,null,null,{"$f":"IF(J144=\"\",\"\",J144)","v":""},null,{"$f":"IF(L144=\"\",\"\",L144)","v":""},null,{"$f":"IF(N144=\"\",\"\",N144)","v":""},null,{"$f":"IF(P144=\"\",\"\",P144)","v":""},null,null,null,null,null,null,null,null,null,null,null,null,null,null,null,null,null,null,null,null,null,null,null,null,null,null,null,null,null,null,null,null,null,null,null,null,"(単位：",null,null,{"$f":"IF(AW144=\"\",\"\",AW144)","v":""},null,null,")"]
[null,43,"工場等に係る\n事業の名称",null,null,null,null,null,null,{"$f":"IF(J145=\"\",\"\",J145)","v":""},null,null,null,null,null,null,null,{"$f":"IF(R145=\"\",\"\",R145)","v":""},null,null,null,null,null,null,null,null,null,null,null,null,null,{"$f":"IF(Y145=\"\",\"\",Y145)","v":""},null,null,null,null,null,null,{"$f":"IF(R526=\"\",\"\",IF(AF526=\"\",R526+(Y526*(1.3-1)),R526+(Y526*(1.3-1))-AF526))","v":""},null,null,null,null,null,null,{"$f":"IF(AM526=\"\",\"\",IF($CM$761=0,\"\",IF(CM526=\"\",\"\",ROUND(CM526/$CM$761,3))))","v":""},null,null,null,null,null,null,{"$f":"IF(AT145=\"\",\"\",AT145)","v":""},null,null,null,null,null,null,{"$f":"IF(BA526=\"\",\"\",ROUND(AM526/BA526,3-INT(LOG(AM526/BA526))))","v":""},null,null,null,null,null,null,"-",null,null,null,null,null,null,{"$f":"IF(OR((BO526=\"-\"),(ISNUMBER(BO526)=FALSE)),\"-\",ROUND(BH526/BO526,3))","v":"-"},null,null,null,null,null,null,"㊸'",null,null,null,null,null,null,null,null,null,{"$f":"CM145","v":""}]
[null,null,null,null,null,null,null,null,null,null,null,null,null,null,null,null,null,null,null,null,null,null,null,null,null,null,null,null,null,null,null,null,null,null,null,null,null,null,null,null,null,null,null,null,null,null,null,null,null,null,null,null,"(名称：",null,null,{"$f":"IF(AW146=\"\",\"\",AW146)","v":""},null,null,")",null,null,null,null,null,null,null,null,null,null,null,null,null,null,null,null,null,null,null,null,null,{"$f":"IF(OR((BV526=\"-\"),(ISNUMBER(BV526)=FALSE)),\"-\",ROUND(AT526*BV526,3))","v":"-"}]
[null,null,"細分類番号",null,null,null,null,null,null,{"$f":"IF(J147=\"\",\"\",J147)","v":""},null,{"$f":"IF(L147=\"\",\"\",L147)","v":""},null,{"$f":"IF(N147=\"\",\"\",N147)","v":""},null,{"$f":"IF(P147=\"\",\"\",P147)","v":""},null,null,null,null,null,null,null,null,null,null,null,null,null,null,null,null,null,null,null,null,null,null,null,null,null,null,null,null,null,null,null,null,null,null,null,null,"(単位：",null,null,{"$f":"IF(AW147=\"\",\"\",AW147)","v":""},null,null,")"]
[null,44,"工場等に係る\n事業の名称",null,null,null,null,null,null,{"$f":"IF(J148=\"\",\"\",J148)","v":""},null,null,null,null,null,null,null,{"$f":"IF(R148=\"\",\"\",R148)","v":""},null,null,null,null,null,null,null,null,null,null,null,null,null,{"$f":"IF(Y148=\"\",\"\",Y148)","v":""},null,null,null,null,null,null,{"$f":"IF(R529=\"\",\"\",IF(AF529=\"\",R529+(Y529*(1.3-1)),R529+(Y529*(1.3-1))-AF529))","v":""},null,null,null,null,null,null,{"$f":"IF(AM529=\"\",\"\",IF($CM$761=0,\"\",IF(CM529=\"\",\"\",ROUND(CM529/$CM$761,3))))","v":""},null,null,null,null,null,null,{"$f":"IF(AT148=\"\",\"\",AT148)","v":""},null,null,null,null,null,null,{"$f":"IF(BA529=\"\",\"\",ROUND(AM529/BA529,3-INT(LOG(AM529/BA529))))","v":""},null,null,null,null,null,null,"-",null,null,null,null,null,null,{"$f":"IF(OR((BO529=\"-\"),(ISNUMBER(BO529)=FALSE)),\"-\",ROUND(BH529/BO529,3))","v":"-"},null,null,null,null,null,null,"㊹'",null,null,null,null,null,null,null,null,null,{"$f":"CM148","v":""}]
[null,null,null,null,null,null,null,null,null,null,null,null,null,null,null,null,null,null,null,null,null,null,null,null,null,null,null,null,null,null,null,null,null,null,null,null,null,null,null,null,null,null,null,null,null,null,null,null,null,null,null,null,"(名称：",null,null,{"$f":"IF(AW149=\"\",\"\",AW149)","v":""},null,null,")",null,null,null,null,null,null,null,null,null,null,null,null,null,null,null,null,null,null,null,null,null,{"$f":"IF(OR((BV529=\"-\"),(ISNUMBER(BV529)=FALSE)),\"-\",ROUND(AT529*BV529,3))","v":"-"}]
[null,null,"細分類番号",null,null,null,null,null,null,{"$f":"IF(J150=\"\",\"\",J150)","v":""},null,{"$f":"IF(L150=\"\",\"\",L150)","v":""},null,{"$f":"IF(N150=\"\",\"\",N150)","v":""},null,{"$f":"IF(P150=\"\",\"\",P150)","v":""},null,null,null,null,null,null,null,null,null,null,null,null,null,null,null,null,null,null,null,null,null,null,null,null,null,null,null,null,null,null,null,null,null,null,null,null,"(単位：",null,null,{"$f":"IF(AW150=\"\",\"\",AW150)","v":""},null,null,")"]
[null,45,"工場等に係る\n事業の名称",null,null,null,null,null,null,{"$f":"IF(J151=\"\",\"\",J151)","v":""},null,null,null,null,null,null,null,{"$f":"IF(R151=\"\",\"\",R151)","v":""},null,null,null,null,null,null,null,null,null,null,null,null,null,{"$f":"IF(Y151=\"\",\"\",Y151)","v":""},null,null,null,null,null,null,{"$f":"IF(R532=\"\",\"\",IF(AF532=\"\",R532+(Y532*(1.3-1)),R532+(Y532*(1.3-1))-AF532))","v":""},null,null,null,null,null,null,{"$f":"IF(AM532=\"\",\"\",IF($CM$761=0,\"\",IF(CM532=\"\",\"\",ROUND(CM532/$CM$761,3))))","v":""},null,null,null,null,null,null,{"$f":"IF(AT151=\"\",\"\",AT151)","v":""},null,null,null,null,null,null,{"$f":"IF(BA532=\"\",\"\",ROUND(AM532/BA532,3-INT(LOG(AM532/BA532))))","v":""},null,null,null,null,null,null,"-",null,null,null,null,null,null,{"$f":"IF(OR((BO532=\"-\"),(ISNUMBER(BO532)=FALSE)),\"-\",ROUND(BH532/BO532,3))","v":"-"},null,null,null,null,null,null,"㊺'",null,null,null,null,null,null,null,null,null,{"$f":"CM151","v":""}]
[null,null,null,null,null,null,null,null,null,null,null,null,null,null,null,null,null,null,null,null,null,null,null,null,null,null,null,null,null,null,null,null,null,null,null,null,null,null,null,null,null,null,null,null,null,null,null,null,null,null,null,null,"(名称：",null,null,{"$f":"IF(AW152=\"\",\"\",AW152)","v":""},null,null,")",null,null,null,null,null,null,null,null,null,null,null,null,null,null,null,null,null,null,null,null,null,{"$f":"IF(OR((BV532=\"-\"),(ISNUMBER(BV532)=FALSE)),\"-\",ROUND(AT532*BV532,3))","v":"-"}]
[null,null,"細分類番号",null,null,null,null,null,null,{"$f":"IF(J153=\"\",\"\",J153)","v":""},null,{"$f":"IF(L153=\"\",\"\",L153)","v":""},null,{"$f":"IF(N153=\"\",\"\",N153)","v":""},null,{"$f":"IF(P153=\"\",\"\",P153)","v":""},null,null,null,null,null,null,null,null,null,null,null,null,null,null,null,null,null,null,null,null,null,null,null,null,null,null,null,null,null,null,null,null,null,null,null,null,"(単位：",null,null,{"$f":"IF(AW153=\"\",\"\",AW153)","v":""},null,null,")"]
[null,46,"工場等に係る\n事業の名称",null,null,null,null,null,null,{"$f":"IF(J154=\"\",\"\",J154)","v":""},null,null,null,null,null,null,null,{"$f":"IF(R154=\"\",\"\",R154)","v":""},null,null,null,null,null,null,null,null,null,null,null,null,null,{"$f":"IF(Y154=\"\",\"\",Y154)","v":""},null,null,null,null,null,null,{"$f":"IF(R535=\"\",\"\",IF(AF535=\"\",R535+(Y535*(1.3-1)),R535+(Y535*(1.3-1))-AF535))","v":""},null,null,null,null,null,null,{"$f":"IF(AM535=\"\",\"\",IF($CM$761=0,\"\",IF(CM535=\"\",\"\",ROUND(CM535/$CM$761,3))))","v":""},null,null,null,null,null,null,{"$f":"IF(AT154=\"\",\"\",AT154)","v":""},null,null,null,null,null,null,{"$f":"IF(BA535=\"\",\"\",ROUND(AM535/BA535,3-INT(LOG(AM535/BA535))))","v":""},null,null,null,null,null,null,"-",null,null,null,null,null,null,{"$f":"IF(OR((BO535=\"-\"),(ISNUMBER(BO535)=FALSE)),\"-\",ROUND(BH535/BO535,3))","v":"-"},null,null,null,null,null,null,"㊻'",null,null,null,null,null,null,null,null,null,{"$f":"CM154","v":""}]
[null,null,null,null,null,null,null,null,null,null,null,null,null,null,null,null,null,null,null,null,null,null,null,null,null,null,null,null,null,null,null,null,null,null,null,null,null,null,null,null,null,null,null,null,null,null,null,null,null,null,null,null,"(名称：",null,null,{"$f":"IF(AW155=\"\",\"\",AW155)","v":""},null,null,")",null,null,null,null,null,null,null,null,null,null,null,null,null,null,null,null,null,null,null,null,null,{"$f":"IF(OR((BV535=\"-\"),(ISNUMBER(BV535)=FALSE)),\"-\",ROUND(AT535*BV535,3))","v":"-"}]
[null,null,"細分類番号",null,null,null,null,null,null,{"$f":"IF(J156=\"\",\"\",J156)","v":""},null,{"$f":"IF(L156=\"\",\"\",L156)","v":""},null,{"$f":"IF(N156=\"\",\"\",N156)","v":""},null,{"$f":"IF(P156=\"\",\"\",P156)","v":""},null,null,null,null,null,null,null,null,null,null,null,null,null,null,null,null,null,null,null,null,null,null,null,null,null,null,null,null,null,null,null,null,null,null,null,null,"(単位：",null,null,{"$f":"IF(AW156=\"\",\"\",AW156)","v":""},null,null,")"]
[null,47,"工場等に係る\n事業の名称",null,null,null,null,null,null,{"$f":"IF(J157=\"\",\"\",J157)","v":""},null,null,null,null,null,null,null,{"$f":"IF(R157=\"\",\"\",R157)","v":""},null,null,null,null,null,null,null,null,null,null,null,null,null,{"$f":"IF(Y157=\"\",\"\",Y157)","v":""},null,null,null,null,null,null,{"$f":"IF(R538=\"\",\"\",IF(AF538=\"\",R538+(Y538*(1.3-1)),R538+(Y538*(1.3-1))-AF538))","v":""},null,null,null,null,null,null,{"$f":"IF(AM538=\"\",\"\",IF($CM$761=0,\"\",IF(CM538=\"\",\"\",ROUND(CM538/$CM$761,3))))","v":""},null,null,null,null,null,null,{"$f":"IF(AT157=\"\",\"\",AT157)","v":""},null,null,null,null,null,null,{"$f":"IF(BA538=\"\",\"\",ROUND(AM538/BA538,3-INT(LOG(AM538/BA538))))","v":""},null,null,null,null,null,null,"-",null,null,null,null,null,null,{"$f":"IF(OR((BO538=\"-\"),(ISNUMBER(BO538)=FALSE)),\"-\",ROUND(BH538/BO538,3))","v":"-"},null,null,null,null,null,null,"㊼'",null,null,null,null,null,null,null,null,null,{"$f":"CM157","v":""}]
[null,null,null,null,null,null,null,null,null,null,null,null,null,null,null,null,null,null,null,null,null,null,null,null,null,null,null,null,null,null,null,null,null,null,null,null,null,null,null,null,null,null,null,null,null,null,null,null,null,null,null,null,"(名称：",null,null,{"$f":"IF(AW158=\"\",\"\",AW158)","v":""},null,null,")",null,null,null,null,null,null,null,null,null,null,null,null,null,null,null,null,null,null,null,null,null,{"$f":"IF(OR((BV538=\"-\"),(ISNUMBER(BV538)=FALSE)),\"-\",ROUND(AT538*BV538,3))","v":"-"}]
[null,null,"細分類番号",null,null,null,null,null,null,{"$f":"IF(J159=\"\",\"\",J159)","v":""},null,{"$f":"IF(L159=\"\",\"\",L159)","v":""},null,{"$f":"IF(N159=\"\",\"\",N159)","v":""},null,{"$f":"IF(P159=\"\",\"\",P159)","v":""},null,null,null,null,null,null,null,null,null,null,null,null,null,null,null,null,null,null,null,null,null,null,null,null,null,null,null,null,null,null,null,null,null,null,null,null,"(単位：",null,null,{"$f":"IF(AW159=\"\",\"\",AW159)","v":""},null,null,")"]
[null,48,"工場等に係る\n事業の名称",null,null,null,null,null,null,{"$f":"IF(J160=\"\",\"\",J160)","v":""},null,null,null,null,null,null,null,{"$f":"IF(R160=\"\",\"\",R160)","v":""},null,null,null,null,null,null,null,null,null,null,null,null,null,{"$f":"IF(Y160=\"\",\"\",Y160)","v":""},null,null,null,null,null,null,{"$f":"IF(R541=\"\",\"\",IF(AF541=\"\",R541+(Y541*(1.3-1)),R541+(Y541*(1.3-1))-AF541))","v":""},null,null,null,null,null,null,{"$f":"IF(AM541=\"\",\"\",IF($CM$761=0,\"\",IF(CM541=\"\",\"\",ROUND(CM541/$CM$761,3))))","v":""},null,null,null,null,null,null,{"$f":"IF(AT160=\"\",\"\",AT160)","v":""},null,null,null,null,null,null,{"$f":"IF(BA541=\"\",\"\",ROUND(AM541/BA541,3-INT(LOG(AM541/BA541))))","v":""},null,null,null,null,null,null,"-",null,null,null,null,null,null,{"$f":"IF(OR((BO541=\"-\"),(ISNUMBER(BO541)=FALSE)),\"-\",ROUND(BH541/BO541,3))","v":"-"},null,null,null,null,null,null,"㊽'",null,null,null,null,null,null,null,null,null,{"$f":"CM160","v":""}]
[null,null,null,null,null,null,null,null,null,null,null,null,null,null,null,null,null,null,null,null,null,null,null,null,null,null,null,null,null,null,null,null,null,null,null,null,null,null,null,null,null,null,null,null,null,null,null,null,null,null,null,null,"(名称：",null,null,{"$f":"IF(AW161=\"\",\"\",AW161)","v":""},null,null,")",null,null,null,null,null,null,null,null,null,null,null,null,null,null,null,null,null,null,null,null,null,{"$f":"IF(OR((BV541=\"-\"),(ISNUMBER(BV541)=FALSE)),\"-\",ROUND(AT541*BV541,3))","v":"-"}]
[null,null,"細分類番号",null,null,null,null,null,null,{"$f":"IF(J162=\"\",\"\",J162)","v":""},null,{"$f":"IF(L162=\"\",\"\",L162)","v":""},null,{"$f":"IF(N162=\"\",\"\",N162)","v":""},null,{"$f":"IF(P162=\"\",\"\",P162)","v":""},null,null,null,null,null,null,null,null,null,null,null,null,null,null,null,null,null,null,null,null,null,null,null,null,null,null,null,null,null,null,null,null,null,null,null,null,"(単位：",null,null,{"$f":"IF(AW162=\"\",\"\",AW162)","v":""},null,null,")"]
[null,49,"工場等に係る\n事業の名称",null,null,null,null,null,null,{"$f":"IF(J163=\"\",\"\",J163)","v":""},null,null,null,null,null,null,null,{"$f":"IF(R163=\"\",\"\",R163)","v":""},null,null,null,null,null,null,null,null,null,null,null,null,null,{"$f":"IF(Y163=\"\",\"\",Y163)","v":""},null,null,null,null,null,null,{"$f":"IF(R544=\"\",\"\",IF(AF544=\"\",R544+(Y544*(1.3-1)),R544+(Y544*(1.3-1))-AF544))","v":""},null,null,null,null,null,null,{"$f":"IF(AM544=\"\",\"\",IF($CM$761=0,\"\",IF(CM544=\"\",\"\",ROUND(CM544/$CM$761,3))))","v":""},null,null,null,null,null,null,{"$f":"IF(AT163=\"\",\"\",AT163)","v":""},null,null,null,null,null,null,{"$f":"IF(BA544=\"\",\"\",ROUND(AM544/BA544,3-INT(LOG(AM544/BA544))))","v":""},null,null,null,null,null,null,"-",null,null,null,null,null,null,{"$f":"IF(OR((BO544=\"-\"),(ISNUMBER(BO544)=FALSE)),\"-\",ROUND(BH544/BO544,3))","v":"-"},null,null,null,null,null,null,"㊾'",null,null,null,null,null,null,null,null,null,{"$f":"CM163","v":""}]
[null,null,null,null,null,null,null,null,null,null,null,null,null,null,null,null,null,null,null,null,null,null,null,null,null,null,null,null,null,null,null,null,null,null,null,null,null,null,null,null,null,null,null,null,null,null,null,null,null,null,null,null,"(名称：",null,null,{"$f":"IF(AW164=\"\",\"\",AW164)","v":""},null,null,")",null,null,null,null,null,null,null,null,null,null,null,null,null,null,null,null,null,null,null,null,null,{"$f":"IF(OR((BV544=\"-\"),(ISNUMBER(BV544)=FALSE)),\"-\",ROUND(AT544*BV544,3))","v":"-"}]
[null,null,"細分類番号",null,null,null,null,null,null,{"$f":"IF(J165=\"\",\"\",J165)","v":""},null,{"$f":"IF(L165=\"\",\"\",L165)","v":""},null,{"$f":"IF(N165=\"\",\"\",N165)","v":""},null,{"$f":"IF(P165=\"\",\"\",P165)","v":""},null,null,null,null,null,null,null,null,null,null,null,null,null,null,null,null,null,null,null,null,null,null,null,null,null,null,null,null,null,null,null,null,null,null,null,null,"(単位：",null,null,{"$f":"IF(AW165=\"\",\"\",AW165)","v":""},null,null,")"]
[null,50,"工場等に係る\n事業の名称",null,null,null,null,null,null,{"$f":"IF(J166=\"\",\"\",J166)","v":""},null,null,null,null,null,null,null,{"$f":"IF(R166=\"\",\"\",R166)","v":""},null,null,null,null,null,null,null,null,null,null,null,null,null,{"$f":"IF(Y166=\"\",\"\",Y166)","v":""},null,null,null,null,null,null,{"$f":"IF(R547=\"\",\"\",IF(AF547=\"\",R547+(Y547*(1.3-1)),R547+(Y547*(1.3-1))-AF547))","v":""},null,null,null,null,null,null,{"$f":"IF(AM547=\"\",\"\",IF($CM$761=0,\"\",IF(CM547=\"\",\"\",ROUND(CM547/$CM$761,3))))","v":""},null,null,null,null,null,null,{"$f":"IF(AT166=\"\",\"\",AT166)","v":""},null,null,null,null,null,null,{"$f":"IF(BA547=\"\",\"\",ROUND(AM547/BA547,3-INT(LOG(AM547/BA547))))","v":""},null,null,null,null,null,null,"-",null,null,null,null,null,null,{"$f":"IF(OR((BO547=\"-\"),(ISNUMBER(BO547)=FALSE)),\"-\",ROUND(BH547/BO547,3))","v":"-"},null,null,null,null,null,null,"㊿'",null,null,null,null,null,null,null,null,null,{"$f":"CM166","v":""}]
[null,null,null,null,null,null,null,null,null,null,null,null,null,null,null,null,null,null,null,null,null,null,null,null,null,null,null,null,null,null,null,null,null,null,null,null,null,null,null,null,null,null,null,null,null,null,null,null,null,null,null,null,"(名称：",null,null,{"$f":"IF(AW167=\"\",\"\",AW167)","v":""},null,null,")",null,null,null,null,null,null,null,null,null,null,null,null,null,null,null,null,null,null,null,null,null,{"$f":"IF(OR((BV547=\"-\"),(ISNUMBER(BV547)=FALSE)),\"-\",ROUND(AT547*BV547,3))","v":"-"}]
[null,null,"細分類番号",null,null,null,null,null,null,{"$f":"IF(J168=\"\",\"\",J168)","v":""},null,{"$f":"IF(L168=\"\",\"\",L168)","v":""},null,{"$f":"IF(N168=\"\",\"\",N168)","v":""},null,{"$f":"IF(P168=\"\",\"\",P168)","v":""},null,null,null,null,null,null,null,null,null,null,null,null,null,null,null,null,null,null,null,null,null,null,null,null,null,null,null,null,null,null,null,null,null,null,null,null,"(単位：",null,null,{"$f":"IF(AW168=\"\",\"\",AW168)","v":""},null,null,")"]
[null,51,"工場等に係る\n事業の名称",null,null,null,null,null,null,{"$f":"IF(J169=\"\",\"\",J169)","v":""},null,null,null,null,null,null,null,{"$f":"IF(R169=\"\",\"\",R169)","v":""},null,null,null,null,null,null,null,null,null,null,null,null,null,{"$f":"IF(Y169=\"\",\"\",Y169)","v":""},null,null,null,null,null,null,{"$f":"IF(R550=\"\",\"\",IF(AF550=\"\",R550+(Y550*(1.3-1)),R550+(Y550*(1.3-1))-AF550))","v":""},null,null,null,null,null,null,{"$f":"IF(AM550=\"\",\"\",IF($CM$761=0,\"\",IF(CM550=\"\",\"\",ROUND(CM550/$CM$761,3))))","v":""},null,null,null,null,null,null,{"$f":"IF(AT169=\"\",\"\",AT169)","v":""},null,null,null,null,null,null,{"$f":"IF(BA550=\"\",\"\",ROUND(AM550/BA550,3-INT(LOG(AM550/BA550))))","v":""},null,null,null,null,null,null,"-",null,null,null,null,null,null,{"$f":"IF(OR((BO550=\"-\"),(ISNUMBER(BO550)=FALSE)),\"-\",ROUND(BH550/BO550,3))","v":"-"},null,null,null,null,null,null,null,null,null,null,null,null,null,null,null,null,{"$f":"CM169","v":""}]
[null,null,null,null,null,null,null,null,null,null,null,null,null,null,null,null,null,null,null,null,null,null,null,null,null,null,null,null,null,null,null,null,null,null,null,null,null,null,null,null,null,null,null,null,null,null,null,null,null,null,null,null,"(名称：",null,null,{"$f":"IF(AW170=\"\",\"\",AW170)","v":""},null,null,")",null,null,null,null,null,null,null,null,null,null,null,null,null,null,null,null,null,null,null,null,null,{"$f":"IF(OR((BV550=\"-\"),(ISNUMBER(BV550)=FALSE)),\"-\",ROUND(AT550*BV550,3))","v":"-"}]
[null,null,"細分類番号",null,null,null,null,null,null,{"$f":"IF(J171=\"\",\"\",J171)","v":""},null,{"$f":"IF(L171=\"\",\"\",L171)","v":""},null,{"$f":"IF(N171=\"\",\"\",N171)","v":""},null,{"$f":"IF(P171=\"\",\"\",P171)","v":""},null,null,null,null,null,null,null,null,null,null,null,null,null,null,null,null,null,null,null,null,null,null,null,null,null,null,null,null,null,null,null,null,null,null,null,null,"(単位：",null,null,{"$f":"IF(AW171=\"\",\"\",AW171)","v":""},null,null,")"]
[null,52,"工場等に係る\n事業の名称",null,null,null,null,null,null,{"$f":"IF(J172=\"\",\"\",J172)","v":""},null,null,null,null,null,null,null,{"$f":"IF(R172=\"\",\"\",R172)","v":""},null,null,null,null,null,null,null,null,null,null,null,null,null,{"$f":"IF(Y172=\"\",\"\",Y172)","v":""},null,null,null,null,null,null,{"$f":"IF(R553=\"\",\"\",IF(AF553=\"\",R553+(Y553*(1.3-1)),R553+(Y553*(1.3-1))-AF553))","v":""},null,null,null,null,null,null,{"$f":"IF(AM553=\"\",\"\",IF($CM$761=0,\"\",IF(CM553=\"\",\"\",ROUND(CM553/$CM$761,3))))","v":""},null,null,null,null,null,null,{"$f":"IF(AT172=\"\",\"\",AT172)","v":""},null,null,null,null,null,null,{"$f":"IF(BA553=\"\",\"\",ROUND(AM553/BA553,3-INT(LOG(AM553/BA553))))","v":""},null,null,null,null,null,null,"-",null,null,null,null,null,null,{"$f":"IF(OR((BO553=\"-\"),(ISNUMBER(BO553)=FALSE)),\"-\",ROUND(BH553/BO553,3))","v":"-"},null,null,null,null,null,null,null,null,null,null,null,null,null,null,null,null,{"$f":"CM172","v":""}]
[null,null,null,null,null,null,null,null,null,null,null,null,null,null,null,null,null,null,null,null,null,null,null,null,null,null,null,null,null,null,null,null,null,null,null,null,null,null,null,null,null,null,null,null,null,null,null,null,null,null,null,null,"(名称：",null,null,{"$f":"IF(AW173=\"\",\"\",AW173)","v":""},null,null,")",null,null,null,null,null,null,null,null,null,null,null,null,null,null,null,null,null,null,null,null,null,{"$f":"IF(OR((BV553=\"-\"),(ISNUMBER(BV553)=FALSE)),\"-\",ROUND(AT553*BV553,3))","v":"-"}]
[null,null,"細分類番号",null,null,null,null,null,null,{"$f":"IF(J174=\"\",\"\",J174)","v":""},null,{"$f":"IF(L174=\"\",\"\",L174)","v":""},null,{"$f":"IF(N174=\"\",\"\",N174)","v":""},null,{"$f":"IF(P174=\"\",\"\",P174)","v":""},null,null,null,null,null,null,null,null,null,null,null,null,null,null,null,null,null,null,null,null,null,null,null,null,null,null,null,null,null,null,null,null,null,null,null,null,"(単位：",null,null,{"$f":"IF(AW174=\"\",\"\",AW174)","v":""},null,null,")"]
[null,53,"工場等に係る\n事業の名称",null,null,null,null,null,null,{"$f":"IF(J175=\"\",\"\",J175)","v":""},null,null,null,null,null,null,null,{"$f":"IF(R175=\"\",\"\",R175)","v":""},null,null,null,null,null,null,null,null,null,null,null,null,null,{"$f":"IF(Y175=\"\",\"\",Y175)","v":""},null,null,null,null,null,null,{"$f":"IF(R556=\"\",\"\",IF(AF556=\"\",R556+(Y556*(1.3-1)),R556+(Y556*(1.3-1))-AF556))","v":""},null,null,null,null,null,null,{"$f":"IF(AM556=\"\",\"\",IF($CM$761=0,\"\",IF(CM556=\"\",\"\",ROUND(CM556/$CM$761,3))))","v":""},null,null,null,null,null,null,{"$f":"IF(AT175=\"\",\"\",AT175)","v":""},null,null,null,null,null,null,{"$f":"IF(BA556=\"\",\"\",ROUND(AM556/BA556,3-INT(LOG(AM556/BA556))))","v":""},null,null,null,null,null,null,"-",null,null,null,null,null,null,{"$f":"IF(OR((BO556=\"-\"),(ISNUMBER(BO556)=FALSE)),\"-\",ROUND(BH556/BO556,3))","v":"-"},null,null,null,null,null,null,null,null,null,null,null,null,null,null,null,null,{"$f":"CM175","v":""}]
[null,null,null,null,null,null,null,null,null,null,null,null,null,null,null,null,null,null,null,null,null,null,null,null,null,null,null,null,null,null,null,null,null,null,null,null,null,null,null,null,null,null,null,null,null,null,null,null,null,null,null,null,"(名称：",null,null,{"$f":"IF(AW176=\"\",\"\",AW176)","v":""},null,null,")",null,null,null,null,null,null,null,null,null,null,null,null,null,null,null,null,null,null,null,null,null,{"$f":"IF(OR((BV556=\"-\"),(ISNUMBER(BV556)=FALSE)),\"-\",ROUND(AT556*BV556,3))","v":"-"}]
[null,null,"細分類番号",null,null,null,null,null,null,{"$f":"IF(J177=\"\",\"\",J177)","v":""},null,{"$f":"IF(L177=\"\",\"\",L177)","v":""},null,{"$f":"IF(N177=\"\",\"\",N177)","v":""},null,{"$f":"IF(P177=\"\",\"\",P177)","v":""},null,null,null,null,null,null,null,null,null,null,null,null,null,null,null,null,null,null,null,null,null,null,null,null,null,null,null,null,null,null,null,null,null,null,null,null,"(単位：",null,null,{"$f":"IF(AW177=\"\",\"\",AW177)","v":""},null,null,")"]
[null,54,"工場等に係る\n事業の名称",null,null,null,null,null,null,{"$f":"IF(J178=\"\",\"\",J178)","v":""},null,null,null,null,null,null,null,{"$f":"IF(R178=\"\",\"\",R178)","v":""},null,null,null,null,null,null,null,null,null,null,null,null,null,{"$f":"IF(Y178=\"\",\"\",Y178)","v":""},null,null,null,null,null,null,{"$f":"IF(R559=\"\",\"\",IF(AF559=\"\",R559+(Y559*(1.3-1)),R559+(Y559*(1.3-1))-AF559))","v":""},null,null,null,null,null,null,{"$f":"IF(AM559=\"\",\"\",IF($CM$761=0,\"\",IF(CM559=\"\",\"\",ROUND(CM559/$CM$761,3))))","v":""},null,null,null,null,null,null,{"$f":"IF(AT178=\"\",\"\",AT178)","v":""},null,null,null,null,null,null,{"$f":"IF(BA559=\"\",\"\",ROUND(AM559/BA559,3-INT(LOG(AM559/BA559))))","v":""},null,null,null,null,null,null,"-",null,null,null,null,null,null,{"$f":"IF(OR((BO559=\"-\"),(ISNUMBER(BO559)=FALSE)),\"-\",ROUND(BH559/BO559,3))","v":"-"},null,null,null,null,null,null,null,null,null,null,null,null,null,null,null,null,{"$f":"CM178","v":""}]
[null,null,null,null,null,null,null,null,null,null,null,null,null,null,null,null,null,null,null,null,null,null,null,null,null,null,null,null,null,null,null,null,null,null,null,null,null,null,null,null,null,null,null,null,null,null,null,null,null,null,null,null,"(名称：",null,null,{"$f":"IF(AW179=\"\",\"\",AW179)","v":""},null,null,")",null,null,null,null,null,null,null,null,null,null,null,null,null,null,null,null,null,null,null,null,null,{"$f":"IF(OR((BV559=\"-\"),(ISNUMBER(BV559)=FALSE)),\"-\",ROUND(AT559*BV559,3))","v":"-"}]
[null,null,"細分類番号",null,null,null,null,null,null,{"$f":"IF(J180=\"\",\"\",J180)","v":""},null,{"$f":"IF(L180=\"\",\"\",L180)","v":""},null,{"$f":"IF(N180=\"\",\"\",N180)","v":""},null,{"$f":"IF(P180=\"\",\"\",P180)","v":""},null,null,null,null,null,null,null,null,null,null,null,null,null,null,null,null,null,null,null,null,null,null,null,null,null,null,null,null,null,null,null,null,null,null,null,null,"(単位：",null,null,{"$f":"IF(AW180=\"\",\"\",AW180)","v":""},null,null,")"]
[null,55,"工場等に係る\n事業の名称",null,null,null,null,null,null,{"$f":"IF(J181=\"\",\"\",J181)","v":""},null,null,null,null,null,null,null,{"$f":"IF(R181=\"\",\"\",R181)","v":""},null,null,null,null,null,null,null,null,null,null,null,null,null,{"$f":"IF(Y181=\"\",\"\",Y181)","v":""},null,null,null,null,null,null,{"$f":"IF(R562=\"\",\"\",IF(AF562=\"\",R562+(Y562*(1.3-1)),R562+(Y562*(1.3-1))-AF562))","v":""},null,null,null,null,null,null,{"$f":"IF(AM562=\"\",\"\",IF($CM$761=0,\"\",IF(CM562=\"\",\"\",ROUND(CM562/$CM$761,3))))","v":""},null,null,null,null,null,null,{"$f":"IF(AT181=\"\",\"\",AT181)","v":""},null,null,null,null,null,null,{"$f":"IF(BA562=\"\",\"\",ROUND(AM562/BA562,3-INT(LOG(AM562/BA562))))","v":""},null,null,null,null,null,null,"-",null,null,null,null,null,null,{"$f":"IF(OR((BO562=\"-\"),(ISNUMBER(BO562)=FALSE)),\"-\",ROUND(BH562/BO562,3))","v":"-"},null,null,null,null,null,null,null,null,null,null,null,null,null,null,null,null,{"$f":"CM181","v":""}]
[null,null,null,null,null,null,null,null,null,null,null,null,null,null,null,null,null,null,null,null,null,null,null,null,null,null,null,null,null,null,null,null,null,null,null,null,null,null,null,null,null,null,null,null,null,null,null,null,null,null,null,null,"(名称：",null,null,{"$f":"IF(AW182=\"\",\"\",AW182)","v":""},null,null,")",null,null,null,null,null,null,null,null,null,null,null,null,null,null,null,null,null,null,null,null,null,{"$f":"IF(OR((BV562=\"-\"),(ISNUMBER(BV562)=FALSE)),\"-\",ROUND(AT562*BV562,3))","v":"-"}]
[null,null,"細分類番号",null,null,null,null,null,null,{"$f":"IF(J183=\"\",\"\",J183)","v":""},null,{"$f":"IF(L183=\"\",\"\",L183)","v":""},null,{"$f":"IF(N183=\"\",\"\",N183)","v":""},null,{"$f":"IF(P183=\"\",\"\",P183)","v":""},null,null,null,null,null,null,null,null,null,null,null,null,null,null,null,null,null,null,null,null,null,null,null,null,null,null,null,null,null,null,null,null,null,null,null,null,"(単位：",null,null,{"$f":"IF(AW183=\"\",\"\",AW183)","v":""},null,null,")"]
[null,56,"工場等に係る\n事業の名称",null,null,null,null,null,null,{"$f":"IF(J184=\"\",\"\",J184)","v":""},null,null,null,null,null,null,null,{"$f":"IF(R184=\"\",\"\",R184)","v":""},null,null,null,null,null,null,null,null,null,null,null,null,null,{"$f":"IF(Y184=\"\",\"\",Y184)","v":""},null,null,null,null,null,null,{"$f":"IF(R565=\"\",\"\",IF(AF565=\"\",R565+(Y565*(1.3-1)),R565+(Y565*(1.3-1))-AF565))","v":""},null,null,null,null,null,null,{"$f":"IF(AM565=\"\",\"\",IF($CM$761=0,\"\",IF(CM565=\"\",\"\",ROUND(CM565/$CM$761,3))))","v":""},null,null,null,null,null,null,{"$f":"IF(AT184=\"\",\"\",AT184)","v":""},null,null,null,null,null,null,{"$f":"IF(BA565=\"\",\"\",ROUND(AM565/BA565,3-INT(LOG(AM565/BA565))))","v":""},null,null,null,null,null,null,"-",null,null,null,null,null,null,{"$f":"IF(OR((BO565=\"-\"),(ISNUMBER(BO565)=FALSE)),\"-\",ROUND(BH565/BO565,3))","v":"-"},null,null,null,null,null,null,null,null,null,null,null,null,null,null,null,null,{"$f":"CM184","v":""}]
[null,null,null,null,null,null,null,null,null,null,null,null,null,null,null,null,null,null,null,null,null,null,null,null,null,null,null,null,null,null,null,null,null,null,null,null,null,null,null,null,null,null,null,null,null,null,null,null,null,null,null,null,"(名称：",null,null,{"$f":"IF(AW185=\"\",\"\",AW185)","v":""},null,null,")",null,null,null,null,null,null,null,null,null,null,null,null,null,null,null,null,null,null,null,null,null,{"$f":"IF(OR((BV565=\"-\"),(ISNUMBER(BV565)=FALSE)),\"-\",ROUND(AT565*BV565,3))","v":"-"}]
[null,null,"細分類番号",null,null,null,null,null,null,{"$f":"IF(J186=\"\",\"\",J186)","v":""},null,{"$f":"IF(L186=\"\",\"\",L186)","v":""},null,{"$f":"IF(N186=\"\",\"\",N186)","v":""},null,{"$f":"IF(P186=\"\",\"\",P186)","v":""},null,null,null,null,null,null,null,null,null,null,null,null,null,null,null,null,null,null,null,null,null,null,null,null,null,null,null,null,null,null,null,null,null,null,null,null,"(単位：",null,null,{"$f":"IF(AW186=\"\",\"\",AW186)","v":""},null,null,")"]
[null,57,"工場等に係る\n事業の名称",null,null,null,null,null,null,{"$f":"IF(J187=\"\",\"\",J187)","v":""},null,null,null,null,null,null,null,{"$f":"IF(R187=\"\",\"\",R187)","v":""},null,null,null,null,null,null,null,null,null,null,null,null,null,{"$f":"IF(Y187=\"\",\"\",Y187)","v":""},null,null,null,null,null,null,{"$f":"IF(R568=\"\",\"\",IF(AF568=\"\",R568+(Y568*(1.3-1)),R568+(Y568*(1.3-1))-AF568))","v":""},null,null,null,null,null,null,{"$f":"IF(AM568=\"\",\"\",IF($CM$761=0,\"\",IF(CM568=\"\",\"\",ROUND(CM568/$CM$761,3))))","v":""},null,null,null,null,null,null,{"$f":"IF(AT187=\"\",\"\",AT187)","v":""},null,null,null,null,null,null,{"$f":"IF(BA568=\"\",\"\",ROUND(AM568/BA568,3-INT(LOG(AM568/BA568))))","v":""},null,null,null,null,null,null,"-",null,null,null,null,null,null,{"$f":"IF(OR((BO568=\"-\"),(ISNUMBER(BO568)=FALSE)),\"-\",ROUND(BH568/BO568,3))","v":"-"},null,null,null,null,null,null,null,null,null,null,null,null,null,null,null,null,{"$f":"CM187","v":""}]
[null,null,null,null,null,null,null,null,null,null,null,null,null,null,null,null,null,null,null,null,null,null,null,null,null,null,null,null,null,null,null,null,null,null,null,null,null,null,null,null,null,null,null,null,null,null,null,null,null,null,null,null,"(名称：",null,null,{"$f":"IF(AW188=\"\",\"\",AW188)","v":""},null,null,")",null,null,null,null,null,null,null,null,null,null,null,null,null,null,null,null,null,null,null,null,null,{"$f":"IF(OR((BV568=\"-\"),(ISNUMBER(BV568)=FALSE)),\"-\",ROUND(AT568*BV568,3))","v":"-"}]
[null,null,"細分類番号",null,null,null,null,null,null,{"$f":"IF(J189=\"\",\"\",J189)","v":""},null,{"$f":"IF(L189=\"\",\"\",L189)","v":""},null,{"$f":"IF(N189=\"\",\"\",N189)","v":""},null,{"$f":"IF(P189=\"\",\"\",P189)","v":""},null,null,null,null,null,null,null,null,null,null,null,null,null,null,null,null,null,null,null,null,null,null,null,null,null,null,null,null,null,null,null,null,null,null,null,null,"(単位：",null,null,{"$f":"IF(AW189=\"\",\"\",AW189)","v":""},null,null,")"]
[null,58,"工場等に係る\n事業の名称",null,null,null,null,null,null,{"$f":"IF(J190=\"\",\"\",J190)","v":""},null,null,null,null,null,null,null,{"$f":"IF(R190=\"\",\"\",R190)","v":""},null,null,null,null,null,null,null,null,null,null,null,null,null,{"$f":"IF(Y190=\"\",\"\",Y190)","v":""},null,null,null,null,null,null,{"$f":"IF(R571=\"\",\"\",IF(AF571=\"\",R571+(Y571*(1.3-1)),R571+(Y571*(1.3-1))-AF571))","v":""},null,null,null,null,null,null,{"$f":"IF(AM571=\"\",\"\",IF($CM$761=0,\"\",IF(CM571=\"\",\"\",ROUND(CM571/$CM$761,3))))","v":""},null,null,null,null,null,null,{"$f":"IF(AT190=\"\",\"\",AT190)","v":""},null,null,null,null,null,null,{"$f":"IF(BA571=\"\",\"\",ROUND(AM571/BA571,3-INT(LOG(AM571/BA571))))","v":""},null,null,null,null,null,null,"-",null,null,null,null,null,null,{"$f":"IF(OR((BO571=\"-\"),(ISNUMBER(BO571)=FALSE)),\"-\",ROUND(BH571/BO571,3))","v":"-"},null,null,null,null,null,null,null,null,null,null,null,null,null,null,null,null,{"$f":"CM190","v":""}]
[null,null,null,null,null,null,null,null,null,null,null,null,null,null,null,null,null,null,null,null,null,null,null,null,null,null,null,null,null,null,null,null,null,null,null,null,null,null,null,null,null,null,null,null,null,null,null,null,null,null,null,null,"(名称：",null,null,{"$f":"IF(AW191=\"\",\"\",AW191)","v":""},null,null,")",null,null,null,null,null,null,null,null,null,null,null,null,null,null,null,null,null,null,null,null,null,{"$f":"IF(OR((BV571=\"-\"),(ISNUMBER(BV571)=FALSE)),\"-\",ROUND(AT571*BV571,3))","v":"-"}]
[null,null,"細分類番号",null,null,null,null,null,null,{"$f":"IF(J192=\"\",\"\",J192)","v":""},null,{"$f":"IF(L192=\"\",\"\",L192)","v":""},null,{"$f":"IF(N192=\"\",\"\",N192)","v":""},null,{"$f":"IF(P192=\"\",\"\",P192)","v":""},null,null,null,null,null,null,null,null,null,null,null,null,null,null,null,null,null,null,null,null,null,null,null,null,null,null,null,null,null,null,null,null,null,null,null,null,"(単位：",null,null,{"$f":"IF(AW192=\"\",\"\",AW192)","v":""},null,null,")"]
[null,59,"工場等に係る\n事業の名称",null,null,null,null,null,null,{"$f":"IF(J193=\"\",\"\",J193)","v":""},null,null,null,null,null,null,null,{"$f":"IF(R193=\"\",\"\",R193)","v":""},null,null,null,null,null,null,null,null,null,null,null,null,null,{"$f":"IF(Y193=\"\",\"\",Y193)","v":""},null,null,null,null,null,null,{"$f":"IF(R574=\"\",\"\",IF(AF574=\"\",R574+(Y574*(1.3-1)),R574+(Y574*(1.3-1))-AF574))","v":""},null,null,null,null,null,null,{"$f":"IF(AM574=\"\",\"\",IF($CM$761=0,\"\",IF(CM574=\"\",\"\",ROUND(CM574/$CM$761,3))))","v":""},null,null,null,null,null,null,{"$f":"IF(AT193=\"\",\"\",AT193)","v":""},null,null,null,null,null,null,{"$f":"IF(BA574=\"\",\"\",ROUND(AM574/BA574,3-INT(LOG(AM574/BA574))))","v":""},null,null,null,null,null,null,"-",null,null,null,null,null,null,{"$f":"IF(OR((BO574=\"-\"),(ISNUMBER(BO574)=FALSE)),\"-\",ROUND(BH574/BO574,3))","v":"-"},null,null,null,null,null,null,null,null,null,null,null,null,null,null,null,null,{"$f":"CM193","v":""}]
[null,null,null,null,null,null,null,null,null,null,null,null,null,null,null,null,null,null,null,null,null,null,null,null,null,null,null,null,null,null,null,null,null,null,null,null,null,null,null,null,null,null,null,null,null,null,null,null,null,null,null,null,"(名称：",null,null,{"$f":"IF(AW194=\"\",\"\",AW194)","v":""},null,null,")",null,null,null,null,null,null,null,null,null,null,null,null,null,null,null,null,null,null,null,null,null,{"$f":"IF(OR((BV574=\"-\"),(ISNUMBER(BV574)=FALSE)),\"-\",ROUND(AT574*BV574,3))","v":"-"}]
[null,null,"細分類番号",null,null,null,null,null,null,{"$f":"IF(J195=\"\",\"\",J195)","v":""},null,{"$f":"IF(L195=\"\",\"\",L195)","v":""},null,{"$f":"IF(N195=\"\",\"\",N195)","v":""},null,{"$f":"IF(P195=\"\",\"\",P195)","v":""},null,null,null,null,null,null,null,null,null,null,null,null,null,null,null,null,null,null,null,null,null,null,null,null,null,null,null,null,null,null,null,null,null,null,null,null,"(単位：",null,null,{"$f":"IF(AW195=\"\",\"\",AW195)","v":""},null,null,")"]
[null,60,"工場等に係る\n事業の名称",null,null,null,null,null,null,{"$f":"IF(J196=\"\",\"\",J196)","v":""},null,null,null,null,null,null,null,{"$f":"IF(R196=\"\",\"\",R196)","v":""},null,null,null,null,null,null,null,null,null,null,null,null,null,{"$f":"IF(Y196=\"\",\"\",Y196)","v":""},null,null,null,null,null,null,{"$f":"IF(R577=\"\",\"\",IF(AF577=\"\",R577+(Y577*(1.3-1)),R577+(Y577*(1.3-1))-AF577))","v":""},null,null,null,null,null,null,{"$f":"IF(AM577=\"\",\"\",IF($CM$761=0,\"\",IF(CM577=\"\",\"\",ROUND(CM577/$CM$761,3))))","v":""},null,null,null,null,null,null,{"$f":"IF(AT196=\"\",\"\",AT196)","v":""},null,null,null,null,null,null,{"$f":"IF(BA577=\"\",\"\",ROUND(AM577/BA577,3-INT(LOG(AM577/BA577))))","v":""},null,null,null,null,null,null,"-",null,null,null,null,null,null,{"$f":"IF(OR((BO577=\"-\"),(ISNUMBER(BO577)=FALSE)),\"-\",ROUND(BH577/BO577,3))","v":"-"},null,null,null,null,null,null,null,null,null,null,null,null,null,null,null,null,{"$f":"CM196","v":""}]
[null,null,null,null,null,null,null,null,null,null,null,null,null,null,null,null,null,null,null,null,null,null,null,null,null,null,null,null,null,null,null,null,null,null,null,null,null,null,null,null,null,null,null,null,null,null,null,null,null,null,null,null,"(名称：",null,null,{"$f":"IF(AW197=\"\",\"\",AW197)","v":""},null,null,")",null,null,null,null,null,null,null,null,null,null,null,null,null,null,null,null,null,null,null,null,null,{"$f":"IF(OR((BV577=\"-\"),(ISNUMBER(BV577)=FALSE)),\"-\",ROUND(AT577*BV577,3))","v":"-"}]
[null,null,"細分類番号",null,null,null,null,null,null,{"$f":"IF(J198=\"\",\"\",J198)","v":""},null,{"$f":"IF(L198=\"\",\"\",L198)","v":""},null,{"$f":"IF(N198=\"\",\"\",N198)","v":""},null,{"$f":"IF(P198=\"\",\"\",P198)","v":""},null,null,null,null,null,null,null,null,null,null,null,null,null,null,null,null,null,null,null,null,null,null,null,null,null,null,null,null,null,null,null,null,null,null,null,null,"(単位：",null,null,{"$f":"IF(AW198=\"\",\"\",AW198)","v":""},null,null,")"]
[null,61,"工場等に係る\n事業の名称",null,null,null,null,null,null,{"$f":"IF(J199=\"\",\"\",J199)","v":""},null,null,null,null,null,null,null,{"$f":"IF(R199=\"\",\"\",R199)","v":""},null,null,null,null,null,null,null,null,null,null,null,null,null,{"$f":"IF(Y199=\"\",\"\",Y199)","v":""},null,null,null,null,null,null,{"$f":"IF(R580=\"\",\"\",IF(AF580=\"\",R580+(Y580*(1.3-1)),R580+(Y580*(1.3-1))-AF580))","v":""},null,null,null,null,null,null,{"$f":"IF(AM580=\"\",\"\",IF($CM$761=0,\"\",IF(CM580=\"\",\"\",ROUND(CM580/$CM$761,3))))","v":""},null,null,null,null,null,null,{"$f":"IF(AT199=\"\",\"\",AT199)","v":""},null,null,null,null,null,null,{"$f":"IF(BA580=\"\",\"\",ROUND(AM580/BA580,3-INT(LOG(AM580/BA580))))","v":""},null,null,null,null,null,null,"-",null,null,null,null,null,null,{"$f":"IF(OR((BO580=\"-\"),(ISNUMBER(BO580)=FALSE)),\"-\",ROUND(BH580/BO580,3))","v":"-"},null,null,null,null,null,null,null,null,null,null,null,null,null,null,null,null,{"$f":"CM199","v":""}]
[null,null,null,null,null,null,null,null,null,null,null,null,null,null,null,null,null,null,null,null,null,null,null,null,null,null,null,null,null,null,null,null,null,null,null,null,null,null,null,null,null,null,null,null,null,null,null,null,null,null,null,null,"(名称：",null,null,{"$f":"IF(AW200=\"\",\"\",AW200)","v":""},null,null,")",null,null,null,null,null,null,null,null,null,null,null,null,null,null,null,null,null,null,null,null,null,{"$f":"IF(OR((BV580=\"-\"),(ISNUMBER(BV580)=FALSE)),\"-\",ROUND(AT580*BV580,3))","v":"-"}]
[null,null,"細分類番号",null,null,null,null,null,null,{"$f":"IF(J201=\"\",\"\",J201)","v":""},null,{"$f":"IF(L201=\"\",\"\",L201)","v":""},null,{"$f":"IF(N201=\"\",\"\",N201)","v":""},null,{"$f":"IF(P201=\"\",\"\",P201)","v":""},null,null,null,null,null,null,null,null,null,null,null,null,null,null,null,null,null,null,null,null,null,null,null,null,null,null,null,null,null,null,null,null,null,null,null,null,"(単位：",null,null,{"$f":"IF(AW201=\"\",\"\",AW201)","v":""},null,null,")"]
[null,62,"工場等に係る\n事業の名称",null,null,null,null,null,null,{"$f":"IF(J202=\"\",\"\",J202)","v":""},null,null,null,null,null,null,null,{"$f":"IF(R202=\"\",\"\",R202)","v":""},null,null,null,null,null,null,null,null,null,null,null,null,null,{"$f":"IF(Y202=\"\",\"\",Y202)","v":""},null,null,null,null,null,null,{"$f":"IF(R583=\"\",\"\",IF(AF583=\"\",R583+(Y583*(1.3-1)),R583+(Y583*(1.3-1))-AF583))","v":""},null,null,null,null,null,null,{"$f":"IF(AM583=\"\",\"\",IF($CM$761=0,\"\",IF(CM583=\"\",\"\",ROUND(CM583/$CM$761,3))))","v":""},null,null,null,null,null,null,{"$f":"IF(AT202=\"\",\"\",AT202)","v":""},null,null,null,null,null,null,{"$f":"IF(BA583=\"\",\"\",ROUND(AM583/BA583,3-INT(LOG(AM583/BA583))))","v":""},null,null,null,null,null,null,"-",null,null,null,null,null,null,{"$f":"IF(OR((BO583=\"-\"),(ISNUMBER(BO583)=FALSE)),\"-\",ROUND(BH583/BO583,3))","v":"-"},null,null,null,null,null,null,null,null,null,null,null,null,null,null,null,null,{"$f":"CM202","v":""}]
[null,null,null,null,null,null,null,null,null,null,null,null,null,null,null,null,null,null,null,null,null,null,null,null,null,null,null,null,null,null,null,null,null,null,null,null,null,null,null,null,null,null,null,null,null,null,null,null,null,null,null,null,"(名称：",null,null,{"$f":"IF(AW203=\"\",\"\",AW203)","v":""},null,null,")",null,null,null,null,null,null,null,null,null,null,null,null,null,null,null,null,null,null,null,null,null,{"$f":"IF(OR((BV583=\"-\"),(ISNUMBER(BV583)=FALSE)),\"-\",ROUND(AT583*BV583,3))","v":"-"}]
[null,null,"細分類番号",null,null,null,null,null,null,{"$f":"IF(J204=\"\",\"\",J204)","v":""},null,{"$f":"IF(L204=\"\",\"\",L204)","v":""},null,{"$f":"IF(N204=\"\",\"\",N204)","v":""},null,{"$f":"IF(P204=\"\",\"\",P204)","v":""},null,null,null,null,null,null,null,null,null,null,null,null,null,null,null,null,null,null,null,null,null,null,null,null,null,null,null,null,null,null,null,null,null,null,null,null,"(単位：",null,null,{"$f":"IF(AW204=\"\",\"\",AW204)","v":""},null,null,")"]
[null,63,"工場等に係る\n事業の名称",null,null,null,null,null,null,{"$f":"IF(J205=\"\",\"\",J205)","v":""},null,null,null,null,null,null,null,{"$f":"IF(R205=\"\",\"\",R205)","v":""},null,null,null,null,null,null,null,null,null,null,null,null,null,{"$f":"IF(Y205=\"\",\"\",Y205)","v":""},null,null,null,null,null,null,{"$f":"IF(R586=\"\",\"\",IF(AF586=\"\",R586+(Y586*(1.3-1)),R586+(Y586*(1.3-1))-AF586))","v":""},null,null,null,null,null,null,{"$f":"IF(AM586=\"\",\"\",IF($CM$761=0,\"\",IF(CM586=\"\",\"\",ROUND(CM586/$CM$761,3))))","v":""},null,null,null,null,null,null,{"$f":"IF(AT205=\"\",\"\",AT205)","v":""},null,null,null,null,null,null,{"$f":"IF(BA586=\"\",\"\",ROUND(AM586/BA586,3-INT(LOG(AM586/BA586))))","v":""},null,null,null,null,null,null,"-",null,null,null,null,null,null,{"$f":"IF(OR((BO586=\"-\"),(ISNUMBER(BO586)=FALSE)),\"-\",ROUND(BH586/BO586,3))","v":"-"},null,null,null,null,null,null,null,null,null,null,null,null,null,null,null,null,{"$f":"CM205","v":""}]
[null,null,null,null,null,null,null,null,null,null,null,null,null,null,null,null,null,null,null,null,null,null,null,null,null,null,null,null,null,null,null,null,null,null,null,null,null,null,null,null,null,null,null,null,null,null,null,null,null,null,null,null,"(名称：",null,null,{"$f":"IF(AW206=\"\",\"\",AW206)","v":""},null,null,")",null,null,null,null,null,null,null,null,null,null,null,null,null,null,null,null,null,null,null,null,null,{"$f":"IF(OR((BV586=\"-\"),(ISNUMBER(BV586)=FALSE)),\"-\",ROUND(AT586*BV586,3))","v":"-"}]
[null,null,"細分類番号",null,null,null,null,null,null,{"$f":"IF(J207=\"\",\"\",J207)","v":""},null,{"$f":"IF(L207=\"\",\"\",L207)","v":""},null,{"$f":"IF(N207=\"\",\"\",N207)","v":""},null,{"$f":"IF(P207=\"\",\"\",P207)","v":""},null,null,null,null,null,null,null,null,null,null,null,null,null,null,null,null,null,null,null,null,null,null,null,null,null,null,null,null,null,null,null,null,null,null,null,null,"(単位：",null,null,{"$f":"IF(AW207=\"\",\"\",AW207)","v":""},null,null,")"]
[null,64,"工場等に係る\n事業の名称",null,null,null,null,null,null,{"$f":"IF(J208=\"\",\"\",J208)","v":""},null,null,null,null,null,null,null,{"$f":"IF(R208=\"\",\"\",R208)","v":""},null,null,null,null,null,null,null,null,null,null,null,null,null,{"$f":"IF(Y208=\"\",\"\",Y208)","v":""},null,null,null,null,null,null,{"$f":"IF(R589=\"\",\"\",IF(AF589=\"\",R589+(Y589*(1.3-1)),R589+(Y589*(1.3-1))-AF589))","v":""},null,null,null,null,null,null,{"$f":"IF(AM589=\"\",\"\",IF($CM$761=0,\"\",IF(CM589=\"\",\"\",ROUND(CM589/$CM$761,3))))","v":""},null,null,null,null,null,null,{"$f":"IF(AT208=\"\",\"\",AT208)","v":""},null,null,null,null,null,null,{"$f":"IF(BA589=\"\",\"\",ROUND(AM589/BA589,3-INT(LOG(AM589/BA589))))","v":""},null,null,null,null,null,null,"-",null,null,null,null,null,null,{"$f":"IF(OR((BO589=\"-\"),(ISNUMBER(BO589)=FALSE)),\"-\",ROUND(BH589/BO589,3))","v":"-"},null,null,null,null,null,null,null,null,null,null,null,null,null,null,null,null,{"$f":"CM208","v":""}]
[null,null,null,null,null,null,null,null,null,null,null,null,null,null,null,null,null,null,null,null,null,null,null,null,null,null,null,null,null,null,null,null,null,null,null,null,null,null,null,null,null,null,null,null,null,null,null,null,null,null,null,null,"(名称：",null,null,{"$f":"IF(AW209=\"\",\"\",AW209)","v":""},null,null,")",null,null,null,null,null,null,null,null,null,null,null,null,null,null,null,null,null,null,null,null,null,{"$f":"IF(OR((BV589=\"-\"),(ISNUMBER(BV589)=FALSE)),\"-\",ROUND(AT589*BV589,3))","v":"-"}]
[null,null,"細分類番号",null,null,null,null,null,null,{"$f":"IF(J210=\"\",\"\",J210)","v":""},null,{"$f":"IF(L210=\"\",\"\",L210)","v":""},null,{"$f":"IF(N210=\"\",\"\",N210)","v":""},null,{"$f":"IF(P210=\"\",\"\",P210)","v":""},null,null,null,null,null,null,null,null,null,null,null,null,null,null,null,null,null,null,null,null,null,null,null,null,null,null,null,null,null,null,null,null,null,null,null,null,"(単位：",null,null,{"$f":"IF(AW210=\"\",\"\",AW210)","v":""},null,null,")"]
[null,65,"工場等に係る\n事業の名称",null,null,null,null,null,null,{"$f":"IF(J211=\"\",\"\",J211)","v":""},null,null,null,null,null,null,null,{"$f":"IF(R211=\"\",\"\",R211)","v":""},null,null,null,null,null,null,null,null,null,null,null,null,null,{"$f":"IF(Y211=\"\",\"\",Y211)","v":""},null,null,null,null,null,null,{"$f":"IF(R592=\"\",\"\",IF(AF592=\"\",R592+(Y592*(1.3-1)),R592+(Y592*(1.3-1))-AF592))","v":""},null,null,null,null,null,null,{"$f":"IF(AM592=\"\",\"\",IF($CM$761=0,\"\",IF(CM592=\"\",\"\",ROUND(CM592/$CM$761,3))))","v":""},null,null,null,null,null,null,{"$f":"IF(AT211=\"\",\"\",AT211)","v":""},null,null,null,null,null,null,{"$f":"IF(BA592=\"\",\"\",ROUND(AM592/BA592,3-INT(LOG(AM592/BA592))))","v":""},null,null,null,null,null,null,"-",null,null,null,null,null,null,{"$f":"IF(OR((BO592=\"-\"),(ISNUMBER(BO592)=FALSE)),\"-\",ROUND(BH592/BO592,3))","v":"-"},null,null,null,null,null,null,null,null,null,null,null,null,null,null,null,null,{"$f":"CM211","v":""}]
[null,null,null,null,null,null,null,null,null,null,null,null,null,null,null,null,null,null,null,null,null,null,null,null,null,null,null,null,null,null,null,null,null,null,null,null,null,null,null,null,null,null,null,null,null,null,null,null,null,null,null,null,"(名称：",null,null,{"$f":"IF(AW212=\"\",\"\",AW212)","v":""},null,null,")",null,null,null,null,null,null,null,null,null,null,null,null,null,null,null,null,null,null,null,null,null,{"$f":"IF(OR((BV592=\"-\"),(ISNUMBER(BV592)=FALSE)),\"-\",ROUND(AT592*BV592,3))","v":"-"}]
[null,null,"細分類番号",null,null,null,null,null,null,{"$f":"IF(J213=\"\",\"\",J213)","v":""},null,{"$f":"IF(L213=\"\",\"\",L213)","v":""},null,{"$f":"IF(N213=\"\",\"\",N213)","v":""},null,{"$f":"IF(P213=\"\",\"\",P213)","v":""},null,null,null,null,null,null,null,null,null,null,null,null,null,null,null,null,null,null,null,null,null,null,null,null,null,null,null,null,null,null,null,null,null,null,null,null,"(単位：",null,null,{"$f":"IF(AW213=\"\",\"\",AW213)","v":""},null,null,")"]
[null,66,"工場等に係る\n事業の名称",null,null,null,null,null,null,{"$f":"IF(J214=\"\",\"\",J214)","v":""},null,null,null,null,null,null,null,{"$f":"IF(R214=\"\",\"\",R214)","v":""},null,null,null,null,null,null,null,null,null,null,null,null,null,{"$f":"IF(Y214=\"\",\"\",Y214)","v":""},null,null,null,null,null,null,{"$f":"IF(R595=\"\",\"\",IF(AF595=\"\",R595+(Y595*(1.3-1)),R595+(Y595*(1.3-1))-AF595))","v":""},null,null,null,null,null,null,{"$f":"IF(AM595=\"\",\"\",IF($CM$761=0,\"\",IF(CM595=\"\",\"\",ROUND(CM595/$CM$761,3))))","v":""},null,null,null,null,null,null,{"$f":"IF(AT214=\"\",\"\",AT214)","v":""},null,null,null,null,null,null,{"$f":"IF(BA595=\"\",\"\",ROUND(AM595/BA595,3-INT(LOG(AM595/BA595))))","v":""},null,null,null,null,null,null,"-",null,null,null,null,null,null,{"$f":"IF(OR((BO595=\"-\"),(ISNUMBER(BO595)=FALSE)),\"-\",ROUND(BH595/BO595,3))","v":"-"},null,null,null,null,null,null,null,null,null,null,null,null,null,null,null,null,{"$f":"CM214","v":""}]
[null,null,null,null,null,null,null,null,null,null,null,null,null,null,null,null,null,null,null,null,null,null,null,null,null,null,null,null,null,null,null,null,null,null,null,null,null,null,null,null,null,null,null,null,null,null,null,null,null,null,null,null,"(名称：",null,null,{"$f":"IF(AW215=\"\",\"\",AW215)","v":""},null,null,")",null,null,null,null,null,null,null,null,null,null,null,null,null,null,null,null,null,null,null,null,null,{"$f":"IF(OR((BV595=\"-\"),(ISNUMBER(BV595)=FALSE)),\"-\",ROUND(AT595*BV595,3))","v":"-"}]
[null,null,"細分類番号",null,null,null,null,null,null,{"$f":"IF(J216=\"\",\"\",J216)","v":""},null,{"$f":"IF(L216=\"\",\"\",L216)","v":""},null,{"$f":"IF(N216=\"\",\"\",N216)","v":""},null,{"$f":"IF(P216=\"\",\"\",P216)","v":""},null,null,null,null,null,null,null,null,null,null,null,null,null,null,null,null,null,null,null,null,null,null,null,null,null,null,null,null,null,null,null,null,null,null,null,null,"(単位：",null,null,{"$f":"IF(AW216=\"\",\"\",AW216)","v":""},null,null,")"]
[null,67,"工場等に係る\n事業の名称",null,null,null,null,null,null,{"$f":"IF(J217=\"\",\"\",J217)","v":""},null,null,null,null,null,null,null,{"$f":"IF(R217=\"\",\"\",R217)","v":""},null,null,null,null,null,null,null,null,null,null,null,null,null,{"$f":"IF(Y217=\"\",\"\",Y217)","v":""},null,null,null,null,null,null,{"$f":"IF(R598=\"\",\"\",IF(AF598=\"\",R598+(Y598*(1.3-1)),R598+(Y598*(1.3-1))-AF598))","v":""},null,null,null,null,null,null,{"$f":"IF(AM598=\"\",\"\",IF($CM$761=0,\"\",IF(CM598=\"\",\"\",ROUND(CM598/$CM$761,3))))","v":""},null,null,null,null,null,null,{"$f":"IF(AT217=\"\",\"\",AT217)","v":""},null,null,null,null,null,null,{"$f":"IF(BA598=\"\",\"\",ROUND(AM598/BA598,3-INT(LOG(AM598/BA598))))","v":""},null,null,null,null,null,null,"-",null,null,null,null,null,null,{"$f":"IF(OR((BO598=\"-\"),(ISNUMBER(BO598)=FALSE)),\"-\",ROUND(BH598/BO598,3))","v":"-"},null,null,null,null,null,null,null,null,null,null,null,null,null,null,null,null,{"$f":"CM217","v":""}]
[null,null,null,null,null,null,null,null,null,null,null,null,null,null,null,null,null,null,null,null,null,null,null,null,null,null,null,null,null,null,null,null,null,null,null,null,null,null,null,null,null,null,null,null,null,null,null,null,null,null,null,null,"(名称：",null,null,{"$f":"IF(AW218=\"\",\"\",AW218)","v":""},null,null,")",null,null,null,null,null,null,null,null,null,null,null,null,null,null,null,null,null,null,null,null,null,{"$f":"IF(OR((BV598=\"-\"),(ISNUMBER(BV598)=FALSE)),\"-\",ROUND(AT598*BV598,3))","v":"-"}]
[null,null,"細分類番号",null,null,null,null,null,null,{"$f":"IF(J219=\"\",\"\",J219)","v":""},null,{"$f":"IF(L219=\"\",\"\",L219)","v":""},null,{"$f":"IF(N219=\"\",\"\",N219)","v":""},null,{"$f":"IF(P219=\"\",\"\",P219)","v":""},null,null,null,null,null,null,null,null,null,null,null,null,null,null,null,null,null,null,null,null,null,null,null,null,null,null,null,null,null,null,null,null,null,null,null,null,"(単位：",null,null,{"$f":"IF(AW219=\"\",\"\",AW219)","v":""},null,null,")"]
[null,68,"工場等に係る\n事業の名称",null,null,null,null,null,null,{"$f":"IF(J220=\"\",\"\",J220)","v":""},null,null,null,null,null,null,null,{"$f":"IF(R220=\"\",\"\",R220)","v":""},null,null,null,null,null,null,null,null,null,null,null,null,null,{"$f":"IF(Y220=\"\",\"\",Y220)","v":""},null,null,null,null,null,null,{"$f":"IF(R601=\"\",\"\",IF(AF601=\"\",R601+(Y601*(1.3-1)),R601+(Y601*(1.3-1))-AF601))","v":""},null,null,null,null,null,null,{"$f":"IF(AM601=\"\",\"\",IF($CM$761=0,\"\",IF(CM601=\"\",\"\",ROUND(CM601/$CM$761,3))))","v":""},null,null,null,null,null,null,{"$f":"IF(AT220=\"\",\"\",AT220)","v":""},null,null,null,null,null,null,{"$f":"IF(BA601=\"\",\"\",ROUND(AM601/BA601,3-INT(LOG(AM601/BA601))))","v":""},null,null,null,null,null,null,"-",null,null,null,null,null,null,{"$f":"IF(OR((BO601=\"-\"),(ISNUMBER(BO601)=FALSE)),\"-\",ROUND(BH601/BO601,3))","v":"-"},null,null,null,null,null,null,null,null,null,null,null,null,null,null,null,null,{"$f":"CM220","v":""}]
[null,null,null,null,null,null,null,null,null,null,null,null,null,null,null,null,null,null,null,null,null,null,null,null,null,null,null,null,null,null,null,null,null,null,null,null,null,null,null,null,null,null,null,null,null,null,null,null,null,null,null,null,"(名称：",null,null,{"$f":"IF(AW221=\"\",\"\",AW221)","v":""},null,null,")",null,null,null,null,null,null,null,null,null,null,null,null,null,null,null,null,null,null,null,null,null,{"$f":"IF(OR((BV601=\"-\"),(ISNUMBER(BV601)=FALSE)),\"-\",ROUND(AT601*BV601,3))","v":"-"}]
[null,null,"細分類番号",null,null,null,null,null,null,{"$f":"IF(J222=\"\",\"\",J222)","v":""},null,{"$f":"IF(L222=\"\",\"\",L222)","v":""},null,{"$f":"IF(N222=\"\",\"\",N222)","v":""},null,{"$f":"IF(P222=\"\",\"\",P222)","v":""},null,null,null,null,null,null,null,null,null,null,null,null,null,null,null,null,null,null,null,null,null,null,null,null,null,null,null,null,null,null,null,null,null,null,null,null,"(単位：",null,null,{"$f":"IF(AW222=\"\",\"\",AW222)","v":""},null,null,")"]
[null,69,"工場等に係る\n事業の名称",null,null,null,null,null,null,{"$f":"IF(J223=\"\",\"\",J223)","v":""},null,null,null,null,null,null,null,{"$f":"IF(R223=\"\",\"\",R223)","v":""},null,null,null,null,null,null,null,null,null,null,null,null,null,{"$f":"IF(Y223=\"\",\"\",Y223)","v":""},null,null,null,null,null,null,{"$f":"IF(R604=\"\",\"\",IF(AF604=\"\",R604+(Y604*(1.3-1)),R604+(Y604*(1.3-1))-AF604))","v":""},null,null,null,null,null,null,{"$f":"IF(AM604=\"\",\"\",IF($CM$761=0,\"\",IF(CM604=\"\",\"\",ROUND(CM604/$CM$761,3))))","v":""},null,null,null,null,null,null,{"$f":"IF(AT223=\"\",\"\",AT223)","v":""},null,null,null,null,null,null,{"$f":"IF(BA604=\"\",\"\",ROUND(AM604/BA604,3-INT(LOG(AM604/BA604))))","v":""},null,null,null,null,null,null,"-",null,null,null,null,null,null,{"$f":"IF(OR((BO604=\"-\"),(ISNUMBER(BO604)=FALSE)),\"-\",ROUND(BH604/BO604,3))","v":"-"},null,null,null,null,null,null,null,null,null,null,null,null,null,null,null,null,{"$f":"CM223","v":""}]
[null,null,null,null,null,null,null,null,null,null,null,null,null,null,null,null,null,null,null,null,null,null,null,null,null,null,null,null,null,null,null,null,null,null,null,null,null,null,null,null,null,null,null,null,null,null,null,null,null,null,null,null,"(名称：",null,null,{"$f":"IF(AW224=\"\",\"\",AW224)","v":""},null,null,")",null,null,null,null,null,null,null,null,null,null,null,null,null,null,null,null,null,null,null,null,null,{"$f":"IF(OR((BV604=\"-\"),(ISNUMBER(BV604)=FALSE)),\"-\",ROUND(AT604*BV604,3))","v":"-"}]
[null,null,"細分類番号",null,null,null,null,null,null,{"$f":"IF(J225=\"\",\"\",J225)","v":""},null,{"$f":"IF(L225=\"\",\"\",L225)","v":""},null,{"$f":"IF(N225=\"\",\"\",N225)","v":""},null,{"$f":"IF(P225=\"\",\"\",P225)","v":""},null,null,null,null,null,null,null,null,null,null,null,null,null,null,null,null,null,null,null,null,null,null,null,null,null,null,null,null,null,null,null,null,null,null,null,null,"(単位：",null,null,{"$f":"IF(AW225=\"\",\"\",AW225)","v":""},null,null,")"]
[null,70,"工場等に係る\n事業の名称",null,null,null,null,null,null,{"$f":"IF(J226=\"\",\"\",J226)","v":""},null,null,null,null,null,null,null,{"$f":"IF(R226=\"\",\"\",R226)","v":""},null,null,null,null,null,null,null,null,null,null,null,null,null,{"$f":"IF(Y226=\"\",\"\",Y226)","v":""},null,null,null,null,null,null,{"$f":"IF(R607=\"\",\"\",IF(AF607=\"\",R607+(Y607*(1.3-1)),R607+(Y607*(1.3-1))-AF607))","v":""},null,null,null,null,null,null,{"$f":"IF(AM607=\"\",\"\",IF($CM$761=0,\"\",IF(CM607=\"\",\"\",ROUND(CM607/$CM$761,3))))","v":""},null,null,null,null,null,null,{"$f":"IF(AT226=\"\",\"\",AT226)","v":""},null,null,null,null,null,null,{"$f":"IF(BA607=\"\",\"\",ROUND(AM607/BA607,3-INT(LOG(AM607/BA607))))","v":""},null,null,null,null,null,null,"-",null,null,null,null,null,null,{"$f":"IF(OR((BO607=\"-\"),(ISNUMBER(BO607)=FALSE)),\"-\",ROUND(BH607/BO607,3))","v":"-"},null,null,null,null,null,null,null,null,null,null,null,null,null,null,null,null,{"$f":"CM226","v":""}]
[null,null,null,null,null,null,null,null,null,null,null,null,null,null,null,null,null,null,null,null,null,null,null,null,null,null,null,null,null,null,null,null,null,null,null,null,null,null,null,null,null,null,null,null,null,null,null,null,null,null,null,null,"(名称：",null,null,{"$f":"IF(AW227=\"\",\"\",AW227)","v":""},null,null,")",null,null,null,null,null,null,null,null,null,null,null,null,null,null,null,null,null,null,null,null,null,{"$f":"IF(OR((BV607=\"-\"),(ISNUMBER(BV607)=FALSE)),\"-\",ROUND(AT607*BV607,3))","v":"-"}]
[null,null,"細分類番号",null,null,null,null,null,null,{"$f":"IF(J228=\"\",\"\",J228)","v":""},null,{"$f":"IF(L228=\"\",\"\",L228)","v":""},null,{"$f":"IF(N228=\"\",\"\",N228)","v":""},null,{"$f":"IF(P228=\"\",\"\",P228)","v":""},null,null,null,null,null,null,null,null,null,null,null,null,null,null,null,null,null,null,null,null,null,null,null,null,null,null,null,null,null,null,null,null,null,null,null,null,"(単位：",null,null,{"$f":"IF(AW228=\"\",\"\",AW228)","v":""},null,null,")"]
[null,71,"工場等に係る\n事業の名称",null,null,null,null,null,null,{"$f":"IF(J229=\"\",\"\",J229)","v":""},null,null,null,null,null,null,null,{"$f":"IF(R229=\"\",\"\",R229)","v":""},null,null,null,null,null,null,null,null,null,null,null,null,null,{"$f":"IF(Y229=\"\",\"\",Y229)","v":""},null,null,null,null,null,null,{"$f":"IF(R610=\"\",\"\",IF(AF610=\"\",R610+(Y610*(1.3-1)),R610+(Y610*(1.3-1))-AF610))","v":""},null,null,null,null,null,null,{"$f":"IF(AM610=\"\",\"\",IF($CM$761=0,\"\",IF(CM610=\"\",\"\",ROUND(CM610/$CM$761,3))))","v":""},null,null,null,null,null,null,{"$f":"IF(AT229=\"\",\"\",AT229)","v":""},null,null,null,null,null,null,{"$f":"IF(BA610=\"\",\"\",ROUND(AM610/BA610,3-INT(LOG(AM610/BA610))))","v":""},null,null,null,null,null,null,"-",null,null,null,null,null,null,{"$f":"IF(OR((BO610=\"-\"),(ISNUMBER(BO610)=FALSE)),\"-\",ROUND(BH610/BO610,3))","v":"-"},null,null,null,null,null,null,null,null,null,null,null,null,null,null,null,null,{"$f":"CM229","v":""}]
[null,null,null,null,null,null,null,null,null,null,null,null,null,null,null,null,null,null,null,null,null,null,null,null,null,null,null,null,null,null,null,null,null,null,null,null,null,null,null,null,null,null,null,null,null,null,null,null,null,null,null,null,"(名称：",null,null,{"$f":"IF(AW230=\"\",\"\",AW230)","v":""},null,null,")",null,null,null,null,null,null,null,null,null,null,null,null,null,null,null,null,null,null,null,null,null,{"$f":"IF(OR((BV610=\"-\"),(ISNUMBER(BV610)=FALSE)),\"-\",ROUND(AT610*BV610,3))","v":"-"}]
[null,null,"細分類番号",null,null,null,null,null,null,{"$f":"IF(J231=\"\",\"\",J231)","v":""},null,{"$f":"IF(L231=\"\",\"\",L231)","v":""},null,{"$f":"IF(N231=\"\",\"\",N231)","v":""},null,{"$f":"IF(P231=\"\",\"\",P231)","v":""},null,null,null,null,null,null,null,null,null,null,null,null,null,null,null,null,null,null,null,null,null,null,null,null,null,null,null,null,null,null,null,null,null,null,null,null,"(単位：",null,null,{"$f":"IF(AW231=\"\",\"\",AW231)","v":""},null,null,")"]
[null,72,"工場等に係る\n事業の名称",null,null,null,null,null,null,{"$f":"IF(J232=\"\",\"\",J232)","v":""},null,null,null,null,null,null,null,{"$f":"IF(R232=\"\",\"\",R232)","v":""},null,null,null,null,null,null,null,null,null,null,null,null,null,{"$f":"IF(Y232=\"\",\"\",Y232)","v":""},null,null,null,null,null,null,{"$f":"IF(R613=\"\",\"\",IF(AF613=\"\",R613+(Y613*(1.3-1)),R613+(Y613*(1.3-1))-AF613))","v":""},null,null,null,null,null,null,{"$f":"IF(AM613=\"\",\"\",IF($CM$761=0,\"\",IF(CM613=\"\",\"\",ROUND(CM613/$CM$761,3))))","v":""},null,null,null,null,null,null,{"$f":"IF(AT232=\"\",\"\",AT232)","v":""},null,null,null,null,null,null,{"$f":"IF(BA613=\"\",\"\",ROUND(AM613/BA613,3-INT(LOG(AM613/BA613))))","v":""},null,null,null,null,null,null,"-",null,null,null,null,null,null,{"$f":"IF(OR((BO613=\"-\"),(ISNUMBER(BO613)=FALSE)),\"-\",ROUND(BH613/BO613,3))","v":"-"},null,null,null,null,null,null,null,null,null,null,null,null,null,null,null,null,{"$f":"CM232","v":""}]
[null,null,null,null,null,null,null,null,null,null,null,null,null,null,null,null,null,null,null,null,null,null,null,null,null,null,null,null,null,null,null,null,null,null,null,null,null,null,null,null,null,null,null,null,null,null,null,null,null,null,null,null,"(名称：",null,null,{"$f":"IF(AW233=\"\",\"\",AW233)","v":""},null,null,")",null,null,null,null,null,null,null,null,null,null,null,null,null,null,null,null,null,null,null,null,null,{"$f":"IF(OR((BV613=\"-\"),(ISNUMBER(BV613)=FALSE)),\"-\",ROUND(AT613*BV613,3))","v":"-"}]
[null,null,"細分類番号",null,null,null,null,null,null,{"$f":"IF(J234=\"\",\"\",J234)","v":""},null,{"$f":"IF(L234=\"\",\"\",L234)","v":""},null,{"$f":"IF(N234=\"\",\"\",N234)","v":""},null,{"$f":"IF(P234=\"\",\"\",P234)","v":""},null,null,null,null,null,null,null,null,null,null,null,null,null,null,null,null,null,null,null,null,null,null,null,null,null,null,null,null,null,null,null,null,null,null,null,null,"(単位：",null,null,{"$f":"IF(AW234=\"\",\"\",AW234)","v":""},null,null,")"]
[null,73,"工場等に係る\n事業の名称",null,null,null,null,null,null,{"$f":"IF(J235=\"\",\"\",J235)","v":""},null,null,null,null,null,null,null,{"$f":"IF(R235=\"\",\"\",R235)","v":""},null,null,null,null,null,null,null,null,null,null,null,null,null,{"$f":"IF(Y235=\"\",\"\",Y235)","v":""},null,null,null,null,null,null,{"$f":"IF(R616=\"\",\"\",IF(AF616=\"\",R616+(Y616*(1.3-1)),R616+(Y616*(1.3-1))-AF616))","v":""},null,null,null,null,null,null,{"$f":"IF(AM616=\"\",\"\",IF($CM$761=0,\"\",IF(CM616=\"\",\"\",ROUND(CM616/$CM$761,3))))","v":""},null,null,null,null,null,null,{"$f":"IF(AT235=\"\",\"\",AT235)","v":""},null,null,null,null,null,null,{"$f":"IF(BA616=\"\",\"\",ROUND(AM616/BA616,3-INT(LOG(AM616/BA616))))","v":""},null,null,null,null,null,null,"-",null,null,null,null,null,null,{"$f":"IF(OR((BO616=\"-\"),(ISNUMBER(BO616)=FALSE)),\"-\",ROUND(BH616/BO616,3))","v":"-"},null,null,null,null,null,null,null,null,null,null,null,null,null,null,null,null,{"$f":"CM235","v":""}]
[null,null,null,null,null,null,null,null,null,null,null,null,null,null,null,null,null,null,null,null,null,null,null,null,null,null,null,null,null,null,null,null,null,null,null,null,null,null,null,null,null,null,null,null,null,null,null,null,null,null,null,null,"(名称：",null,null,{"$f":"IF(AW236=\"\",\"\",AW236)","v":""},null,null,")",null,null,null,null,null,null,null,null,null,null,null,null,null,null,null,null,null,null,null,null,null,{"$f":"IF(OR((BV616=\"-\"),(ISNUMBER(BV616)=FALSE)),\"-\",ROUND(AT616*BV616,3))","v":"-"}]
[null,null,"細分類番号",null,null,null,null,null,null,{"$f":"IF(J237=\"\",\"\",J237)","v":""},null,{"$f":"IF(L237=\"\",\"\",L237)","v":""},null,{"$f":"IF(N237=\"\",\"\",N237)","v":""},null,{"$f":"IF(P237=\"\",\"\",P237)","v":""},null,null,null,null,null,null,null,null,null,null,null,null,null,null,null,null,null,null,null,null,null,null,null,null,null,null,null,null,null,null,null,null,null,null,null,null,"(単位：",null,null,{"$f":"IF(AW237=\"\",\"\",AW237)","v":""},null,null,")"]
[null,74,"工場等に係る\n事業の名称",null,null,null,null,null,null,{"$f":"IF(J238=\"\",\"\",J238)","v":""},null,null,null,null,null,null,null,{"$f":"IF(R238=\"\",\"\",R238)","v":""},null,null,null,null,null,null,null,null,null,null,null,null,null,{"$f":"IF(Y238=\"\",\"\",Y238)","v":""},null,null,null,null,null,null,{"$f":"IF(R619=\"\",\"\",IF(AF619=\"\",R619+(Y619*(1.3-1)),R619+(Y619*(1.3-1))-AF619))","v":""},null,null,null,null,null,null,{"$f":"IF(AM619=\"\",\"\",IF($CM$761=0,\"\",IF(CM619=\"\",\"\",ROUND(CM619/$CM$761,3))))","v":""},null,null,null,null,null,null,{"$f":"IF(AT238=\"\",\"\",AT238)","v":""},null,null,null,null,null,null,{"$f":"IF(BA619=\"\",\"\",ROUND(AM619/BA619,3-INT(LOG(AM619/BA619))))","v":""},null,null,null,null,null,null,"-",null,null,null,null,null,null,{"$f":"IF(OR((BO619=\"-\"),(ISNUMBER(BO619)=FALSE)),\"-\",ROUND(BH619/BO619,3))","v":"-"},null,null,null,null,null,null,null,null,null,null,null,null,null,null,null,null,{"$f":"CM238","v":""}]
[null,null,null,null,null,null,null,null,null,null,null,null,null,null,null,null,null,null,null,null,null,null,null,null,null,null,null,null,null,null,null,null,null,null,null,null,null,null,null,null,null,null,null,null,null,null,null,null,null,null,null,null,"(名称：",null,null,{"$f":"IF(AW239=\"\",\"\",AW239)","v":""},null,null,")",null,null,null,null,null,null,null,null,null,null,null,null,null,null,null,null,null,null,null,null,null,{"$f":"IF(OR((BV619=\"-\"),(ISNUMBER(BV619)=FALSE)),\"-\",ROUND(AT619*BV619,3))","v":"-"}]
[null,null,"細分類番号",null,null,null,null,null,null,{"$f":"IF(J240=\"\",\"\",J240)","v":""},null,{"$f":"IF(L240=\"\",\"\",L240)","v":""},null,{"$f":"IF(N240=\"\",\"\",N240)","v":""},null,{"$f":"IF(P240=\"\",\"\",P240)","v":""},null,null,null,null,null,null,null,null,null,null,null,null,null,null,null,null,null,null,null,null,null,null,null,null,null,null,null,null,null,null,null,null,null,null,null,null,"(単位：",null,null,{"$f":"IF(AW240=\"\",\"\",AW240)","v":""},null,null,")"]
[null,75,"工場等に係る\n事業の名称",null,null,null,null,null,null,{"$f":"IF(J241=\"\",\"\",J241)","v":""},null,null,null,null,null,null,null,{"$f":"IF(R241=\"\",\"\",R241)","v":""},null,null,null,null,null,null,null,null,null,null,null,null,null,{"$f":"IF(Y241=\"\",\"\",Y241)","v":""},null,null,null,null,null,null,{"$f":"IF(R622=\"\",\"\",IF(AF622=\"\",R622+(Y622*(1.3-1)),R622+(Y622*(1.3-1))-AF622))","v":""},null,null,null,null,null,null,{"$f":"IF(AM622=\"\",\"\",IF($CM$761=0,\"\",IF(CM622=\"\",\"\",ROUND(CM622/$CM$761,3))))","v":""},null,null,null,null,null,null,{"$f":"IF(AT241=\"\",\"\",AT241)","v":""},null,null,null,null,null,null,{"$f":"IF(BA622=\"\",\"\",ROUND(AM622/BA622,3-INT(LOG(AM622/BA622))))","v":""},null,null,null,null,null,null,"-",null,null,null,null,null,null,{"$f":"IF(OR((BO622=\"-\"),(ISNUMBER(BO622)=FALSE)),\"-\",ROUND(BH622/BO622,3))","v":"-"},null,null,null,null,null,null,null,null,null,null,null,null,null,null,null,null,{"$f":"CM241","v":""}]
[null,null,null,null,null,null,null,null,null,null,null,null,null,null,null,null,null,null,null,null,null,null,null,null,null,null,null,null,null,null,null,null,null,null,null,null,null,null,null,null,null,null,null,null,null,null,null,null,null,null,null,null,"(名称：",null,null,{"$f":"IF(AW242=\"\",\"\",AW242)","v":""},null,null,")",null,null,null,null,null,null,null,null,null,null,null,null,null,null,null,null,null,null,null,null,null,{"$f":"IF(OR((BV622=\"-\"),(ISNUMBER(BV622)=FALSE)),\"-\",ROUND(AT622*BV622,3))","v":"-"}]
[null,null,"細分類番号",null,null,null,null,null,null,{"$f":"IF(J243=\"\",\"\",J243)","v":""},null,{"$f":"IF(L243=\"\",\"\",L243)","v":""},null,{"$f":"IF(N243=\"\",\"\",N243)","v":""},null,{"$f":"IF(P243=\"\",\"\",P243)","v":""},null,null,null,null,null,null,null,null,null,null,null,null,null,null,null,null,null,null,null,null,null,null,null,null,null,null,null,null,null,null,null,null,null,null,null,null,"(単位：",null,null,{"$f":"IF(AW243=\"\",\"\",AW243)","v":""},null,null,")"]
[null,76,"工場等に係る\n事業の名称",null,null,null,null,null,null,{"$f":"IF(J244=\"\",\"\",J244)","v":""},null,null,null,null,null,null,null,{"$f":"IF(R244=\"\",\"\",R244)","v":""},null,null,null,null,null,null,null,null,null,null,null,null,null,{"$f":"IF(Y244=\"\",\"\",Y244)","v":""},null,null,null,null,null,null,{"$f":"IF(R625=\"\",\"\",IF(AF625=\"\",R625+(Y625*(1.3-1)),R625+(Y625*(1.3-1))-AF625))","v":""},null,null,null,null,null,null,{"$f":"IF(AM625=\"\",\"\",IF($CM$761=0,\"\",IF(CM625=\"\",\"\",ROUND(CM625/$CM$761,3))))","v":""},null,null,null,null,null,null,{"$f":"IF(AT244=\"\",\"\",AT244)","v":""},null,null,null,null,null,null,{"$f":"IF(BA625=\"\",\"\",ROUND(AM625/BA625,3-INT(LOG(AM625/BA625))))","v":""},null,null,null,null,null,null,"-",null,null,null,null,null,null,{"$f":"IF(OR((BO625=\"-\"),(ISNUMBER(BO625)=FALSE)),\"-\",ROUND(BH625/BO625,3))","v":"-"},null,null,null,null,null,null,null,null,null,null,null,null,null,null,null,null,{"$f":"CM244","v":""}]
[null,null,null,null,null,null,null,null,null,null,null,null,null,null,null,null,null,null,null,null,null,null,null,null,null,null,null,null,null,null,null,null,null,null,null,null,null,null,null,null,null,null,null,null,null,null,null,null,null,null,null,null,"(名称：",null,null,{"$f":"IF(AW245=\"\",\"\",AW245)","v":""},null,null,")",null,null,null,null,null,null,null,null,null,null,null,null,null,null,null,null,null,null,null,null,null,{"$f":"IF(OR((BV625=\"-\"),(ISNUMBER(BV625)=FALSE)),\"-\",ROUND(AT625*BV625,3))","v":"-"}]
[null,null,"細分類番号",null,null,null,null,null,null,{"$f":"IF(J246=\"\",\"\",J246)","v":""},null,{"$f":"IF(L246=\"\",\"\",L246)","v":""},null,{"$f":"IF(N246=\"\",\"\",N246)","v":""},null,{"$f":"IF(P246=\"\",\"\",P246)","v":""},null,null,null,null,null,null,null,null,null,null,null,null,null,null,null,null,null,null,null,null,null,null,null,null,null,null,null,null,null,null,null,null,null,null,null,null,"(単位：",null,null,{"$f":"IF(AW246=\"\",\"\",AW246)","v":""},null,null,")"]
[null,77,"工場等に係る\n事業の名称",null,null,null,null,null,null,{"$f":"IF(J247=\"\",\"\",J247)","v":""},null,null,null,null,null,null,null,{"$f":"IF(R247=\"\",\"\",R247)","v":""},null,null,null,null,null,null,null,null,null,null,null,null,null,{"$f":"IF(Y247=\"\",\"\",Y247)","v":""},null,null,null,null,null,null,{"$f":"IF(R628=\"\",\"\",IF(AF628=\"\",R628+(Y628*(1.3-1)),R628+(Y628*(1.3-1))-AF628))","v":""},null,null,null,null,null,null,{"$f":"IF(AM628=\"\",\"\",IF($CM$761=0,\"\",IF(CM628=\"\",\"\",ROUND(CM628/$CM$761,3))))","v":""},null,null,null,null,null,null,{"$f":"IF(AT247=\"\",\"\",AT247)","v":""},null,null,null,null,null,null,{"$f":"IF(BA628=\"\",\"\",ROUND(AM628/BA628,3-INT(LOG(AM628/BA628))))","v":""},null,null,null,null,null,null,"-",null,null,null,null,null,null,{"$f":"IF(OR((BO628=\"-\"),(ISNUMBER(BO628)=FALSE)),\"-\",ROUND(BH628/BO628,3))","v":"-"},null,null,null,null,null,null,null,null,null,null,null,null,null,null,null,null,{"$f":"CM247","v":""}]
[null,null,null,null,null,null,null,null,null,null,null,null,null,null,null,null,null,null,null,null,null,null,null,null,null,null,null,null,null,null,null,null,null,null,null,null,null,null,null,null,null,null,null,null,null,null,null,null,null,null,null,null,"(名称：",null,null,{"$f":"IF(AW248=\"\",\"\",AW248)","v":""},null,null,")",null,null,null,null,null,null,null,null,null,null,null,null,null,null,null,null,null,null,null,null,null,{"$f":"IF(OR((BV628=\"-\"),(ISNUMBER(BV628)=FALSE)),\"-\",ROUND(AT628*BV628,3))","v":"-"}]
[null,null,"細分類番号",null,null,null,null,null,null,{"$f":"IF(J249=\"\",\"\",J249)","v":""},null,{"$f":"IF(L249=\"\",\"\",L249)","v":""},null,{"$f":"IF(N249=\"\",\"\",N249)","v":""},null,{"$f":"IF(P249=\"\",\"\",P249)","v":""},null,null,null,null,null,null,null,null,null,null,null,null,null,null,null,null,null,null,null,null,null,null,null,null,null,null,null,null,null,null,null,null,null,null,null,null,"(単位：",null,null,{"$f":"IF(AW249=\"\",\"\",AW249)","v":""},null,null,")"]
[null,78,"工場等に係る\n事業の名称",null,null,null,null,null,null,{"$f":"IF(J250=\"\",\"\",J250)","v":""},null,null,null,null,null,null,null,{"$f":"IF(R250=\"\",\"\",R250)","v":""},null,null,null,null,null,null,null,null,null,null,null,null,null,{"$f":"IF(Y250=\"\",\"\",Y250)","v":""},null,null,null,null,null,null,{"$f":"IF(R631=\"\",\"\",IF(AF631=\"\",R631+(Y631*(1.3-1)),R631+(Y631*(1.3-1))-AF631))","v":""},null,null,null,null,null,null,{"$f":"IF(AM631=\"\",\"\",IF($CM$761=0,\"\",IF(CM631=\"\",\"\",ROUND(CM631/$CM$761,3))))","v":""},null,null,null,null,null,null,{"$f":"IF(AT250=\"\",\"\",AT250)","v":""},null,null,null,null,null,null,{"$f":"IF(BA631=\"\",\"\",ROUND(AM631/BA631,3-INT(LOG(AM631/BA631))))","v":""},null,null,null,null,null,null,"-",null,null,null,null,null,null,{"$f":"IF(OR((BO631=\"-\"),(ISNUMBER(BO631)=FALSE)),\"-\",ROUND(BH631/BO631,3))","v":"-"},null,null,null,null,null,null,null,null,null,null,null,null,null,null,null,null,{"$f":"CM250","v":""}]
[null,null,null,null,null,null,null,null,null,null,null,null,null,null,null,null,null,null,null,null,null,null,null,null,null,null,null,null,null,null,null,null,null,null,null,null,null,null,null,null,null,null,null,null,null,null,null,null,null,null,null,null,"(名称：",null,null,{"$f":"IF(AW251=\"\",\"\",AW251)","v":""},null,null,")",null,null,null,null,null,null,null,null,null,null,null,null,null,null,null,null,null,null,null,null,null,{"$f":"IF(OR((BV631=\"-\"),(ISNUMBER(BV631)=FALSE)),\"-\",ROUND(AT631*BV631,3))","v":"-"}]
[null,null,"細分類番号",null,null,null,null,null,null,{"$f":"IF(J252=\"\",\"\",J252)","v":""},null,{"$f":"IF(L252=\"\",\"\",L252)","v":""},null,{"$f":"IF(N252=\"\",\"\",N252)","v":""},null,{"$f":"IF(P252=\"\",\"\",P252)","v":""},null,null,null,null,null,null,null,null,null,null,null,null,null,null,null,null,null,null,null,null,null,null,null,null,null,null,null,null,null,null,null,null,null,null,null,null,"(単位：",null,null,{"$f":"IF(AW252=\"\",\"\",AW252)","v":""},null,null,")"]
[null,79,"工場等に係る\n事業の名称",null,null,null,null,null,null,{"$f":"IF(J253=\"\",\"\",J253)","v":""},null,null,null,null,null,null,null,{"$f":"IF(R253=\"\",\"\",R253)","v":""},null,null,null,null,null,null,null,null,null,null,null,null,null,{"$f":"IF(Y253=\"\",\"\",Y253)","v":""},null,null,null,null,null,null,{"$f":"IF(R634=\"\",\"\",IF(AF634=\"\",R634+(Y634*(1.3-1)),R634+(Y634*(1.3-1))-AF634))","v":""},null,null,null,null,null,null,{"$f":"IF(AM634=\"\",\"\",IF($CM$761=0,\"\",IF(CM634=\"\",\"\",ROUND(CM634/$CM$761,3))))","v":""},null,null,null,null,null,null,{"$f":"IF(AT253=\"\",\"\",AT253)","v":""},null,null,null,null,null,null,{"$f":"IF(BA634=\"\",\"\",ROUND(AM634/BA634,3-INT(LOG(AM634/BA634))))","v":""},null,null,null,null,null,null,"-",null,null,null,null,null,null,{"$f":"IF(OR((BO634=\"-\"),(ISNUMBER(BO634)=FALSE)),\"-\",ROUND(BH634/BO634,3))","v":"-"},null,null,null,null,null,null,null,null,null,null,null,null,null,null,null,null,{"$f":"CM253","v":""}]
[null,null,null,null,null,null,null,null,null,null,null,null,null,null,null,null,null,null,null,null,null,null,null,null,null,null,null,null,null,null,null,null,null,null,null,null,null,null,null,null,null,null,null,null,null,null,null,null,null,null,null,null,"(名称：",null,null,{"$f":"IF(AW254=\"\",\"\",AW254)","v":""},null,null,")",null,null,null,null,null,null,null,null,null,null,null,null,null,null,null,null,null,null,null,null,null,{"$f":"IF(OR((BV634=\"-\"),(ISNUMBER(BV634)=FALSE)),\"-\",ROUND(AT634*BV634,3))","v":"-"}]
[null,null,"細分類番号",null,null,null,null,null,null,{"$f":"IF(J255=\"\",\"\",J255)","v":""},null,{"$f":"IF(L255=\"\",\"\",L255)","v":""},null,{"$f":"IF(N255=\"\",\"\",N255)","v":""},null,{"$f":"IF(P255=\"\",\"\",P255)","v":""},null,null,null,null,null,null,null,null,null,null,null,null,null,null,null,null,null,null,null,null,null,null,null,null,null,null,null,null,null,null,null,null,null,null,null,null,"(単位：",null,null,{"$f":"IF(AW255=\"\",\"\",AW255)","v":""},null,null,")"]
[null,80,"工場等に係る\n事業の名称",null,null,null,null,null,null,{"$f":"IF(J256=\"\",\"\",J256)","v":""},null,null,null,null,null,null,null,{"$f":"IF(R256=\"\",\"\",R256)","v":""},null,null,null,null,null,null,null,null,null,null,null,null,null,{"$f":"IF(Y256=\"\",\"\",Y256)","v":""},null,null,null,null,null,null,{"$f":"IF(R637=\"\",\"\",IF(AF637=\"\",R637+(Y637*(1.3-1)),R637+(Y637*(1.3-1))-AF637))","v":""},null,null,null,null,null,null,{"$f":"IF(AM637=\"\",\"\",IF($CM$761=0,\"\",IF(CM637=\"\",\"\",ROUND(CM637/$CM$761,3))))","v":""},null,null,null,null,null,null,{"$f":"IF(AT256=\"\",\"\",AT256)","v":""},null,null,null,null,null,null,{"$f":"IF(BA637=\"\",\"\",ROUND(AM637/BA637,3-INT(LOG(AM637/BA637))))","v":""},null,null,null,null,null,null,"-",null,null,null,null,null,null,{"$f":"IF(OR((BO637=\"-\"),(ISNUMBER(BO637)=FALSE)),\"-\",ROUND(BH637/BO637,3))","v":"-"},null,null,null,null,null,null,null,null,null,null,null,null,null,null,null,null,{"$f":"CM256","v":""}]
[null,null,null,null,null,null,null,null,null,null,null,null,null,null,null,null,null,null,null,null,null,null,null,null,null,null,null,null,null,null,null,null,null,null,null,null,null,null,null,null,null,null,null,null,null,null,null,null,null,null,null,null,"(名称：",null,null,{"$f":"IF(AW257=\"\",\"\",AW257)","v":""},null,null,")",null,null,null,null,null,null,null,null,null,null,null,null,null,null,null,null,null,null,null,null,null,{"$f":"IF(OR((BV637=\"-\"),(ISNUMBER(BV637)=FALSE)),\"-\",ROUND(AT637*BV637,3))","v":"-"}]
[null,null,"細分類番号",null,null,null,null,null,null,{"$f":"IF(J258=\"\",\"\",J258)","v":""},null,{"$f":"IF(L258=\"\",\"\",L258)","v":""},null,{"$f":"IF(N258=\"\",\"\",N258)","v":""},null,{"$f":"IF(P258=\"\",\"\",P258)","v":""},null,null,null,null,null,null,null,null,null,null,null,null,null,null,null,null,null,null,null,null,null,null,null,null,null,null,null,null,null,null,null,null,null,null,null,null,"(単位：",null,null,{"$f":"IF(AW258=\"\",\"\",AW258)","v":""},null,null,")"]
[null,81,"工場等に係る\n事業の名称",null,null,null,null,null,null,{"$f":"IF(J259=\"\",\"\",J259)","v":""},null,null,null,null,null,null,null,{"$f":"IF(R259=\"\",\"\",R259)","v":""},null,null,null,null,null,null,null,null,null,null,null,null,null,{"$f":"IF(Y259=\"\",\"\",Y259)","v":""},null,null,null,null,null,null,{"$f":"IF(R640=\"\",\"\",IF(AF640=\"\",R640+(Y640*(1.3-1)),R640+(Y640*(1.3-1))-AF640))","v":""},null,null,null,null,null,null,{"$f":"IF(AM640=\"\",\"\",IF($CM$761=0,\"\",IF(CM640=\"\",\"\",ROUND(CM640/$CM$761,3))))","v":""},null,null,null,null,null,null,{"$f":"IF(AT259=\"\",\"\",AT259)","v":""},null,null,null,null,null,null,{"$f":"IF(BA640=\"\",\"\",ROUND(AM640/BA640,3-INT(LOG(AM640/BA640))))","v":""},null,null,null,null,null,null,"-",null,null,null,null,null,null,{"$f":"IF(OR((BO640=\"-\"),(ISNUMBER(BO640)=FALSE)),\"-\",ROUND(BH640/BO640,3))","v":"-"},null,null,null,null,null,null,null,null,null,null,null,null,null,null,null,null,{"$f":"CM259","v":""}]
[null,null,null,null,null,null,null,null,null,null,null,null,null,null,null,null,null,null,null,null,null,null,null,null,null,null,null,null,null,null,null,null,null,null,null,null,null,null,null,null,null,null,null,null,null,null,null,null,null,null,null,null,"(名称：",null,null,{"$f":"IF(AW260=\"\",\"\",AW260)","v":""},null,null,")",null,null,null,null,null,null,null,null,null,null,null,null,null,null,null,null,null,null,null,null,null,{"$f":"IF(OR((BV640=\"-\"),(ISNUMBER(BV640)=FALSE)),\"-\",ROUND(AT640*BV640,3))","v":"-"}]
[null,null,"細分類番号",null,null,null,null,null,null,{"$f":"IF(J261=\"\",\"\",J261)","v":""},null,{"$f":"IF(L261=\"\",\"\",L261)","v":""},null,{"$f":"IF(N261=\"\",\"\",N261)","v":""},null,{"$f":"IF(P261=\"\",\"\",P261)","v":""},null,null,null,null,null,null,null,null,null,null,null,null,null,null,null,null,null,null,null,null,null,null,null,null,null,null,null,null,null,null,null,null,null,null,null,null,"(単位：",null,null,{"$f":"IF(AW261=\"\",\"\",AW261)","v":""},null,null,")"]
[null,82,"工場等に係る\n事業の名称",null,null,null,null,null,null,{"$f":"IF(J262=\"\",\"\",J262)","v":""},null,null,null,null,null,null,null,{"$f":"IF(R262=\"\",\"\",R262)","v":""},null,null,null,null,null,null,null,null,null,null,null,null,null,{"$f":"IF(Y262=\"\",\"\",Y262)","v":""},null,null,null,null,null,null,{"$f":"IF(R643=\"\",\"\",IF(AF643=\"\",R643+(Y643*(1.3-1)),R643+(Y643*(1.3-1))-AF643))","v":""},null,null,null,null,null,null,{"$f":"IF(AM643=\"\",\"\",IF($CM$761=0,\"\",IF(CM643=\"\",\"\",ROUND(CM643/$CM$761,3))))","v":""},null,null,null,null,null,null,{"$f":"IF(AT262=\"\",\"\",AT262)","v":""},null,null,null,null,null,null,{"$f":"IF(BA643=\"\",\"\",ROUND(AM643/BA643,3-INT(LOG(AM643/BA643))))","v":""},null,null,null,null,null,null,"-",null,null,null,null,null,null,{"$f":"IF(OR((BO643=\"-\"),(ISNUMBER(BO643)=FALSE)),\"-\",ROUND(BH643/BO643,3))","v":"-"},null,null,null,null,null,null,null,null,null,null,null,null,null,null,null,null,{"$f":"CM262","v":""}]
[null,null,null,null,null,null,null,null,null,null,null,null,null,null,null,null,null,null,null,null,null,null,null,null,null,null,null,null,null,null,null,null,null,null,null,null,null,null,null,null,null,null,null,null,null,null,null,null,null,null,null,null,"(名称：",null,null,{"$f":"IF(AW263=\"\",\"\",AW263)","v":""},null,null,")",null,null,null,null,null,null,null,null,null,null,null,null,null,null,null,null,null,null,null,null,null,{"$f":"IF(OR((BV643=\"-\"),(ISNUMBER(BV643)=FALSE)),\"-\",ROUND(AT643*BV643,3))","v":"-"}]
[null,null,"細分類番号",null,null,null,null,null,null,{"$f":"IF(J264=\"\",\"\",J264)","v":""},null,{"$f":"IF(L264=\"\",\"\",L264)","v":""},null,{"$f":"IF(N264=\"\",\"\",N264)","v":""},null,{"$f":"IF(P264=\"\",\"\",P264)","v":""},null,null,null,null,null,null,null,null,null,null,null,null,null,null,null,null,null,null,null,null,null,null,null,null,null,null,null,null,null,null,null,null,null,null,null,null,"(単位：",null,null,{"$f":"IF(AW264=\"\",\"\",AW264)","v":""},null,null,")"]
[null,83,"工場等に係る\n事業の名称",null,null,null,null,null,null,{"$f":"IF(J265=\"\",\"\",J265)","v":""},null,null,null,null,null,null,null,{"$f":"IF(R265=\"\",\"\",R265)","v":""},null,null,null,null,null,null,null,null,null,null,null,null,null,{"$f":"IF(Y265=\"\",\"\",Y265)","v":""},null,null,null,null,null,null,{"$f":"IF(R646=\"\",\"\",IF(AF646=\"\",R646+(Y646*(1.3-1)),R646+(Y646*(1.3-1))-AF646))","v":""},null,null,null,null,null,null,{"$f":"IF(AM646=\"\",\"\",IF($CM$761=0,\"\",IF(CM646=\"\",\"\",ROUND(CM646/$CM$761,3))))","v":""},null,null,null,null,null,null,{"$f":"IF(AT265=\"\",\"\",AT265)","v":""},null,null,null,null,null,null,{"$f":"IF(BA646=\"\",\"\",ROUND(AM646/BA646,3-INT(LOG(AM646/BA646))))","v":""},null,null,null,null,null,null,"-",null,null,null,null,null,null,{"$f":"IF(OR((BO646=\"-\"),(ISNUMBER(BO646)=FALSE)),\"-\",ROUND(BH646/BO646,3))","v":"-"},null,null,null,null,null,null,null,null,null,null,null,null,null,null,null,null,{"$f":"CM265","v":""}]
[null,null,null,null,null,null,null,null,null,null,null,null,null,null,null,null,null,null,null,null,null,null,null,null,null,null,null,null,null,null,null,null,null,null,null,null,null,null,null,null,null,null,null,null,null,null,null,null,null,null,null,null,"(名称：",null,null,{"$f":"IF(AW266=\"\",\"\",AW266)","v":""},null,null,")",null,null,null,null,null,null,null,null,null,null,null,null,null,null,null,null,null,null,null,null,null,{"$f":"IF(OR((BV646=\"-\"),(ISNUMBER(BV646)=FALSE)),\"-\",ROUND(AT646*BV646,3))","v":"-"}]
[null,null,"細分類番号",null,null,null,null,null,null,{"$f":"IF(J267=\"\",\"\",J267)","v":""},null,{"$f":"IF(L267=\"\",\"\",L267)","v":""},null,{"$f":"IF(N267=\"\",\"\",N267)","v":""},null,{"$f":"IF(P267=\"\",\"\",P267)","v":""},null,null,null,null,null,null,null,null,null,null,null,null,null,null,null,null,null,null,null,null,null,null,null,null,null,null,null,null,null,null,null,null,null,null,null,null,"(単位：",null,null,{"$f":"IF(AW267=\"\",\"\",AW267)","v":""},null,null,")"]
[null,84,"工場等に係る\n事業の名称",null,null,null,null,null,null,{"$f":"IF(J268=\"\",\"\",J268)","v":""},null,null,null,null,null,null,null,{"$f":"IF(R268=\"\",\"\",R268)","v":""},null,null,null,null,null,null,null,null,null,null,null,null,null,{"$f":"IF(Y268=\"\",\"\",Y268)","v":""},null,null,null,null,null,null,{"$f":"IF(R649=\"\",\"\",IF(AF649=\"\",R649+(Y649*(1.3-1)),R649+(Y649*(1.3-1))-AF649))","v":""},null,null,null,null,null,null,{"$f":"IF(AM649=\"\",\"\",IF($CM$761=0,\"\",IF(CM649=\"\",\"\",ROUND(CM649/$CM$761,3))))","v":""},null,null,null,null,null,null,{"$f":"IF(AT268=\"\",\"\",AT268)","v":""},null,null,null,null,null,null,{"$f":"IF(BA649=\"\",\"\",ROUND(AM649/BA649,3-INT(LOG(AM649/BA649))))","v":""},null,null,null,null,null,null,"-",null,null,null,null,null,null,{"$f":"IF(OR((BO649=\"-\"),(ISNUMBER(BO649)=FALSE)),\"-\",ROUND(BH649/BO649,3))","v":"-"},null,null,null,null,null,null,null,null,null,null,null,null,null,null,null,null,{"$f":"CM268","v":""}]
[null,null,null,null,null,null,null,null,null,null,null,null,null,null,null,null,null,null,null,null,null,null,null,null,null,null,null,null,null,null,null,null,null,null,null,null,null,null,null,null,null,null,null,null,null,null,null,null,null,null,null,null,"(名称：",null,null,{"$f":"IF(AW269=\"\",\"\",AW269)","v":""},null,null,")",null,null,null,null,null,null,null,null,null,null,null,null,null,null,null,null,null,null,null,null,null,{"$f":"IF(OR((BV649=\"-\"),(ISNUMBER(BV649)=FALSE)),\"-\",ROUND(AT649*BV649,3))","v":"-"}]
[null,null,"細分類番号",null,null,null,null,null,null,{"$f":"IF(J270=\"\",\"\",J270)","v":""},null,{"$f":"IF(L270=\"\",\"\",L270)","v":""},null,{"$f":"IF(N270=\"\",\"\",N270)","v":""},null,{"$f":"IF(P270=\"\",\"\",P270)","v":""},null,null,null,null,null,null,null,null,null,null,null,null,null,null,null,null,null,null,null,null,null,null,null,null,null,null,null,null,null,null,null,null,null,null,null,null,"(単位：",null,null,{"$f":"IF(AW270=\"\",\"\",AW270)","v":""},null,null,")"]
[null,85,"工場等に係る\n事業の名称",null,null,null,null,null,null,{"$f":"IF(J271=\"\",\"\",J271)","v":""},null,null,null,null,null,null,null,{"$f":"IF(R271=\"\",\"\",R271)","v":""},null,null,null,null,null,null,null,null,null,null,null,null,null,{"$f":"IF(Y271=\"\",\"\",Y271)","v":""},null,null,null,null,null,null,{"$f":"IF(R652=\"\",\"\",IF(AF652=\"\",R652+(Y652*(1.3-1)),R652+(Y652*(1.3-1))-AF652))","v":""},null,null,null,null,null,null,{"$f":"IF(AM652=\"\",\"\",IF($CM$761=0,\"\",IF(CM652=\"\",\"\",ROUND(CM652/$CM$761,3))))","v":""},null,null,null,null,null,null,{"$f":"IF(AT271=\"\",\"\",AT271)","v":""},null,null,null,null,null,null,{"$f":"IF(BA652=\"\",\"\",ROUND(AM652/BA652,3-INT(LOG(AM652/BA652))))","v":""},null,null,null,null,null,null,"-",null,null,null,null,null,null,{"$f":"IF(OR((BO652=\"-\"),(ISNUMBER(BO652)=FALSE)),\"-\",ROUND(BH652/BO652,3))","v":"-"},null,null,null,null,null,null,null,null,null,null,null,null,null,null,null,null,{"$f":"CM271","v":""}]
[null,null,null,null,null,null,null,null,null,null,null,null,null,null,null,null,null,null,null,null,null,null,null,null,null,null,null,null,null,null,null,null,null,null,null,null,null,null,null,null,null,null,null,null,null,null,null,null,null,null,null,null,"(名称：",null,null,{"$f":"IF(AW272=\"\",\"\",AW272)","v":""},null,null,")",null,null,null,null,null,null,null,null,null,null,null,null,null,null,null,null,null,null,null,null,null,{"$f":"IF(OR((BV652=\"-\"),(ISNUMBER(BV652)=FALSE)),\"-\",ROUND(AT652*BV652,3))","v":"-"}]
[null,null,"細分類番号",null,null,null,null,null,null,{"$f":"IF(J273=\"\",\"\",J273)","v":""},null,{"$f":"IF(L273=\"\",\"\",L273)","v":""},null,{"$f":"IF(N273=\"\",\"\",N273)","v":""},null,{"$f":"IF(P273=\"\",\"\",P273)","v":""},null,null,null,null,null,null,null,null,null,null,null,null,null,null,null,null,null,null,null,null,null,null,null,null,null,null,null,null,null,null,null,null,null,null,null,null,"(単位：",null,null,{"$f":"IF(AW273=\"\",\"\",AW273)","v":""},null,null,")"]
[null,86,"工場等に係る\n事業の名称",null,null,null,null,null,null,{"$f":"IF(J274=\"\",\"\",J274)","v":""},null,null,null,null,null,null,null,{"$f":"IF(R274=\"\",\"\",R274)","v":""},null,null,null,null,null,null,null,null,null,null,null,null,null,{"$f":"IF(Y274=\"\",\"\",Y274)","v":""},null,null,null,null,null,null,{"$f":"IF(R655=\"\",\"\",IF(AF655=\"\",R655+(Y655*(1.3-1)),R655+(Y655*(1.3-1))-AF655))","v":""},null,null,null,null,null,null,{"$f":"IF(AM655=\"\",\"\",IF($CM$761=0,\"\",IF(CM655=\"\",\"\",ROUND(CM655/$CM$761,3))))","v":""},null,null,null,null,null,null,{"$f":"IF(AT274=\"\",\"\",AT274)","v":""},null,null,null,null,null,null,{"$f":"IF(BA655=\"\",\"\",ROUND(AM655/BA655,3-INT(LOG(AM655/BA655))))","v":""},null,null,null,null,null,null,"-",null,null,null,null,null,null,{"$f":"IF(OR((BO655=\"-\"),(ISNUMBER(BO655)=FALSE)),\"-\",ROUND(BH655/BO655,3))","v":"-"},null,null,null,null,null,null,null,null,null,null,null,null,null,null,null,null,{"$f":"CM274","v":""}]
[null,null,null,null,null,null,null,null,null,null,null,null,null,null,null,null,null,null,null,null,null,null,null,null,null,null,null,null,null,null,null,null,null,null,null,null,null,null,null,null,null,null,null,null,null,null,null,null,null,null,null,null,"(名称：",null,null,{"$f":"IF(AW275=\"\",\"\",AW275)","v":""},null,null,")",null,null,null,null,null,null,null,null,null,null,null,null,null,null,null,null,null,null,null,null,null,{"$f":"IF(OR((BV655=\"-\"),(ISNUMBER(BV655)=FALSE)),\"-\",ROUND(AT655*BV655,3))","v":"-"}]
[null,null,"細分類番号",null,null,null,null,null,null,{"$f":"IF(J276=\"\",\"\",J276)","v":""},null,{"$f":"IF(L276=\"\",\"\",L276)","v":""},null,{"$f":"IF(N276=\"\",\"\",N276)","v":""},null,{"$f":"IF(P276=\"\",\"\",P276)","v":""},null,null,null,null,null,null,null,null,null,null,null,null,null,null,null,null,null,null,null,null,null,null,null,null,null,null,null,null,null,null,null,null,null,null,null,null,"(単位：",null,null,{"$f":"IF(AW276=\"\",\"\",AW276)","v":""},null,null,")"]
[null,87,"工場等に係る\n事業の名称",null,null,null,null,null,null,{"$f":"IF(J277=\"\",\"\",J277)","v":""},null,null,null,null,null,null,null,{"$f":"IF(R277=\"\",\"\",R277)","v":""},null,null,null,null,null,null,null,null,null,null,null,null,null,{"$f":"IF(Y277=\"\",\"\",Y277)","v":""},null,null,null,null,null,null,{"$f":"IF(R658=\"\",\"\",IF(AF658=\"\",R658+(Y658*(1.3-1)),R658+(Y658*(1.3-1))-AF658))","v":""},null,null,null,null,null,null,{"$f":"IF(AM658=\"\",\"\",IF($CM$761=0,\"\",IF(CM658=\"\",\"\",ROUND(CM658/$CM$761,3))))","v":""},null,null,null,null,null,null,{"$f":"IF(AT277=\"\",\"\",AT277)","v":""},null,null,null,null,null,null,{"$f":"IF(BA658=\"\",\"\",ROUND(AM658/BA658,3-INT(LOG(AM658/BA658))))","v":""},null,null,null,null,null,null,"-",null,null,null,null,null,null,{"$f":"IF(OR((BO658=\"-\"),(ISNUMBER(BO658)=FALSE)),\"-\",ROUND(BH658/BO658,3))","v":"-"},null,null,null,null,null,null,null,null,null,null,null,null,null,null,null,null,{"$f":"CM277","v":""}]
[null,null,null,null,null,null,null,null,null,null,null,null,null,null,null,null,null,null,null,null,null,null,null,null,null,null,null,null,null,null,null,null,null,null,null,null,null,null,null,null,null,null,null,null,null,null,null,null,null,null,null,null,"(名称：",null,null,{"$f":"IF(AW278=\"\",\"\",AW278)","v":""},null,null,")",null,null,null,null,null,null,null,null,null,null,null,null,null,null,null,null,null,null,null,null,null,{"$f":"IF(OR((BV658=\"-\"),(ISNUMBER(BV658)=FALSE)),\"-\",ROUND(AT658*BV658,3))","v":"-"}]
[null,null,"細分類番号",null,null,null,null,null,null,{"$f":"IF(J279=\"\",\"\",J279)","v":""},null,{"$f":"IF(L279=\"\",\"\",L279)","v":""},null,{"$f":"IF(N279=\"\",\"\",N279)","v":""},null,{"$f":"IF(P279=\"\",\"\",P279)","v":""},null,null,null,null,null,null,null,null,null,null,null,null,null,null,null,null,null,null,null,null,null,null,null,null,null,null,null,null,null,null,null,null,null,null,null,null,"(単位：",null,null,{"$f":"IF(AW279=\"\",\"\",AW279)","v":""},null,null,")"]
[null,88,"工場等に係る\n事業の名称",null,null,null,null,null,null,{"$f":"IF(J280=\"\",\"\",J280)","v":""},null,null,null,null,null,null,null,{"$f":"IF(R280=\"\",\"\",R280)","v":""},null,null,null,null,null,null,null,null,null,null,null,null,null,{"$f":"IF(Y280=\"\",\"\",Y280)","v":""},null,null,null,null,null,null,{"$f":"IF(R661=\"\",\"\",IF(AF661=\"\",R661+(Y661*(1.3-1)),R661+(Y661*(1.3-1))-AF661))","v":""},null,null,null,null,null,null,{"$f":"IF(AM661=\"\",\"\",IF($CM$761=0,\"\",IF(CM661=\"\",\"\",ROUND(CM661/$CM$761,3))))","v":""},null,null,null,null,null,null,{"$f":"IF(AT280=\"\",\"\",AT280)","v":""},null,null,null,null,null,null,{"$f":"IF(BA661=\"\",\"\",ROUND(AM661/BA661,3-INT(LOG(AM661/BA661))))","v":""},null,null,null,null,null,null,"-",null,null,null,null,null,null,{"$f":"IF(OR((BO661=\"-\"),(ISNUMBER(BO661)=FALSE)),\"-\",ROUND(BH661/BO661,3))","v":"-"},null,null,null,null,null,null,null,null,null,null,null,null,null,null,null,null,{"$f":"CM280","v":""}]
[null,null,null,null,null,null,null,null,null,null,null,null,null,null,null,null,null,null,null,null,null,null,null,null,null,null,null,null,null,null,null,null,null,null,null,null,null,null,null,null,null,null,null,null,null,null,null,null,null,null,null,null,"(名称：",null,null,{"$f":"IF(AW281=\"\",\"\",AW281)","v":""},null,null,")",null,null,null,null,null,null,null,null,null,null,null,null,null,null,null,null,null,null,null,null,null,{"$f":"IF(OR((BV661=\"-\"),(ISNUMBER(BV661)=FALSE)),\"-\",ROUND(AT661*BV661,3))","v":"-"}]
[null,null,"細分類番号",null,null,null,null,null,null,{"$f":"IF(J282=\"\",\"\",J282)","v":""},null,{"$f":"IF(L282=\"\",\"\",L282)","v":""},null,{"$f":"IF(N282=\"\",\"\",N282)","v":""},null,{"$f":"IF(P282=\"\",\"\",P282)","v":""},null,null,null,null,null,null,null,null,null,null,null,null,null,null,null,null,null,null,null,null,null,null,null,null,null,null,null,null,null,null,null,null,null,null,null,null,"(単位：",null,null,{"$f":"IF(AW282=\"\",\"\",AW282)","v":""},null,null,")"]
[null,89,"工場等に係る\n事業の名称",null,null,null,null,null,null,{"$f":"IF(J283=\"\",\"\",J283)","v":""},null,null,null,null,null,null,null,{"$f":"IF(R283=\"\",\"\",R283)","v":""},null,null,null,null,null,null,null,null,null,null,null,null,null,{"$f":"IF(Y283=\"\",\"\",Y283)","v":""},null,null,null,null,null,null,{"$f":"IF(R664=\"\",\"\",IF(AF664=\"\",R664+(Y664*(1.3-1)),R664+(Y664*(1.3-1))-AF664))","v":""},null,null,null,null,null,null,{"$f":"IF(AM664=\"\",\"\",IF($CM$761=0,\"\",IF(CM664=\"\",\"\",ROUND(CM664/$CM$761,3))))","v":""},null,null,null,null,null,null,{"$f":"IF(AT283=\"\",\"\",AT283)","v":""},null,null,null,null,null,null,{"$f":"IF(BA664=\"\",\"\",ROUND(AM664/BA664,3-INT(LOG(AM664/BA664))))","v":""},null,null,null,null,null,null,"-",null,null,null,null,null,null,{"$f":"IF(OR((BO664=\"-\"),(ISNUMBER(BO664)=FALSE)),\"-\",ROUND(BH664/BO664,3))","v":"-"},null,null,null,null,null,null,null,null,null,null,null,null,null,null,null,null,{"$f":"CM283","v":""}]
[null,null,null,null,null,null,null,null,null,null,null,null,null,null,null,null,null,null,null,null,null,null,null,null,null,null,null,null,null,null,null,null,null,null,null,null,null,null,null,null,null,null,null,null,null,null,null,null,null,null,null,null,"(名称：",null,null,{"$f":"IF(AW284=\"\",\"\",AW284)","v":""},null,null,")",null,null,null,null,null,null,null,null,null,null,null,null,null,null,null,null,null,null,null,null,null,{"$f":"IF(OR((BV664=\"-\"),(ISNUMBER(BV664)=FALSE)),\"-\",ROUND(AT664*BV664,3))","v":"-"}]
[null,null,"細分類番号",null,null,null,null,null,null,{"$f":"IF(J285=\"\",\"\",J285)","v":""},null,{"$f":"IF(L285=\"\",\"\",L285)","v":""},null,{"$f":"IF(N285=\"\",\"\",N285)","v":""},null,{"$f":"IF(P285=\"\",\"\",P285)","v":""},null,null,null,null,null,null,null,null,null,null,null,null,null,null,null,null,null,null,null,null,null,null,null,null,null,null,null,null,null,null,null,null,null,null,null,null,"(単位：",null,null,{"$f":"IF(AW285=\"\",\"\",AW285)","v":""},null,null,")"]
[null,90,"工場等に係る\n事業の名称",null,null,null,null,null,null,{"$f":"IF(J286=\"\",\"\",J286)","v":""},null,null,null,null,null,null,null,{"$f":"IF(R286=\"\",\"\",R286)","v":""},null,null,null,null,null,null,null,null,null,null,null,null,null,{"$f":"IF(Y286=\"\",\"\",Y286)","v":""},null,null,null,null,null,null,{"$f":"IF(R667=\"\",\"\",IF(AF667=\"\",R667+(Y667*(1.3-1)),R667+(Y667*(1.3-1))-AF667))","v":""},null,null,null,null,null,null,{"$f":"IF(AM667=\"\",\"\",IF($CM$761=0,\"\",IF(CM667=\"\",\"\",ROUND(CM667/$CM$761,3))))","v":""},null,null,null,null,null,null,{"$f":"IF(AT286=\"\",\"\",AT286)","v":""},null,null,null,null,null,null,{"$f":"IF(BA667=\"\",\"\",ROUND(AM667/BA667,3-INT(LOG(AM667/BA667))))","v":""},null,null,null,null,null,null,"-",null,null,null,null,null,null,{"$f":"IF(OR((BO667=\"-\"),(ISNUMBER(BO667)=FALSE)),\"-\",ROUND(BH667/BO667,3))","v":"-"},null,null,null,null,null,null,null,null,null,null,null,null,null,null,null,null,{"$f":"CM286","v":""}]
[null,null,null,null,null,null,null,null,null,null,null,null,null,null,null,null,null,null,null,null,null,null,null,null,null,null,null,null,null,null,null,null,null,null,null,null,null,null,null,null,null,null,null,null,null,null,null,null,null,null,null,null,"(名称：",null,null,{"$f":"IF(AW287=\"\",\"\",AW287)","v":""},null,null,")",null,null,null,null,null,null,null,null,null,null,null,null,null,null,null,null,null,null,null,null,null,{"$f":"IF(OR((BV667=\"-\"),(ISNUMBER(BV667)=FALSE)),\"-\",ROUND(AT667*BV667,3))","v":"-"}]
[null,null,"細分類番号",null,null,null,null,null,null,{"$f":"IF(J288=\"\",\"\",J288)","v":""},null,{"$f":"IF(L288=\"\",\"\",L288)","v":""},null,{"$f":"IF(N288=\"\",\"\",N288)","v":""},null,{"$f":"IF(P288=\"\",\"\",P288)","v":""},null,null,null,null,null,null,null,null,null,null,null,null,null,null,null,null,null,null,null,null,null,null,null,null,null,null,null,null,null,null,null,null,null,null,null,null,"(単位：",null,null,{"$f":"IF(AW288=\"\",\"\",AW288)","v":""},null,null,")"]
[null,91,"工場等に係る\n事業の名称",null,null,null,null,null,null,{"$f":"IF(J289=\"\",\"\",J289)","v":""},null,null,null,null,null,null,null,{"$f":"IF(R289=\"\",\"\",R289)","v":""},null,null,null,null,null,null,null,null,null,null,null,null,null,{"$f":"IF(Y289=\"\",\"\",Y289)","v":""},null,null,null,null,null,null,{"$f":"IF(R670=\"\",\"\",IF(AF670=\"\",R670+(Y670*(1.3-1)),R670+(Y670*(1.3-1))-AF670))","v":""},null,null,null,null,null,null,{"$f":"IF(AM670=\"\",\"\",IF($CM$761=0,\"\",IF(CM670=\"\",\"\",ROUND(CM670/$CM$761,3))))","v":""},null,null,null,null,null,null,{"$f":"IF(AT289=\"\",\"\",AT289)","v":""},null,null,null,null,null,null,{"$f":"IF(BA670=\"\",\"\",ROUND(AM670/BA670,3-INT(LOG(AM670/BA670))))","v":""},null,null,null,null,null,null,"-",null,null,null,null,null,null,{"$f":"IF(OR((BO670=\"-\"),(ISNUMBER(BO670)=FALSE)),\"-\",ROUND(BH670/BO670,3))","v":"-"},null,null,null,null,null,null,null,null,null,null,null,null,null,null,null,null,{"$f":"CM289","v":""}]
[null,null,null,null,null,null,null,null,null,null,null,null,null,null,null,null,null,null,null,null,null,null,null,null,null,null,null,null,null,null,null,null,null,null,null,null,null,null,null,null,null,null,null,null,null,null,null,null,null,null,null,null,"(名称：",null,null,{"$f":"IF(AW290=\"\",\"\",AW290)","v":""},null,null,")",null,null,null,null,null,null,null,null,null,null,null,null,null,null,null,null,null,null,null,null,null,{"$f":"IF(OR((BV670=\"-\"),(ISNUMBER(BV670)=FALSE)),\"-\",ROUND(AT670*BV670,3))","v":"-"}]
[null,null,"細分類番号",null,null,null,null,null,null,{"$f":"IF(J291=\"\",\"\",J291)","v":""},null,{"$f":"IF(L291=\"\",\"\",L291)","v":""},null,{"$f":"IF(N291=\"\",\"\",N291)","v":""},null,{"$f":"IF(P291=\"\",\"\",P291)","v":""},null,null,null,null,null,null,null,null,null,null,null,null,null,null,null,null,null,null,null,null,null,null,null,null,null,null,null,null,null,null,null,null,null,null,null,null,"(単位：",null,null,{"$f":"IF(AW291=\"\",\"\",AW291)","v":""},null,null,")"]
[null,92,"工場等に係る\n事業の名称",null,null,null,null,null,null,{"$f":"IF(J292=\"\",\"\",J292)","v":""},null,null,null,null,null,null,null,{"$f":"IF(R292=\"\",\"\",R292)","v":""},null,null,null,null,null,null,null,null,null,null,null,null,null,{"$f":"IF(Y292=\"\",\"\",Y292)","v":""},null,null,null,null,null,null,{"$f":"IF(R673=\"\",\"\",IF(AF673=\"\",R673+(Y673*(1.3-1)),R673+(Y673*(1.3-1))-AF673))","v":""},null,null,null,null,null,null,{"$f":"IF(AM673=\"\",\"\",IF($CM$761=0,\"\",IF(CM673=\"\",\"\",ROUND(CM673/$CM$761,3))))","v":""},null,null,null,null,null,null,{"$f":"IF(AT292=\"\",\"\",AT292)","v":""},null,null,null,null,null,null,{"$f":"IF(BA673=\"\",\"\",ROUND(AM673/BA673,3-INT(LOG(AM673/BA673))))","v":""},null,null,null,null,null,null,"-",null,null,null,null,null,null,{"$f":"IF(OR((BO673=\"-\"),(ISNUMBER(BO673)=FALSE)),\"-\",ROUND(BH673/BO673,3))","v":"-"},null,null,null,null,null,null,null,null,null,null,null,null,null,null,null,null,{"$f":"CM292","v":""}]
[null,null,null,null,null,null,null,null,null,null,null,null,null,null,null,null,null,null,null,null,null,null,null,null,null,null,null,null,null,null,null,null,null,null,null,null,null,null,null,null,null,null,null,null,null,null,null,null,null,null,null,null,"(名称：",null,null,{"$f":"IF(AW293=\"\",\"\",AW293)","v":""},null,null,")",null,null,null,null,null,null,null,null,null,null,null,null,null,null,null,null,null,null,null,null,null,{"$f":"IF(OR((BV673=\"-\"),(ISNUMBER(BV673)=FALSE)),\"-\",ROUND(AT673*BV673,3))","v":"-"}]
[null,null,"細分類番号",null,null,null,null,null,null,{"$f":"IF(J294=\"\",\"\",J294)","v":""},null,{"$f":"IF(L294=\"\",\"\",L294)","v":""},null,{"$f":"IF(N294=\"\",\"\",N294)","v":""},null,{"$f":"IF(P294=\"\",\"\",P294)","v":""},null,null,null,null,null,null,null,null,null,null,null,null,null,null,null,null,null,null,null,null,null,null,null,null,null,null,null,null,null,null,null,null,null,null,null,null,"(単位：",null,null,{"$f":"IF(AW294=\"\",\"\",AW294)","v":""},null,null,")"]
[null,93,"工場等に係る\n事業の名称",null,null,null,null,null,null,{"$f":"IF(J295=\"\",\"\",J295)","v":""},null,null,null,null,null,null,null,{"$f":"IF(R295=\"\",\"\",R295)","v":""},null,null,null,null,null,null,null,null,null,null,null,null,null,{"$f":"IF(Y295=\"\",\"\",Y295)","v":""},null,null,null,null,null,null,{"$f":"IF(R676=\"\",\"\",IF(AF676=\"\",R676+(Y676*(1.3-1)),R676+(Y676*(1.3-1))-AF676))","v":""},null,null,null,null,null,null,{"$f":"IF(AM676=\"\",\"\",IF($CM$761=0,\"\",IF(CM676=\"\",\"\",ROUND(CM676/$CM$761,3))))","v":""},null,null,null,null,null,null,{"$f":"IF(AT295=\"\",\"\",AT295)","v":""},null,null,null,null,null,null,{"$f":"IF(BA676=\"\",\"\",ROUND(AM676/BA676,3-INT(LOG(AM676/BA676))))","v":""},null,null,null,null,null,null,"-",null,null,null,null,null,null,{"$f":"IF(OR((BO676=\"-\"),(ISNUMBER(BO676)=FALSE)),\"-\",ROUND(BH676/BO676,3))","v":"-"},null,null,null,null,null,null,null,null,null,null,null,null,null,null,null,null,{"$f":"CM295","v":""}]
[null,null,null,null,null,null,null,null,null,null,null,null,null,null,null,null,null,null,null,null,null,null,null,null,null,null,null,null,null,null,null,null,null,null,null,null,null,null,null,null,null,null,null,null,null,null,null,null,null,null,null,null,"(名称：",null,null,{"$f":"IF(AW296=\"\",\"\",AW296)","v":""},null,null,")",null,null,null,null,null,null,null,null,null,null,null,null,null,null,null,null,null,null,null,null,null,{"$f":"IF(OR((BV676=\"-\"),(ISNUMBER(BV676)=FALSE)),\"-\",ROUND(AT676*BV676,3))","v":"-"}]
[null,null,"細分類番号",null,null,null,null,null,null,{"$f":"IF(J297=\"\",\"\",J297)","v":""},null,{"$f":"IF(L297=\"\",\"\",L297)","v":""},null,{"$f":"IF(N297=\"\",\"\",N297)","v":""},null,{"$f":"IF(P297=\"\",\"\",P297)","v":""},null,null,null,null,null,null,null,null,null,null,null,null,null,null,null,null,null,null,null,null,null,null,null,null,null,null,null,null,null,null,null,null,null,null,null,null,"(単位：",null,null,{"$f":"IF(AW297=\"\",\"\",AW297)","v":""},null,null,")"]
[null,94,"工場等に係る\n事業の名称",null,null,null,null,null,null,{"$f":"IF(J298=\"\",\"\",J298)","v":""},null,null,null,null,null,null,null,{"$f":"IF(R298=\"\",\"\",R298)","v":""},null,null,null,null,null,null,null,null,null,null,null,null,null,{"$f":"IF(Y298=\"\",\"\",Y298)","v":""},null,null,null,null,null,null,{"$f":"IF(R679=\"\",\"\",IF(AF679=\"\",R679+(Y679*(1.3-1)),R679+(Y679*(1.3-1))-AF679))","v":""},null,null,null,null,null,null,{"$f":"IF(AM679=\"\",\"\",IF($CM$761=0,\"\",IF(CM679=\"\",\"\",ROUND(CM679/$CM$761,3))))","v":""},null,null,null,null,null,null,{"$f":"IF(AT298=\"\",\"\",AT298)","v":""},null,null,null,null,null,null,{"$f":"IF(BA679=\"\",\"\",ROUND(AM679/BA679,3-INT(LOG(AM679/BA679))))","v":""},null,null,null,null,null,null,"-",null,null,null,null,null,null,{"$f":"IF(OR((BO679=\"-\"),(ISNUMBER(BO679)=FALSE)),\"-\",ROUND(BH679/BO679,3))","v":"-"},null,null,null,null,null,null,null,null,null,null,null,null,null,null,null,null,{"$f":"CM298","v":""}]
[null,null,null,null,null,null,null,null,null,null,null,null,null,null,null,null,null,null,null,null,null,null,null,null,null,null,null,null,null,null,null,null,null,null,null,null,null,null,null,null,null,null,null,null,null,null,null,null,null,null,null,null,"(名称：",null,null,{"$f":"IF(AW299=\"\",\"\",AW299)","v":""},null,null,")",null,null,null,null,null,null,null,null,null,null,null,null,null,null,null,null,null,null,null,null,null,{"$f":"IF(OR((BV679=\"-\"),(ISNUMBER(BV679)=FALSE)),\"-\",ROUND(AT679*BV679,3))","v":"-"}]
[null,null,"細分類番号",null,null,null,null,null,null,{"$f":"IF(J300=\"\",\"\",J300)","v":""},null,{"$f":"IF(L300=\"\",\"\",L300)","v":""},null,{"$f":"IF(N300=\"\",\"\",N300)","v":""},null,{"$f":"IF(P300=\"\",\"\",P300)","v":""},null,null,null,null,null,null,null,null,null,null,null,null,null,null,null,null,null,null,null,null,null,null,null,null,null,null,null,null,null,null,null,null,null,null,null,null,"(単位：",null,null,{"$f":"IF(AW300=\"\",\"\",AW300)","v":""},null,null,")"]
[null,95,"工場等に係る\n事業の名称",null,null,null,null,null,null,{"$f":"IF(J301=\"\",\"\",J301)","v":""},null,null,null,null,null,null,null,{"$f":"IF(R301=\"\",\"\",R301)","v":""},null,null,null,null,null,null,null,null,null,null,null,null,null,{"$f":"IF(Y301=\"\",\"\",Y301)","v":""},null,null,null,null,null,null,{"$f":"IF(R682=\"\",\"\",IF(AF682=\"\",R682+(Y682*(1.3-1)),R682+(Y682*(1.3-1))-AF682))","v":""},null,null,null,null,null,null,{"$f":"IF(AM682=\"\",\"\",IF($CM$761=0,\"\",IF(CM682=\"\",\"\",ROUND(CM682/$CM$761,3))))","v":""},null,null,null,null,null,null,{"$f":"IF(AT301=\"\",\"\",AT301)","v":""},null,null,null,null,null,null,{"$f":"IF(BA682=\"\",\"\",ROUND(AM682/BA682,3-INT(LOG(AM682/BA682))))","v":""},null,null,null,null,null,null,"-",null,null,null,null,null,null,{"$f":"IF(OR((BO682=\"-\"),(ISNUMBER(BO682)=FALSE)),\"-\",ROUND(BH682/BO682,3))","v":"-"},null,null,null,null,null,null,null,null,null,null,null,null,null,null,null,null,{"$f":"CM301","v":""}]
[null,null,null,null,null,null,null,null,null,null,null,null,null,null,null,null,null,null,null,null,null,null,null,null,null,null,null,null,null,null,null,null,null,null,null,null,null,null,null,null,null,null,null,null,null,null,null,null,null,null,null,null,"(名称：",null,null,{"$f":"IF(AW302=\"\",\"\",AW302)","v":""},null,null,")",null,null,null,null,null,null,null,null,null,null,null,null,null,null,null,null,null,null,null,null,null,{"$f":"IF(OR((BV682=\"-\"),(ISNUMBER(BV682)=FALSE)),\"-\",ROUND(AT682*BV682,3))","v":"-"}]
[null,null,"細分類番号",null,null,null,null,null,null,{"$f":"IF(J303=\"\",\"\",J303)","v":""},null,{"$f":"IF(L303=\"\",\"\",L303)","v":""},null,{"$f":"IF(N303=\"\",\"\",N303)","v":""},null,{"$f":"IF(P303=\"\",\"\",P303)","v":""},null,null,null,null,null,null,null,null,null,null,null,null,null,null,null,null,null,null,null,null,null,null,null,null,null,null,null,null,null,null,null,null,null,null,null,null,"(単位：",null,null,{"$f":"IF(AW303=\"\",\"\",AW303)","v":""},null,null,")"]
[null,96,"工場等に係る\n事業の名称",null,null,null,null,null,null,{"$f":"IF(J304=\"\",\"\",J304)","v":""},null,null,null,null,null,null,null,{"$f":"IF(R304=\"\",\"\",R304)","v":""},null,null,null,null,null,null,null,null,null,null,null,null,null,{"$f":"IF(Y304=\"\",\"\",Y304)","v":""},null,null,null,null,null,null,{"$f":"IF(R685=\"\",\"\",IF(AF685=\"\",R685+(Y685*(1.3-1)),R685+(Y685*(1.3-1))-AF685))","v":""},null,null,null,null,null,null,{"$f":"IF(AM685=\"\",\"\",IF($CM$761=0,\"\",IF(CM685=\"\",\"\",ROUND(CM685/$CM$761,3))))","v":""},null,null,null,null,null,null,{"$f":"IF(AT304=\"\",\"\",AT304)","v":""},null,null,null,null,null,null,{"$f":"IF(BA685=\"\",\"\",ROUND(AM685/BA685,3-INT(LOG(AM685/BA685))))","v":""},null,null,null,null,null,null,"-",null,null,null,null,null,null,{"$f":"IF(OR((BO685=\"-\"),(ISNUMBER(BO685)=FALSE)),\"-\",ROUND(BH685/BO685,3))","v":"-"},null,null,null,null,null,null,null,null,null,null,null,null,null,null,null,null,{"$f":"CM304","v":""}]
[null,null,null,null,null,null,null,null,null,null,null,null,null,null,null,null,null,null,null,null,null,null,null,null,null,null,null,null,null,null,null,null,null,null,null,null,null,null,null,null,null,null,null,null,null,null,null,null,null,null,null,null,"(名称：",null,null,{"$f":"IF(AW305=\"\",\"\",AW305)","v":""},null,null,")",null,null,null,null,null,null,null,null,null,null,null,null,null,null,null,null,null,null,null,null,null,{"$f":"IF(OR((BV685=\"-\"),(ISNUMBER(BV685)=FALSE)),\"-\",ROUND(AT685*BV685,3))","v":"-"}]
[null,null,"細分類番号",null,null,null,null,null,null,{"$f":"IF(J306=\"\",\"\",J306)","v":""},null,{"$f":"IF(L306=\"\",\"\",L306)","v":""},null,{"$f":"IF(N306=\"\",\"\",N306)","v":""},null,{"$f":"IF(P306=\"\",\"\",P306)","v":""},null,null,null,null,null,null,null,null,null,null,null,null,null,null,null,null,null,null,null,null,null,null,null,null,null,null,null,null,null,null,null,null,null,null,null,null,"(単位：",null,null,{"$f":"IF(AW306=\"\",\"\",AW306)","v":""},null,null,")"]
[null,97,"工場等に係る\n事業の名称",null,null,null,null,null,null,{"$f":"IF(J307=\"\",\"\",J307)","v":""},null,null,null,null,null,null,null,{"$f":"IF(R307=\"\",\"\",R307)","v":""},null,null,null,null,null,null,null,null,null,null,null,null,null,{"$f":"IF(Y307=\"\",\"\",Y307)","v":""},null,null,null,null,null,null,{"$f":"IF(R688=\"\",\"\",IF(AF688=\"\",R688+(Y688*(1.3-1)),R688+(Y688*(1.3-1))-AF688))","v":""},null,null,null,null,null,null,{"$f":"IF(AM688=\"\",\"\",IF($CM$761=0,\"\",IF(CM688=\"\",\"\",ROUND(CM688/$CM$761,3))))","v":""},null,null,null,null,null,null,{"$f":"IF(AT307=\"\",\"\",AT307)","v":""},null,null,null,null,null,null,{"$f":"IF(BA688=\"\",\"\",ROUND(AM688/BA688,3-INT(LOG(AM688/BA688))))","v":""},null,null,null,null,null,null,"-",null,null,null,null,null,null,{"$f":"IF(OR((BO688=\"-\"),(ISNUMBER(BO688)=FALSE)),\"-\",ROUND(BH688/BO688,3))","v":"-"},null,null,null,null,null,null,null,null,null,null,null,null,null,null,null,null,{"$f":"CM307","v":""}]
[null,null,null,null,null,null,null,null,null,null,null,null,null,null,null,null,null,null,null,null,null,null,null,null,null,null,null,null,null,null,null,null,null,null,null,null,null,null,null,null,null,null,null,null,null,null,null,null,null,null,null,null,"(名称：",null,null,{"$f":"IF(AW308=\"\",\"\",AW308)","v":""},null,null,")",null,null,null,null,null,null,null,null,null,null,null,null,null,null,null,null,null,null,null,null,null,{"$f":"IF(OR((BV688=\"-\"),(ISNUMBER(BV688)=FALSE)),\"-\",ROUND(AT688*BV688,3))","v":"-"}]
[null,null,"細分類番号",null,null,null,null,null,null,{"$f":"IF(J309=\"\",\"\",J309)","v":""},null,{"$f":"IF(L309=\"\",\"\",L309)","v":""},null,{"$f":"IF(N309=\"\",\"\",N309)","v":""},null,{"$f":"IF(P309=\"\",\"\",P309)","v":""},null,null,null,null,null,null,null,null,null,null,null,null,null,null,null,null,null,null,null,null,null,null,null,null,null,null,null,null,null,null,null,null,null,null,null,null,"(単位：",null,null,{"$f":"IF(AW309=\"\",\"\",AW309)","v":""},null,null,")"]
[null,98,"工場等に係る\n事業の名称",null,null,null,null,null,null,{"$f":"IF(J310=\"\",\"\",J310)","v":""},null,null,null,null,null,null,null,{"$f":"IF(R310=\"\",\"\",R310)","v":""},null,null,null,null,null,null,null,null,null,null,null,null,null,{"$f":"IF(Y310=\"\",\"\",Y310)","v":""},null,null,null,null,null,null,{"$f":"IF(R691=\"\",\"\",IF(AF691=\"\",R691+(Y691*(1.3-1)),R691+(Y691*(1.3-1))-AF691))","v":""},null,null,null,null,null,null,{"$f":"IF(AM691=\"\",\"\",IF($CM$761=0,\"\",IF(CM691=\"\",\"\",ROUND(CM691/$CM$761,3))))","v":""},null,null,null,null,null,null,{"$f":"IF(AT310=\"\",\"\",AT310)","v":""},null,null,null,null,null,null,{"$f":"IF(BA691=\"\",\"\",ROUND(AM691/BA691,3-INT(LOG(AM691/BA691))))","v":""},null,null,null,null,null,null,"-",null,null,null,null,null,null,{"$f":"IF(OR((BO691=\"-\"),(ISNUMBER(BO691)=FALSE)),\"-\",ROUND(BH691/BO691,3))","v":"-"},null,null,null,null,null,null,null,null,null,null,null,null,null,null,null,null,{"$f":"CM310","v":""}]
[null,null,null,null,null,null,null,null,null,null,null,null,null,null,null,null,null,null,null,null,null,null,null,null,null,null,null,null,null,null,null,null,null,null,null,null,null,null,null,null,null,null,null,null,null,null,null,null,null,null,null,null,"(名称：",null,null,{"$f":"IF(AW311=\"\",\"\",AW311)","v":""},null,null,")",null,null,null,null,null,null,null,null,null,null,null,null,null,null,null,null,null,null,null,null,null,{"$f":"IF(OR((BV691=\"-\"),(ISNUMBER(BV691)=FALSE)),\"-\",ROUND(AT691*BV691,3))","v":"-"}]
[null,null,"細分類番号",null,null,null,null,null,null,{"$f":"IF(J312=\"\",\"\",J312)","v":""},null,{"$f":"IF(L312=\"\",\"\",L312)","v":""},null,{"$f":"IF(N312=\"\",\"\",N312)","v":""},null,{"$f":"IF(P312=\"\",\"\",P312)","v":""},null,null,null,null,null,null,null,null,null,null,null,null,null,null,null,null,null,null,null,null,null,null,null,null,null,null,null,null,null,null,null,null,null,null,null,null,"(単位：",null,null,{"$f":"IF(AW312=\"\",\"\",AW312)","v":""},null,null,")"]
[null,99,"工場等に係る\n事業の名称",null,null,null,null,null,null,{"$f":"IF(J313=\"\",\"\",J313)","v":""},null,null,null,null,null,null,null,{"$f":"IF(R313=\"\",\"\",R313)","v":""},null,null,null,null,null,null,null,null,null,null,null,null,null,{"$f":"IF(Y313=\"\",\"\",Y313)","v":""},null,null,null,null,null,null,{"$f":"IF(R694=\"\",\"\",IF(AF694=\"\",R694+(Y694*(1.3-1)),R694+(Y694*(1.3-1))-AF694))","v":""},null,null,null,null,null,null,{"$f":"IF(AM694=\"\",\"\",IF($CM$761=0,\"\",IF(CM694=\"\",\"\",ROUND(CM694/$CM$761,3))))","v":""},null,null,null,null,null,null,{"$f":"IF(AT313=\"\",\"\",AT313)","v":""},null,null,null,null,null,null,{"$f":"IF(BA694=\"\",\"\",ROUND(AM694/BA694,3-INT(LOG(AM694/BA694))))","v":""},null,null,null,null,null,null,"-",null,null,null,null,null,null,{"$f":"IF(OR((BO694=\"-\"),(ISNUMBER(BO694)=FALSE)),\"-\",ROUND(BH694/BO694,3))","v":"-"},null,null,null,null,null,null,null,null,null,null,null,null,null,null,null,null,{"$f":"CM313","v":""}]
[null,null,null,null,null,null,null,null,null,null,null,null,null,null,null,null,null,null,null,null,null,null,null,null,null,null,null,null,null,null,null,null,null,null,null,null,null,null,null,null,null,null,null,null,null,null,null,null,null,null,null,null,"(名称：",null,null,{"$f":"IF(AW314=\"\",\"\",AW314)","v":""},null,null,")",null,null,null,null,null,null,null,null,null,null,null,null,null,null,null,null,null,null,null,null,null,{"$f":"IF(OR((BV694=\"-\"),(ISNUMBER(BV694)=FALSE)),\"-\",ROUND(AT694*BV694,3))","v":"-"}]
[null,null,"細分類番号",null,null,null,null,null,null,{"$f":"IF(J315=\"\",\"\",J315)","v":""},null,{"$f":"IF(L315=\"\",\"\",L315)","v":""},null,{"$f":"IF(N315=\"\",\"\",N315)","v":""},null,{"$f":"IF(P315=\"\",\"\",P315)","v":""},null,null,null,null,null,null,null,null,null,null,null,null,null,null,null,null,null,null,null,null,null,null,null,null,null,null,null,null,null,null,null,null,null,null,null,null,"(単位：",null,null,{"$f":"IF(AW315=\"\",\"\",AW315)","v":""},null,null,")"]
[null,100,"工場等に係る\n事業の名称",null,null,null,null,null,null,{"$f":"IF(J316=\"\",\"\",J316)","v":""},null,null,null,null,null,null,null,{"$f":"IF(R316=\"\",\"\",R316)","v":""},null,null,null,null,null,null,null,null,null,null,null,null,null,{"$f":"IF(Y316=\"\",\"\",Y316)","v":""},null,null,null,null,null,null,{"$f":"IF(R697=\"\",\"\",IF(AF697=\"\",R697+(Y697*(1.3-1)),R697+(Y697*(1.3-1))-AF697))","v":""},null,null,null,null,null,null,{"$f":"IF(AM697=\"\",\"\",IF($CM$761=0,\"\",IF(CM697=\"\",\"\",ROUND(CM697/$CM$761,3))))","v":""},null,null,null,null,null,null,{"$f":"IF(AT316=\"\",\"\",AT316)","v":""},null,null,null,null,null,null,{"$f":"IF(BA697=\"\",\"\",ROUND(AM697/BA697,3-INT(LOG(AM697/BA697))))","v":""},null,null,null,null,null,null,"-",null,null,null,null,null,null,{"$f":"IF(OR((BO697=\"-\"),(ISNUMBER(BO697)=FALSE)),\"-\",ROUND(BH697/BO697,3))","v":"-"},null,null,null,null,null,null,null,null,null,null,null,null,null,null,null,null,{"$f":"CM316","v":""}]
[null,null,null,null,null,null,null,null,null,null,null,null,null,null,null,null,null,null,null,null,null,null,null,null,null,null,null,null,null,null,null,null,null,null,null,null,null,null,null,null,null,null,null,null,null,null,null,null,null,null,null,null,"(名称：",null,null,{"$f":"IF(AW317=\"\",\"\",AW317)","v":""},null,null,")",null,null,null,null,null,null,null,null,null,null,null,null,null,null,null,null,null,null,null,null,null,{"$f":"IF(OR((BV697=\"-\"),(ISNUMBER(BV697)=FALSE)),\"-\",ROUND(AT697*BV697,3))","v":"-"}]
[null,null,"細分類番号",null,null,null,null,null,null,{"$f":"IF(J318=\"\",\"\",J318)","v":""},null,{"$f":"IF(L318=\"\",\"\",L318)","v":""},null,{"$f":"IF(N318=\"\",\"\",N318)","v":""},null,{"$f":"IF(P318=\"\",\"\",P318)","v":""},null,null,null,null,null,null,null,null,null,null,null,null,null,null,null,null,null,null,null,null,null,null,null,null,null,null,null,null,null,null,null,null,null,null,null,null,"(単位：",null,null,{"$f":"IF(AW318=\"\",\"\",AW318)","v":""},null,null,")"]
[null,101,"工場等に係る\n事業の名称",null,null,null,null,null,null,{"$f":"IF(J319=\"\",\"\",J319)","v":""},null,null,null,null,null,null,null,{"$f":"IF(R319=\"\",\"\",R319)","v":""},null,null,null,null,null,null,null,null,null,null,null,null,null,{"$f":"IF(Y319=\"\",\"\",Y319)","v":""},null,null,null,null,null,null,{"$f":"IF(R700=\"\",\"\",IF(AF700=\"\",R700+(Y700*(1.3-1)),R700+(Y700*(1.3-1))-AF700))","v":""},null,null,null,null,null,null,{"$f":"IF(AM700=\"\",\"\",IF($CM$761=0,\"\",IF(CM700=\"\",\"\",ROUND(CM700/$CM$761,3))))","v":""},null,null,null,null,null,null,{"$f":"IF(AT319=\"\",\"\",AT319)","v":""},null,null,null,null,null,null,{"$f":"IF(BA700=\"\",\"\",ROUND(AM700/BA700,3-INT(LOG(AM700/BA700))))","v":""},null,null,null,null,null,null,"-",null,null,null,null,null,null,{"$f":"IF(OR((BO700=\"-\"),(ISNUMBER(BO700)=FALSE)),\"-\",ROUND(BH700/BO700,3))","v":"-"},null,null,null,null,null,null,null,null,null,null,null,null,null,null,null,null,{"$f":"CM319","v":""}]
[null,null,null,null,null,null,null,null,null,null,null,null,null,null,null,null,null,null,null,null,null,null,null,null,null,null,null,null,null,null,null,null,null,null,null,null,null,null,null,null,null,null,null,null,null,null,null,null,null,null,null,null,"(名称：",null,null,{"$f":"IF(AW320=\"\",\"\",AW320)","v":""},null,null,")",null,null,null,null,null,null,null,null,null,null,null,null,null,null,null,null,null,null,null,null,null,{"$f":"IF(OR((BV700=\"-\"),(ISNUMBER(BV700)=FALSE)),\"-\",ROUND(AT700*BV700,3))","v":"-"}]
[null,null,"細分類番号",null,null,null,null,null,null,{"$f":"IF(J321=\"\",\"\",J321)","v":""},null,{"$f":"IF(L321=\"\",\"\",L321)","v":""},null,{"$f":"IF(N321=\"\",\"\",N321)","v":""},null,{"$f":"IF(P321=\"\",\"\",P321)","v":""},null,null,null,null,null,null,null,null,null,null,null,null,null,null,null,null,null,null,null,null,null,null,null,null,null,null,null,null,null,null,null,null,null,null,null,null,"(単位：",null,null,{"$f":"IF(AW321=\"\",\"\",AW321)","v":""},null,null,")"]
[null,102,"工場等に係る\n事業の名称",null,null,null,null,null,null,{"$f":"IF(J322=\"\",\"\",J322)","v":""},null,null,null,null,null,null,null,{"$f":"IF(R322=\"\",\"\",R322)","v":""},null,null,null,null,null,null,null,null,null,null,null,null,null,{"$f":"IF(Y322=\"\",\"\",Y322)","v":""},null,null,null,null,null,null,{"$f":"IF(R703=\"\",\"\",IF(AF703=\"\",R703+(Y703*(1.3-1)),R703+(Y703*(1.3-1))-AF703))","v":""},null,null,null,null,null,null,{"$f":"IF(AM703=\"\",\"\",IF($CM$761=0,\"\",IF(CM703=\"\",\"\",ROUND(CM703/$CM$761,3))))","v":""},null,null,null,null,null,null,{"$f":"IF(AT322=\"\",\"\",AT322)","v":""},null,null,null,null,null,null,{"$f":"IF(BA703=\"\",\"\",ROUND(AM703/BA703,3-INT(LOG(AM703/BA703))))","v":""},null,null,null,null,null,null,"-",null,null,null,null,null,null,{"$f":"IF(OR((BO703=\"-\"),(ISNUMBER(BO703)=FALSE)),\"-\",ROUND(BH703/BO703,3))","v":"-"},null,null,null,null,null,null,null,null,null,null,null,null,null,null,null,null,{"$f":"CM322","v":""}]
[null,null,null,null,null,null,null,null,null,null,null,null,null,null,null,null,null,null,null,null,null,null,null,null,null,null,null,null,null,null,null,null,null,null,null,null,null,null,null,null,null,null,null,null,null,null,null,null,null,null,null,null,"(名称：",null,null,{"$f":"IF(AW323=\"\",\"\",AW323)","v":""},null,null,")",null,null,null,null,null,null,null,null,null,null,null,null,null,null,null,null,null,null,null,null,null,{"$f":"IF(OR((BV703=\"-\"),(ISNUMBER(BV703)=FALSE)),\"-\",ROUND(AT703*BV703,3))","v":"-"}]
[null,null,"細分類番号",null,null,null,null,null,null,{"$f":"IF(J324=\"\",\"\",J324)","v":""},null,{"$f":"IF(L324=\"\",\"\",L324)","v":""},null,{"$f":"IF(N324=\"\",\"\",N324)","v":""},null,{"$f":"IF(P324=\"\",\"\",P324)","v":""},null,null,null,null,null,null,null,null,null,null,null,null,null,null,null,null,null,null,null,null,null,null,null,null,null,null,null,null,null,null,null,null,null,null,null,null,"(単位：",null,null,{"$f":"IF(AW324=\"\",\"\",AW324)","v":""},null,null,")"]
[null,103,"工場等に係る\n事業の名称",null,null,null,null,null,null,{"$f":"IF(J325=\"\",\"\",J325)","v":""},null,null,null,null,null,null,null,{"$f":"IF(R325=\"\",\"\",R325)","v":""},null,null,null,null,null,null,null,null,null,null,null,null,null,{"$f":"IF(Y325=\"\",\"\",Y325)","v":""},null,null,null,null,null,null,{"$f":"IF(R706=\"\",\"\",IF(AF706=\"\",R706+(Y706*(1.3-1)),R706+(Y706*(1.3-1))-AF706))","v":""},null,null,null,null,null,null,{"$f":"IF(AM706=\"\",\"\",IF($CM$761=0,\"\",IF(CM706=\"\",\"\",ROUND(CM706/$CM$761,3))))","v":""},null,null,null,null,null,null,{"$f":"IF(AT325=\"\",\"\",AT325)","v":""},null,null,null,null,null,null,{"$f":"IF(BA706=\"\",\"\",ROUND(AM706/BA706,3-INT(LOG(AM706/BA706))))","v":""},null,null,null,null,null,null,"-",null,null,null,null,null,null,{"$f":"IF(OR((BO706=\"-\"),(ISNUMBER(BO706)=FALSE)),\"-\",ROUND(BH706/BO706,3))","v":"-"},null,null,null,null,null,null,null,null,null,null,null,null,null,null,null,null,{"$f":"CM325","v":""}]
[null,null,null,null,null,null,null,null,null,null,null,null,null,null,null,null,null,null,null,null,null,null,null,null,null,null,null,null,null,null,null,null,null,null,null,null,null,null,null,null,null,null,null,null,null,null,null,null,null,null,null,null,"(名称：",null,null,{"$f":"IF(AW326=\"\",\"\",AW326)","v":""},null,null,")",null,null,null,null,null,null,null,null,null,null,null,null,null,null,null,null,null,null,null,null,null,{"$f":"IF(OR((BV706=\"-\"),(ISNUMBER(BV706)=FALSE)),\"-\",ROUND(AT706*BV706,3))","v":"-"}]
[null,null,"細分類番号",null,null,null,null,null,null,{"$f":"IF(J327=\"\",\"\",J327)","v":""},null,{"$f":"IF(L327=\"\",\"\",L327)","v":""},null,{"$f":"IF(N327=\"\",\"\",N327)","v":""},null,{"$f":"IF(P327=\"\",\"\",P327)","v":""},null,null,null,null,null,null,null,null,null,null,null,null,null,null,null,null,null,null,null,null,null,null,null,null,null,null,null,null,null,null,null,null,null,null,null,null,"(単位：",null,null,{"$f":"IF(AW327=\"\",\"\",AW327)","v":""},null,null,")"]
[null,104,"工場等に係る\n事業の名称",null,null,null,null,null,null,{"$f":"IF(J328=\"\",\"\",J328)","v":""},null,null,null,null,null,null,null,{"$f":"IF(R328=\"\",\"\",R328)","v":""},null,null,null,null,null,null,null,null,null,null,null,null,null,{"$f":"IF(Y328=\"\",\"\",Y328)","v":""},null,null,null,null,null,null,{"$f":"IF(R709=\"\",\"\",IF(AF709=\"\",R709+(Y709*(1.3-1)),R709+(Y709*(1.3-1))-AF709))","v":""},null,null,null,null,null,null,{"$f":"IF(AM709=\"\",\"\",IF($CM$761=0,\"\",IF(CM709=\"\",\"\",ROUND(CM709/$CM$761,3))))","v":""},null,null,null,null,null,null,{"$f":"IF(AT328=\"\",\"\",AT328)","v":""},null,null,null,null,null,null,{"$f":"IF(BA709=\"\",\"\",ROUND(AM709/BA709,3-INT(LOG(AM709/BA709))))","v":""},null,null,null,null,null,null,"-",null,null,null,null,null,null,{"$f":"IF(OR((BO709=\"-\"),(ISNUMBER(BO709)=FALSE)),\"-\",ROUND(BH709/BO709,3))","v":"-"},null,null,null,null,null,null,null,null,null,null,null,null,null,null,null,null,{"$f":"CM328","v":""}]
[null,null,null,null,null,null,null,null,null,null,null,null,null,null,null,null,null,null,null,null,null,null,null,null,null,null,null,null,null,null,null,null,null,null,null,null,null,null,null,null,null,null,null,null,null,null,null,null,null,null,null,null,"(名称：",null,null,{"$f":"IF(AW329=\"\",\"\",AW329)","v":""},null,null,")",null,null,null,null,null,null,null,null,null,null,null,null,null,null,null,null,null,null,null,null,null,{"$f":"IF(OR((BV709=\"-\"),(ISNUMBER(BV709)=FALSE)),\"-\",ROUND(AT709*BV709,3))","v":"-"}]
[null,null,"細分類番号",null,null,null,null,null,null,{"$f":"IF(J330=\"\",\"\",J330)","v":""},null,{"$f":"IF(L330=\"\",\"\",L330)","v":""},null,{"$f":"IF(N330=\"\",\"\",N330)","v":""},null,{"$f":"IF(P330=\"\",\"\",P330)","v":""},null,null,null,null,null,null,null,null,null,null,null,null,null,null,null,null,null,null,null,null,null,null,null,null,null,null,null,null,null,null,null,null,null,null,null,null,"(単位：",null,null,{"$f":"IF(AW330=\"\",\"\",AW330)","v":""},null,null,")"]
[null,105,"工場等に係る\n事業の名称",null,null,null,null,null,null,{"$f":"IF(J331=\"\",\"\",J331)","v":""},null,null,null,null,null,null,null,{"$f":"IF(R331=\"\",\"\",R331)","v":""},null,null,null,null,null,null,null,null,null,null,null,null,null,{"$f":"IF(Y331=\"\",\"\",Y331)","v":""},null,null,null,null,null,null,{"$f":"IF(R712=\"\",\"\",IF(AF712=\"\",R712+(Y712*(1.3-1)),R712+(Y712*(1.3-1))-AF712))","v":""},null,null,null,null,null,null,{"$f":"IF(AM712=\"\",\"\",IF($CM$761=0,\"\",IF(CM712=\"\",\"\",ROUND(CM712/$CM$761,3))))","v":""},null,null,null,null,null,null,{"$f":"IF(AT331=\"\",\"\",AT331)","v":""},null,null,null,null,null,null,{"$f":"IF(BA712=\"\",\"\",ROUND(AM712/BA712,3-INT(LOG(AM712/BA712))))","v":""},null,null,null,null,null,null,"-",null,null,null,null,null,null,{"$f":"IF(OR((BO712=\"-\"),(ISNUMBER(BO712)=FALSE)),\"-\",ROUND(BH712/BO712,3))","v":"-"},null,null,null,null,null,null,null,null,null,null,null,null,null,null,null,null,{"$f":"CM331","v":""}]
[null,null,null,null,null,null,null,null,null,null,null,null,null,null,null,null,null,null,null,null,null,null,null,null,null,null,null,null,null,null,null,null,null,null,null,null,null,null,null,null,null,null,null,null,null,null,null,null,null,null,null,null,"(名称：",null,null,{"$f":"IF(AW332=\"\",\"\",AW332)","v":""},null,null,")",null,null,null,null,null,null,null,null,null,null,null,null,null,null,null,null,null,null,null,null,null,{"$f":"IF(OR((BV712=\"-\"),(ISNUMBER(BV712)=FALSE)),\"-\",ROUND(AT712*BV712,3))","v":"-"}]
[null,null,"細分類番号",null,null,null,null,null,null,{"$f":"IF(J333=\"\",\"\",J333)","v":""},null,{"$f":"IF(L333=\"\",\"\",L333)","v":""},null,{"$f":"IF(N333=\"\",\"\",N333)","v":""},null,{"$f":"IF(P333=\"\",\"\",P333)","v":""},null,null,null,null,null,null,null,null,null,null,null,null,null,null,null,null,null,null,null,null,null,null,null,null,null,null,null,null,null,null,null,null,null,null,null,null,"(単位：",null,null,{"$f":"IF(AW333=\"\",\"\",AW333)","v":""},null,null,")"]
[null,106,"工場等に係る\n事業の名称",null,null,null,null,null,null,{"$f":"IF(J334=\"\",\"\",J334)","v":""},null,null,null,null,null,null,null,{"$f":"IF(R334=\"\",\"\",R334)","v":""},null,null,null,null,null,null,null,null,null,null,null,null,null,{"$f":"IF(Y334=\"\",\"\",Y334)","v":""},null,null,null,null,null,null,{"$f":"IF(R715=\"\",\"\",IF(AF715=\"\",R715+(Y715*(1.3-1)),R715+(Y715*(1.3-1))-AF715))","v":""},null,null,null,null,null,null,{"$f":"IF(AM715=\"\",\"\",IF($CM$761=0,\"\",IF(CM715=\"\",\"\",ROUND(CM715/$CM$761,3))))","v":""},null,null,null,null,null,null,{"$f":"IF(AT334=\"\",\"\",AT334)","v":""},null,null,null,null,null,null,{"$f":"IF(BA715=\"\",\"\",ROUND(AM715/BA715,3-INT(LOG(AM715/BA715))))","v":""},null,null,null,null,null,null,"-",null,null,null,null,null,null,{"$f":"IF(OR((BO715=\"-\"),(ISNUMBER(BO715)=FALSE)),\"-\",ROUND(BH715/BO715,3))","v":"-"},null,null,null,null,null,null,null,null,null,null,null,null,null,null,null,null,{"$f":"CM334","v":""}]
[null,null,null,null,null,null,null,null,null,null,null,null,null,null,null,null,null,null,null,null,null,null,null,null,null,null,null,null,null,null,null,null,null,null,null,null,null,null,null,null,null,null,null,null,null,null,null,null,null,null,null,null,"(名称：",null,null,{"$f":"IF(AW335=\"\",\"\",AW335)","v":""},null,null,")",null,null,null,null,null,null,null,null,null,null,null,null,null,null,null,null,null,null,null,null,null,{"$f":"IF(OR((BV715=\"-\"),(ISNUMBER(BV715)=FALSE)),\"-\",ROUND(AT715*BV715,3))","v":"-"}]
[null,null,"細分類番号",null,null,null,null,null,null,{"$f":"IF(J336=\"\",\"\",J336)","v":""},null,{"$f":"IF(L336=\"\",\"\",L336)","v":""},null,{"$f":"IF(N336=\"\",\"\",N336)","v":""},null,{"$f":"IF(P336=\"\",\"\",P336)","v":""},null,null,null,null,null,null,null,null,null,null,null,null,null,null,null,null,null,null,null,null,null,null,null,null,null,null,null,null,null,null,null,null,null,null,null,null,"(単位：",null,null,{"$f":"IF(AW336=\"\",\"\",AW336)","v":""},null,null,")"]
[null,107,"工場等に係る\n事業の名称",null,null,null,null,null,null,{"$f":"IF(J337=\"\",\"\",J337)","v":""},null,null,null,null,null,null,null,{"$f":"IF(R337=\"\",\"\",R337)","v":""},null,null,null,null,null,null,null,null,null,null,null,null,null,{"$f":"IF(Y337=\"\",\"\",Y337)","v":""},null,null,null,null,null,null,{"$f":"IF(R718=\"\",\"\",IF(AF718=\"\",R718+(Y718*(1.3-1)),R718+(Y718*(1.3-1))-AF718))","v":""},null,null,null,null,null,null,{"$f":"IF(AM718=\"\",\"\",IF($CM$761=0,\"\",IF(CM718=\"\",\"\",ROUND(CM718/$CM$761,3))))","v":""},null,null,null,null,null,null,{"$f":"IF(AT337=\"\",\"\",AT337)","v":""},null,null,null,null,null,null,{"$f":"IF(BA718=\"\",\"\",ROUND(AM718/BA718,3-INT(LOG(AM718/BA718))))","v":""},null,null,null,null,null,null,"-",null,null,null,null,null,null,{"$f":"IF(OR((BO718=\"-\"),(ISNUMBER(BO718)=FALSE)),\"-\",ROUND(BH718/BO718,3))","v":"-"},null,null,null,null,null,null,null,null,null,null,null,null,null,null,null,null,{"$f":"CM337","v":""}]
[null,null,null,null,null,null,null,null,null,null,null,null,null,null,null,null,null,null,null,null,null,null,null,null,null,null,null,null,null,null,null,null,null,null,null,null,null,null,null,null,null,null,null,null,null,null,null,null,null,null,null,null,"(名称：",null,null,{"$f":"IF(AW338=\"\",\"\",AW338)","v":""},null,null,")",null,null,null,null,null,null,null,null,null,null,null,null,null,null,null,null,null,null,null,null,null,{"$f":"IF(OR((BV718=\"-\"),(ISNUMBER(BV718)=FALSE)),\"-\",ROUND(AT718*BV718,3))","v":"-"}]
[null,null,"細分類番号",null,null,null,null,null,null,{"$f":"IF(J339=\"\",\"\",J339)","v":""},null,{"$f":"IF(L339=\"\",\"\",L339)","v":""},null,{"$f":"IF(N339=\"\",\"\",N339)","v":""},null,{"$f":"IF(P339=\"\",\"\",P339)","v":""},null,null,null,null,null,null,null,null,null,null,null,null,null,null,null,null,null,null,null,null,null,null,null,null,null,null,null,null,null,null,null,null,null,null,null,null,"(単位：",null,null,{"$f":"IF(AW339=\"\",\"\",AW339)","v":""},null,null,")"]
[null,108,"工場等に係る\n事業の名称",null,null,null,null,null,null,{"$f":"IF(J340=\"\",\"\",J340)","v":""},null,null,null,null,null,null,null,{"$f":"IF(R340=\"\",\"\",R340)","v":""},null,null,null,null,null,null,null,null,null,null,null,null,null,{"$f":"IF(Y340=\"\",\"\",Y340)","v":""},null,null,null,null,null,null,{"$f":"IF(R721=\"\",\"\",IF(AF721=\"\",R721+(Y721*(1.3-1)),R721+(Y721*(1.3-1))-AF721))","v":""},null,null,null,null,null,null,{"$f":"IF(AM721=\"\",\"\",IF($CM$761=0,\"\",IF(CM721=\"\",\"\",ROUND(CM721/$CM$761,3))))","v":""},null,null,null,null,null,null,{"$f":"IF(AT340=\"\",\"\",AT340)","v":""},null,null,null,null,null,null,{"$f":"IF(BA721=\"\",\"\",ROUND(AM721/BA721,3-INT(LOG(AM721/BA721))))","v":""},null,null,null,null,null,null,"-",null,null,null,null,null,null,{"$f":"IF(OR((BO721=\"-\"),(ISNUMBER(BO721)=FALSE)),\"-\",ROUND(BH721/BO721,3))","v":"-"},null,null,null,null,null,null,null,null,null,null,null,null,null,null,null,null,{"$f":"CM340","v":""}]
[null,null,null,null,null,null,null,null,null,null,null,null,null,null,null,null,null,null,null,null,null,null,null,null,null,null,null,null,null,null,null,null,null,null,null,null,null,null,null,null,null,null,null,null,null,null,null,null,null,null,null,null,"(名称：",null,null,{"$f":"IF(AW341=\"\",\"\",AW341)","v":""},null,null,")",null,null,null,null,null,null,null,null,null,null,null,null,null,null,null,null,null,null,null,null,null,{"$f":"IF(OR((BV721=\"-\"),(ISNUMBER(BV721)=FALSE)),\"-\",ROUND(AT721*BV721,3))","v":"-"}]
[null,null,"細分類番号",null,null,null,null,null,null,{"$f":"IF(J342=\"\",\"\",J342)","v":""},null,{"$f":"IF(L342=\"\",\"\",L342)","v":""},null,{"$f":"IF(N342=\"\",\"\",N342)","v":""},null,{"$f":"IF(P342=\"\",\"\",P342)","v":""},null,null,null,null,null,null,null,null,null,null,null,null,null,null,null,null,null,null,null,null,null,null,null,null,null,null,null,null,null,null,null,null,null,null,null,null,"(単位：",null,null,{"$f":"IF(AW342=\"\",\"\",AW342)","v":""},null,null,")"]
[null,109,"工場等に係る\n事業の名称",null,null,null,null,null,null,{"$f":"IF(J343=\"\",\"\",J343)","v":""},null,null,null,null,null,null,null,{"$f":"IF(R343=\"\",\"\",R343)","v":""},null,null,null,null,null,null,null,null,null,null,null,null,null,{"$f":"IF(Y343=\"\",\"\",Y343)","v":""},null,null,null,null,null,null,{"$f":"IF(R724=\"\",\"\",IF(AF724=\"\",R724+(Y724*(1.3-1)),R724+(Y724*(1.3-1))-AF724))","v":""},null,null,null,null,null,null,{"$f":"IF(AM724=\"\",\"\",IF($CM$761=0,\"\",IF(CM724=\"\",\"\",ROUND(CM724/$CM$761,3))))","v":""},null,null,null,null,null,null,{"$f":"IF(AT343=\"\",\"\",AT343)","v":""},null,null,null,null,null,null,{"$f":"IF(BA724=\"\",\"\",ROUND(AM724/BA724,3-INT(LOG(AM724/BA724))))","v":""},null,null,null,null,null,null,"-",null,null,null,null,null,null,{"$f":"IF(OR((BO724=\"-\"),(ISNUMBER(BO724)=FALSE)),\"-\",ROUND(BH724/BO724,3))","v":"-"},null,null,null,null,null,null,null,null,null,null,null,null,null,null,null,null,{"$f":"CM343","v":""}]
[null,null,null,null,null,null,null,null,null,null,null,null,null,null,null,null,null,null,null,null,null,null,null,null,null,null,null,null,null,null,null,null,null,null,null,null,null,null,null,null,null,null,null,null,null,null,null,null,null,null,null,null,"(名称：",null,null,{"$f":"IF(AW344=\"\",\"\",AW344)","v":""},null,null,")",null,null,null,null,null,null,null,null,null,null,null,null,null,null,null,null,null,null,null,null,null,{"$f":"IF(OR((BV724=\"-\"),(ISNUMBER(BV724)=FALSE)),\"-\",ROUND(AT724*BV724,3))","v":"-"}]
[null,null,"細分類番号",null,null,null,null,null,null,{"$f":"IF(J345=\"\",\"\",J345)","v":""},null,{"$f":"IF(L345=\"\",\"\",L345)","v":""},null,{"$f":"IF(N345=\"\",\"\",N345)","v":""},null,{"$f":"IF(P345=\"\",\"\",P345)","v":""},null,null,null,null,null,null,null,null,null,null,null,null,null,null,null,null,null,null,null,null,null,null,null,null,null,null,null,null,null,null,null,null,null,null,null,null,"(単位：",null,null,{"$f":"IF(AW345=\"\",\"\",AW345)","v":""},null,null,")"]
[null,110,"工場等に係る\n事業の名称",null,null,null,null,null,null,{"$f":"IF(J346=\"\",\"\",J346)","v":""},null,null,null,null,null,null,null,{"$f":"IF(R346=\"\",\"\",R346)","v":""},null,null,null,null,null,null,null,null,null,null,null,null,null,{"$f":"IF(Y346=\"\",\"\",Y346)","v":""},null,null,null,null,null,null,{"$f":"IF(R727=\"\",\"\",IF(AF727=\"\",R727+(Y727*(1.3-1)),R727+(Y727*(1.3-1))-AF727))","v":""},null,null,null,null,null,null,{"$f":"IF(AM727=\"\",\"\",IF($CM$761=0,\"\",IF(CM727=\"\",\"\",ROUND(CM727/$CM$761,3))))","v":""},null,null,null,null,null,null,{"$f":"IF(AT346=\"\",\"\",AT346)","v":""},null,null,null,null,null,null,{"$f":"IF(BA727=\"\",\"\",ROUND(AM727/BA727,3-INT(LOG(AM727/BA727))))","v":""},null,null,null,null,null,null,"-",null,null,null,null,null,null,{"$f":"IF(OR((BO727=\"-\"),(ISNUMBER(BO727)=FALSE)),\"-\",ROUND(BH727/BO727,3))","v":"-"},null,null,null,null,null,null,null,null,null,null,null,null,null,null,null,null,{"$f":"CM346","v":""}]
[null,null,null,null,null,null,null,null,null,null,null,null,null,null,null,null,null,null,null,null,null,null,null,null,null,null,null,null,null,null,null,null,null,null,null,null,null,null,null,null,null,null,null,null,null,null,null,null,null,null,null,null,"(名称：",null,null,{"$f":"IF(AW347=\"\",\"\",AW347)","v":""},null,null,")",null,null,null,null,null,null,null,null,null,null,null,null,null,null,null,null,null,null,null,null,null,{"$f":"IF(OR((BV727=\"-\"),(ISNUMBER(BV727)=FALSE)),\"-\",ROUND(AT727*BV727,3))","v":"-"}]
[null,null,"細分類番号",null,null,null,null,null,null,{"$f":"IF(J348=\"\",\"\",J348)","v":""},null,{"$f":"IF(L348=\"\",\"\",L348)","v":""},null,{"$f":"IF(N348=\"\",\"\",N348)","v":""},null,{"$f":"IF(P348=\"\",\"\",P348)","v":""},null,null,null,null,null,null,null,null,null,null,null,null,null,null,null,null,null,null,null,null,null,null,null,null,null,null,null,null,null,null,null,null,null,null,null,null,"(単位：",null,null,{"$f":"IF(AW348=\"\",\"\",AW348)","v":""},null,null,")"]
[null,111,"工場等に係る\n事業の名称",null,null,null,null,null,null,{"$f":"IF(J349=\"\",\"\",J349)","v":""},null,null,null,null,null,null,null,{"$f":"IF(R349=\"\",\"\",R349)","v":""},null,null,null,null,null,null,null,null,null,null,null,null,null,{"$f":"IF(Y349=\"\",\"\",Y349)","v":""},null,null,null,null,null,null,{"$f":"IF(R730=\"\",\"\",IF(AF730=\"\",R730+(Y730*(1.3-1)),R730+(Y730*(1.3-1))-AF730))","v":""},null,null,null,null,null,null,{"$f":"IF(AM730=\"\",\"\",IF($CM$761=0,\"\",IF(CM730=\"\",\"\",ROUND(CM730/$CM$761,3))))","v":""},null,null,null,null,null,null,{"$f":"IF(AT349=\"\",\"\",AT349)","v":""},null,null,null,null,null,null,{"$f":"IF(BA730=\"\",\"\",ROUND(AM730/BA730,3-INT(LOG(AM730/BA730))))","v":""},null,null,null,null,null,null,"-",null,null,null,null,null,null,{"$f":"IF(OR((BO730=\"-\"),(ISNUMBER(BO730)=FALSE)),\"-\",ROUND(BH730/BO730,3))","v":"-"},null,null,null,null,null,null,null,null,null,null,null,null,null,null,null,null,{"$f":"CM349","v":""}]
[null,null,null,null,null,null,null,null,null,null,null,null,null,null,null,null,null,null,null,null,null,null,null,null,null,null,null,null,null,null,null,null,null,null,null,null,null,null,null,null,null,null,null,null,null,null,null,null,null,null,null,null,"(名称：",null,null,{"$f":"IF(AW350=\"\",\"\",AW350)","v":""},null,null,")",null,null,null,null,null,null,null,null,null,null,null,null,null,null,null,null,null,null,null,null,null,{"$f":"IF(OR((BV730=\"-\"),(ISNUMBER(BV730)=FALSE)),\"-\",ROUND(AT730*BV730,3))","v":"-"}]
[null,null,"細分類番号",null,null,null,null,null,null,{"$f":"IF(J351=\"\",\"\",J351)","v":""},null,{"$f":"IF(L351=\"\",\"\",L351)","v":""},null,{"$f":"IF(N351=\"\",\"\",N351)","v":""},null,{"$f":"IF(P351=\"\",\"\",P351)","v":""},null,null,null,null,null,null,null,null,null,null,null,null,null,null,null,null,null,null,null,null,null,null,null,null,null,null,null,null,null,null,null,null,null,null,null,null,"(単位：",null,null,{"$f":"IF(AW351=\"\",\"\",AW351)","v":""},null,null,")"]
[null,112,"工場等に係る\n事業の名称",null,null,null,null,null,null,{"$f":"IF(J352=\"\",\"\",J352)","v":""},null,null,null,null,null,null,null,{"$f":"IF(R352=\"\",\"\",R352)","v":""},null,null,null,null,null,null,null,null,null,null,null,null,null,{"$f":"IF(Y352=\"\",\"\",Y352)","v":""},null,null,null,null,null,null,{"$f":"IF(R733=\"\",\"\",IF(AF733=\"\",R733+(Y733*(1.3-1)),R733+(Y733*(1.3-1))-AF733))","v":""},null,null,null,null,null,null,{"$f":"IF(AM733=\"\",\"\",IF($CM$761=0,\"\",IF(CM733=\"\",\"\",ROUND(CM733/$CM$761,3))))","v":""},null,null,null,null,null,null,{"$f":"IF(AT352=\"\",\"\",AT352)","v":""},null,null,null,null,null,null,{"$f":"IF(BA733=\"\",\"\",ROUND(AM733/BA733,3-INT(LOG(AM733/BA733))))","v":""},null,null,null,null,null,null,"-",null,null,null,null,null,null,{"$f":"IF(OR((BO733=\"-\"),(ISNUMBER(BO733)=FALSE)),\"-\",ROUND(BH733/BO733,3))","v":"-"},null,null,null,null,null,null,null,null,null,null,null,null,null,null,null,null,{"$f":"CM352","v":""}]
[null,null,null,null,null,null,null,null,null,null,null,null,null,null,null,null,null,null,null,null,null,null,null,null,null,null,null,null,null,null,null,null,null,null,null,null,null,null,null,null,null,null,null,null,null,null,null,null,null,null,null,null,"(名称：",null,null,{"$f":"IF(AW353=\"\",\"\",AW353)","v":""},null,null,")",null,null,null,null,null,null,null,null,null,null,null,null,null,null,null,null,null,null,null,null,null,{"$f":"IF(OR((BV733=\"-\"),(ISNUMBER(BV733)=FALSE)),\"-\",ROUND(AT733*BV733,3))","v":"-"}]
[null,null,"細分類番号",null,null,null,null,null,null,{"$f":"IF(J354=\"\",\"\",J354)","v":""},null,{"$f":"IF(L354=\"\",\"\",L354)","v":""},null,{"$f":"IF(N354=\"\",\"\",N354)","v":""},null,{"$f":"IF(P354=\"\",\"\",P354)","v":""},null,null,null,null,null,null,null,null,null,null,null,null,null,null,null,null,null,null,null,null,null,null,null,null,null,null,null,null,null,null,null,null,null,null,null,null,"(単位：",null,null,{"$f":"IF(AW354=\"\",\"\",AW354)","v":""},null,null,")"]
[null,113,"工場等に係る\n事業の名称",null,null,null,null,null,null,{"$f":"IF(J355=\"\",\"\",J355)","v":""},null,null,null,null,null,null,null,{"$f":"IF(R355=\"\",\"\",R355)","v":""},null,null,null,null,null,null,null,null,null,null,null,null,null,{"$f":"IF(Y355=\"\",\"\",Y355)","v":""},null,null,null,null,null,null,{"$f":"IF(R736=\"\",\"\",IF(AF736=\"\",R736+(Y736*(1.3-1)),R736+(Y736*(1.3-1))-AF736))","v":""},null,null,null,null,null,null,{"$f":"IF(AM736=\"\",\"\",IF($CM$761=0,\"\",IF(CM736=\"\",\"\",ROUND(CM736/$CM$761,3))))","v":""},null,null,null,null,null,null,{"$f":"IF(AT355=\"\",\"\",AT355)","v":""},null,null,null,null,null,null,{"$f":"IF(BA736=\"\",\"\",ROUND(AM736/BA736,3-INT(LOG(AM736/BA736))))","v":""},null,null,null,null,null,null,"-",null,null,null,null,null,null,{"$f":"IF(OR((BO736=\"-\"),(ISNUMBER(BO736)=FALSE)),\"-\",ROUND(BH736/BO736,3))","v":"-"},null,null,null,null,null,null,null,null,null,null,null,null,null,null,null,null,{"$f":"CM355","v":""}]
[null,null,null,null,null,null,null,null,null,null,null,null,null,null,null,null,null,null,null,null,null,null,null,null,null,null,null,null,null,null,null,null,null,null,null,null,null,null,null,null,null,null,null,null,null,null,null,null,null,null,null,null,"(名称：",null,null,{"$f":"IF(AW356=\"\",\"\",AW356)","v":""},null,null,")",null,null,null,null,null,null,null,null,null,null,null,null,null,null,null,null,null,null,null,null,null,{"$f":"IF(OR((BV736=\"-\"),(ISNUMBER(BV736)=FALSE)),\"-\",ROUND(AT736*BV736,3))","v":"-"}]
[null,null,"細分類番号",null,null,null,null,null,null,{"$f":"IF(J357=\"\",\"\",J357)","v":""},null,{"$f":"IF(L357=\"\",\"\",L357)","v":""},null,{"$f":"IF(N357=\"\",\"\",N357)","v":""},null,{"$f":"IF(P357=\"\",\"\",P357)","v":""},null,null,null,null,null,null,null,null,null,null,null,null,null,null,null,null,null,null,null,null,null,null,null,null,null,null,null,null,null,null,null,null,null,null,null,null,"(単位：",null,null,{"$f":"IF(AW357=\"\",\"\",AW357)","v":""},null,null,")"]
[null,114,"工場等に係る\n事業の名称",null,null,null,null,null,null,{"$f":"IF(J358=\"\",\"\",J358)","v":""},null,null,null,null,null,null,null,{"$f":"IF(R358=\"\",\"\",R358)","v":""},null,null,null,null,null,null,null,null,null,null,null,null,null,{"$f":"IF(Y358=\"\",\"\",Y358)","v":""},null,null,null,null,null,null,{"$f":"IF(R739=\"\",\"\",IF(AF739=\"\",R739+(Y739*(1.3-1)),R739+(Y739*(1.3-1))-AF739))","v":""},null,null,null,null,null,null,{"$f":"IF(AM739=\"\",\"\",IF($CM$761=0,\"\",IF(CM739=\"\",\"\",ROUND(CM739/$CM$761,3))))","v":""},null,null,null,null,null,null,{"$f":"IF(AT358=\"\",\"\",AT358)","v":""},null,null,null,null,null,null,{"$f":"IF(BA739=\"\",\"\",ROUND(AM739/BA739,3-INT(LOG(AM739/BA739))))","v":""},null,null,null,null,null,null,"-",null,null,null,null,null,null,{"$f":"IF(OR((BO739=\"-\"),(ISNUMBER(BO739)=FALSE)),\"-\",ROUND(BH739/BO739,3))","v":"-"},null,null,null,null,null,null,null,null,null,null,null,null,null,null,null,null,{"$f":"CM358","v":""}]
[null,null,null,null,null,null,null,null,null,null,null,null,null,null,null,null,null,null,null,null,null,null,null,null,null,null,null,null,null,null,null,null,null,null,null,null,null,null,null,null,null,null,null,null,null,null,null,null,null,null,null,null,"(名称：",null,null,{"$f":"IF(AW359=\"\",\"\",AW359)","v":""},null,null,")",null,null,null,null,null,null,null,null,null,null,null,null,null,null,null,null,null,null,null,null,null,{"$f":"IF(OR((BV739=\"-\"),(ISNUMBER(BV739)=FALSE)),\"-\",ROUND(AT739*BV739,3))","v":"-"}]
[null,null,"細分類番号",null,null,null,null,null,null,{"$f":"IF(J360=\"\",\"\",J360)","v":""},null,{"$f":"IF(L360=\"\",\"\",L360)","v":""},null,{"$f":"IF(N360=\"\",\"\",N360)","v":""},null,{"$f":"IF(P360=\"\",\"\",P360)","v":""},null,null,null,null,null,null,null,null,null,null,null,null,null,null,null,null,null,null,null,null,null,null,null,null,null,null,null,null,null,null,null,null,null,null,null,null,"(単位：",null,null,{"$f":"IF(AW360=\"\",\"\",AW360)","v":""},null,null,")"]
[null,115,"工場等に係る\n事業の名称",null,null,null,null,null,null,{"$f":"IF(J361=\"\",\"\",J361)","v":""},null,null,null,null,null,null,null,{"$f":"IF(R361=\"\",\"\",R361)","v":""},null,null,null,null,null,null,null,null,null,null,null,null,null,{"$f":"IF(Y361=\"\",\"\",Y361)","v":""},null,null,null,null,null,null,{"$f":"IF(R742=\"\",\"\",IF(AF742=\"\",R742+(Y742*(1.3-1)),R742+(Y742*(1.3-1))-AF742))","v":""},null,null,null,null,null,null,{"$f":"IF(AM742=\"\",\"\",IF($CM$761=0,\"\",IF(CM742=\"\",\"\",ROUND(CM742/$CM$761,3))))","v":""},null,null,null,null,null,null,{"$f":"IF(AT361=\"\",\"\",AT361)","v":""},null,null,null,null,null,null,{"$f":"IF(BA742=\"\",\"\",ROUND(AM742/BA742,3-INT(LOG(AM742/BA742))))","v":""},null,null,null,null,null,null,"-",null,null,null,null,null,null,{"$f":"IF(OR((BO742=\"-\"),(ISNUMBER(BO742)=FALSE)),\"-\",ROUND(BH742/BO742,3))","v":"-"},null,null,null,null,null,null,null,null,null,null,null,null,null,null,null,null,{"$f":"CM361","v":""}]
[null,null,null,null,null,null,null,null,null,null,null,null,null,null,null,null,null,null,null,null,null,null,null,null,null,null,null,null,null,null,null,null,null,null,null,null,null,null,null,null,null,null,null,null,null,null,null,null,null,null,null,null,"(名称：",null,null,{"$f":"IF(AW362=\"\",\"\",AW362)","v":""},null,null,")",null,null,null,null,null,null,null,null,null,null,null,null,null,null,null,null,null,null,null,null,null,{"$f":"IF(OR((BV742=\"-\"),(ISNUMBER(BV742)=FALSE)),\"-\",ROUND(AT742*BV742,3))","v":"-"}]
[null,null,"細分類番号",null,null,null,null,null,null,{"$f":"IF(J363=\"\",\"\",J363)","v":""},null,{"$f":"IF(L363=\"\",\"\",L363)","v":""},null,{"$f":"IF(N363=\"\",\"\",N363)","v":""},null,{"$f":"IF(P363=\"\",\"\",P363)","v":""},null,null,null,null,null,null,null,null,null,null,null,null,null,null,null,null,null,null,null,null,null,null,null,null,null,null,null,null,null,null,null,null,null,null,null,null,"(単位：",null,null,{"$f":"IF(AW363=\"\",\"\",AW363)","v":""},null,null,")"]
[null,116,"工場等に係る\n事業の名称",null,null,null,null,null,null,{"$f":"IF(J364=\"\",\"\",J364)","v":""},null,null,null,null,null,null,null,{"$f":"IF(R364=\"\",\"\",R364)","v":""},null,null,null,null,null,null,null,null,null,null,null,null,null,{"$f":"IF(Y364=\"\",\"\",Y364)","v":""},null,null,null,null,null,null,{"$f":"IF(R745=\"\",\"\",IF(AF745=\"\",R745+(Y745*(1.3-1)),R745+(Y745*(1.3-1))-AF745))","v":""},null,null,null,null,null,null,{"$f":"IF(AM745=\"\",\"\",IF($CM$761=0,\"\",IF(CM745=\"\",\"\",ROUND(CM745/$CM$761,3))))","v":""},null,null,null,null,null,null,{"$f":"IF(AT364=\"\",\"\",AT364)","v":""},null,null,null,null,null,null,{"$f":"IF(BA745=\"\",\"\",ROUND(AM745/BA745,3-INT(LOG(AM745/BA745))))","v":""},null,null,null,null,null,null,"-",null,null,null,null,null,null,{"$f":"IF(OR((BO745=\"-\"),(ISNUMBER(BO745)=FALSE)),\"-\",ROUND(BH745/BO745,3))","v":"-"},null,null,null,null,null,null,null,null,null,null,null,null,null,null,null,null,{"$f":"CM364","v":""}]
[null,null,null,null,null,null,null,null,null,null,null,null,null,null,null,null,null,null,null,null,null,null,null,null,null,null,null,null,null,null,null,null,null,null,null,null,null,null,null,null,null,null,null,null,null,null,null,null,null,null,null,null,"(名称：",null,null,{"$f":"IF(AW365=\"\",\"\",AW365)","v":""},null,null,")",null,null,null,null,null,null,null,null,null,null,null,null,null,null,null,null,null,null,null,null,null,{"$f":"IF(OR((BV745=\"-\"),(ISNUMBER(BV745)=FALSE)),\"-\",ROUND(AT745*BV745,3))","v":"-"}]
[null,null,"細分類番号",null,null,null,null,null,null,{"$f":"IF(J366=\"\",\"\",J366)","v":""},null,{"$f":"IF(L366=\"\",\"\",L366)","v":""},null,{"$f":"IF(N366=\"\",\"\",N366)","v":""},null,{"$f":"IF(P366=\"\",\"\",P366)","v":""},null,null,null,null,null,null,null,null,null,null,null,null,null,null,null,null,null,null,null,null,null,null,null,null,null,null,null,null,null,null,null,null,null,null,null,null,"(単位：",null,null,{"$f":"IF(AW366=\"\",\"\",AW366)","v":""},null,null,")"]
[null,117,"工場等に係る\n事業の名称",null,null,null,null,null,null,{"$f":"IF(J367=\"\",\"\",J367)","v":""},null,null,null,null,null,null,null,{"$f":"IF(R367=\"\",\"\",R367)","v":""},null,null,null,null,null,null,null,null,null,null,null,null,null,{"$f":"IF(Y367=\"\",\"\",Y367)","v":""},null,null,null,null,null,null,{"$f":"IF(R748=\"\",\"\",IF(AF748=\"\",R748+(Y748*(1.3-1)),R748+(Y748*(1.3-1))-AF748))","v":""},null,null,null,null,null,null,{"$f":"IF(AM748=\"\",\"\",IF($CM$761=0,\"\",IF(CM748=\"\",\"\",ROUND(CM748/$CM$761,3))))","v":""},null,null,null,null,null,null,{"$f":"IF(AT367=\"\",\"\",AT367)","v":""},null,null,null,null,null,null,{"$f":"IF(BA748=\"\",\"\",ROUND(AM748/BA748,3-INT(LOG(AM748/BA748))))","v":""},null,null,null,null,null,null,"-",null,null,null,null,null,null,{"$f":"IF(OR((BO748=\"-\"),(ISNUMBER(BO748)=FALSE)),\"-\",ROUND(BH748/BO748,3))","v":"-"},null,null,null,null,null,null,null,null,null,null,null,null,null,null,null,null,{"$f":"CM367","v":""}]
[null,null,null,null,null,null,null,null,null,null,null,null,null,null,null,null,null,null,null,null,null,null,null,null,null,null,null,null,null,null,null,null,null,null,null,null,null,null,null,null,null,null,null,null,null,null,null,null,null,null,null,null,"(名称：",null,null,{"$f":"IF(AW368=\"\",\"\",AW368)","v":""},null,null,")",null,null,null,null,null,null,null,null,null,null,null,null,null,null,null,null,null,null,null,null,null,{"$f":"IF(OR((BV748=\"-\"),(ISNUMBER(BV748)=FALSE)),\"-\",ROUND(AT748*BV748,3))","v":"-"}]
[null,null,"細分類番号",null,null,null,null,null,null,{"$f":"IF(J369=\"\",\"\",J369)","v":""},null,{"$f":"IF(L369=\"\",\"\",L369)","v":""},null,{"$f":"IF(N369=\"\",\"\",N369)","v":""},null,{"$f":"IF(P369=\"\",\"\",P369)","v":""},null,null,null,null,null,null,null,null,null,null,null,null,null,null,null,null,null,null,null,null,null,null,null,null,null,null,null,null,null,null,null,null,null,null,null,null,"(単位：",null,null,{"$f":"IF(AW369=\"\",\"\",AW369)","v":""},null,null,")"]
[null,118,"工場等に係る\n事業の名称",null,null,null,null,null,null,{"$f":"IF(J370=\"\",\"\",J370)","v":""},null,null,null,null,null,null,null,{"$f":"IF(R370=\"\",\"\",R370)","v":""},null,null,null,null,null,null,null,null,null,null,null,null,null,{"$f":"IF(Y370=\"\",\"\",Y370)","v":""},null,null,null,null,null,null,{"$f":"IF(R751=\"\",\"\",IF(AF751=\"\",R751+(Y751*(1.3-1)),R751+(Y751*(1.3-1))-AF751))","v":""},null,null,null,null,null,null,{"$f":"IF(AM751=\"\",\"\",IF($CM$761=0,\"\",IF(CM751=\"\",\"\",ROUND(CM751/$CM$761,3))))","v":""},null,null,null,null,null,null,{"$f":"IF(AT370=\"\",\"\",AT370)","v":""},null,null,null,null,null,null,{"$f":"IF(BA751=\"\",\"\",ROUND(AM751/BA751,3-INT(LOG(AM751/BA751))))","v":""},null,null,null,null,null,null,"-",null,null,null,null,null,null,{"$f":"IF(OR((BO751=\"-\"),(ISNUMBER(BO751)=FALSE)),\"-\",ROUND(BH751/BO751,3))","v":"-"},null,null,null,null,null,null,null,null,null,null,null,null,null,null,null,null,{"$f":"CM370","v":""}]
[null,null,null,null,null,null,null,null,null,null,null,null,null,null,null,null,null,null,null,null,null,null,null,null,null,null,null,null,null,null,null,null,null,null,null,null,null,null,null,null,null,null,null,null,null,null,null,null,null,null,null,null,"(名称：",null,null,{"$f":"IF(AW371=\"\",\"\",AW371)","v":""},null,null,")",null,null,null,null,null,null,null,null,null,null,null,null,null,null,null,null,null,null,null,null,null,{"$f":"IF(OR((BV751=\"-\"),(ISNUMBER(BV751)=FALSE)),\"-\",ROUND(AT751*BV751,3))","v":"-"}]
[null,null,"細分類番号",null,null,null,null,null,null,{"$f":"IF(J372=\"\",\"\",J372)","v":""},null,{"$f":"IF(L372=\"\",\"\",L372)","v":""},null,{"$f":"IF(N372=\"\",\"\",N372)","v":""},null,{"$f":"IF(P372=\"\",\"\",P372)","v":""},null,null,null,null,null,null,null,null,null,null,null,null,null,null,null,null,null,null,null,null,null,null,null,null,null,null,null,null,null,null,null,null,null,null,null,null,"(単位：",null,null,{"$f":"IF(AW372=\"\",\"\",AW372)","v":""},null,null,")"]
[null,119,"工場等に係る\n事業の名称",null,null,null,null,null,null,{"$f":"IF(J373=\"\",\"\",J373)","v":""},null,null,null,null,null,null,null,{"$f":"IF(R373=\"\",\"\",R373)","v":""},null,null,null,null,null,null,null,null,null,null,null,null,null,{"$f":"IF(Y373=\"\",\"\",Y373)","v":""},null,null,null,null,null,null,{"$f":"IF(R754=\"\",\"\",IF(AF754=\"\",R754+(Y754*(1.3-1)),R754+(Y754*(1.3-1))-AF754))","v":""},null,null,null,null,null,null,{"$f":"IF(AM754=\"\",\"\",IF($CM$761=0,\"\",IF(CM754=\"\",\"\",ROUND(CM754/$CM$761,3))))","v":""},null,null,null,null,null,null,{"$f":"IF(AT373=\"\",\"\",AT373)","v":""},null,null,null,null,null,null,{"$f":"IF(BA754=\"\",\"\",ROUND(AM754/BA754,3-INT(LOG(AM754/BA754))))","v":""},null,null,null,null,null,null,"-",null,null,null,null,null,null,{"$f":"IF(OR((BO754=\"-\"),(ISNUMBER(BO754)=FALSE)),\"-\",ROUND(BH754/BO754,3))","v":"-"},null,null,null,null,null,null,null,null,null,null,null,null,null,null,null,null,{"$f":"CM373","v":""}]
[null,null,null,null,null,null,null,null,null,null,null,null,null,null,null,null,null,null,null,null,null,null,null,null,null,null,null,null,null,null,null,null,null,null,null,null,null,null,null,null,null,null,null,null,null,null,null,null,null,null,null,null,"(名称：",null,null,{"$f":"IF(AW374=\"\",\"\",AW374)","v":""},null,null,")",null,null,null,null,null,null,null,null,null,null,null,null,null,null,null,null,null,null,null,null,null,{"$f":"IF(OR((BV754=\"-\"),(ISNUMBER(BV754)=FALSE)),\"-\",ROUND(AT754*BV754,3))","v":"-"}]
[null,null,"細分類番号",null,null,null,null,null,null,{"$f":"IF(J375=\"\",\"\",J375)","v":""},null,{"$f":"IF(L375=\"\",\"\",L375)","v":""},null,{"$f":"IF(N375=\"\",\"\",N375)","v":""},null,{"$f":"IF(P375=\"\",\"\",P375)","v":""},null,null,null,null,null,null,null,null,null,null,null,null,null,null,null,null,null,null,null,null,null,null,null,null,null,null,null,null,null,null,null,null,null,null,null,null,"(単位：",null,null,{"$f":"IF(AW375=\"\",\"\",AW375)","v":""},null,null,")"]
[null,120,"工場等に係る\n事業の名称",null,null,null,null,null,null,{"$f":"IF(J376=\"\",\"\",J376)","v":""},null,null,null,null,null,null,null,{"$f":"IF(R376=\"\",\"\",R376)","v":""},null,null,null,null,null,null,null,null,null,null,null,null,null,{"$f":"IF(Y376=\"\",\"\",Y376)","v":""},null,null,null,null,null,null,{"$f":"IF(R757=\"\",\"\",IF(AF757=\"\",R757+(Y757*(1.3-1)),R757+(Y757*(1.3-1))-AF757))","v":""},null,null,null,null,null,null,{"$f":"IF(AM757=\"\",\"\",IF($CM$761=0,\"\",IF(CM757=\"\",\"\",ROUND(CM757/$CM$761,3))))","v":""},null,null,null,null,null,null,{"$f":"IF(AT376=\"\",\"\",AT376)","v":""},null,null,null,null,null,null,{"$f":"IF(BA757=\"\",\"\",ROUND(AM757/BA757,3-INT(LOG(AM757/BA757))))","v":""},null,null,null,null,null,null,"-",null,null,null,null,null,null,{"$f":"IF(OR((BO757=\"-\"),(ISNUMBER(BO757)=FALSE)),\"-\",ROUND(BH757/BO757,3))","v":"-"},null,null,null,null,null,null,null,null,null,null,null,null,null,null,null,null,{"$f":"CM376","v":""}]
[null,null,null,null,null,null,null,null,null,null,null,null,null,null,null,null,null,null,null,null,null,null,null,null,null,null,null,null,null,null,null,null,null,null,null,null,null,null,null,null,null,null,null,null,null,null,null,null,null,null,null,null,"(名称：",null,null,{"$f":"IF(AW377=\"\",\"\",AW377)","v":""},null,null,")",null,null,null,null,null,null,null,null,null,null,null,null,null,null,null,null,null,null,null,null,null,{"$f":"IF(OR((BV757=\"-\"),(ISNUMBER(BV757)=FALSE)),\"-\",ROUND(AT757*BV757,3))","v":"-"}]
[null,null,"細分類番号",null,null,null,null,null,null,{"$f":"IF(J378=\"\",\"\",J378)","v":""},null,{"$f":"IF(L378=\"\",\"\",L378)","v":""},null,{"$f":"IF(N378=\"\",\"\",N378)","v":""},null,{"$f":"IF(P378=\"\",\"\",P378)","v":""},null,null,null,null,null,null,null,null,null,null,null,null,null,null,null,null,null,null,null,null,null,null,null,null,null,null,null,null,null,null,null,null,null,null,null,null,"(単位：",null,null,{"$f":"IF(AW378=\"\",\"\",AW378)","v":""},null,null,")"]
[null,"事業者全体",null,null,null,null,null,null,null,null,null,null,null,null,null,null,null,"Ⓢ（合計）",null,null,null,null,null,null,"（合計）",null,null,null,null,null,null,"Ⓣ（合計）",null,null,null,null,null,null,"Ⓤ'（合計）",null,null,null,null,null,null,1,null,null,null,null,null,null,"Ⓥ",null,null,null,null,null,null,"Ⓦ'",null,null,null,null,null,null,"Ⓧ'",null,null,null,null,null,null,"Ⓨ'=Ⓦ'/\nⓍ'×100",null,null,null,null,null,null,null,null,null,null,null,null,null,null,null,null,"Ⓤ （合計）"]
[null,null,null,null,null,null,null,null,null,null,null,null,null,null,null,null,null,{"$f":"IF(R400=\"\",\"\",SUM(R400:X759))","v":1894},null,null,null,null,null,null,{"$f":"IF(Y400=\"\",\"\",SUM(Y400:AE759))","v":1120},null,null,null,null,null,null,{"$f":"IF(AF400=\"\",\"\",SUM(AF400:AL759))","v":0},null,null,null,null,null,null,{"$f":"IF(AM400=\"\",\"\",SUM(AM400:AS759))","v":2230},null,null,null,null,null,null,null,null,null,null,null,null,null,{"$f":"IF(AT380=\"\",\"\",AT380)","v":29235},null,null,null,null,null,null,{"$f":"IF(BA761=\"\",\"\",ROUND(AM761/BA761,3-INT(LOG(AM761/BA761))))","v":7.6280000000000001E-2},null,null,null,null,null,null,{"$f":"IF($C$5=FALSE,\"-\",IF(入力・計算補助!M22=\"\",\"-\",入力・計算補助!M22))","v":"0.0800"},null,null,null,null,null,null,null,null,null,null,null,null,null,null,null,null,null,null,null,null,null,null,null,{"$f":"CM379","v":1894}]
[null,null,null,null,null,null,null,null,null,null,null,null,null,null,null,null,null,null,null,null,null,null,null,null,null,null,null,null,null,null,null,null,null,null,null,null,null,null,null,null,null,null,null,null,null,null,null,null,null,null,null,null,"(名称：",null,null,{"$f":"IF(AW381=\"\",\"\",AW381)","v":"延床面積"},null,null,")",null,null,null,null,null,null,null,null,null,null,null,null,null,null,{"$f":"IF(OR(BO761=\"\",BO761=\"-\"),\"-\",ROUND(BH761/BO761,3))","v":0.95399999999999996}]
[null,null,null,null,null,null,null,null,null,null,null,null,null,null,null,null,null,null,null,null,null,null,null,null,null,null,null,null,null,null,null,null,null,null,null,null,null,null,null,null,null,null,null,null,null,null,null,null,null,null,null,null,"(単位：",null,null,{"$f":"IF(AW382=\"\",\"\",AW382)","v":"ｍ2"},null,null,")"]
[null,null,null,null,null,null,null,null,null,null,null,null,null,null,null,null,null,null,null,null,null,null,null,null,null,null,null,null,null,null,null,null,null,null,null,null,null,null,null,null,null,null,null,null,null,null,null,null,null,null,null,null,null,null,null,null,null,null,null,null,null,null,null,null,null,null,null,null,null,null,null,null,null,"Ⓩ'=\n①'+②'+③'+\n…"]
[null,null,null,null,null,null,null,null,null,null,null,null,null,null,null,null,null,null,null,null,null,null,null,null,null,null,null,null,null,null,null,null,null,null,null,null,null,null,null,null,null,null,null,null,null,null,null,null,null,null,null,null,null,null,null,null,null,null,null,null,null,null,null,null,null,null,null,null,null,null,null,null,null,{"$f":"IF(COUNT(CC401:CC759)=0,\"-\",SUM(CC400:CK765))","v":0.95600000000000007}]
[null,null,null,null,null,null,null,null,null,null,null,null,null,null,null,null,null,null,null,null,null,null,null,null,null,null,null,null,null,null,null,null,null,null,null,null,null,null,null,null,null,null,null,null,null,{"$f":"IF(CL401+CL402=0,\"事業分類ごとのエネルギーの使用に係る原単位かⓋ～Ⓧ'の事業者全体の原単位を記入して下さい\",\"\")","v":""}]
[null,null,null,null,null,null,null,null,null,null,null,null,null,null,null,null,null,null,null,null,null,null,null,null,null,null,null,null,null,null,null,null,null,null,null,null,null,null,null,null,null,null,null,null,null,{"$f":"IF(CD401+CD402=2,\"Ⓥ～Ⓧの事業者全体の原単位を記入する場合は事業ごとの原単位は記入不要です。\",\"\")","v":""}]
[null,null,"備考",null,null,"１　エネルギー管理指定工場等及びエネルギー管理指定工場等以外の工場等を事業分類ごとに合計した値をそれぞれ記入する。なお、工場等の事業分類は「特定-第３表　１"]
[null,null,null,null,null," 　エネルギーの使用に係る原単位等」と同じでなければならない。"]
[null,null,null,null,null,"２　事業者全体の「電気需要標準化評価原単位Ⓦ'」の算出が難しい場合は、「電気需要平準化評価原単位の対前年度比の寄与度の合計値Ⓩ'」を事業者全体の電気需要平準化"]
[null,null,null,null,null," 　評価原単位の対前年度比としてもよい。その際、Ⓥ Ⓦ'Ⓧ'Ⓨ'は記入不要。"]
[null,null,null,null,null,"３　事業者全体の「電気需要平準化評価原単位Ⓦ'」が算出できる場合は、事業分類ごとのⒶ Ⓐ'Ⓑ Ⓒ'及び事業者全体のⓈからⓎ'まで記入すること。 "]
[null,null,null,null,null,"４　Ⓒ'の評価係数は1.3とすること。 "]

{"sheet":"特定-第４表～","index":5,"n_rows":2324,"n_cols":67,"rows_kept":2324,"cut":false,"hidden":false,"merged":[[1633,58,1637,61],[1634,3,1634,18],[1634,19,1634,21],[1634,22,1634,24],[1634,25,1634,27],[1444,22,1444,24],[1444,25,1444,27],[1444,28,1444,30],[1452,19,1452,30],[1291,19,1291,30],[1637,19,1637,30],[1290,3,1292,18],[1608,1,1612,10],[1608,19,1608,30],[1633,1,1637,2],[1626,19,1626,30],[1625,19,1625,30],[1625,3,1627,18],[1609,25,1609,27],[1630,3,1632,18],[1596,7,1596,61],[1597,7,1597,61],[1608,58,1612,61],[1621,19,1621,30],[1620,19,1620,30],[1608,11,1608,18],[1602,4,1602,61],[1618,58,1622,61],[1619,3,1619,18],[1619,19,1619,21],[1613,19,1613,30],[1614,28,1614,30],[1634,28,1634,30],[170,20,170,38],[1276,19,1276,30],[1275,19,1275,30],[1275,3,1277,18],[1272,19,1272,30],[1289,25,1289,27],[1429,28,1429,30],[1289,28,1289,30],[1292,19,1292,30],[1550,3,1552,18],[1556,19,1556,30],[1555,19,1555,30],[1555,3,1557,18],[1296,19,1296,30],[1295,19,1295,30],[1295,3,1297,18],[1422,19,1422,30],[1421,19,1421,30],[1420,19,1420,30],[1420,3,1422,18],[1426,19,1426,30],[1427,19,1427,30],[1440,19,1440,30],[1444,19,1444,21],[1274,28,1274,30],[1297,19,1297,30],[199,2,199,57],[190,2,190,57],[1425,19,1425,30],[1290,19,1290,30],[184,2,184,57],[145,2,145,57],[146,2,146,57],[147,2,147,57],[136,2,136,57],[137,2,137,57],[169,4,169,19],[170,1,170,3],[170,4,170,19],[163,4,163,19],[164,1,164,3],[164,4,164,19],[165,1,165,3],[165,4,165,19],[169,20,169,38],[169,39,169,58],[160,4,160,19],[160,1,160,3],[161,4,161,19],[161,1,161,3],[162,1,162,3],[162,4,162,19],[163,1,163,3],[168,39,168,58],[169,1,169,3],[167,20,167,38],[167,39,167,58],[167,1,167,3],[167,4,167,19],[168,1,168,3],[168,4,168,19],[168,20,168,38],[90,4,90,58],[69,2,69,57],[70,2,70,57],[115,2,115,57],[116,2,116,57],[117,2,117,57],[154,2,154,57],[155,2,155,57],[157,4,157,58],[166,4,166,19],[162,20,162,38],[162,39,162,58],[166,1,166,3],[165,20,165,38],[165,39,165,58],[166,20,166,38],[133,2,133,57],[134,2,134,57],[148,2,148,57],[149,2,149,57],[150,2,150,57],[151,2,151,57],[138,2,138,57],[139,2,139,57],[140,2,140,57],[141,2,141,57],[152,2,152,57],[153,2,153,57],[87,2,87,57],[88,2,88,57],[142,2,142,57],[143,2,143,57],[89,2,89,57],[81,2,81,57],[82,2,82,57],[271,2,271,57],[96,2,96,57],[97,2,97,57],[127,2,127,57],[100,2,100,57],[161,39,161,58],[120,2,120,57],[121,2,121,57],[175,2,175,57],[195,2,195,57],[144,2,144,57],[189,2,189,57],[259,2,259,57],[260,2,260,57],[261,2,261,57],[262,2,262,57],[263,2,263,57],[124,2,124,57],[106,2,106,57],[107,2,107,57],[108,2,108,57],[111,2,111,57],[112,2,112,57],[113,2,113,57],[114,2,114,57],[118,2,118,57],[119,2,119,57],[166,39,166,58],[85,2,85,57],[122,2,122,57],[123,2,123,57],[43,2,43,57],[44,2,44,57],[45,2,45,57],[46,2,46,57],[52,2,52,57],[53,2,53,57],[54,2,54,57],[55,2,55,57],[75,2,75,57],[76,2,76,57],[66,2,66,57],[67,2,67,57],[77,2,77,57],[68,2,68,57],[71,2,71,57],[72,2,72,57],[73,2,73,57],[74,2,74,57],[95,1,95,58],[61,2,61,57],[62,2,62,57],[63,2,63,57],[64,2,64,57],[102,2,102,57],[103,2,103,57],[104,2,104,57],[105,2,105,57],[86,2,86,57],[98,2,98,57],[99,2,99,57],[2183,20,2183,28],[2187,29,2187,39],[269,2,269,57],[267,2,267,57],[197,2,197,57],[198,2,198,57],[208,54,209,55],[312,2,312,57],[298,2,298,57],[299,2,299,57],[300,2,300,57],[308,2,308,57],[280,2,280,57],[291,2,291,57],[293,2,293,57],[310,2,310,57],[294,2,294,57],[306,2,306,57],[295,2,295,57],[296,2,296,57],[307,2,307,57],[258,2,258,57],[206,3,210,30],[211,3,215,30],[216,3,220,30],[216,1,220,2],[236,3,240,30],[226,3,230,30],[241,3,245,30],[253,2,253,57],[268,2,268,57],[254,2,254,57],[2193,1,2193,39],[2193,40,2193,56],[2193,57,2193,60],[2192,1,2192,19],[2192,20,2192,28],[2191,40,2191,56],[2191,57,2191,60],[2192,29,2192,39],[2192,40,2192,56],[2192,57,2192,60],[2190,40,2190,56],[2190,57,2190,60],[2191,1,2191,19],[2186,29,2186,39],[2186,40,2186,56],[2186,57,2186,60],[2187,1,2187,19],[2187,20,2187,28],[2191,29,2191,39],[2188,29,2188,39],[2188,40,2188,56],[2188,57,2188,60],[2189,1,2189,19],[2186,20,2186,28],[2186,1,2186,19],[185,2,185,57],[186,2,186,57],[187,2,187,57],[188,2,188,57],[2191,20,2191,28],[2189,20,2189,28],[2190,1,2190,19],[2190,20,2190,28],[2190,29,2190,39],[264,2,264,57],[265,2,265,57],[266,2,266,57],[275,2,275,57],[276,2,276,57],[277,2,277,57],[278,2,278,57],[200,2,200,57],[201,2,201,57],[202,2,202,57],[203,2,203,57],[244,43,245,53],[221,1,225,2],[226,1,230,2],[241,1,245,2],[1425,3,1427,18],[1287,19,1287,30],[1281,19,1281,30],[1273,19,1273,30],[2185,29,2185,39],[2185,40,2185,56],[2185,57,2185,60],[2182,1,2182,19],[2182,20,2182,28],[2184,20,2184,28],[2189,29,2189,39],[2178,57,2178,60],[2179,1,2179,19],[2179,20,2179,28],[2183,29,2183,39],[2183,40,2183,56],[2183,57,2183,60],[2180,1,2180,19],[2180,20,2180,28],[2181,1,2181,19],[2188,1,2188,19],[2188,20,2188,28],[2184,29,2184,39],[2184,40,2184,56],[2184,57,2184,60],[2185,1,2185,19],[2185,20,2185,28],[2187,40,2187,56],[2187,57,2187,60],[2184,1,2184,19],[2189,40,2189,56],[2189,57,2189,60],[2183,1,2183,19],[2182,29,2182,39],[2182,40,2182,56],[2182,57,2182,60],[2181,29,2181,39],[2181,40,2181,56],[2181,57,2181,60],[2178,1,2178,19],[2178,20,2178,28],[2180,29,2180,39],[2180,40,2180,56],[2180,57,2180,60],[2174,57,2174,60],[2175,1,2175,19],[2175,20,2175,28],[2179,29,2179,39],[2179,40,2179,56],[2179,57,2179,60],[2176,1,2176,19],[2176,20,2176,28],[2178,29,2178,39],[2178,40,2178,56],[2181,20,2181,28],[2177,29,2177,39],[2177,40,2177,56],[2177,57,2177,60],[2176,40,2176,56],[2176,57,2176,60],[2177,1,2177,19],[2175,29,2175,39],[2175,40,2175,56],[2175,57,2175,60],[2174,29,2174,39],[2174,40,2174,56],[2174,1,2174,19],[2174,20,2174,28],[2177,20,2177,28],[2176,29,2176,39],[2173,29,2173,39],[2173,40,2173,56],[2173,57,2173,60],[2170,1,2170,19],[2170,20,2170,28],[2172,29,2172,39],[2172,40,2172,56],[2172,57,2172,60],[2173,1,2173,19],[2171,29,2171,39],[2171,40,2171,56],[2171,57,2171,60],[2168,1,2168,19],[2168,20,2168,28],[2170,29,2170,39],[2170,40,2170,56],[2173,20,2173,28],[2169,29,2169,39],[2169,40,2169,56],[2169,57,2169,60],[2168,29,2168,39],[2168,40,2168,56],[2168,57,2168,60],[2170,57,2170,60],[2171,1,2171,19],[2171,20,2171,28],[2167,29,2167,39],[2167,40,2167,56],[2167,57,2167,60],[2172,1,2172,19],[2172,20,2172,28],[2169,1,2169,19],[2169,20,2169,28],[2164,1,2164,19],[2164,20,2164,28],[2166,29,2166,39],[2166,40,2166,56],[2165,29,2165,39],[2165,40,2165,56],[2165,57,2165,60],[2162,1,2162,19],[2162,20,2162,28],[2164,29,2164,39],[2164,40,2164,56],[2164,57,2164,60],[2166,57,2166,60],[2167,1,2167,19],[2167,20,2167,28],[2165,1,2165,19],[2165,20,2165,28],[2160,29,2160,39],[2160,40,2160,56],[2160,57,2160,60],[2158,29,2158,39],[2158,40,2158,56],[2161,1,2161,19],[2161,20,2161,28],[2158,57,2158,60],[2159,1,2159,19],[2159,20,2159,28],[2163,29,2163,39],[2163,40,2163,56],[2163,57,2163,60],[2160,1,2160,19],[2166,1,2166,19],[2166,20,2166,28],[2160,20,2160,28],[2162,29,2162,39],[2162,40,2162,56],[2161,29,2161,39],[2161,40,2161,56],[2161,57,2161,60],[2158,1,2158,19],[2158,20,2158,28],[2162,57,2162,60],[2163,1,2163,19],[2163,20,2163,28],[2157,29,2157,39],[2157,40,2157,60],[2152,1,2152,19],[2152,20,2152,28],[2152,29,2152,39],[2159,29,2159,39],[2159,40,2159,56],[2159,57,2159,60],[2149,20,2149,28],[2149,29,2149,39],[2153,40,2153,56],[2153,57,2153,60],[2150,1,2150,19],[2150,20,2150,28],[2150,29,2150,39],[2150,40,2150,56],[2150,57,2150,60],[2151,1,2151,19],[2149,40,2149,56],[2149,57,2149,60],[2154,57,2154,60],[2156,1,2156,19],[2156,20,2156,60],[2157,1,2157,19],[2157,20,2157,28],[2151,40,2151,56],[2151,57,2151,60],[2149,1,2149,19],[2152,40,2152,56],[2152,57,2152,60],[2154,1,2154,39],[2154,40,2154,56],[2153,1,2153,19],[2153,20,2153,28],[2153,29,2153,39],[2147,1,2147,19],[2147,20,2147,28],[2147,29,2147,39],[2147,40,2147,56],[2147,57,2147,60],[2148,1,2148,19],[2148,20,2148,28],[2148,29,2148,39],[2148,40,2148,56],[2148,57,2148,60],[2145,1,2145,19],[2145,20,2145,28],[2145,29,2145,39],[2145,40,2145,56],[2145,57,2145,60],[2146,1,2146,19],[2146,20,2146,28],[2146,29,2146,39],[2146,40,2146,56],[2146,57,2146,60],[2151,20,2151,28],[2151,29,2151,39],[2143,1,2143,19],[2143,20,2143,28],[2143,29,2143,39],[2143,40,2143,56],[2143,57,2143,60],[2144,1,2144,19],[2144,20,2144,28],[2144,29,2144,39],[2144,40,2144,56],[2144,57,2144,60],[2141,1,2141,19],[2141,20,2141,28],[2141,29,2141,39],[2141,40,2141,56],[2141,57,2141,60],[2142,1,2142,19],[2142,20,2142,28],[2142,29,2142,39],[2142,40,2142,56],[2142,57,2142,60],[2139,1,2139,19],[2139,20,2139,28],[2139,29,2139,39],[2139,40,2139,56],[2139,57,2139,60],[2140,1,2140,19],[2140,20,2140,28],[2140,29,2140,39],[2140,40,2140,56],[2140,57,2140,60],[2137,1,2137,19],[2137,20,2137,28],[2137,29,2137,39],[2137,40,2137,56],[2137,57,2137,60],[2138,1,2138,19],[2138,20,2138,28],[2138,29,2138,39],[2138,40,2138,56],[2138,57,2138,60],[2135,1,2135,19],[2135,20,2135,28],[2135,29,2135,39],[2135,40,2135,56],[2135,57,2135,60],[2136,1,2136,19],[2136,20,2136,28],[2136,29,2136,39],[2136,40,2136,56],[2136,57,2136,60],[2133,1,2133,19],[2133,20,2133,28],[2133,29,2133,39],[2133,40,2133,56],[2133,57,2133,60],[2134,1,2134,19],[2134,20,2134,28],[2134,29,2134,39],[2134,40,2134,56],[2134,57,2134,60],[2131,1,2131,19],[2131,20,2131,28],[2131,29,2131,39],[2131,40,2131,56],[2131,57,2131,60],[2132,1,2132,19],[2132,20,2132,28],[2132,29,2132,39],[2132,40,2132,56],[2132,57,2132,60],[2129,1,2129,19],[2129,20,2129,28],[2129,29,2129,39],[2129,40,2129,56],[2129,57,2129,60],[2130,1,2130,19],[2130,20,2130,28],[2130,29,2130,39],[2130,40,2130,56],[2130,57,2130,60],[2127,1,2127,19],[2127,20,2127,28],[2127,29,2127,39],[2127,40,2127,56],[2127,57,2127,60],[2128,1,2128,19],[2128,20,2128,28],[2128,29,2128,39],[2128,40,2128,56],[2128,57,2128,60],[2125,1,2125,19],[2125,20,2125,28],[2125,29,2125,39],[2125,40,2125,56],[2125,57,2125,60],[2126,1,2126,19],[2126,20,2126,28],[2126,29,2126,39],[2126,40,2126,56],[2126,57,2126,60],[2123,1,2123,19],[2123,20,2123,28],[2123,29,2123,39],[2123,40,2123,56],[2123,57,2123,60],[2124,1,2124,19],[2124,20,2124,28],[2124,29,2124,39],[2124,40,2124,56],[2124,57,2124,60],[2121,1,2121,19],[2121,20,2121,28],[2121,29,2121,39],[2121,40,2121,56],[2121,57,2121,60],[2122,1,2122,19],[2122,20,2122,28],[2122,29,2122,39],[2122,40,2122,56],[2122,57,2122,60],[2119,1,2119,19],[2119,20,2119,28],[2119,29,2119,39],[2119,40,2119,56],[2119,57,2119,60],[2120,1,2120,19],[2120,20,2120,28],[2120,29,2120,39],[2120,40,2120,56],[2120,57,2120,60],[2117,1,2117,19],[2117,20,2117,60],[2118,1,2118,19],[2118,20,2118,28],[2118,29,2118,39],[2118,40,2118,60],[2114,1,2114,19],[2114,20,2114,28],[2114,29,2114,39],[2114,40,2114,56],[2114,57,2114,60],[2115,1,2115,39],[2115,40,2115,56],[2115,57,2115,60],[2112,1,2112,19],[2112,20,2112,28],[2112,29,2112,39],[2112,40,2112,56],[2112,57,2112,60],[2113,1,2113,19],[2113,20,2113,28],[2113,29,2113,39],[2113,40,2113,56],[2113,57,2113,60],[2110,1,2110,19],[2110,20,2110,28],[2110,29,2110,39],[2110,40,2110,56],[2110,57,2110,60],[2111,1,2111,19],[2111,20,2111,28],[2111,29,2111,39],[2111,40,2111,56],[2111,57,2111,60],[2108,1,2108,19],[2108,20,2108,28],[2108,29,2108,39],[2108,40,2108,56],[2108,57,2108,60],[2109,1,2109,19],[2109,20,2109,28],[2109,29,2109,39],[2109,40,2109,56],[2109,57,2109,60],[2106,1,2106,19],[2106,20,2106,28],[2106,29,2106,39],[2106,40,2106,56],[2106,57,2106,60],[2107,1,2107,19],[2107,20,2107,28],[2107,29,2107,39],[2107,40,2107,56],[2107,57,2107,60],[2104,1,2104,19],[2104,20,2104,28],[2104,29,2104,39],[2104,40,2104,56],[2104,57,2104,60],[2105,1,2105,19],[2105,20,2105,28],[2105,29,2105,39],[2105,40,2105,56],[2105,57,2105,60],[2102,1,2102,19],[2102,20,2102,28],[2102,29,2102,39],[2102,40,2102,56],[2102,57,2102,60],[2103,1,2103,19],[2103,20,2103,28],[2103,29,2103,39],[2103,40,2103,56],[2103,57,2103,60],[2100,1,2100,19],[2100,20,2100,28],[2100,29,2100,39],[2100,40,2100,56],[2100,57,2100,60],[2101,1,2101,19],[2101,20,2101,28],[2101,29,2101,39],[2101,40,2101,56],[2101,57,2101,60],[2098,1,2098,19],[2098,20,2098,28],[2098,29,2098,39],[2098,40,2098,56],[2098,57,2098,60],[2099,1,2099,19],[2099,20,2099,28],[2099,29,2099,39],[2099,40,2099,56],[2099,57,2099,60],[2096,1,2096,19],[2096,20,2096,28],[2096,29,2096,39],[2096,40,2096,56],[2096,57,2096,60],[2097,1,2097,19],[2097,20,2097,28],[2097,29,2097,39],[2097,40,2097,56],[2097,57,2097,60],[2094,1,2094,19],[2094,20,2094,28],[2094,29,2094,39],[2094,40,2094,56],[2094,57,2094,60],[2095,1,2095,19],[2095,20,2095,28],[2095,29,2095,39],[2095,40,2095,56],[2095,57,2095,60],[2092,1,2092,19],[2092,20,2092,28],[2092,29,2092,39],[2092,40,2092,56],[2092,57,2092,60],[2093,1,2093,19],[2093,20,2093,28],[2093,29,2093,39],[2093,40,2093,56],[2093,57,2093,60],[2090,1,2090,19],[2090,20,2090,28],[2090,29,2090,39],[2090,40,2090,56],[2090,57,2090,60],[2091,1,2091,19],[2091,20,2091,28],[2091,29,2091,39],[2091,40,2091,56],[2091,57,2091,60],[2088,1,2088,19],[2088,20,2088,28],[2088,29,2088,39],[2088,40,2088,56],[2088,57,2088,60],[2089,1,2089,19],[2089,20,2089,28],[2089,29,2089,39],[2089,40,2089,56],[2089,57,2089,60],[2086,1,2086,19],[2086,20,2086,28],[2086,29,2086,39],[2086,40,2086,56],[2086,57,2086,60],[2087,1,2087,19],[2087,20,2087,28],[2087,29,2087,39],[2087,40,2087,56],[2087,57,2087,60],[2084,1,2084,19],[2084,20,2084,28],[2084,29,2084,39],[2084,40,2084,56],[2084,57,2084,60],[2085,1,2085,19],[2085,20,2085,28],[2085,29,2085,39],[2085,40,2085,56],[2085,57,2085,60],[2082,1,2082,19],[2082,20,2082,28],[2082,29,2082,39],[2082,40,2082,56],[2082,57,2082,60],[2083,1,2083,19],[2083,20,2083,28],[2083,29,2083,39],[2083,40,2083,56],[2083,57,2083,60],[2080,1,2080,19],[2080,20,2080,28],[2080,29,2080,39],[2080,40,2080,56],[2080,57,2080,60],[2081,1,2081,19],[2081,20,2081,28],[2081,29,2081,39],[2081,40,2081,56],[2081,57,2081,60],[2078,1,2078,19],[2078,20,2078,60],[2076,1,2076,39],[2076,57,2076,60],[2079,1,2079,19],[2079,20,2079,28],[2079,29,2079,39],[2079,40,2079,60],[2074,1,2074,19],[2074,20,2074,28],[2074,29,2074,39],[2074,40,2074,56],[2074,57,2074,60],[2075,1,2075,19],[2075,20,2075,28],[2075,29,2075,39],[2075,40,2075,56],[2075,57,2075,60],[2072,1,2072,19],[2072,20,2072,28],[2072,29,2072,39],[2072,40,2072,56],[2072,57,2072,60],[2073,1,2073,19],[2073,20,2073,28],[2073,29,2073,39],[2073,40,2073,56],[2073,57,2073,60],[2070,1,2070,19],[2070,20,2070,28],[2070,29,2070,39],[2070,40,2070,56],[2070,57,2070,60],[2071,1,2071,19],[2071,20,2071,28],[2071,29,2071,39],[2071,40,2071,56],[2071,57,2071,60],[2068,1,2068,19],[2068,20,2068,28],[2068,29,2068,39],[2068,40,2068,56],[2068,57,2068,60],[2069,1,2069,19],[2069,20,2069,28],[2069,29,2069,39],[2069,40,2069,56],[2069,57,2069,60],[2066,1,2066,19],[2066,20,2066,28],[2066,29,2066,39],[2066,40,2066,56],[2066,57,2066,60],[2067,1,2067,19],[2067,20,2067,28],[2067,29,2067,39],[2067,40,2067,56],[2067,57,2067,60],[2064,1,2064,19],[2064,20,2064,28],[2064,29,2064,39],[2064,40,2064,56],[2064,57,2064,60],[2065,1,2065,19],[2065,20,2065,28],[2065,29,2065,39],[2065,40,2065,56],[2065,57,2065,60],[2062,1,2062,19],[2062,20,2062,28],[2062,29,2062,39],[2062,40,2062,56],[2062,57,2062,60],[2063,1,2063,19],[2063,20,2063,28],[2063,29,2063,39],[2063,40,2063,56],[2063,57,2063,60],[2060,1,2060,19],[2060,20,2060,28],[2060,29,2060,39],[2060,40,2060,56],[2060,57,2060,60],[2061,1,2061,19],[2061,20,2061,28],[2061,29,2061,39],[2061,40,2061,56],[2061,57,2061,60],[2058,1,2058,19],[2058,20,2058,28],[2058,29,2058,39],[2058,40,2058,56],[2058,57,2058,60],[2059,1,2059,19],[2059,20,2059,28],[2059,29,2059,39],[2059,40,2059,56],[2059,57,2059,60],[2056,1,2056,19],[2056,20,2056,28],[2056,29,2056,39],[2056,40,2056,56],[2056,57,2056,60],[2057,1,2057,19],[2057,20,2057,28],[2057,29,2057,39],[2057,40,2057,56],[2057,57,2057,60],[2054,1,2054,19],[2054,20,2054,28],[2054,29,2054,39],[2054,40,2054,56],[2054,57,2054,60],[2055,1,2055,19],[2055,20,2055,28],[2055,29,2055,39],[2055,40,2055,56],[2055,57,2055,60],[2052,1,2052,19],[2052,20,2052,28],[2052,29,2052,39],[2052,40,2052,56],[2052,57,2052,60],[2053,1,2053,19],[2053,20,2053,28],[2053,29,2053,39],[2053,40,2053,56],[2053,57,2053,60],[2050,1,2050,19],[2050,20,2050,28],[2050,29,2050,39],[2050,40,2050,56],[2050,57,2050,60],[2051,1,2051,19],[2051,20,2051,28],[2051,29,2051,39],[2051,40,2051,56],[2051,57,2051,60],[2048,1,2048,19],[2048,20,2048,28],[2048,29,2048,39],[2048,40,2048,56],[2048,57,2048,60],[2049,1,2049,19],[2049,20,2049,28],[2049,29,2049,39],[2049,40,2049,56],[2049,57,2049,60],[2047,1,2047,19],[2047,20,2047,28],[2047,29,2047,39],[2047,40,2047,56],[2047,57,2047,60],[2046,20,2046,28],[2046,1,2046,19],[2046,40,2046,56],[2046,57,2046,60],[2046,29,2046,39],[2041,57,2041,60],[2040,20,2040,28],[2040,29,2040,39],[2041,40,2041,56],[2045,40,2045,56],[2045,57,2045,60],[2042,40,2042,56],[2042,57,2042,60],[2044,20,2044,28],[2044,29,2044,39],[2043,29,2043,39],[2042,1,2042,19],[2042,20,2042,28],[2042,29,2042,39],[2045,1,2045,19],[2045,20,2045,28],[2045,29,2045,39],[2044,40,2044,56],[2043,40,2043,56],[2030,1,2030,19],[2030,20,2030,38],[2030,39,2030,55],[2030,56,2030,59],[2041,20,2041,28],[2033,5,2033,61],[2041,29,2041,39],[2041,1,2041,19],[2031,39,2031,55],[2040,40,2040,60],[2028,1,2028,19],[2028,20,2028,38],[2028,39,2028,55],[2028,56,2028,59],[2029,1,2029,19],[2029,20,2029,38],[2029,39,2029,55],[2029,56,2029,59],[2040,1,2040,19],[2034,4,2034,61],[2026,1,2026,19],[2026,20,2026,38],[2026,39,2026,55],[2026,56,2026,59],[2027,1,2027,19],[2027,20,2027,38],[2027,39,2027,55],[2027,56,2027,59],[2024,1,2024,19],[2024,20,2024,38],[2024,39,2024,55],[2024,56,2024,59],[2025,1,2025,19]],"merged_total":6443,"flags":["merged_cut"]}
[null,"特定－第４表　事業者の過去５年度間のエネルギーの使用に係る原単位及び電気需要平準化評価原単位の変化状況"]
[]
[]
[null,"１　エネルギーの使用に係る原単位"]
[]
[null,null,null,null,null,null,null,null,null,null,null,null,{"$f":"IF(AU6=\"\",\"\",\"平成\"&(AU6-4))","v":"平成23"},null,null,null,"年度",null,null,null,{"$f":"IF(AU6=\"\",\"\",\"平成\"&(AU6-3))","v":"平成24"},null,null,null,"年度",null,null,{"$f":"IF(AU6=\"\",\"\",\"平成\"&(AU6-2))","v":"平成25"},null,null,null,null,"年度",null,null,{"$f":"IF(AU6=\"\",\"\",\"平成\"&(AU6-1))","v":"平成26"},null,null,null,null,"年度",null,null,"平成",null,null,{"$f":"IF('特定-第１・２表'!BK152=0,\"\",('特定-第１・２表'!BK152))","v":27},null,"年度",null,null,"５年度間\n平均原単位変化"]
[null,"エネルギーの使用に係る原単位",null,null,null,null,null,null,null,null,null,null,{"$f":"IF(BO8=FALSE,IF(入力・計算補助!D17=\"\",\"\",入力・計算補助!D17),\"\")","v":"0.1078"},null,null,null,null,null,null,null,{"$f":"IF(BO8=FALSE,IF(入力・計算補助!G17=\"\",\"\",入力・計算補助!G17),\"\")","v":"0.1003"},null,null,null,null,null,null,{"$f":"IF(BO8=FALSE,IF(入力・計算補助!J17=\"\",\"\",入力・計算補助!J17),\"\")","v":"0.0826"},null,null,null,null,null,null,null,{"$f":"IF(BO8=FALSE,IF(入力・計算補助!M17=\"\",\"\",入力・計算補助!M17),\"\")","v":"0.0678"},null,null,null,null,null,null,null,{"$f":"IF('特定-第３表'!BA380=\"\",\"\",'特定-第３表'!BA380)","v":6.479E-2}]
[null,null,"対前年度比（％）",null,null,null,null,null,null,null,null,null,null,null,null,null,null,null,null,null,"Ⓙ",null,{"$f":"IF(ISERROR(U7/M7),\"\",U7/M7*100)","v":93.042671614100186},null,null,null,null,"Ⓚ",null,null,{"$f":"IF(ISERROR(AB7/U7),\"\",AB7/U7 *100)","v":82.352941176470594},null,null,null,null,"Ⓛ",null,{"$f":"IF(ISERROR(AJ7/AB7),\"\",AJ7/AB7 *100)","v":82.082324455205807},null,null,null,null,null,"Ⓜ",null,{"$f":"IF(OR(('特定-第３表'!BO381=\"-\"),(ISNUMBER('特定-第３表'!BO381)=FALSE)),IF(OR(('特定-第３表'!BO384=\"-\"),(ISNUMBER('特定-第３表'!BO384)=FALSE)),\"-\",'特定-第３表'!BO384*100),'特定-第３表'!BO381*100)","v":95.6},null,null,null,null,null,{"$f":"IF(ISERROR(W8*AE8*AL8*AT8)^(1/4),\"-\",(W8*AE8*AL8*AT8)^(1/4))","v":88.05767333545343},null,null,null,null,null,null,null,null,null,null,null,{"$f":"'特定-第３表'!BO384:BU384","v":{"$error":"#VALUE!"}},null,{"$f":"IF(AZ8=\"-\",0,AZ8)","v":88.05767333545343},{"$f":"'特定-第３表'!C7","v":false}]
[null,"備考",null,null,"特定－第３表１において事業分類ごとのエネルギーの使用に係る原単位の対前年度比の寄与度から",null,null,null,null,null,null,null,null,null,null,null,null,null,null,null,null,null,null,null,null,null,null,null,null,null,null,null,null,null,null,null,null,null,null,null,null,null,null,null,null,null,null,null,null,null,null,null,null,null,null,null,null,null,null,null,null,null,null,null,null,{"$f":"IF(AT8=\"-\",0,AT8)","v":95.6}]
[null,null,null,null,"「事業者全体のエネルギーの使用に係る原単位の対前年度比（％）Ⓩ」を求めた場合は、対前年度",null,null,null,null,null,null,null,null,null,null,null,null,null,null,null,null,null,null,null,null,null,null,null,null,null,null,null,null,null,null,null,null,null,null,null,null,null,null,null,null,null,null,null,null,null,null,null,null,null,null,null,null,null,null,null,null,null,null,{"$f":"IF('特定-第３表'!BO384<>\"\",'特定-第３表'!BO384,'特定-第３表'!BO381)","v":0.96000000000000008}]
[null,null,null,null,"比(％）のみ記入する。"]
[null,null,null,null,null,null,null,null,null,null,null,null,null,null,null,null,null,null,null,null,null,null,null,null,null,null,null,null,null,null,null,null,null,null,null,null,null,null,null,null,null,null,null,null,null,null,null,null,null,null,null,null,null,null,null,null,null,null,null,null,null,null,null,{"$f":"IF(ISERROR(AR7/AJ7),\"-\",AR7/AJ7*100)","v":95.560471976401189},"←保存用"]
[]
[null,"２　電気需要平準化評価原単位"]
[]
[null,null,null,null,null,null,null,null,null,null,null,null,{"$f":"IF(AU16=\"\",\"\",\"平成\"&(AU16-4))","v":"平成23"},null,null,null,"年度",null,null,null,{"$f":"IF(AU16=\"\",\"\",\"平成\"&(AU16-3))","v":"平成24"},null,null,null,"年度",null,null,{"$f":"IF(AU16=\"\",\"\",\"平成\"&(AU16-2))","v":"平成25"},null,null,null,null,"年度",null,null,{"$f":"IF(AU16=\"\",\"\",\"平成\"&(AU16-1))","v":"平成26"},null,null,null,null,"年度",null,null,"平成",null,null,{"$f":"IF('特定-第１・２表'!BK152=0,\"\",('特定-第１・２表'!BK152))","v":27},null,"年度",null,null,"５年度間\n平均原単位変化"]
[null,"電気需要平準化評価原単位",null,null,null,null,null,null,null,null,null,null,{"$f":"IF(BO18=FALSE,IF(入力・計算補助!D22=\"\",\"\",入力・計算補助!D22),\"\")","v":""},null,null,null,null,null,null,null,{"$f":"IF(BO18=FALSE,IF(入力・計算補助!G22=\"\",\"\",入力・計算補助!G22),\"\")","v":""},null,null,null,null,null,null,{"$f":"IF(BO18=FALSE,IF(入力・計算補助!J22=\"\",\"\",入力・計算補助!J22),\"\")","v":""},null,null,null,null,null,null,null,{"$f":"IF(BO18=FALSE,IF(入力・計算補助!M22=\"\",\"\",入力・計算補助!M22),\"\")","v":"0.0800"},null,null,null,null,null,null,null,{"$f":"IF('特定-第３表'!BH761=\"\",\"\",'特定-第３表'!BH761)","v":7.6280000000000001E-2}]
[null,null,"対前年度比（％）",null,null,null,null,null,null,null,null,null,null,null,null,null,null,null,null,null,"Ⓙ'",null,{"$f":"IF(ISERROR(U17/M17),\"\",U17/M17*100)","v":""},null,null,null,null,"Ⓚ'",null,null,{"$f":"IF(ISERROR(AB17/U17),\"\",AB17/U17 *100)","v":""},null,null,null,null,"Ⓛ'",null,{"$f":"IF(ISERROR(AJ17/AB17),\"\",AJ17/AB17 *100)","v":""},null,null,null,null,null,"Ⓜ'",null,{"$f":"IF(OR(('特定-第３表'!BV762=\"-\"),(ISNUMBER('特定-第３表'!BV762)=FALSE)),IF(OR(('特定-第３表'!BV765=\"-\"),(ISNUMBER('特定-第３表'!BV765)=FALSE)),\"-\",'特定-第３表'!BV765*100),'特定-第３表'!BV762*100)","v":95.399999999999991},null,null,null,null,null,{"$f":"IF(ISERROR(W18*AE18*AL18*AT18)^(1/4),\"-\",(W18*AE18*AL18*AT18)^(1/4))","v":"-"},null,null,null,null,null,null,null,null,null,null,null,{"$f":"'特定-第３表'!BV765:CB765","v":{"$error":"#VALUE!"}},null,{"$f":"IF(AZ18=\"-\",0,AZ18)","v":0},{"$f":"'特定-第３表'!C7","v":false}]
[null,"備考",null,null,"特定－第３表２において事業分類ごとの電気需要平準化評価原単位の対前年度比の寄与度から「事業",null,null,null,null,null,null,null,null,null,null,null,null,null,null,null,null,null,null,null,null,null,null,null,null,null,null,null,null,null,null,null,null,null,null,null,null,null,null,null,null,null,null,null,null,null,null,null,null,null,null,null,null,null,null,null,null,null,null,null,null,{"$f":"IF(AT18=\"-\",0,AT18)","v":95.399999999999991}]
[null,null,null,null,"者全体の電気需要平準化評価原単位の対前年度比（％）Ⓩ'」を求めた場合は、対前年度比(％）のみ",null,null,null,null,null,null,null,null,null,null,null,null,null,null,null,null,null,null,null,null,null,null,null,null,null,null,null,null,null,null,null,null,null,null,null,null,null,null,null,null,null,null,null,null,null,null,null,null,null,null,null,null,null,null,null,null,null,null,{"$f":"IF('特定-第３表'!BV765<>\"\",'特定-第３表'!BV765,'特定-第３表'!BV762)","v":0.95600000000000007}]
[null,null,null,null,"記入する。"]
[null,null,null,null,null,null,null,null,null,null,null,null,null,null,null,null,null,null,null,null,null,null,null,null,null,null,null,null,null,null,null,null,null,null,null,null,null,null,null,null,null,null,null,null,null,null,null,null,null,null,null,null,null,null,null,null,null,null,null,null,null,null,null,{"$f":"IF(ISERROR(AR17/AJ17),\"-\",AR17/AJ17*100)","v":95.35},"←保存用"]
[]
[null,"特定‐第５表　エネルギーの使用に係る原単位及び電気需要平準化評価原単位が改善できなかった場合の理由"]
[]
[]
[null,"１　事業者の過去５年度間のエネルギーの使用に係る原単位が年平均１％以上改善できなかった場合（イ）\n　　又は事業者のエネルギーの使用に係る原単位が前年度に比べ改善できなかった場合（ロ）の理由"]
[]
[null,"（イ）の理由"]
[]
[]
[]
[]
[]
[]
[]
[]
[]
[]
[]
[]
[]
[]
[]
[]
[]
[]
[]
[]
[]
[]
[]
[]
[]
[]
[]
[]
[]
[]
[null,"（ロ）の理由"]
[]
[]
[]
[]
[]
[]
[]
[]
[]
[]
[]
[]
[]
[]
[]
[]
[]
[]
[]
[]
[]
[]
[]
[]
[]
[]
[]
[]
[]
[]
[null,"備考",null,null,"（イ）及び（ロ）共に該当する場合、双方記載すること。"]
[]
[]
[null,"２　事業者の過去５年度間の電気需要平準化評価原単位が年平均１％以上改善できなかった場合（ハ）又は\n　　事業者の電気需要平準化原単位が前年度に比べ改善できなかった場合（ニ）の理由"]
[]
[null,"（ハ）の理由"]
[]
[]
[]
[]
[]
[]
[]
[]
[]
[]
[]
[]
[]
[]
[]
[]
[]
[]
[]
[]
[]
[]
[]
[]
[]
[]
[]
[]
[]
[]
[null,"（ニ）の理由"]
[]
[]
[]
[]
[]
[]
[]
[]
[]
[]
[]
[]
[]
[]
[]
[]
[]
[]
[]
[]
[]
[]
[]
[]
[]
[]
[]
[]
[]
[]
[null,"備考",null,null,"（ハ）及び（ニ）共に該当する場合、双方記載すること。"]
[]
[null,"特定－第６表　ベンチマーク指標の状況（該当する事業者のみ記入）"]
[null,"区分",null,null,"対象となる事業の名称\n（セクター）",null,null,null,null,null,null,null,null,null,null,null,null,null,null,null,"ベンチマーク指標の状況\n（単位）",null,null,null,null,null,null,null,null,null,null,null,null,null,null,null,null,null,null,"対象事業のエネルギー使用量\n（原油換算ｋｌ）"]
[]
[]
[]
[]
[]
[]
[]
[]
[]
[]
[null,"備考",null,null,"「区分」の欄には、工場等におけるエネルギーの使用の合理化に関する事業者の判断の基準（平成２１年３月３１日経済産業省告示弟６６号）の別表弟６に規定する区分（１Ａから６Ｂまで）のいずれかを記入すること。"]
[]
[null,"特定－第７表　判断基準のベンチマークの状況に関し、参考となる情報"]
[]
[]
[]
[]
[]
[]
[]
[]
[]
[]
[]
[]
[]
[]
[]
[]
[]
[]
[]
[]
[]
[]
[]
[]
[]
[]
[]
[]
[]
[]
[]
[null,"特定－第８表　事業者のエネルギーの使用の合理化に関する判断の基準の遵守状況"]
[null,"ア．",null,"エネルギーの使用の合理化を図るための管理体制の整備状況",null,null,null,null,null,null,null,null,null,null,null,null,null,null,null,null,null,null,null,null,null,null,null,null,null,null,null,null,null,null,null,null,null,null,null,null,null,null,null,null,{"$f":"IF(COUNTIF(BK208:BK209,\"true\")=0,\"いずれかのチェックボックスにレ印を記入して下さい\",\"\")","v":""}]
[null,null,null,null,null,null,null,null,null,null,null,null,null,null,null,null,null,null,null,null,null,null,null,null,null,null,null,null,null,null,null,null,null,null,null,null,null,null,null,null,null,null,null,null,{"$f":"IF(COUNTIF(BK208:BK209,\"true\")>=2,\"レ印は一つだけ選択して下さい\",\"\")","v":""},null,null,null,null,null,null,null,null,null,null,null,null,null,null,null,null,null,true]
[null,null,null,null,null,null,null,null,null,null,null,null,null,null,null,null,null,null,null,null,null,null,null,null,null,null,null,null,null,null,null,null,null,null,null,null,null,null,null,null,null,null,null,"（整備完了予定年",null,null,null,null,null,null,null,null,null,null,null,null,"年度）",null,null,null,null,null,false]
[]
[null,null,null,null,null,null,null,null,null,null,null,null,null,null,null,null,null,null,null,null,null,null,null,null,null,null,null,null,null,null,null,null,null,null,null,null,null,null,null,null,null,null,null,null,{"$f":"IF(AND(COUNTIF(BK209,\"true\"),BC209<=0),\"整備予定年を記入して下さい\",\"\")","v":""}]
[null,"イ．",null,"エネルギー管理に係る責任者の配置状況",null,null,null,null,null,null,null,null,null,null,null,null,null,null,null,null,null,null,null,null,null,null,null,null,null,null,null,null,null,null,null,null,null,null,null,null,null,null,null,null,{"$f":"IF(COUNTIF(BK213:BK214,\"true\")=0,\"いずれかのチェックボックスにレ印を記入して下さい\",\"\")","v":""}]
[null,null,null,null,null,null,null,null,null,null,null,null,null,null,null,null,null,null,null,null,null,null,null,null,null,null,null,null,null,null,null,null,null,null,null,null,null,null,null,null,null,null,null,null,{"$f":"IF(COUNTIF(BK213:BK214,\"true\")>=2,\"レ印は一つだけ選択して下さい\",\"\")","v":""},null,null,null,null,null,null,null,null,null,null,null,null,null,null,null,null,null,true]
[null,null,null,null,null,null,null,null,null,null,null,null,null,null,null,null,null,null,null,null,null,null,null,null,null,null,null,null,null,null,null,null,null,null,null,null,null,null,null,null,null,null,null,null,null,null,null,null,null,null,null,null,null,null,null,null,null,null,null,null,null,null,false]
[]
[]
[null,"ウ．",null,"設置している工場等又は加盟している工場等におけるエネルギーの使用の合理化の取組方針（エネルギーの使用の合理化に関する目標、設備の新設及び更新に対する方針）（以下「取組方針」という。）の整備状況",null,null,null,null,null,null,null,null,null,null,null,null,null,null,null,null,null,null,null,null,null,null,null,null,null,null,null,null,null,null,null,null,null,null,null,null,null,null,null,null,{"$f":"IF(COUNTIF(BK218:BK220,\"true\")=0,\"いずれかのチェックボックスにレ印を記入して下さい\",\"\")","v":""}]
[null,null,null,null,null,null,null,null,null,null,null,null,null,null,null,null,null,null,null,null,null,null,null,null,null,null,null,null,null,null,null,null,null,null,null,null,null,null,null,null,null,null,null,null,{"$f":"IF(COUNTIF(BK218:BK220,\"true\")>=2,\"レ印は一つだけ選択して下さい\",\"\")","v":""},null,null,null,null,null,null,null,null,null,null,null,null,null,null,null,null,null,true]
[null,null,null,null,null,null,null,null,null,null,null,null,null,null,null,null,null,null,null,null,null,null,null,null,null,null,null,null,null,null,null,null,null,null,null,null,null,null,null,null,null,null,null,null,{"$f":"IF(AND(COUNTIF(BK220,\"true\"),BC220<=0),\"整備予定年を記入して下さい\",\"\")","v":""},null,null,null,null,null,null,null,null,null,null,null,null,null,null,null,null,null,false]
[null,null,null,null,null,null,null,null,null,null,null,null,null,null,null,null,null,null,null,null,null,null,null,null,null,null,null,null,null,null,null,null,null,null,null,null,null,null,null,null,null,null,null,"（整備完了予定年",null,null,null,null,null,null,null,null,null,null,null,null,"年度）",null,null,null,null,null,false]
[]
[null,"エ．",null,"設置している工場等又は加盟している工場等における取組方針の遵守確認及び評価状況（評価結果が不十分である場合には、その改善の状況）",null,null,null,null,null,null,null,null,null,null,null,null,null,null,null,null,null,null,null,null,null,null,null,null,null,null,null,null,null,null,null,null,null,null,null,null,null,null,null,null,{"$f":"IF(COUNTIF(BK223:BK225,\"true\")=0,\"いずれかのチェックボックスにレ印を記入して下さい\",\"\")","v":""}]
[null,null,null,null,null,null,null,null,null,null,null,null,null,null,null,null,null,null,null,null,null,null,null,null,null,null,null,null,null,null,null,null,null,null,null,null,null,null,null,null,null,null,null,null,{"$f":"IF(COUNTIF(BK223:BK225,\"true\")>=2,\"レ印は一つだけ選択して下さい\",\"\")","v":""},null,null,null,null,null,null,null,null,null,null,null,null,null,null,null,null,null,false]
[null,null,null,null,null,null,null,null,null,null,null,null,null,null,null,null,null,null,null,null,null,null,null,null,null,null,null,null,null,null,null,null,null,null,null,null,null,null,null,null,null,null,null,null,null,null,null,null,null,null,null,null,null,null,null,null,null,null,null,null,null,null,true]
[null,null,null,null,null,null,null,null,null,null,null,null,null,null,null,null,null,null,null,null,null,null,null,null,null,null,null,null,null,null,null,null,null,null,null,null,null,null,null,null,null,null,null,null,null,null,null,null,null,null,null,null,null,null,null,null,null,null,null,null,null,null,false]
[]
[null,"オ．",null,"取組方針及び遵守状況の評価手法の精査、必要に応じた変更の状況",null,null,null,null,null,null,null,null,null,null,null,null,null,null,null,null,null,null,null,null,null,null,null,null,null,null,null,null,null,null,null,null,null,null,null,null,null,null,null,null,{"$f":"IF(COUNTIF(BK228:BK230,\"true\")=0,\"いずれかのチェックボックスにレ印を記入して下さい\",\"\")","v":""}]
[null,null,null,null,null,null,null,null,null,null,null,null,null,null,null,null,null,null,null,null,null,null,null,null,null,null,null,null,null,null,null,null,null,null,null,null,null,null,null,null,null,null,null,null,{"$f":"IF(COUNTIF(BK228:BK230,\"true\")>=2,\"レ印は一つだけ選択して下さい\",\"\")","v":""},null,null,null,null,null,null,null,null,null,null,null,null,null,null,null,null,null,false]
[null,null,null,null,null,null,null,null,null,null,null,null,null,null,null,null,null,null,null,null,null,null,null,null,null,null,null,null,null,null,null,null,null,null,null,null,null,null,null,null,null,null,null,null,null,null,null,null,null,null,null,null,null,null,null,null,null,null,null,null,null,null,false]
[null,null,null,null,null,null,null,null,null,null,null,null,null,null,null,null,null,null,null,null,null,null,null,null,null,null,null,null,null,null,null,null,null,null,null,null,null,null,null,null,null,null,null,null,null,null,null,null,null,null,null,null,null,null,null,null,null,null,null,null,null,null,true]
[]
[null,"カ．",null,"エネルギーの使用の合理化を図るために必要な資金・人材の確保の実施状況",null,null,null,null,null,null,null,null,null,null,null,null,null,null,null,null,null,null,null,null,null,null,null,null,null,null,null,null,null,null,null,null,null,null,null,null,null,null,null,null,{"$f":"IF(COUNTIF(BK233:BK235,\"true\")=0,\"いずれかのチェックボックスにレ印を記入して下さい\",\"\")","v":""}]
[null,null,null,null,null,null,null,null,null,null,null,null,null,null,null,null,null,null,null,null,null,null,null,null,null,null,null,null,null,null,null,null,null,null,null,null,null,null,null,null,null,null,null,null,{"$f":"IF(COUNTIF(BK233:BK235,\"true\")>=2,\"レ印は一つだけ選択して下さい\",\"\")","v":""},null,null,null,null,null,null,null,null,null,null,null,null,null,null,null,null,null,false]
[null,null,null,null,null,null,null,null,null,null,null,null,null,null,null,null,null,null,null,null,null,null,null,null,null,null,null,null,null,null,null,null,null,null,null,null,null,null,null,null,null,null,null,null,null,null,null,null,null,null,null,null,null,null,null,null,null,null,null,null,null,null,true]
[null,null,null,null,null,null,null,null,null,null,null,null,null,null,null,null,null,null,null,null,null,null,null,null,null,null,null,null,null,null,null,null,null,null,null,null,null,null,null,null,null,null,null,null,null,null,null,null,null,null,null,null,null,null,null,null,null,null,null,null,null,null,false]
[]
[null,"キ．",null,"設置している工場等又は加盟している工場等における従業員への取組方針の周知の実施状況及びエネルギーの使用の合理化に関する教育の実施状況",null,null,null,null,null,null,null,null,null,null,null,null,null,null,null,null,null,null,null,null,null,null,null,null,null,null,null,null,null,null,null,null,null,null,null,null,null,null,null,null,{"$f":"IF(COUNTIF(BK238:BK240,\"true\")=0,\"いずれかのチェックボックスにレ印を記入して下さい\",\"\")","v":""}]
[null,null,null,null,null,null,null,null,null,null,null,null,null,null,null,null,null,null,null,null,null,null,null,null,null,null,null,null,null,null,null,null,null,null,null,null,null,null,null,null,null,null,null,null,{"$f":"IF(COUNTIF(BK238:BK240,\"true\")>=2,\"レ印は一つだけ選択して下さい\",\"\")","v":""},null,null,null,null,null,null,null,null,null,null,null,null,null,null,null,null,null,false]
[null,null,null,null,null,null,null,null,null,null,null,null,null,null,null,null,null,null,null,null,null,null,null,null,null,null,null,null,null,null,null,null,null,null,null,null,null,null,null,null,null,null,null,null,null,null,null,null,null,null,null,null,null,null,null,null,null,null,null,null,null,null,true]
[null,null,null,null,null,null,null,null,null,null,null,null,null,null,null,null,null,null,null,null,null,null,null,null,null,null,null,null,null,null,null,null,null,null,null,null,null,null,null,null,null,null,null,null,null,null,null,null,null,null,null,null,null,null,null,null,null,null,null,null,null,null,false]
[]
[null,"ク．",null,"設置している工場等又は加盟している工場等に係る名称、所在地及びエネルギー使用量を記載した書面並びにア．の管理体制、ウ．の取組方針及びエ．の遵守状況・評価結果を記載した書面の作成、更新、保管状況",null,null,null,null,null,null,null,null,null,null,null,null,null,null,null,null,null,null,null,null,null,null,null,null,null,null,null,null,null,null,null,null,null,null,null,null,null,null,null,null,{"$f":"IF(COUNTIF(BK243:BK245,\"true\")=0,\"いずれかのチェックボックスにレ印を記入して下さい\",\"\")","v":""}]
[null,null,null,null,null,null,null,null,null,null,null,null,null,null,null,null,null,null,null,null,null,null,null,null,null,null,null,null,null,null,null,null,null,null,null,null,null,null,null,null,null,null,null,null,{"$f":"IF(COUNTIF(BK243:BK245,\"true\")>=2,\"レ印は一つだけ選択して下さい\",\"\")","v":""},null,null,null,null,null,null,null,null,null,null,null,null,null,null,null,null,null,false]
[null,null,null,null,null,null,null,null,null,null,null,null,null,null,null,null,null,null,null,null,null,null,null,null,null,null,null,null,null,null,null,null,null,null,null,null,null,null,null,null,null,null,null,null,{"$f":"IF(AND(COUNTIF(BK245,\"true\"),BC245<=0),\"整備予定年を記入して下さい\",\"\")","v":""},null,null,null,null,null,null,null,null,null,null,null,null,null,null,null,null,null,true]
[null,null,null,null,null,null,null,null,null,null,null,null,null,null,null,null,null,null,null,null,null,null,null,null,null,null,null,null,null,null,null,null,null,null,null,null,null,null,null,null,null,null,null,"（整備完了予定年",null,null,null,null,null,null,null,null,null,null,null,null,"年度）",null,null,null,null,null,false]
[]
[]
[]
[null,"特定－第９表　その他事業者が実施した措置"]
[]
[null,"１　エネルギーの使用の合理化に関する事項"]
[null,"措置の概要"]
[null,null,"平成２６年度は、１３店舗の電灯を高効率電灯（LED）に変更を実施した。"]
[null,null,"管理事務所を含む８事務所に関しては、夏季２８℃、冬季２５℃の空調温度にするよう指導した。"]
[]
[]
[]
[]
[]
[]
[]
[]
[]
[]
[]
[]
[]
[]
[]
[]
[]
[]
[]
[]
[]
[]
[]
[]
[]
[]
[]
[]
[]
[null,"２　電気の需要の平準化に資する措置に関する事項"]
[null,"措置の概要"]
[null,null,"平成２６年度は、１３店舗の電灯を高効率電灯（LED）に変更を実施した。"]
[null,null,"管理事務所を含む８事務所に関しては、夏季２８℃、冬季２５℃の空調温度にするよう指導した。"]
[]
[]
[]
[]
[]
[]
[]
[]
[]
[]
[]
[]
[]
[]
[]
[]
[]
[]
[]
[]
[]
[]
[]
[]
[]
[]
[]
[]
[]
[]
[null,"特定‐第１０表 事業者の設置する工場等のうちエネルギー管理指定工場等の一覧"]
[]
[]
[]
[null,"現在の指定区分\n（指定区分に変更がある場合には、\n□を■とする）",null,null,null,null,null,null,null,null,null,null,null,null,null,"エネルギー管理\n指定工場等番号",null,null,null,null,null,null,"工場等の名称",null,null,null,null,null,null,null,null,null,"工場等の所在地",null,null,null,null,null,null,null,null,null,null,null,null,null,"日本標準産業分類に\nおける細分類番号",null,null,null,null,null,null,null,"工場等に係る\n事業の名称"]
[]
[]
[null,"第",null,null,null,null,null,null,null,"種",null,null,null,null,null,null,null,null,null,null,null,null,null,null,null,null,null,null,null,null,null,null,"〒",null,null,null,null,null,null,null,null,null,null,null,null,null,null,null,null,null,null,null,null,null,{"$f":"IF(AU325&AW325&AY325&BA325=\"\",\"\",(IF(ISERROR(VLOOKUP(AU325&AW325&AY325&BA325,日本標準産業分類!A:B,2,FALSE)),\"該当の細分類がありません\",VLOOKUP(AU325&AW325&AY325&BA325,日本標準産業分類!A:B,2,FALSE))))","v":""}]
[null,"（ 指定区分の変更手続きが必要 □ ）"]
[null,null,null,null,null,null,null,null,null,null,null,null,null,null,null,null,null,null,null,null,null,null,null,null,null,null,null,null,null,null,null,null,null,null,null,null,null,null,null,null,null,null,null,null,null,null,null,null,null,null,null,null,null,null,{"$f":"IF(BC329&BE329&BG329&BI329=\"\",\"\",(IF(ISERROR(VLOOKUP(BC329&BE329&BG329&BI329,日本標準産業分類!AT:AU,2,FALSE)),\"該当の細分類がありません\",VLOOKUP(BC329&BE329&BG329&BI329,日本標準産業分類!AT:AU,2,FALSE))))","v":""},null,null,null,null,null,null,null,false]
[]
[null,"第",null,null,null,null,null,null,null,"種",null,null,null,null,null,null,null,null,null,null,null,null,null,null,null,null,null,null,null,null,null,null,"〒",null,null,null,null,null,null,null,null,null,null,null,null,null,null,null,null,null,null,null,null,null,{"$f":"IF(AU329&AW329&AY329&BA329=\"\",\"\",(IF(ISERROR(VLOOKUP(AU329&AW329&AY329&BA329,日本標準産業分類!A:B,2,FALSE)),\"該当の細分類がありません\",VLOOKUP(AU329&AW329&AY329&BA329,日本標準産業分類!A:B,2,FALSE))))","v":""}]
[null,"（ 指定区分の変更手続きが必要 □ ）"]
[null,null,null,null,null,null,null,null,null,null,null,null,null,null,null,null,null,null,null,null,null,null,null,null,null,null,null,null,null,null,null,null,null,null,null,null,null,null,null,null,null,null,null,null,null,null,null,null,null,null,null,null,null,null,{"$f":"IF(BC333&BE333&BG333&BI333=\"\",\"\",(IF(ISERROR(VLOOKUP(BC333&BE333&BG333&BI333,日本標準産業分類!AT:AU,2,FALSE)),\"該当の細分類がありません\",VLOOKUP(BC333&BE333&BG333&BI333,日本標準産業分類!AT:AU,2,FALSE))))","v":""},null,null,null,null,null,null,null,false]
[]
[null,"第",null,null,null,null,null,null,null,"種",null,null,null,null,null,null,null,null,null,null,null,null,null,null,null,null,null,null,null,null,null,null,"〒",null,null,null,null,null,null,null,null,null,null,null,null,null,null,null,null,null,null,null,null,null,{"$f":"IF(AU333&AW333&AY333&BA333=\"\",\"\",(IF(ISERROR(VLOOKUP(AU333&AW333&AY333&BA333,日本標準産業分類!A:B,2,FALSE)),\"該当の細分類がありません\",VLOOKUP(AU333&AW333&AY333&BA333,日本標準産業分類!A:B,2,FALSE))))","v":""}]
[null,"（ 指定区分の変更手続きが必要 □ ）"]
[null,null,null,null,null,null,null,null,null,null,null,null,null,null,null,null,null,null,null,null,null,null,null,null,null,null,null,null,null,null,null,null,null,null,null,null,null,null,null,null,null,null,null,null,null,null,null,null,null,null,null,null,null,null,{"$f":"IF(BC337&BE337&BG337&BI337=\"\",\"\",(IF(ISERROR(VLOOKUP(BC337&BE337&BG337&BI337,日本標準産業分類!AT:AU,2,FALSE)),\"該当の細分類がありません\",VLOOKUP(BC337&BE337&BG337&BI337,日本標準産業分類!AT:AU,2,FALSE))))","v":""},null,null,null,null,null,null,null,false]
[]
[null,"第",null,null,null,null,null,null,null,"種",null,null,null,null,null,null,null,null,null,null,null,null,null,null,null,null,null,null,null,null,null,null,"〒",null,null,null,null,null,null,null,null,null,null,null,null,null,null,null,null,null,null,null,null,null,{"$f":"IF(AU337&AW337&AY337&BA337=\"\",\"\",(IF(ISERROR(VLOOKUP(AU337&AW337&AY337&BA337,日本標準産業分類!A:B,2,FALSE)),\"該当の細分類がありません\",VLOOKUP(AU337&AW337&AY337&BA337,日本標準産業分類!A:B,2,FALSE))))","v":""}]
[null,"（ 指定区分の変更手続きが必要 □ ）"]
[null,null,null,null,null,null,null,null,null,null,null,null,null,null,null,null,null,null,null,null,null,null,null,null,null,null,null,null,null,null,null,null,null,null,null,null,null,null,null,null,null,null,null,null,null,null,null,null,null,null,null,null,null,null,{"$f":"IF(BC341&BE341&BG341&BI341=\"\",\"\",(IF(ISERROR(VLOOKUP(BC341&BE341&BG341&BI341,日本標準産業分類!AT:AU,2,FALSE)),\"該当の細分類がありません\",VLOOKUP(BC341&BE341&BG341&BI341,日本標準産業分類!AT:AU,2,FALSE))))","v":""},null,null,null,null,null,null,null,false]
[]
[null,"第",null,null,null,null,null,null,null,"種",null,null,null,null,null,null,null,null,null,null,null,null,null,null,null,null,null,null,null,null,null,null,"〒",null,null,null,null,null,null,null,null,null,null,null,null,null,null,null,null,null,null,null,null,null,{"$f":"IF(AU341&AW341&AY341&BA341=\"\",\"\",(IF(ISERROR(VLOOKUP(AU341&AW341&AY341&BA341,日本標準産業分類!A:B,2,FALSE)),\"該当の細分類がありません\",VLOOKUP(AU341&AW341&AY341&BA341,日本標準産業分類!A:B,2,FALSE))))","v":""}]
[null,"（ 指定区分の変更手続きが必要 □ ）"]
[null,null,null,null,null,null,null,null,null,null,null,null,null,null,null,null,null,null,null,null,null,null,null,null,null,null,null,null,null,null,null,null,null,null,null,null,null,null,null,null,null,null,null,null,null,null,null,null,null,null,null,null,null,null,{"$f":"IF(BC345&BE345&BG345&BI345=\"\",\"\",(IF(ISERROR(VLOOKUP(BC345&BE345&BG345&BI345,日本標準産業分類!AT:AU,2,FALSE)),\"該当の細分類がありません\",VLOOKUP(BC345&BE345&BG345&BI345,日本標準産業分類!AT:AU,2,FALSE))))","v":""},null,null,null,null,null,null,null,false]
[]
[null,"第",null,null,null,null,null,null,null,"種",null,null,null,null,null,null,null,null,null,null,null,null,null,null,null,null,null,null,null,null,null,null,"〒",null,null,null,null,null,null,null,null,null,null,null,null,null,null,null,null,null,null,null,null,null,{"$f":"IF(AU345&AW345&AY345&BA345=\"\",\"\",(IF(ISERROR(VLOOKUP(AU345&AW345&AY345&BA345,日本標準産業分類!A:B,2,FALSE)),\"該当の細分類がありません\",VLOOKUP(AU345&AW345&AY345&BA345,日本標準産業分類!A:B,2,FALSE))))","v":""}]
[null,"（ 指定区分の変更手続きが必要 □ ）"]
[null,null,null,null,null,null,null,null,null,null,null,null,null,null,null,null,null,null,null,null,null,null,null,null,null,null,null,null,null,null,null,null,null,null,null,null,null,null,null,null,null,null,null,null,null,null,null,null,null,null,null,null,null,null,{"$f":"IF(BC349&BE349&BG349&BI349=\"\",\"\",(IF(ISERROR(VLOOKUP(BC349&BE349&BG349&BI349,日本標準産業分類!AT:AU,2,FALSE)),\"該当の細分類がありません\",VLOOKUP(BC349&BE349&BG349&BI349,日本標準産業分類!AT:AU,2,FALSE))))","v":""},null,null,null,null,null,null,null,false]
[]
[null,"第",null,null,null,null,null,null,null,"種",null,null,null,null,null,null,null,null,null,null,null,null,null,null,null,null,null,null,null,null,null,null,"〒",null,null,null,null,null,null,null,null,null,null,null,null,null,null,null,null,null,null,null,null,null,{"$f":"IF(AU349&AW349&AY349&BA349=\"\",\"\",(IF(ISERROR(VLOOKUP(AU349&AW349&AY349&BA349,日本標準産業分類!A:B,2,FALSE)),\"該当の細分類がありません\",VLOOKUP(AU349&AW349&AY349&BA349,日本標準産業分類!A:B,2,FALSE))))","v":""}]
[null,"（ 指定区分の変更手続きが必要 □ ）"]
[null,null,null,null,null,null,null,null,null,null,null,null,null,null,null,null,null,null,null,null,null,null,null,null,null,null,null,null,null,null,null,null,null,null,null,null,null,null,null,null,null,null,null,null,null,null,null,null,null,null,null,null,null,null,{"$f":"IF(BC353&BE353&BG353&BI353=\"\",\"\",(IF(ISERROR(VLOOKUP(BC353&BE353&BG353&BI353,日本標準産業分類!AT:AU,2,FALSE)),\"該当の細分類がありません\",VLOOKUP(BC353&BE353&BG353&BI353,日本標準産業分類!AT:AU,2,FALSE))))","v":""},null,null,null,null,null,null,null,false]
[]
[null,"第",null,null,null,null,null,null,null,"種",null,null,null,null,null,null,null,null,null,null,null,null,null,null,null,null,null,null,null,null,null,null,"〒",null,null,null,null,null,null,null,null,null,null,null,null,null,null,null,null,null,null,null,null,null,{"$f":"IF(AU353&AW353&AY353&BA353=\"\",\"\",(IF(ISERROR(VLOOKUP(AU353&AW353&AY353&BA353,日本標準産業分類!A:B,2,FALSE)),\"該当の細分類がありません\",VLOOKUP(AU353&AW353&AY353&BA353,日本標準産業分類!A:B,2,FALSE))))","v":""}]
[null,"（ 指定区分の変更手続きが必要 □ ）"]
[null,null,null,null,null,null,null,null,null,null,null,null,null,null,null,null,null,null,null,null,null,null,null,null,null,null,null,null,null,null,null,null,null,null,null,null,null,null,null,null,null,null,null,null,null,null,null,null,null,null,null,null,null,null,{"$f":"IF(BC357&BE357&BG357&BI357=\"\",\"\",(IF(ISERROR(VLOOKUP(BC357&BE357&BG357&BI357,日本標準産業分類!AT:AU,2,FALSE)),\"該当の細分類がありません\",VLOOKUP(BC357&BE357&BG357&BI357,日本標準産業分類!AT:AU,2,FALSE))))","v":""},null,null,null,null,null,null,null,false]
[]
[null,"第",null,null,null,null,null,null,null,"種",null,null,null,null,null,null,null,null,null,null,null,null,null,null,null,null,null,null,null,null,null,null,"〒",null,null,null,null,null,null,null,null,null,null,null,null,null,null,null,null,null,null,null,null,null,{"$f":"IF(AU357&AW357&AY357&BA357=\"\",\"\",(IF(ISERROR(VLOOKUP(AU357&AW357&AY357&BA357,日本標準産業分類!A:B,2,FALSE)),\"該当の細分類がありません\",VLOOKUP(AU357&AW357&AY357&BA357,日本標準産業分類!A:B,2,FALSE))))","v":""}]
[null,"（ 指定区分の変更手続きが必要 □ ）"]
[null,null,null,null,null,null,null,null,null,null,null,null,null,null,null,null,null,null,null,null,null,null,null,null,null,null,null,null,null,null,null,null,null,null,null,null,null,null,null,null,null,null,null,null,null,null,null,null,null,null,null,null,null,null,{"$f":"IF(BC361&BE361&BG361&BI361=\"\",\"\",(IF(ISERROR(VLOOKUP(BC361&BE361&BG361&BI361,日本標準産業分類!AT:AU,2,FALSE)),\"該当の細分類がありません\",VLOOKUP(BC361&BE361&BG361&BI361,日本標準産業分類!AT:AU,2,FALSE))))","v":""},null,null,null,null,null,null,null,false]
[]
[null,"第",null,null,null,null,null,null,null,"種",null,null,null,null,null,null,null,null,null,null,null,null,null,null,null,null,null,null,null,null,null,null,"〒",null,null,null,null,null,null,null,null,null,null,null,null,null,null,null,null,null,null,null,null,null,{"$f":"IF(AU361&AW361&AY361&BA361=\"\",\"\",(IF(ISERROR(VLOOKUP(AU361&AW361&AY361&BA361,日本標準産業分類!A:B,2,FALSE)),\"該当の細分類がありません\",VLOOKUP(AU361&AW361&AY361&BA361,日本標準産業分類!A:B,2,FALSE))))","v":""}]
[null,"（ 指定区分の変更手続きが必要 □ ）"]
[null,null,null,null,null,null,null,null,null,null,null,null,null,null,null,null,null,null,null,null,null,null,null,null,null,null,null,null,null,null,null,null,null,null,null,null,null,null,null,null,null,null,null,null,null,null,null,null,null,null,null,null,null,null,{"$f":"IF(BC365&BE365&BG365&BI365=\"\",\"\",(IF(ISERROR(VLOOKUP(BC365&BE365&BG365&BI365,日本標準産業分類!AT:AU,2,FALSE)),\"該当の細分類がありません\",VLOOKUP(BC365&BE365&BG365&BI365,日本標準産業分類!AT:AU,2,FALSE))))","v":""},null,null,null,null,null,null,null,false]
[]
[null,"第",null,null,null,null,null,null,null,"種",null,null,null,null,null,null,null,null,null,null,null,null,null,null,null,null,null,null,null,null,null,null,"〒",null,null,null,null,null,null,null,null,null,null,null,null,null,null,null,null,null,null,null,null,null,{"$f":"IF(AU365&AW365&AY365&BA365=\"\",\"\",(IF(ISERROR(VLOOKUP(AU365&AW365&AY365&BA365,日本標準産業分類!A:B,2,FALSE)),\"該当の細分類がありません\",VLOOKUP(AU365&AW365&AY365&BA365,日本標準産業分類!A:B,2,FALSE))))","v":""}]
[null,"（ 指定区分の変更手続きが必要 □ ）"]
[null,null,null,null,null,null,null,null,null,null,null,null,null,null,null,null,null,null,null,null,null,null,null,null,null,null,null,null,null,null,null,null,null,null,null,null,null,null,null,null,null,null,null,null,null,null,null,null,null,null,null,null,null,null,{"$f":"IF(BC369&BE369&BG369&BI369=\"\",\"\",(IF(ISERROR(VLOOKUP(BC369&BE369&BG369&BI369,日本標準産業分類!AT:AU,2,FALSE)),\"該当の細分類がありません\",VLOOKUP(BC369&BE369&BG369&BI369,日本標準産業分類!AT:AU,2,FALSE))))","v":""},null,null,null,null,null,null,null,false]
[]
[null,"第",null,null,null,null,null,null,null,"種",null,null,null,null,null,null,null,null,null,null,null,null,null,null,null,null,null,null,null,null,null,null,"〒",null,null,null,null,null,null,null,null,null,null,null,null,null,null,null,null,null,null,null,null,null,{"$f":"IF(AU369&AW369&AY369&BA369=\"\",\"\",(IF(ISERROR(VLOOKUP(AU369&AW369&AY369&BA369,日本標準産業分類!A:B,2,FALSE)),\"該当の細分類がありません\",VLOOKUP(AU369&AW369&AY369&BA369,日本標準産業分類!A:B,2,FALSE))))","v":""}]
[null,"（ 指定区分の変更手続きが必要 □ ）"]
[null,null,null,null,null,null,null,null,null,null,null,null,null,null,null,null,null,null,null,null,null,null,null,null,null,null,null,null,null,null,null,null,null,null,null,null,null,null,null,null,null,null,null,null,null,null,null,null,null,null,null,null,null,null,{"$f":"IF(BC373&BE373&BG373&BI373=\"\",\"\",(IF(ISERROR(VLOOKUP(BC373&BE373&BG373&BI373,日本標準産業分類!AT:AU,2,FALSE)),\"該当の細分類がありません\",VLOOKUP(BC373&BE373&BG373&BI373,日本標準産業分類!AT:AU,2,FALSE))))","v":""},null,null,null,null,null,null,null,false]
[]
[null,"第",null,null,null,null,null,null,null,"種",null,null,null,null,null,null,null,null,null,null,null,null,null,null,null,null,null,null,null,null,null,null,"〒",null,null,null,null,null,null,null,null,null,null,null,null,null,null,null,null,null,null,null,null,null,{"$f":"IF(AU373&AW373&AY373&BA373=\"\",\"\",(IF(ISERROR(VLOOKUP(AU373&AW373&AY373&BA373,日本標準産業分類!A:B,2,FALSE)),\"該当の細分類がありません\",VLOOKUP(AU373&AW373&AY373&BA373,日本標準産業分類!A:B,2,FALSE))))","v":""}]
[null,"（ 指定区分の変更手続きが必要 □ ）"]
[null,null,null,null,null,null,null,null,null,null,null,null,null,null,null,null,null,null,null,null,null,null,null,null,null,null,null,null,null,null,null,null,null,null,null,null,null,null,null,null,null,null,null,null,null,null,null,null,null,null,null,null,null,null,{"$f":"IF(BC377&BE377&BG377&BI377=\"\",\"\",(IF(ISERROR(VLOOKUP(BC377&BE377&BG377&BI377,日本標準産業分類!AT:AU,2,FALSE)),\"該当の細分類がありません\",VLOOKUP(BC377&BE377&BG377&BI377,日本標準産業分類!AT:AU,2,FALSE))))","v":""},null,null,null,null,null,null,null,false]
[]
[null,"第",null,null,null,null,null,null,null,"種",null,null,null,null,null,null,null,null,null,null,null,null,null,null,null,null,null,null,null,null,null,null,"〒",null,null,null,null,null,null,null,null,null,null,null,null,null,null,null,null,null,null,null,null,null,{"$f":"IF(AU377&AW377&AY377&BA377=\"\",\"\",(IF(ISERROR(VLOOKUP(AU377&AW377&AY377&BA377,日本標準産業分類!A:B,2,FALSE)),\"該当の細分類がありません\",VLOOKUP(AU377&AW377&AY377&BA377,日本標準産業分類!A:B,2,FALSE))))","v":""}]
[null,"（ 指定区分の変更手続きが必要 □ ）"]
[null,null,null,null,null,null,null,null,null,null,null,null,null,null,null,null,null,null,null,null,null,null,null,null,null,null,null,null,null,null,null,null,null,null,null,null,null,null,null,null,null,null,null,null,null,null,null,null,null,null,null,null,null,null,{"$f":"IF(BC381&BE381&BG381&BI381=\"\",\"\",(IF(ISERROR(VLOOKUP(BC381&BE381&BG381&BI381,日本標準産業分類!AT:AU,2,FALSE)),\"該当の細分類がありません\",VLOOKUP(BC381&BE381&BG381&BI381,日本標準産業分類!AT:AU,2,FALSE))))","v":""},null,null,null,null,null,null,null,false]
[]
[null,"第",null,null,null,null,null,null,null,"種",null,null,null,null,null,null,null,null,null,null,null,null,null,null,null,null,null,null,null,null,null,null,"〒",null,null,null,null,null,null,null,null,null,null,null,null,null,null,null,null,null,null,null,null,null,{"$f":"IF(AU381&AW381&AY381&BA381=\"\",\"\",(IF(ISERROR(VLOOKUP(AU381&AW381&AY381&BA381,日本標準産業分類!A:B,2,FALSE)),\"該当の細分類がありません\",VLOOKUP(AU381&AW381&AY381&BA381,日本標準産業分類!A:B,2,FALSE))))","v":""}]
[null,"（ 指定区分の変更手続きが必要 □ ）"]
[null,null,null,null,null,null,null,null,null,null,null,null,null,null,null,null,null,null,null,null,null,null,null,null,null,null,null,null,null,null,null,null,null,null,null,null,null,null,null,null,null,null,null,null,null,null,null,null,null,null,null,null,null,null,{"$f":"IF(BC385&BE385&BG385&BI385=\"\",\"\",(IF(ISERROR(VLOOKUP(BC385&BE385&BG385&BI385,日本標準産業分類!AT:AU,2,FALSE)),\"該当の細分類がありません\",VLOOKUP(BC385&BE385&BG385&BI385,日本標準産業分類!AT:AU,2,FALSE))))","v":""},null,null,null,null,null,null,null,false]
[]
[null,"第",null,null,null,null,null,null,null,"種",null,null,null,null,null,"",null,null,null,null,null,null,null,null,null,null,null,null,null,null,null,null,"〒",null,null,null,null,null,null,null,null,null,null,null,null,null,null,null,null,null,null,null,null,null,{"$f":"IF(AU385&AW385&AY385&BA385=\"\",\"\",(IF(ISERROR(VLOOKUP(AU385&AW385&AY385&BA385,日本標準産業分類!A:B,2,FALSE)),\"該当の細分類がありません\",VLOOKUP(AU385&AW385&AY385&BA385,日本標準産業分類!A:B,2,FALSE))))","v":""}]
[null,"（ 指定区分の変更手続きが必要 □ ）"]
[null,null,null,null,null,null,null,null,null,null,null,null,null,null,null,null,null,null,null,null,null,null,null,null,null,null,null,null,null,null,null,null,null,null,null,null,null,null,null,null,null,null,null,null,null,null,null,null,null,null,null,null,null,null,{"$f":"IF(BC389&BE389&BG389&BI389=\"\",\"\",(IF(ISERROR(VLOOKUP(BC389&BE389&BG389&BI389,日本標準産業分類!AT:AU,2,FALSE)),\"該当の細分類がありません\",VLOOKUP(BC389&BE389&BG389&BI389,日本標準産業分類!AT:AU,2,FALSE))))","v":""},null,null,null,null,null,null,null,false]
[]
[null,"第",null,null,null,null,null,null,null,"種",null,null,null,null,null,"",null,null,null,null,null,null,null,null,null,null,null,null,null,null,null,null,"〒",null,null,null,null,null,null,null,null,null,null,null,null,null,null,null,null,null,null,null,null,null,{"$f":"IF(AU389&AW389&AY389&BA389=\"\",\"\",(IF(ISERROR(VLOOKUP(AU389&AW389&AY389&BA389,日本標準産業分類!A:B,2,FALSE)),\"該当の細分類がありません\",VLOOKUP(AU389&AW389&AY389&BA389,日本標準産業分類!A:B,2,FALSE))))","v":""}]
[null,"（ 指定区分の変更手続きが必要 □ ）"]
[null,null,null,null,null,null,null,null,null,null,null,null,null,null,null,null,null,null,null,null,null,null,null,null,null,null,null,null,null,null,null,null,null,null,null,null,null,null,null,null,null,null,null,null,null,null,null,null,null,null,null,null,null,null,{"$f":"IF(BC393&BE393&BG393&BI393=\"\",\"\",(IF(ISERROR(VLOOKUP(BC393&BE393&BG393&BI393,日本標準産業分類!AT:AU,2,FALSE)),\"該当の細分類がありません\",VLOOKUP(BC393&BE393&BG393&BI393,日本標準産業分類!AT:AU,2,FALSE))))","v":""},null,null,null,null,null,null,null,false]
[]
[null,"第",null,null,null,null,null,null,null,"種",null,null,null,null,null,"",null,null,null,null,null,null,null,null,null,null,null,null,null,null,null,null,"〒",null,null,null,null,null,null,null,null,null,null,null,null,null,null,null,null,null,null,null,null,null,{"$f":"IF(AU393&AW393&AY393&BA393=\"\",\"\",(IF(ISERROR(VLOOKUP(AU393&AW393&AY393&BA393,日本標準産業分類!A:B,2,FALSE)),\"該当の細分類がありません\",VLOOKUP(AU393&AW393&AY393&BA393,日本標準産業分類!A:B,2,FALSE))))","v":""}]
[null,"（ 指定区分の変更手続きが必要 □ ）"]
[null,null,null,null,null,null,null,null,null,null,null,null,null,null,null,null,null,null,null,null,null,null,null,null,null,null,null,null,null,null,null,null,null,null,null,null,null,null,null,null,null,null,null,null,null,null,null,null,null,null,null,null,null,null,{"$f":"IF(BC397&BE397&BG397&BI397=\"\",\"\",(IF(ISERROR(VLOOKUP(BC397&BE397&BG397&BI397,日本標準産業分類!AT:AU,2,FALSE)),\"該当の細分類がありません\",VLOOKUP(BC397&BE397&BG397&BI397,日本標準産業分類!AT:AU,2,FALSE))))","v":""},null,null,null,null,null,null,null,false]
[]
[null,"第",null,null,null,null,null,null,null,"種",null,null,null,null,null,"",null,null,null,null,null,null,null,null,null,null,null,null,null,null,null,null,"〒",null,null,null,null,null,null,null,null,null,null,null,null,null,null,null,null,null,null,null,null,null,{"$f":"IF(AU397&AW397&AY397&BA397=\"\",\"\",(IF(ISERROR(VLOOKUP(AU397&AW397&AY397&BA397,日本標準産業分類!A:B,2,FALSE)),\"該当の細分類がありません\",VLOOKUP(AU397&AW397&AY397&BA397,日本標準産業分類!A:B,2,FALSE))))","v":""}]
[null,"（ 指定区分の変更手続きが必要 □ ）"]
[null,null,null,null,null,null,null,null,null,null,null,null,null,null,null,null,null,null,null,null,null,null,null,null,null,null,null,null,null,null,null,null,null,null,null,null,null,null,null,null,null,null,null,null,null,null,null,null,null,null,null,null,null,null,{"$f":"IF(BC401&BE401&BG401&BI401=\"\",\"\",(IF(ISERROR(VLOOKUP(BC401&BE401&BG401&BI401,日本標準産業分類!AT:AU,2,FALSE)),\"該当の細分類がありません\",VLOOKUP(BC401&BE401&BG401&BI401,日本標準産業分類!AT:AU,2,FALSE))))","v":""},null,null,null,null,null,null,null,true]
[]
[null,"第",null,null,null,null,null,null,null,"種",null,null,null,null,null,"",null,null,null,null,null,null,null,null,null,null,null,null,null,null,null,null,"〒",null,null,null,null,null,null,null,null,null,null,null,null,null,null,null,null,null,null,null,null,null,{"$f":"IF(AU401&AW401&AY401&BA401=\"\",\"\",(IF(ISERROR(VLOOKUP(AU401&AW401&AY401&BA401,日本標準産業分類!A:B,2,FALSE)),\"該当の細分類がありません\",VLOOKUP(AU401&AW401&AY401&BA401,日本標準産業分類!A:B,2,FALSE))))","v":""}]
[null,"（ 指定区分の変更手続きが必要 □ ）"]
[null,null,null,null,null,null,null,null,null,null,null,null,null,null,null,null,null,null,null,null,null,null,null,null,null,null,null,null,null,null,null,null,null,null,null,null,null,null,null,null,null,null,null,null,null,null,null,null,null,null,null,null,null,null,{"$f":"IF(BC405&BE405&BG405&BI405=\"\",\"\",(IF(ISERROR(VLOOKUP(BC405&BE405&BG405&BI405,日本標準産業分類!AT:AU,2,FALSE)),\"該当の細分類がありません\",VLOOKUP(BC405&BE405&BG405&BI405,日本標準産業分類!AT:AU,2,FALSE))))","v":""},null,null,null,null,null,null,null,false]
[]
[null,"第",null,null,null,null,null,null,null,"種",null,null,null,null,null,"",null,null,null,null,null,null,null,null,null,null,null,null,null,null,null,null,"〒",null,null,null,null,null,null,null,null,null,null,null,null,null,null,null,null,null,null,null,null,null,{"$f":"IF(AU405&AW405&AY405&BA405=\"\",\"\",(IF(ISERROR(VLOOKUP(AU405&AW405&AY405&BA405,日本標準産業分類!A:B,2,FALSE)),\"該当の細分類がありません\",VLOOKUP(AU405&AW405&AY405&BA405,日本標準産業分類!A:B,2,FALSE))))","v":""}]
[null,"（ 指定区分の変更手続きが必要 □ ）"]
[null,null,null,null,null,null,null,null,null,null,null,null,null,null,null,null,null,null,null,null,null,null,null,null,null,null,null,null,null,null,null,null,null,null,null,null,null,null,null,null,null,null,null,null,null,null,null,null,null,null,null,null,null,null,{"$f":"IF(BC409&BE409&BG409&BI409=\"\",\"\",(IF(ISERROR(VLOOKUP(BC409&BE409&BG409&BI409,日本標準産業分類!AT:AU,2,FALSE)),\"該当の細分類がありません\",VLOOKUP(BC409&BE409&BG409&BI409,日本標準産業分類!AT:AU,2,FALSE))))","v":""},null,null,null,null,null,null,null,false]
[]
[null,"第",null,null,null,null,null,null,null,"種",null,null,null,null,null,"",null,null,null,null,null,null,null,null,null,null,null,null,null,null,null,null,"〒",null,null,null,null,null,null,null,null,null,null,null,null,null,null,null,null,null,null,null,null,null,{"$f":"IF(AU409&AW409&AY409&BA409=\"\",\"\",(IF(ISERROR(VLOOKUP(AU409&AW409&AY409&BA409,日本標準産業分類!A:B,2,FALSE)),\"該当の細分類がありません\",VLOOKUP(AU409&AW409&AY409&BA409,日本標準産業分類!A:B,2,FALSE))))","v":""}]
[null,"（ 指定区分の変更手続きが必要 □ ）"]
[null,null,null,null,null,null,null,null,null,null,null,null,null,null,null,null,null,null,null,null,null,null,null,null,null,null,null,null,null,null,null,null,null,null,null,null,null,null,null,null,null,null,null,null,null,null,null,null,null,null,null,null,null,null,{"$f":"IF(BC413&BE413&BG413&BI413=\"\",\"\",(IF(ISERROR(VLOOKUP(BC413&BE413&BG413&BI413,日本標準産業分類!AT:AU,2,FALSE)),\"該当の細分類がありません\",VLOOKUP(BC413&BE413&BG413&BI413,日本標準産業分類!AT:AU,2,FALSE))))","v":""},null,null,null,null,null,null,null,false]
[]
[null,"第",null,null,null,null,null,null,null,"種",null,null,null,null,null,"",null,null,null,null,null,null,null,null,null,null,null,null,null,null,null,null,"〒",null,null,null,null,null,null,null,null,null,null,null,null,null,null,null,null,null,null,null,null,null,{"$f":"IF(AU413&AW413&AY413&BA413=\"\",\"\",(IF(ISERROR(VLOOKUP(AU413&AW413&AY413&BA413,日本標準産業分類!A:B,2,FALSE)),\"該当の細分類がありません\",VLOOKUP(AU413&AW413&AY413&BA413,日本標準産業分類!A:B,2,FALSE))))","v":""}]
[null,"（ 指定区分の変更手続きが必要 □ ）"]
[null,null,null,null,null,null,null,null,null,null,null,null,null,null,null,null,null,null,null,null,null,null,null,null,null,null,null,null,null,null,null,null,null,null,null,null,null,null,null,null,null,null,null,null,null,null,null,null,null,null,null,null,null,null,{"$f":"IF(BC417&BE417&BG417&BI417=\"\",\"\",(IF(ISERROR(VLOOKUP(BC417&BE417&BG417&BI417,日本標準産業分類!AT:AU,2,FALSE)),\"該当の細分類がありません\",VLOOKUP(BC417&BE417&BG417&BI417,日本標準産業分類!AT:AU,2,FALSE))))","v":""},null,null,null,null,null,null,null,false]
[]
[null,"第",null,null,null,null,null,null,null,"種",null,null,null,null,null,"",null,null,null,null,null,null,null,null,null,null,null,null,null,null,null,null,"〒",null,null,null,null,null,null,null,null,null,null,null,null,null,null,null,null,null,null,null,null,null,{"$f":"IF(AU417&AW417&AY417&BA417=\"\",\"\",(IF(ISERROR(VLOOKUP(AU417&AW417&AY417&BA417,日本標準産業分類!A:B,2,FALSE)),\"該当の細分類がありません\",VLOOKUP(AU417&AW417&AY417&BA417,日本標準産業分類!A:B,2,FALSE))))","v":""}]
[null,"（ 指定区分の変更手続きが必要 □ ）"]
[null,null,null,null,null,null,null,null,null,null,null,null,null,null,null,null,null,null,null,null,null,null,null,null,null,null,null,null,null,null,null,null,null,null,null,null,null,null,null,null,null,null,null,null,null,null,null,null,null,null,null,null,null,null,{"$f":"IF(BC421&BE421&BG421&BI421=\"\",\"\",(IF(ISERROR(VLOOKUP(BC421&BE421&BG421&BI421,日本標準産業分類!AT:AU,2,FALSE)),\"該当の細分類がありません\",VLOOKUP(BC421&BE421&BG421&BI421,日本標準産業分類!AT:AU,2,FALSE))))","v":""},null,null,null,null,null,null,null,false]
[]
[null,"第",null,null,null,null,null,null,null,"種",null,null,null,null,null,"",null,null,null,null,null,null,null,null,null,null,null,null,null,null,null,null,"〒",null,null,null,null,null,null,null,null,null,null,null,null,null,null,null,null,null,null,null,null,null,{"$f":"IF(AU421&AW421&AY421&BA421=\"\",\"\",(IF(ISERROR(VLOOKUP(AU421&AW421&AY421&BA421,日本標準産業分類!A:B,2,FALSE)),\"該当の細分類がありません\",VLOOKUP(AU421&AW421&AY421&BA421,日本標準産業分類!A:B,2,FALSE))))","v":""}]
[null,"（ 指定区分の変更手続きが必要 □ ）"]
[null,null,null,null,null,null,null,null,null,null,null,null,null,null,null,null,null,null,null,null,null,null,null,null,null,null,null,null,null,null,null,null,null,null,null,null,null,null,null,null,null,null,null,null,null,null,null,null,null,null,null,null,null,null,{"$f":"IF(BC425&BE425&BG425&BI425=\"\",\"\",(IF(ISERROR(VLOOKUP(BC425&BE425&BG425&BI425,日本標準産業分類!AT:AU,2,FALSE)),\"該当の細分類がありません\",VLOOKUP(BC425&BE425&BG425&BI425,日本標準産業分類!AT:AU,2,FALSE))))","v":""},null,null,null,null,null,null,null,false]
[]
[null,"第",null,null,null,null,null,null,null,"種",null,null,null,null,null,"",null,null,null,null,null,null,null,null,null,null,null,null,null,null,null,null,"〒",null,null,null,null,null,null,null,null,null,null,null,null,null,null,null,null,null,null,null,null,null,{"$f":"IF(AU425&AW425&AY425&BA425=\"\",\"\",(IF(ISERROR(VLOOKUP(AU425&AW425&AY425&BA425,日本標準産業分類!A:B,2,FALSE)),\"該当の細分類がありません\",VLOOKUP(AU425&AW425&AY425&BA425,日本標準産業分類!A:B,2,FALSE))))","v":""}]
[null,"（ 指定区分の変更手続きが必要 □ ）"]
[null,null,null,null,null,null,null,null,null,null,null,null,null,null,null,null,null,null,null,null,null,null,null,null,null,null,null,null,null,null,null,null,null,null,null,null,null,null,null,null,null,null,null,null,null,null,null,null,null,null,null,null,null,null,{"$f":"IF(BC429&BE429&BG429&BI429=\"\",\"\",(IF(ISERROR(VLOOKUP(BC429&BE429&BG429&BI429,日本標準産業分類!AT:AU,2,FALSE)),\"該当の細分類がありません\",VLOOKUP(BC429&BE429&BG429&BI429,日本標準産業分類!AT:AU,2,FALSE))))","v":""},null,null,null,null,null,null,null,false]
[]
[null,"第",null,null,null,null,null,null,null,"種",null,null,null,null,null,"",null,null,null,null,null,null,null,null,null,null,null,null,null,null,null,null,"〒",null,null,null,null,null,null,null,null,null,null,null,null,null,null,null,null,null,null,null,null,null,{"$f":"IF(AU429&AW429&AY429&BA429=\"\",\"\",(IF(ISERROR(VLOOKUP(AU429&AW429&AY429&BA429,日本標準産業分類!A:B,2,FALSE)),\"該当の細分類がありません\",VLOOKUP(AU429&AW429&AY429&BA429,日本標準産業分類!A:B,2,FALSE))))","v":""}]
[null,"（ 指定区分の変更手続きが必要 □ ）"]
[null,null,null,null,null,null,null,null,null,null,null,null,null,null,null,null,null,null,null,null,null,null,null,null,null,null,null,null,null,null,null,null,null,null,null,null,null,null,null,null,null,null,null,null,null,null,null,null,null,null,null,null,null,null,{"$f":"IF(BC433&BE433&BG433&BI433=\"\",\"\",(IF(ISERROR(VLOOKUP(BC433&BE433&BG433&BI433,日本標準産業分類!AT:AU,2,FALSE)),\"該当の細分類がありません\",VLOOKUP(BC433&BE433&BG433&BI433,日本標準産業分類!AT:AU,2,FALSE))))","v":""},null,null,null,null,null,null,null,false]
[]
[null,"第",null,null,null,null,null,null,null,"種",null,null,null,null,null,"",null,null,null,null,null,null,null,null,null,null,null,null,null,null,null,null,"〒",null,null,null,null,null,null,null,null,null,null,null,null,null,null,null,null,null,null,null,null,null,{"$f":"IF(AU433&AW433&AY433&BA433=\"\",\"\",(IF(ISERROR(VLOOKUP(AU433&AW433&AY433&BA433,日本標準産業分類!A:B,2,FALSE)),\"該当の細分類がありません\",VLOOKUP(AU433&AW433&AY433&BA433,日本標準産業分類!A:B,2,FALSE))))","v":""}]
[null,"（ 指定区分の変更手続きが必要 □ ）"]
[null,null,null,null,null,null,null,null,null,null,null,null,null,null,null,null,null,null,null,null,null,null,null,null,null,null,null,null,null,null,null,null,null,null,null,null,null,null,null,null,null,null,null,null,null,null,null,null,null,null,null,null,null,null,{"$f":"IF(BC437&BE437&BG437&BI437=\"\",\"\",(IF(ISERROR(VLOOKUP(BC437&BE437&BG437&BI437,日本標準産業分類!AT:AU,2,FALSE)),\"該当の細分類がありません\",VLOOKUP(BC437&BE437&BG437&BI437,日本標準産業分類!AT:AU,2,FALSE))))","v":""},null,null,null,null,null,null,null,false]
[]
[null,"第",null,null,null,null,null,null,null,"種",null,null,null,null,null,"",null,null,null,null,null,null,null,null,null,null,null,null,null,null,null,null,"〒",null,null,null,null,null,null,null,null,null,null,null,null,null,null,null,null,null,null,null,null,null,{"$f":"IF(AU437&AW437&AY437&BA437=\"\",\"\",(IF(ISERROR(VLOOKUP(AU437&AW437&AY437&BA437,日本標準産業分類!A:B,2,FALSE)),\"該当の細分類がありません\",VLOOKUP(AU437&AW437&AY437&BA437,日本標準産業分類!A:B,2,FALSE))))","v":""}]
[null,"（ 指定区分の変更手続きが必要 □ ）"]
[null,null,null,null,null,null,null,null,null,null,null,null,null,null,null,null,null,null,null,null,null,null,null,null,null,null,null,null,null,null,null,null,null,null,null,null,null,null,null,null,null,null,null,null,null,null,null,null,null,null,null,null,null,null,{"$f":"IF(BC441&BE441&BG441&BI441=\"\",\"\",(IF(ISERROR(VLOOKUP(BC441&BE441&BG441&BI441,日本標準産業分類!AT:AU,2,FALSE)),\"該当の細分類がありません\",VLOOKUP(BC441&BE441&BG441&BI441,日本標準産業分類!AT:AU,2,FALSE))))","v":""},null,null,null,null,null,null,null,false]
[]
[null,"第",null,null,null,null,null,null,null,"種",null,null,null,null,null,"",null,null,null,null,null,null,null,null,null,null,null,null,null,null,null,null,"〒",null,null,null,null,null,null,null,null,null,null,null,null,null,null,null,null,null,null,null,null,null,{"$f":"IF(AU441&AW441&AY441&BA441=\"\",\"\",(IF(ISERROR(VLOOKUP(AU441&AW441&AY441&BA441,日本標準産業分類!A:B,2,FALSE)),\"該当の細分類がありません\",VLOOKUP(AU441&AW441&AY441&BA441,日本標準産業分類!A:B,2,FALSE))))","v":""}]
[null,"（ 指定区分の変更手続きが必要 □ ）"]
[null,null,null,null,null,null,null,null,null,null,null,null,null,null,null,null,null,null,null,null,null,null,null,null,null,null,null,null,null,null,null,null,null,null,null,null,null,null,null,null,null,null,null,null,null,null,null,null,null,null,null,null,null,null,{"$f":"IF(BC445&BE445&BG445&BI445=\"\",\"\",(IF(ISERROR(VLOOKUP(BC445&BE445&BG445&BI445,日本標準産業分類!AT:AU,2,FALSE)),\"該当の細分類がありません\",VLOOKUP(BC445&BE445&BG445&BI445,日本標準産業分類!AT:AU,2,FALSE))))","v":""},null,null,null,null,null,null,null,false]
[]
[null,"第",null,null,null,null,null,null,null,"種",null,null,null,null,null,"",null,null,null,null,null,null,null,null,null,null,null,null,null,null,null,null,"〒",null,null,null,null,null,null,null,null,null,null,null,null,null,null,null,null,null,null,null,null,null,{"$f":"IF(AU445&AW445&AY445&BA445=\"\",\"\",(IF(ISERROR(VLOOKUP(AU445&AW445&AY445&BA445,日本標準産業分類!A:B,2,FALSE)),\"該当の細分類がありません\",VLOOKUP(AU445&AW445&AY445&BA445,日本標準産業分類!A:B,2,FALSE))))","v":""}]
[null,"（ 指定区分の変更手続きが必要 □ ）"]
[null,null,null,null,null,null,null,null,null,null,null,null,null,null,null,null,null,null,null,null,null,null,null,null,null,null,null,null,null,null,null,null,null,null,null,null,null,null,null,null,null,null,null,null,null,null,null,null,null,null,null,null,null,null,{"$f":"IF(BC449&BE449&BG449&BI449=\"\",\"\",(IF(ISERROR(VLOOKUP(BC449&BE449&BG449&BI449,日本標準産業分類!AT:AU,2,FALSE)),\"該当の細分類がありません\",VLOOKUP(BC449&BE449&BG449&BI449,日本標準産業分類!AT:AU,2,FALSE))))","v":""},null,null,null,null,null,null,null,false]
[]
[null,"第",null,null,null,null,null,null,null,"種",null,null,null,null,null,"",null,null,null,null,null,null,null,null,null,null,null,null,null,null,null,null,"〒",null,null,null,null,null,null,null,null,null,null,null,null,null,null,null,null,null,null,null,null,null,{"$f":"IF(AU449&AW449&AY449&BA449=\"\",\"\",(IF(ISERROR(VLOOKUP(AU449&AW449&AY449&BA449,日本標準産業分類!A:B,2,FALSE)),\"該当の細分類がありません\",VLOOKUP(AU449&AW449&AY449&BA449,日本標準産業分類!A:B,2,FALSE))))","v":""}]
[null,"（ 指定区分の変更手続きが必要 □ ）"]
[null,null,null,null,null,null,null,null,null,null,null,null,null,null,null,null,null,null,null,null,null,null,null,null,null,null,null,null,null,null,null,null,null,null,null,null,null,null,null,null,null,null,null,null,null,null,null,null,null,null,null,null,null,null,{"$f":"IF(BC453&BE453&BG453&BI453=\"\",\"\",(IF(ISERROR(VLOOKUP(BC453&BE453&BG453&BI453,日本標準産業分類!AT:AU,2,FALSE)),\"該当の細分類がありません\",VLOOKUP(BC453&BE453&BG453&BI453,日本標準産業分類!AT:AU,2,FALSE))))","v":""},null,null,null,null,null,null,null,false]
[]
[null,"第",null,null,null,null,null,null,null,"種",null,null,null,null,null,"",null,null,null,null,null,null,null,null,null,null,null,null,null,null,null,null,"〒",null,null,null,null,null,null,null,null,null,null,null,null,null,null,null,null,null,null,null,null,null,{"$f":"IF(AU453&AW453&AY453&BA453=\"\",\"\",(IF(ISERROR(VLOOKUP(AU453&AW453&AY453&BA453,日本標準産業分類!A:B,2,FALSE)),\"該当の細分類がありません\",VLOOKUP(AU453&AW453&AY453&BA453,日本標準産業分類!A:B,2,FALSE))))","v":""}]
[null,"（ 指定区分の変更手続きが必要 □ ）"]
[null,null,null,null,null,null,null,null,null,null,null,null,null,null,null,null,null,null,null,null,null,null,null,null,null,null,null,null,null,null,null,null,null,null,null,null,null,null,null,null,null,null,null,null,null,null,null,null,null,null,null,null,null,null,{"$f":"IF(BC457&BE457&BG457&BI457=\"\",\"\",(IF(ISERROR(VLOOKUP(BC457&BE457&BG457&BI457,日本標準産業分類!AT:AU,2,FALSE)),\"該当の細分類がありません\",VLOOKUP(BC457&BE457&BG457&BI457,日本標準産業分類!AT:AU,2,FALSE))))","v":""},null,null,null,null,null,null,null,false]
[]
[null,"第",null,null,null,null,null,null,null,"種",null,null,null,null,null,"",null,null,null,null,null,null,null,null,null,null,null,null,null,null,null,null,"〒",null,null,null,null,null,null,null,null,null,null,null,null,null,null,null,null,null,null,null,null,null,{"$f":"IF(AU457&AW457&AY457&BA457=\"\",\"\",(IF(ISERROR(VLOOKUP(AU457&AW457&AY457&BA457,日本標準産業分類!A:B,2,FALSE)),\"該当の細分類がありません\",VLOOKUP(AU457&AW457&AY457&BA457,日本標準産業分類!A:B,2,FALSE))))","v":""}]
[null,"（ 指定区分の変更手続きが必要 □ ）"]
[null,null,null,null,null,null,null,null,null,null,null,null,null,null,null,null,null,null,null,null,null,null,null,null,null,null,null,null,null,null,null,null,null,null,null,null,null,null,null,null,null,null,null,null,null,null,null,null,null,null,null,null,null,null,{"$f":"IF(BC461&BE461&BG461&BI461=\"\",\"\",(IF(ISERROR(VLOOKUP(BC461&BE461&BG461&BI461,日本標準産業分類!AT:AU,2,FALSE)),\"該当の細分類がありません\",VLOOKUP(BC461&BE461&BG461&BI461,日本標準産業分類!AT:AU,2,FALSE))))","v":""},null,null,null,null,null,null,null,false]
[]
[null,"第",null,null,null,null,null,null,null,"種",null,null,null,null,null,"",null,null,null,null,null,null,null,null,null,null,null,null,null,null,null,null,"〒",null,null,null,null,null,null,null,null,null,null,null,null,null,null,null,null,null,null,null,null,null,{"$f":"IF(AU461&AW461&AY461&BA461=\"\",\"\",(IF(ISERROR(VLOOKUP(AU461&AW461&AY461&BA461,日本標準産業分類!A:B,2,FALSE)),\"該当の細分類がありません\",VLOOKUP(AU461&AW461&AY461&BA461,日本標準産業分類!A:B,2,FALSE))))","v":""}]
[null,"（ 指定区分の変更手続きが必要 □ ）"]
[null,null,null,null,null,null,null,null,null,null,null,null,null,null,null,null,null,null,null,null,null,null,null,null,null,null,null,null,null,null,null,null,null,null,null,null,null,null,null,null,null,null,null,null,null,null,null,null,null,null,null,null,null,null,{"$f":"IF(BC465&BE465&BG465&BI465=\"\",\"\",(IF(ISERROR(VLOOKUP(BC465&BE465&BG465&BI465,日本標準産業分類!AT:AU,2,FALSE)),\"該当の細分類がありません\",VLOOKUP(BC465&BE465&BG465&BI465,日本標準産業分類!AT:AU,2,FALSE))))","v":""},null,null,null,null,null,null,null,false]
[]
[null,"第",null,null,null,null,null,null,null,"種",null,null,null,null,null,"",null,null,null,null,null,null,null,null,null,null,null,null,null,null,null,null,"〒",null,null,null,null,null,null,null,null,null,null,null,null,null,null,null,null,null,null,null,null,null,{"$f":"IF(AU465&AW465&AY465&BA465=\"\",\"\",(IF(ISERROR(VLOOKUP(AU465&AW465&AY465&BA465,日本標準産業分類!A:B,2,FALSE)),\"該当の細分類がありません\",VLOOKUP(AU465&AW465&AY465&BA465,日本標準産業分類!A:B,2,FALSE))))","v":""}]
[null,"（ 指定区分の変更手続きが必要 □ ）"]
[null,null,null,null,null,null,null,null,null,null,null,null,null,null,null,null,null,null,null,null,null,null,null,null,null,null,null,null,null,null,null,null,null,null,null,null,null,null,null,null,null,null,null,null,null,null,null,null,null,null,null,null,null,null,{"$f":"IF(BC469&BE469&BG469&BI469=\"\",\"\",(IF(ISERROR(VLOOKUP(BC469&BE469&BG469&BI469,日本標準産業分類!AT:AU,2,FALSE)),\"該当の細分類がありません\",VLOOKUP(BC469&BE469&BG469&BI469,日本標準産業分類!AT:AU,2,FALSE))))","v":""},null,null,null,null,null,null,null,false]
[]
[null,"第",null,null,null,null,null,null,null,"種",null,null,null,null,null,"",null,null,null,null,null,null,null,null,null,null,null,null,null,null,null,null,"〒",null,null,null,null,null,null,null,null,null,null,null,null,null,null,null,null,null,null,null,null,null,{"$f":"IF(AU469&AW469&AY469&BA469=\"\",\"\",(IF(ISERROR(VLOOKUP(AU469&AW469&AY469&BA469,日本標準産業分類!A:B,2,FALSE)),\"該当の細分類がありません\",VLOOKUP(AU469&AW469&AY469&BA469,日本標準産業分類!A:B,2,FALSE))))","v":""}]
[null,"（ 指定区分の変更手続きが必要 □ ）"]
[null,null,null,null,null,null,null,null,null,null,null,null,null,null,null,null,null,null,null,null,null,null,null,null,null,null,null,null,null,null,null,null,null,null,null,null,null,null,null,null,null,null,null,null,null,null,null,null,null,null,null,null,null,null,{"$f":"IF(BC473&BE473&BG473&BI473=\"\",\"\",(IF(ISERROR(VLOOKUP(BC473&BE473&BG473&BI473,日本標準産業分類!AT:AU,2,FALSE)),\"該当の細分類がありません\",VLOOKUP(BC473&BE473&BG473&BI473,日本標準産業分類!AT:AU,2,FALSE))))","v":""},null,null,null,null,null,null,null,false]
[]
[null,"第",null,null,null,null,null,null,null,"種",null,null,null,null,null,"",null,null,null,null,null,null,null,null,null,null,null,null,null,null,null,null,"〒",null,null,null,null,null,null,null,null,null,null,null,null,null,null,null,null,null,null,null,null,null,{"$f":"IF(AU473&AW473&AY473&BA473=\"\",\"\",(IF(ISERROR(VLOOKUP(AU473&AW473&AY473&BA473,日本標準産業分類!A:B,2,FALSE)),\"該当の細分類がありません\",VLOOKUP(AU473&AW473&AY473&BA473,日本標準産業分類!A:B,2,FALSE))))","v":""}]
[null,"（ 指定区分の変更手続きが必要 □ ）"]
[null,null,null,null,null,null,null,null,null,null,null,null,null,null,null,null,null,null,null,null,null,null,null,null,null,null,null,null,null,null,null,null,null,null,null,null,null,null,null,null,null,null,null,null,null,null,null,null,null,null,null,null,null,null,{"$f":"IF(BC477&BE477&BG477&BI477=\"\",\"\",(IF(ISERROR(VLOOKUP(BC477&BE477&BG477&BI477,日本標準産業分類!AT:AU,2,FALSE)),\"該当の細分類がありません\",VLOOKUP(BC477&BE477&BG477&BI477,日本標準産業分類!AT:AU,2,FALSE))))","v":""},null,null,null,null,null,null,null,false]
[]
[null,"第",null,null,null,null,null,null,null,"種",null,null,null,null,null,"",null,null,null,null,null,null,null,null,null,null,null,null,null,null,null,null,"〒",null,null,null,null,null,null,null,null,null,null,null,null,null,null,null,null,null,null,null,null,null,{"$f":"IF(AU477&AW477&AY477&BA477=\"\",\"\",(IF(ISERROR(VLOOKUP(AU477&AW477&AY477&BA477,日本標準産業分類!A:B,2,FALSE)),\"該当の細分類がありません\",VLOOKUP(AU477&AW477&AY477&BA477,日本標準産業分類!A:B,2,FALSE))))","v":""}]
[null,"（ 指定区分の変更手続きが必要 □ ）"]
[null,null,null,null,null,null,null,null,null,null,null,null,null,null,null,null,null,null,null,null,null,null,null,null,null,null,null,null,null,null,null,null,null,null,null,null,null,null,null,null,null,null,null,null,null,null,null,null,null,null,null,null,null,null,{"$f":"IF(BC481&BE481&BG481&BI481=\"\",\"\",(IF(ISERROR(VLOOKUP(BC481&BE481&BG481&BI481,日本標準産業分類!AT:AU,2,FALSE)),\"該当の細分類がありません\",VLOOKUP(BC481&BE481&BG481&BI481,日本標準産業分類!AT:AU,2,FALSE))))","v":""},null,null,null,null,null,null,null,false]
[]
[null,"第",null,null,null,null,null,null,null,"種",null,null,null,null,null,"",null,null,null,null,null,null,null,null,null,null,null,null,null,null,null,null,"〒",null,null,null,null,null,null,null,null,null,null,null,null,null,null,null,null,null,null,null,null,null,{"$f":"IF(AU481&AW481&AY481&BA481=\"\",\"\",(IF(ISERROR(VLOOKUP(AU481&AW481&AY481&BA481,日本標準産業分類!A:B,2,FALSE)),\"該当の細分類がありません\",VLOOKUP(AU481&AW481&AY481&BA481,日本標準産業分類!A:B,2,FALSE))))","v":""}]
[null,"（ 指定区分の変更手続きが必要 □ ）"]
[null,null,null,null,null,null,null,null,null,null,null,null,null,null,null,null,null,null,null,null,null,null,null,null,null,null,null,null,null,null,null,null,null,null,null,null,null,null,null,null,null,null,null,null,null,null,null,null,null,null,null,null,null,null,{"$f":"IF(BC485&BE485&BG485&BI485=\"\",\"\",(IF(ISERROR(VLOOKUP(BC485&BE485&BG485&BI485,日本標準産業分類!AT:AU,2,FALSE)),\"該当の細分類がありません\",VLOOKUP(BC485&BE485&BG485&BI485,日本標準産業分類!AT:AU,2,FALSE))))","v":""},null,null,null,null,null,null,null,false]
[]
[null,"第",null,null,null,null,null,null,null,"種",null,null,null,null,null,"",null,null,null,null,null,null,null,null,null,null,null,null,null,null,null,null,"〒",null,null,null,null,null,null,null,null,null,null,null,null,null,null,null,null,null,null,null,null,null,{"$f":"IF(AU485&AW485&AY485&BA485=\"\",\"\",(IF(ISERROR(VLOOKUP(AU485&AW485&AY485&BA485,日本標準産業分類!A:B,2,FALSE)),\"該当の細分類がありません\",VLOOKUP(AU485&AW485&AY485&BA485,日本標準産業分類!A:B,2,FALSE))))","v":""}]
[null,"（ 指定区分の変更手続きが必要 □ ）"]
[null,null,null,null,null,null,null,null,null,null,null,null,null,null,null,null,null,null,null,null,null,null,null,null,null,null,null,null,null,null,null,null,null,null,null,null,null,null,null,null,null,null,null,null,null,null,null,null,null,null,null,null,null,null,{"$f":"IF(BC489&BE489&BG489&BI489=\"\",\"\",(IF(ISERROR(VLOOKUP(BC489&BE489&BG489&BI489,日本標準産業分類!AT:AU,2,FALSE)),\"該当の細分類がありません\",VLOOKUP(BC489&BE489&BG489&BI489,日本標準産業分類!AT:AU,2,FALSE))))","v":""},null,null,null,null,null,null,null,false]
[]
[null,"第",null,null,null,null,null,null,null,"種",null,null,null,null,null,"",null,null,null,null,null,null,null,null,null,null,null,null,null,null,null,null,"〒",null,null,null,null,null,null,null,null,null,null,null,null,null,null,null,null,null,null,null,null,null,{"$f":"IF(AU489&AW489&AY489&BA489=\"\",\"\",(IF(ISERROR(VLOOKUP(AU489&AW489&AY489&BA489,日本標準産業分類!A:B,2,FALSE)),\"該当の細分類がありません\",VLOOKUP(AU489&AW489&AY489&BA489,日本標準産業分類!A:B,2,FALSE))))","v":""}]
[null,"（ 指定区分の変更手続きが必要 □ ）"]
[null,null,null,null,null,null,null,null,null,null,null,null,null,null,null,null,null,null,null,null,null,null,null,null,null,null,null,null,null,null,null,null,null,null,null,null,null,null,null,null,null,null,null,null,null,null,null,null,null,null,null,null,null,null,{"$f":"IF(BC493&BE493&BG493&BI493=\"\",\"\",(IF(ISERROR(VLOOKUP(BC493&BE493&BG493&BI493,日本標準産業分類!AT:AU,2,FALSE)),\"該当の細分類がありません\",VLOOKUP(BC493&BE493&BG493&BI493,日本標準産業分類!AT:AU,2,FALSE))))","v":""},null,null,null,null,null,null,null,false]
[]
[null,"第",null,null,null,null,null,null,null,"種",null,null,null,null,null,"",null,null,null,null,null,null,null,null,null,null,null,null,null,null,null,null,"〒",null,null,null,null,null,null,null,null,null,null,null,null,null,null,null,null,null,null,null,null,null,{"$f":"IF(AU493&AW493&AY493&BA493=\"\",\"\",(IF(ISERROR(VLOOKUP(AU493&AW493&AY493&BA493,日本標準産業分類!A:B,2,FALSE)),\"該当の細分類がありません\",VLOOKUP(AU493&AW493&AY493&BA493,日本標準産業分類!A:B,2,FALSE))))","v":""}]
[null,"（ 指定区分の変更手続きが必要 □ ）"]
[null,null,null,null,null,null,null,null,null,null,null,null,null,null,null,null,null,null,null,null,null,null,null,null,null,null,null,null,null,null,null,null,null,null,null,null,null,null,null,null,null,null,null,null,null,null,null,null,null,null,null,null,null,null,{"$f":"IF(BC497&BE497&BG497&BI497=\"\",\"\",(IF(ISERROR(VLOOKUP(BC497&BE497&BG497&BI497,日本標準産業分類!AT:AU,2,FALSE)),\"該当の細分類がありません\",VLOOKUP(BC497&BE497&BG497&BI497,日本標準産業分類!AT:AU,2,FALSE))))","v":""},null,null,null,null,null,null,null,false]
[]
[null,"第",null,null,null,null,null,null,null,"種",null,null,null,null,null,"",null,null,null,null,null,null,null,null,null,null,null,null,null,null,null,null,"〒",null,null,null,null,null,null,null,null,null,null,null,null,null,null,null,null,null,null,null,null,null,{"$f":"IF(AU497&AW497&AY497&BA497=\"\",\"\",(IF(ISERROR(VLOOKUP(AU497&AW497&AY497&BA497,日本標準産業分類!A:B,2,FALSE)),\"該当の細分類がありません\",VLOOKUP(AU497&AW497&AY497&BA497,日本標準産業分類!A:B,2,FALSE))))","v":""}]
[null,"（ 指定区分の変更手続きが必要 □ ）"]
[null,null,null,null,null,null,null,null,null,null,null,null,null,null,null,null,null,null,null,null,null,null,null,null,null,null,null,null,null,null,null,null,null,null,null,null,null,null,null,null,null,null,null,null,null,null,null,null,null,null,null,null,null,null,{"$f":"IF(BC501&BE501&BG501&BI501=\"\",\"\",(IF(ISERROR(VLOOKUP(BC501&BE501&BG501&BI501,日本標準産業分類!AT:AU,2,FALSE)),\"該当の細分類がありません\",VLOOKUP(BC501&BE501&BG501&BI501,日本標準産業分類!AT:AU,2,FALSE))))","v":""},null,null,null,null,null,null,null,false]
[]
[null,"第",null,null,null,null,null,null,null,"種",null,null,null,null,null,"",null,null,null,null,null,null,null,null,null,null,null,null,null,null,null,null,"〒",null,null,null,null,null,null,null,null,null,null,null,null,null,null,null,null,null,null,null,null,null,{"$f":"IF(AU501&AW501&AY501&BA501=\"\",\"\",(IF(ISERROR(VLOOKUP(AU501&AW501&AY501&BA501,日本標準産業分類!A:B,2,FALSE)),\"該当の細分類がありません\",VLOOKUP(AU501&AW501&AY501&BA501,日本標準産業分類!A:B,2,FALSE))))","v":""}]
[null,"（ 指定区分の変更手続きが必要 □ ）"]
[null,null,null,null,null,null,null,null,null,null,null,null,null,null,null,null,null,null,null,null,null,null,null,null,null,null,null,null,null,null,null,null,null,null,null,null,null,null,null,null,null,null,null,null,null,null,null,null,null,null,null,null,null,null,{"$f":"IF(BC505&BE505&BG505&BI505=\"\",\"\",(IF(ISERROR(VLOOKUP(BC505&BE505&BG505&BI505,日本標準産業分類!AT:AU,2,FALSE)),\"該当の細分類がありません\",VLOOKUP(BC505&BE505&BG505&BI505,日本標準産業分類!AT:AU,2,FALSE))))","v":""},null,null,null,null,null,null,null,false]
[]
[null,"第",null,null,null,null,null,null,null,"種",null,null,null,null,null,"",null,null,null,null,null,null,null,null,null,null,null,null,null,null,null,null,"〒",null,null,null,null,null,null,null,null,null,null,null,null,null,null,null,null,null,null,null,null,null,{"$f":"IF(AU505&AW505&AY505&BA505=\"\",\"\",(IF(ISERROR(VLOOKUP(AU505&AW505&AY505&BA505,日本標準産業分類!A:B,2,FALSE)),\"該当の細分類がありません\",VLOOKUP(AU505&AW505&AY505&BA505,日本標準産業分類!A:B,2,FALSE))))","v":""}]
[null,"（ 指定区分の変更手続きが必要 □ ）"]
[null,null,null,null,null,null,null,null,null,null,null,null,null,null,null,null,null,null,null,null,null,null,null,null,null,null,null,null,null,null,null,null,null,null,null,null,null,null,null,null,null,null,null,null,null,null,null,null,null,null,null,null,null,null,{"$f":"IF(BC509&BE509&BG509&BI509=\"\",\"\",(IF(ISERROR(VLOOKUP(BC509&BE509&BG509&BI509,日本標準産業分類!AT:AU,2,FALSE)),\"該当の細分類がありません\",VLOOKUP(BC509&BE509&BG509&BI509,日本標準産業分類!AT:AU,2,FALSE))))","v":""},null,null,null,null,null,null,null,false]
[]
[null,"第",null,null,null,null,null,null,null,"種",null,null,null,null,null,"",null,null,null,null,null,null,null,null,null,null,null,null,null,null,null,null,"〒",null,null,null,null,null,null,null,null,null,null,null,null,null,null,null,null,null,null,null,null,null,{"$f":"IF(AU509&AW509&AY509&BA509=\"\",\"\",(IF(ISERROR(VLOOKUP(AU509&AW509&AY509&BA509,日本標準産業分類!A:B,2,FALSE)),\"該当の細分類がありません\",VLOOKUP(AU509&AW509&AY509&BA509,日本標準産業分類!A:B,2,FALSE))))","v":""}]
[null,"（ 指定区分の変更手続きが必要 □ ）"]
[null,null,null,null,null,null,null,null,null,null,null,null,null,null,null,null,null,null,null,null,null,null,null,null,null,null,null,null,null,null,null,null,null,null,null,null,null,null,null,null,null,null,null,null,null,null,null,null,null,null,null,null,null,null,{"$f":"IF(BC513&BE513&BG513&BI513=\"\",\"\",(IF(ISERROR(VLOOKUP(BC513&BE513&BG513&BI513,日本標準産業分類!AT:AU,2,FALSE)),\"該当の細分類がありません\",VLOOKUP(BC513&BE513&BG513&BI513,日本標準産業分類!AT:AU,2,FALSE))))","v":""},null,null,null,null,null,null,null,false]
[]
[null,"第",null,null,null,null,null,null,null,"種",null,null,null,null,null,"",null,null,null,null,null,null,null,null,null,null,null,null,null,null,null,null,"〒",null,null,null,null,null,null,null,null,null,null,null,null,null,null,null,null,null,null,null,null,null,{"$f":"IF(AU513&AW513&AY513&BA513=\"\",\"\",(IF(ISERROR(VLOOKUP(AU513&AW513&AY513&BA513,日本標準産業分類!A:B,2,FALSE)),\"該当の細分類がありません\",VLOOKUP(AU513&AW513&AY513&BA513,日本標準産業分類!A:B,2,FALSE))))","v":""}]
[null,"（ 指定区分の変更手続きが必要 □ ）"]
[null,null,null,null,null,null,null,null,null,null,null,null,null,null,null,null,null,null,null,null,null,null,null,null,null,null,null,null,null,null,null,null,null,null,null,null,null,null,null,null,null,null,null,null,null,null,null,null,null,null,null,null,null,null,{"$f":"IF(BC517&BE517&BG517&BI517=\"\",\"\",(IF(ISERROR(VLOOKUP(BC517&BE517&BG517&BI517,日本標準産業分類!AT:AU,2,FALSE)),\"該当の細分類がありません\",VLOOKUP(BC517&BE517&BG517&BI517,日本標準産業分類!AT:AU,2,FALSE))))","v":""},null,null,null,null,null,null,null,false]
[]
[null,"第",null,null,null,null,null,null,null,"種",null,null,null,null,null,"",null,null,null,null,null,null,null,null,null,null,null,null,null,null,null,null,"〒",null,null,null,null,null,null,null,null,null,null,null,null,null,null,null,null,null,null,null,null,null,{"$f":"IF(AU517&AW517&AY517&BA517=\"\",\"\",(IF(ISERROR(VLOOKUP(AU517&AW517&AY517&BA517,日本標準産業分類!A:B,2,FALSE)),\"該当の細分類がありません\",VLOOKUP(AU517&AW517&AY517&BA517,日本標準産業分類!A:B,2,FALSE))))","v":""}]
[null,"（ 指定区分の変更手続きが必要 □ ）"]
[null,null,null,null,null,null,null,null,null,null,null,null,null,null,null,null,null,null,null,null,null,null,null,null,null,null,null,null,null,null,null,null,null,null,null,null,null,null,null,null,null,null,null,null,null,null,null,null,null,null,null,null,null,null,{"$f":"IF(BC521&BE521&BG521&BI521=\"\",\"\",(IF(ISERROR(VLOOKUP(BC521&BE521&BG521&BI521,日本標準産業分類!AT:AU,2,FALSE)),\"該当の細分類がありません\",VLOOKUP(BC521&BE521&BG521&BI521,日本標準産業分類!AT:AU,2,FALSE))))","v":""},null,null,null,null,null,null,null,false]
[]
[null,"第",null,null,null,null,null,null,null,"種",null,null,null,null,null,"",null,null,null,null,null,null,null,null,null,null,null,null,null,null,null,null,"〒",null,null,null,null,null,null,null,null,null,null,null,null,null,null,null,null,null,null,null,null,null,{"$f":"IF(AU521&AW521&AY521&BA521=\"\",\"\",(IF(ISERROR(VLOOKUP(AU521&AW521&AY521&BA521,日本標準産業分類!A:B,2,FALSE)),\"該当の細分類がありません\",VLOOKUP(AU521&AW521&AY521&BA521,日本標準産業分類!A:B,2,FALSE))))","v":""}]
[null,"（ 指定区分の変更手続きが必要 □ ）"]
[null,null,null,null,null,null,null,null,null,null,null,null,null,null,null,null,null,null,null,null,null,null,null,null,null,null,null,null,null,null,null,null,null,null,null,null,null,null,null,null,null,null,null,null,null,null,null,null,null,null,null,null,null,null,{"$f":"IF(BC525&BE525&BG525&BI525=\"\",\"\",(IF(ISERROR(VLOOKUP(BC525&BE525&BG525&BI525,日本標準産業分類!AT:AU,2,FALSE)),\"該当の細分類がありません\",VLOOKUP(BC525&BE525&BG525&BI525,日本標準産業分類!AT:AU,2,FALSE))))","v":""},null,null,null,null,null,null,null,false]
[]
[null,"第",null,null,null,null,null,null,null,"種",null,null,null,null,null,"",null,null,null,null,null,null,null,null,null,null,null,null,null,null,null,null,"〒",null,null,null,null,null,null,null,null,null,null,null,null,null,null,null,null,null,null,null,null,null,{"$f":"IF(AU525&AW525&AY525&BA525=\"\",\"\",(IF(ISERROR(VLOOKUP(AU525&AW525&AY525&BA525,日本標準産業分類!A:B,2,FALSE)),\"該当の細分類がありません\",VLOOKUP(AU525&AW525&AY525&BA525,日本標準産業分類!A:B,2,FALSE))))","v":""}]
[null,"（ 指定区分の変更手続きが必要 □ ）"]
[null,null,null,null,null,null,null,null,null,null,null,null,null,null,null,null,null,null,null,null,null,null,null,null,null,null,null,null,null,null,null,null,null,null,null,null,null,null,null,null,null,null,null,null,null,null,null,null,null,null,null,null,null,null,{"$f":"IF(BC529&BE529&BG529&BI529=\"\",\"\",(IF(ISERROR(VLOOKUP(BC529&BE529&BG529&BI529,日本標準産業分類!AT:AU,2,FALSE)),\"該当の細分類がありません\",VLOOKUP(BC529&BE529&BG529&BI529,日本標準産業分類!AT:AU,2,FALSE))))","v":""},null,null,null,null,null,null,null,false]
[]
[null,"第",null,null,null,null,null,null,null,"種",null,null,null,null,null,"",null,null,null,null,null,null,null,null,null,null,null,null,null,null,null,null,"〒",null,null,null,null,null,null,null,null,null,null,null,null,null,null,null,null,null,null,null,null,null,{"$f":"IF(AU529&AW529&AY529&BA529=\"\",\"\",(IF(ISERROR(VLOOKUP(AU529&AW529&AY529&BA529,日本標準産業分類!A:B,2,FALSE)),\"該当の細分類がありません\",VLOOKUP(AU529&AW529&AY529&BA529,日本標準産業分類!A:B,2,FALSE))))","v":""}]
[null,"（ 指定区分の変更手続きが必要 □ ）"]
[null,null,null,null,null,null,null,null,null,null,null,null,null,null,null,null,null,null,null,null,null,null,null,null,null,null,null,null,null,null,null,null,null,null,null,null,null,null,null,null,null,null,null,null,null,null,null,null,null,null,null,null,null,null,{"$f":"IF(BC533&BE533&BG533&BI533=\"\",\"\",(IF(ISERROR(VLOOKUP(BC533&BE533&BG533&BI533,日本標準産業分類!AT:AU,2,FALSE)),\"該当の細分類がありません\",VLOOKUP(BC533&BE533&BG533&BI533,日本標準産業分類!AT:AU,2,FALSE))))","v":""},null,null,null,null,null,null,null,false]
[]
[null,"第",null,null,null,null,null,null,null,"種",null,null,null,null,null,"",null,null,null,null,null,null,null,null,null,null,null,null,null,null,null,null,"〒",null,null,null,null,null,null,null,null,null,null,null,null,null,null,null,null,null,null,null,null,null,{"$f":"IF(AU533&AW533&AY533&BA533=\"\",\"\",(IF(ISERROR(VLOOKUP(AU533&AW533&AY533&BA533,日本標準産業分類!A:B,2,FALSE)),\"該当の細分類がありません\",VLOOKUP(AU533&AW533&AY533&BA533,日本標準産業分類!A:B,2,FALSE))))","v":""}]
[null,"（ 指定区分の変更手続きが必要 □ ）"]
[null,null,null,null,null,null,null,null,null,null,null,null,null,null,null,null,null,null,null,null,null,null,null,null,null,null,null,null,null,null,null,null,null,null,null,null,null,null,null,null,null,null,null,null,null,null,null,null,null,null,null,null,null,null,{"$f":"IF(BC537&BE537&BG537&BI537=\"\",\"\",(IF(ISERROR(VLOOKUP(BC537&BE537&BG537&BI537,日本標準産業分類!AT:AU,2,FALSE)),\"該当の細分類がありません\",VLOOKUP(BC537&BE537&BG537&BI537,日本標準産業分類!AT:AU,2,FALSE))))","v":""},null,null,null,null,null,null,null,false]
[]
[null,"第",null,null,null,null,null,null,null,"種",null,null,null,null,null,"",null,null,null,null,null,null,null,null,null,null,null,null,null,null,null,null,"〒",null,null,null,null,null,null,null,null,null,null,null,null,null,null,null,null,null,null,null,null,null,{"$f":"IF(AU537&AW537&AY537&BA537=\"\",\"\",(IF(ISERROR(VLOOKUP(AU537&AW537&AY537&BA537,日本標準産業分類!A:B,2,FALSE)),\"該当の細分類がありません\",VLOOKUP(AU537&AW537&AY537&BA537,日本標準産業分類!A:B,2,FALSE))))","v":""}]
[null,"（ 指定区分の変更手続きが必要 □ ）"]
[null,null,null,null,null,null,null,null,null,null,null,null,null,null,null,null,null,null,null,null,null,null,null,null,null,null,null,null,null,null,null,null,null,null,null,null,null,null,null,null,null,null,null,null,null,null,null,null,null,null,null,null,null,null,{"$f":"IF(BC541&BE541&BG541&BI541=\"\",\"\",(IF(ISERROR(VLOOKUP(BC541&BE541&BG541&BI541,日本標準産業分類!AT:AU,2,FALSE)),\"該当の細分類がありません\",VLOOKUP(BC541&BE541&BG541&BI541,日本標準産業分類!AT:AU,2,FALSE))))","v":""},null,null,null,null,null,null,null,false]
[]
[null,"第",null,null,null,null,null,null,null,"種",null,null,null,null,null,"",null,null,null,null,null,null,null,null,null,null,null,null,null,null,null,null,"〒",null,null,null,null,null,null,null,null,null,null,null,null,null,null,null,null,null,null,null,null,null,{"$f":"IF(AU541&AW541&AY541&BA541=\"\",\"\",(IF(ISERROR(VLOOKUP(AU541&AW541&AY541&BA541,日本標準産業分類!A:B,2,FALSE)),\"該当の細分類がありません\",VLOOKUP(AU541&AW541&AY541&BA541,日本標準産業分類!A:B,2,FALSE))))","v":""}]
[null,"（ 指定区分の変更手続きが必要 □ ）"]
[null,null,null,null,null,null,null,null,null,null,null,null,null,null,null,null,null,null,null,null,null,null,null,null,null,null,null,null,null,null,null,null,null,null,null,null,null,null,null,null,null,null,null,null,null,null,null,null,null,null,null,null,null,null,{"$f":"IF(BC545&BE545&BG545&BI545=\"\",\"\",(IF(ISERROR(VLOOKUP(BC545&BE545&BG545&BI545,日本標準産業分類!AT:AU,2,FALSE)),\"該当の細分類がありません\",VLOOKUP(BC545&BE545&BG545&BI545,日本標準産業分類!AT:AU,2,FALSE))))","v":""},null,null,null,null,null,null,null,false]
[]
[null,"第",null,null,null,null,null,null,null,"種",null,null,null,null,null,"",null,null,null,null,null,null,null,null,null,null,null,null,null,null,null,null,"〒",null,null,null,null,null,null,null,null,null,null,null,null,null,null,null,null,null,null,null,null,null,{"$f":"IF(AU545&AW545&AY545&BA545=\"\",\"\",(IF(ISERROR(VLOOKUP(AU545&AW545&AY545&BA545,日本標準産業分類!A:B,2,FALSE)),\"該当の細分類がありません\",VLOOKUP(AU545&AW545&AY545&BA545,日本標準産業分類!A:B,2,FALSE))))","v":""}]
[null,"（ 指定区分の変更手続きが必要 □ ）"]
[null,null,null,null,null,null,null,null,null,null,null,null,null,null,null,null,null,null,null,null,null,null,null,null,null,null,null,null,null,null,null,null,null,null,null,null,null,null,null,null,null,null,null,null,null,null,null,null,null,null,null,null,null,null,{"$f":"IF(BC549&BE549&BG549&BI549=\"\",\"\",(IF(ISERROR(VLOOKUP(BC549&BE549&BG549&BI549,日本標準産業分類!AT:AU,2,FALSE)),\"該当の細分類がありません\",VLOOKUP(BC549&BE549&BG549&BI549,日本標準産業分類!AT:AU,2,FALSE))))","v":""},null,null,null,null,null,null,null,false]
[]
[null,"第",null,null,null,null,null,null,null,"種",null,null,null,null,null,"",null,null,null,null,null,null,null,null,null,null,null,null,null,null,null,null,"〒",null,null,null,null,null,null,null,null,null,null,null,null,null,null,null,null,null,null,null,null,null,{"$f":"IF(AU549&AW549&AY549&BA549=\"\",\"\",(IF(ISERROR(VLOOKUP(AU549&AW549&AY549&BA549,日本標準産業分類!A:B,2,FALSE)),\"該当の細分類がありません\",VLOOKUP(AU549&AW549&AY549&BA549,日本標準産業分類!A:B,2,FALSE))))","v":""}]
[null,"（ 指定区分の変更手続きが必要 □ ）"]
[null,null,null,null,null,null,null,null,null,null,null,null,null,null,null,null,null,null,null,null,null,null,null,null,null,null,null,null,null,null,null,null,null,null,null,null,null,null,null,null,null,null,null,null,null,null,null,null,null,null,null,null,null,null,{"$f":"IF(BC553&BE553&BG553&BI553=\"\",\"\",(IF(ISERROR(VLOOKUP(BC553&BE553&BG553&BI553,日本標準産業分類!AT:AU,2,FALSE)),\"該当の細分類がありません\",VLOOKUP(BC553&BE553&BG553&BI553,日本標準産業分類!AT:AU,2,FALSE))))","v":""},null,null,null,null,null,null,null,false]
[]
[null,"第",null,null,null,null,null,null,null,"種",null,null,null,null,null,"",null,null,null,null,null,null,null,null,null,null,null,null,null,null,null,null,"〒",null,null,null,null,null,null,null,null,null,null,null,null,null,null,null,null,null,null,null,null,null,{"$f":"IF(AU553&AW553&AY553&BA553=\"\",\"\",(IF(ISERROR(VLOOKUP(AU553&AW553&AY553&BA553,日本標準産業分類!A:B,2,FALSE)),\"該当の細分類がありません\",VLOOKUP(AU553&AW553&AY553&BA553,日本標準産業分類!A:B,2,FALSE))))","v":""}]
[null,"（ 指定区分の変更手続きが必要 □ ）"]
[null,null,null,null,null,null,null,null,null,null,null,null,null,null,null,null,null,null,null,null,null,null,null,null,null,null,null,null,null,null,null,null,null,null,null,null,null,null,null,null,null,null,null,null,null,null,null,null,null,null,null,null,null,null,{"$f":"IF(BC557&BE557&BG557&BI557=\"\",\"\",(IF(ISERROR(VLOOKUP(BC557&BE557&BG557&BI557,日本標準産業分類!AT:AU,2,FALSE)),\"該当の細分類がありません\",VLOOKUP(BC557&BE557&BG557&BI557,日本標準産業分類!AT:AU,2,FALSE))))","v":""},null,null,null,null,null,null,null,false]
[]
[null,"第",null,null,null,null,null,null,null,"種",null,null,null,null,null,"",null,null,null,null,null,null,null,null,null,null,null,null,null,null,null,null,"〒",null,null,null,null,null,null,null,null,null,null,null,null,null,null,null,null,null,null,null,null,null,{"$f":"IF(AU557&AW557&AY557&BA557=\"\",\"\",(IF(ISERROR(VLOOKUP(AU557&AW557&AY557&BA557,日本標準産業分類!A:B,2,FALSE)),\"該当の細分類がありません\",VLOOKUP(AU557&AW557&AY557&BA557,日本標準産業分類!A:B,2,FALSE))))","v":""}]
[null,"（ 指定区分の変更手続きが必要 □ ）"]
[null,null,null,null,null,null,null,null,null,null,null,null,null,null,null,null,null,null,null,null,null,null,null,null,null,null,null,null,null,null,null,null,null,null,null,null,null,null,null,null,null,null,null,null,null,null,null,null,null,null,null,null,null,null,{"$f":"IF(BC561&BE561&BG561&BI561=\"\",\"\",(IF(ISERROR(VLOOKUP(BC561&BE561&BG561&BI561,日本標準産業分類!AT:AU,2,FALSE)),\"該当の細分類がありません\",VLOOKUP(BC561&BE561&BG561&BI561,日本標準産業分類!AT:AU,2,FALSE))))","v":""},null,null,null,null,null,null,null,false]
[]
[null,"第",null,null,null,null,null,null,null,"種",null,null,null,null,null,"",null,null,null,null,null,null,null,null,null,null,null,null,null,null,null,null,"〒",null,null,null,null,null,null,null,null,null,null,null,null,null,null,null,null,null,null,null,null,null,{"$f":"IF(AU561&AW561&AY561&BA561=\"\",\"\",(IF(ISERROR(VLOOKUP(AU561&AW561&AY561&BA561,日本標準産業分類!A:B,2,FALSE)),\"該当の細分類がありません\",VLOOKUP(AU561&AW561&AY561&BA561,日本標準産業分類!A:B,2,FALSE))))","v":""}]
[null,"（ 指定区分の変更手続きが必要 □ ）"]
[null,null,null,null,null,null,null,null,null,null,null,null,null,null,null,null,null,null,null,null,null,null,null,null,null,null,null,null,null,null,null,null,null,null,null,null,null,null,null,null,null,null,null,null,null,null,null,null,null,null,null,null,null,null,{"$f":"IF(BC565&BE565&BG565&BI565=\"\",\"\",(IF(ISERROR(VLOOKUP(BC565&BE565&BG565&BI565,日本標準産業分類!AT:AU,2,FALSE)),\"該当の細分類がありません\",VLOOKUP(BC565&BE565&BG565&BI565,日本標準産業分類!AT:AU,2,FALSE))))","v":""},null,null,null,null,null,null,null,false]
[]
[null,"第",null,null,null,null,null,null,null,"種",null,null,null,null,null,"",null,null,null,null,null,null,null,null,null,null,null,null,null,null,null,null,"〒",null,null,null,null,null,null,null,null,null,null,null,null,null,null,null,null,null,null,null,null,null,{"$f":"IF(AU565&AW565&AY565&BA565=\"\",\"\",(IF(ISERROR(VLOOKUP(AU565&AW565&AY565&BA565,日本標準産業分類!A:B,2,FALSE)),\"該当の細分類がありません\",VLOOKUP(AU565&AW565&AY565&BA565,日本標準産業分類!A:B,2,FALSE))))","v":""}]
[null,"（ 指定区分の変更手続きが必要 □ ）"]
[null,null,null,null,null,null,null,null,null,null,null,null,null,null,null,null,null,null,null,null,null,null,null,null,null,null,null,null,null,null,null,null,null,null,null,null,null,null,null,null,null,null,null,null,null,null,null,null,null,null,null,null,null,null,{"$f":"IF(BC569&BE569&BG569&BI569=\"\",\"\",(IF(ISERROR(VLOOKUP(BC569&BE569&BG569&BI569,日本標準産業分類!AT:AU,2,FALSE)),\"該当の細分類がありません\",VLOOKUP(BC569&BE569&BG569&BI569,日本標準産業分類!AT:AU,2,FALSE))))","v":""},null,null,null,null,null,null,null,false]
[]
[null,"第",null,null,null,null,null,null,null,"種",null,null,null,null,null,"",null,null,null,null,null,null,null,null,null,null,null,null,null,null,null,null,"〒",null,null,null,null,null,null,null,null,null,null,null,null,null,null,null,null,null,null,null,null,null,{"$f":"IF(AU569&AW569&AY569&BA569=\"\",\"\",(IF(ISERROR(VLOOKUP(AU569&AW569&AY569&BA569,日本標準産業分類!A:B,2,FALSE)),\"該当の細分類がありません\",VLOOKUP(AU569&AW569&AY569&BA569,日本標準産業分類!A:B,2,FALSE))))","v":""}]
[null,"（ 指定区分の変更手続きが必要 □ ）"]
[null,null,null,null,null,null,null,null,null,null,null,null,null,null,null,null,null,null,null,null,null,null,null,null,null,null,null,null,null,null,null,null,null,null,null,null,null,null,null,null,null,null,null,null,null,null,null,null,null,null,null,null,null,null,{"$f":"IF(BC573&BE573&BG573&BI573=\"\",\"\",(IF(ISERROR(VLOOKUP(BC573&BE573&BG573&BI573,日本標準産業分類!AT:AU,2,FALSE)),\"該当の細分類がありません\",VLOOKUP(BC573&BE573&BG573&BI573,日本標準産業分類!AT:AU,2,FALSE))))","v":""},null,null,null,null,null,null,null,false]
[]
[null,"第",null,null,null,null,null,null,null,"種",null,null,null,null,null,"",null,null,null,null,null,null,null,null,null,null,null,null,null,null,null,null,"〒",null,null,null,null,null,null,null,null,null,null,null,null,null,null,null,null,null,null,null,null,null,{"$f":"IF(AU573&AW573&AY573&BA573=\"\",\"\",(IF(ISERROR(VLOOKUP(AU573&AW573&AY573&BA573,日本標準産業分類!A:B,2,FALSE)),\"該当の細分類がありません\",VLOOKUP(AU573&AW573&AY573&BA573,日本標準産業分類!A:B,2,FALSE))))","v":""}]
[null,"（ 指定区分の変更手続きが必要 □ ）"]
[null,null,null,null,null,null,null,null,null,null,null,null,null,null,null,null,null,null,null,null,null,null,null,null,null,null,null,null,null,null,null,null,null,null,null,null,null,null,null,null,null,null,null,null,null,null,null,null,null,null,null,null,null,null,{"$f":"IF(BC577&BE577&BG577&BI577=\"\",\"\",(IF(ISERROR(VLOOKUP(BC577&BE577&BG577&BI577,日本標準産業分類!AT:AU,2,FALSE)),\"該当の細分類がありません\",VLOOKUP(BC577&BE577&BG577&BI577,日本標準産業分類!AT:AU,2,FALSE))))","v":""},null,null,null,null,null,null,null,false]
[]
[null,"第",null,null,null,null,null,null,null,"種",null,null,null,null,null,"",null,null,null,null,null,null,null,null,null,null,null,null,null,null,null,null,"〒",null,null,null,null,null,null,null,null,null,null,null,null,null,null,null,null,null,null,null,null,null,{"$f":"IF(AU577&AW577&AY577&BA577=\"\",\"\",(IF(ISERROR(VLOOKUP(AU577&AW577&AY577&BA577,日本標準産業分類!A:B,2,FALSE)),\"該当の細分類がありません\",VLOOKUP(AU577&AW577&AY577&BA577,日本標準産業分類!A:B,2,FALSE))))","v":""}]
[null,"（ 指定区分の変更手続きが必要 □ ）"]
[null,null,null,null,null,null,null,null,null,null,null,null,null,null,null,null,null,null,null,null,null,null,null,null,null,null,null,null,null,null,null,null,null,null,null,null,null,null,null,null,null,null,null,null,null,null,null,null,null,null,null,null,null,null,{"$f":"IF(BC581&BE581&BG581&BI581=\"\",\"\",(IF(ISERROR(VLOOKUP(BC581&BE581&BG581&BI581,日本標準産業分類!AT:AU,2,FALSE)),\"該当の細分類がありません\",VLOOKUP(BC581&BE581&BG581&BI581,日本標準産業分類!AT:AU,2,FALSE))))","v":""},null,null,null,null,null,null,null,false]
[]
[null,"第",null,null,null,null,null,null,null,"種",null,null,null,null,null,"",null,null,null,null,null,null,null,null,null,null,null,null,null,null,null,null,"〒",null,null,null,null,null,null,null,null,null,null,null,null,null,null,null,null,null,null,null,null,null,{"$f":"IF(AU581&AW581&AY581&BA581=\"\",\"\",(IF(ISERROR(VLOOKUP(AU581&AW581&AY581&BA581,日本標準産業分類!A:B,2,FALSE)),\"該当の細分類がありません\",VLOOKUP(AU581&AW581&AY581&BA581,日本標準産業分類!A:B,2,FALSE))))","v":""}]
[null,"（ 指定区分の変更手続きが必要 □ ）"]
[null,null,null,null,null,null,null,null,null,null,null,null,null,null,null,null,null,null,null,null,null,null,null,null,null,null,null,null,null,null,null,null,null,null,null,null,null,null,null,null,null,null,null,null,null,null,null,null,null,null,null,null,null,null,{"$f":"IF(BC585&BE585&BG585&BI585=\"\",\"\",(IF(ISERROR(VLOOKUP(BC585&BE585&BG585&BI585,日本標準産業分類!AT:AU,2,FALSE)),\"該当の細分類がありません\",VLOOKUP(BC585&BE585&BG585&BI585,日本標準産業分類!AT:AU,2,FALSE))))","v":""},null,null,null,null,null,null,null,false]
[]
[null,"第",null,null,null,null,null,null,null,"種",null,null,null,null,null,"",null,null,null,null,null,null,null,null,null,null,null,null,null,null,null,null,"〒",null,null,null,null,null,null,null,null,null,null,null,null,null,null,null,null,null,null,null,null,null,{"$f":"IF(AU585&AW585&AY585&BA585=\"\",\"\",(IF(ISERROR(VLOOKUP(AU585&AW585&AY585&BA585,日本標準産業分類!A:B,2,FALSE)),\"該当の細分類がありません\",VLOOKUP(AU585&AW585&AY585&BA585,日本標準産業分類!A:B,2,FALSE))))","v":""}]
[null,"（ 指定区分の変更手続きが必要 □ ）"]
[null,null,null,null,null,null,null,null,null,null,null,null,null,null,null,null,null,null,null,null,null,null,null,null,null,null,null,null,null,null,null,null,null,null,null,null,null,null,null,null,null,null,null,null,null,null,null,null,null,null,null,null,null,null,{"$f":"IF(BC589&BE589&BG589&BI589=\"\",\"\",(IF(ISERROR(VLOOKUP(BC589&BE589&BG589&BI589,日本標準産業分類!AT:AU,2,FALSE)),\"該当の細分類がありません\",VLOOKUP(BC589&BE589&BG589&BI589,日本標準産業分類!AT:AU,2,FALSE))))","v":""},null,null,null,null,null,null,null,false]
[]
[null,"第",null,null,null,null,null,null,null,"種",null,null,null,null,null,"",null,null,null,null,null,null,null,null,null,null,null,null,null,null,null,null,"〒",null,null,null,null,null,null,null,null,null,null,null,null,null,null,null,null,null,null,null,null,null,{"$f":"IF(AU589&AW589&AY589&BA589=\"\",\"\",(IF(ISERROR(VLOOKUP(AU589&AW589&AY589&BA589,日本標準産業分類!A:B,2,FALSE)),\"該当の細分類がありません\",VLOOKUP(AU589&AW589&AY589&BA589,日本標準産業分類!A:B,2,FALSE))))","v":""}]
[null,"（ 指定区分の変更手続きが必要 □ ）"]
[null,null,null,null,null,null,null,null,null,null,null,null,null,null,null,null,null,null,null,null,null,null,null,null,null,null,null,null,null,null,null,null,null,null,null,null,null,null,null,null,null,null,null,null,null,null,null,null,null,null,null,null,null,null,{"$f":"IF(BC593&BE593&BG593&BI593=\"\",\"\",(IF(ISERROR(VLOOKUP(BC593&BE593&BG593&BI593,日本標準産業分類!AT:AU,2,FALSE)),\"該当の細分類がありません\",VLOOKUP(BC593&BE593&BG593&BI593,日本標準産業分類!AT:AU,2,FALSE))))","v":""},null,null,null,null,null,null,null,false]
[]
[null,"第",null,null,null,null,null,null,null,"種",null,null,null,null,null,"",null,null,null,null,null,null,null,null,null,null,null,null,null,null,null,null,"〒",null,null,null,null,null,null,null,null,null,null,null,null,null,null,null,null,null,null,null,null,null,{"$f":"IF(AU593&AW593&AY593&BA593=\"\",\"\",(IF(ISERROR(VLOOKUP(AU593&AW593&AY593&BA593,日本標準産業分類!A:B,2,FALSE)),\"該当の細分類がありません\",VLOOKUP(AU593&AW593&AY593&BA593,日本標準産業分類!A:B,2,FALSE))))","v":""}]
[null,"（ 指定区分の変更手続きが必要 □ ）"]
[null,null,null,null,null,null,null,null,null,null,null,null,null,null,null,null,null,null,null,null,null,null,null,null,null,null,null,null,null,null,null,null,null,null,null,null,null,null,null,null,null,null,null,null,null,null,null,null,null,null,null,null,null,null,{"$f":"IF(BC597&BE597&BG597&BI597=\"\",\"\",(IF(ISERROR(VLOOKUP(BC597&BE597&BG597&BI597,日本標準産業分類!AT:AU,2,FALSE)),\"該当の細分類がありません\",VLOOKUP(BC597&BE597&BG597&BI597,日本標準産業分類!AT:AU,2,FALSE))))","v":""},null,null,null,null,null,null,null,false]
[]
[null,"第",null,null,null,null,null,null,null,"種",null,null,null,null,null,"",null,null,null,null,null,null,null,null,null,null,null,null,null,null,null,null,"〒",null,null,null,null,null,null,null,null,null,null,null,null,null,null,null,null,null,null,null,null,null,{"$f":"IF(AU597&AW597&AY597&BA597=\"\",\"\",(IF(ISERROR(VLOOKUP(AU597&AW597&AY597&BA597,日本標準産業分類!A:B,2,FALSE)),\"該当の細分類がありません\",VLOOKUP(AU597&AW597&AY597&BA597,日本標準産業分類!A:B,2,FALSE))))","v":""}]
[null,"（ 指定区分の変更手続きが必要 □ ）"]
[null,null,null,null,null,null,null,null,null,null,null,null,null,null,null,null,null,null,null,null,null,null,null,null,null,null,null,null,null,null,null,null,null,null,null,null,null,null,null,null,null,null,null,null,null,null,null,null,null,null,null,null,null,null,{"$f":"IF(BC601&BE601&BG601&BI601=\"\",\"\",(IF(ISERROR(VLOOKUP(BC601&BE601&BG601&BI601,日本標準産業分類!AT:AU,2,FALSE)),\"該当の細分類がありません\",VLOOKUP(BC601&BE601&BG601&BI601,日本標準産業分類!AT:AU,2,FALSE))))","v":""},null,null,null,null,null,null,null,false]
[]
[null,"第",null,null,null,null,null,null,null,"種",null,null,null,null,null,"",null,null,null,null,null,null,null,null,null,null,null,null,null,null,null,null,"〒",null,null,null,null,null,null,null,null,null,null,null,null,null,null,null,null,null,null,null,null,null,{"$f":"IF(AU601&AW601&AY601&BA601=\"\",\"\",(IF(ISERROR(VLOOKUP(AU601&AW601&AY601&BA601,日本標準産業分類!A:B,2,FALSE)),\"該当の細分類がありません\",VLOOKUP(AU601&AW601&AY601&BA601,日本標準産業分類!A:B,2,FALSE))))","v":""}]
[null,"（ 指定区分の変更手続きが必要 □ ）"]
[null,null,null,null,null,null,null,null,null,null,null,null,null,null,null,null,null,null,null,null,null,null,null,null,null,null,null,null,null,null,null,null,null,null,null,null,null,null,null,null,null,null,null,null,null,null,null,null,null,null,null,null,null,null,{"$f":"IF(BC605&BE605&BG605&BI605=\"\",\"\",(IF(ISERROR(VLOOKUP(BC605&BE605&BG605&BI605,日本標準産業分類!AT:AU,2,FALSE)),\"該当の細分類がありません\",VLOOKUP(BC605&BE605&BG605&BI605,日本標準産業分類!AT:AU,2,FALSE))))","v":""},null,null,null,null,null,null,null,false]
[]
[null,"第",null,null,null,null,null,null,null,"種",null,null,null,null,null,"",null,null,null,null,null,null,null,null,null,null,null,null,null,null,null,null,"〒",null,null,null,null,null,null,null,null,null,null,null,null,null,null,null,null,null,null,null,null,null,{"$f":"IF(AU605&AW605&AY605&BA605=\"\",\"\",(IF(ISERROR(VLOOKUP(AU605&AW605&AY605&BA605,日本標準産業分類!A:B,2,FALSE)),\"該当の細分類がありません\",VLOOKUP(AU605&AW605&AY605&BA605,日本標準産業分類!A:B,2,FALSE))))","v":""}]
[null,"（ 指定区分の変更手続きが必要 □ ）"]
[null,null,null,null,null,null,null,null,null,null,null,null,null,null,null,null,null,null,null,null,null,null,null,null,null,null,null,null,null,null,null,null,null,null,null,null,null,null,null,null,null,null,null,null,null,null,null,null,null,null,null,null,null,null,{"$f":"IF(BC609&BE609&BG609&BI609=\"\",\"\",(IF(ISERROR(VLOOKUP(BC609&BE609&BG609&BI609,日本標準産業分類!AT:AU,2,FALSE)),\"該当の細分類がありません\",VLOOKUP(BC609&BE609&BG609&BI609,日本標準産業分類!AT:AU,2,FALSE))))","v":""},null,null,null,null,null,null,null,false]
[]
[null,"第",null,null,null,null,null,null,null,"種",null,null,null,null,null,"",null,null,null,null,null,null,null,null,null,null,null,null,null,null,null,null,"〒",null,null,null,null,null,null,null,null,null,null,null,null,null,null,null,null,null,null,null,null,null,{"$f":"IF(AU609&AW609&AY609&BA609=\"\",\"\",(IF(ISERROR(VLOOKUP(AU609&AW609&AY609&BA609,日本標準産業分類!A:B,2,FALSE)),\"該当の細分類がありません\",VLOOKUP(AU609&AW609&AY609&BA609,日本標準産業分類!A:B,2,FALSE))))","v":""}]
[null,"（ 指定区分の変更手続きが必要 □ ）"]
[null,null,null,null,null,null,null,null,null,null,null,null,null,null,null,null,null,null,null,null,null,null,null,null,null,null,null,null,null,null,null,null,null,null,null,null,null,null,null,null,null,null,null,null,null,null,null,null,null,null,null,null,null,null,{"$f":"IF(BC613&BE613&BG613&BI613=\"\",\"\",(IF(ISERROR(VLOOKUP(BC613&BE613&BG613&BI613,日本標準産業分類!AT:AU,2,FALSE)),\"該当の細分類がありません\",VLOOKUP(BC613&BE613&BG613&BI613,日本標準産業分類!AT:AU,2,FALSE))))","v":""},null,null,null,null,null,null,null,false]
[]
[null,"第",null,null,null,null,null,null,null,"種",null,null,null,null,null,"",null,null,null,null,null,null,null,null,null,null,null,null,null,null,null,null,"〒",null,null,null,null,null,null,null,null,null,null,null,null,null,null,null,null,null,null,null,null,null,{"$f":"IF(AU613&AW613&AY613&BA613=\"\",\"\",(IF(ISERROR(VLOOKUP(AU613&AW613&AY613&BA613,日本標準産業分類!A:B,2,FALSE)),\"該当の細分類がありません\",VLOOKUP(AU613&AW613&AY613&BA613,日本標準産業分類!A:B,2,FALSE))))","v":""}]
[null,"（ 指定区分の変更手続きが必要 □ ）"]
[null,null,null,null,null,null,null,null,null,null,null,null,null,null,null,null,null,null,null,null,null,null,null,null,null,null,null,null,null,null,null,null,null,null,null,null,null,null,null,null,null,null,null,null,null,null,null,null,null,null,null,null,null,null,{"$f":"IF(BC617&BE617&BG617&BI617=\"\",\"\",(IF(ISERROR(VLOOKUP(BC617&BE617&BG617&BI617,日本標準産業分類!AT:AU,2,FALSE)),\"該当の細分類がありません\",VLOOKUP(BC617&BE617&BG617&BI617,日本標準産業分類!AT:AU,2,FALSE))))","v":""},null,null,null,null,null,null,null,false]
[]
[null,"第",null,null,null,null,null,null,null,"種",null,null,null,null,null,"",null,null,null,null,null,null,null,null,null,null,null,null,null,null,null,null,"〒",null,null,null,null,null,null,null,null,null,null,null,null,null,null,null,null,null,null,null,null,null,{"$f":"IF(AU617&AW617&AY617&BA617=\"\",\"\",(IF(ISERROR(VLOOKUP(AU617&AW617&AY617&BA617,日本標準産業分類!A:B,2,FALSE)),\"該当の細分類がありません\",VLOOKUP(AU617&AW617&AY617&BA617,日本標準産業分類!A:B,2,FALSE))))","v":""}]
[null,"（ 指定区分の変更手続きが必要 □ ）"]
[null,null,null,null,null,null,null,null,null,null,null,null,null,null,null,null,null,null,null,null,null,null,null,null,null,null,null,null,null,null,null,null,null,null,null,null,null,null,null,null,null,null,null,null,null,null,null,null,null,null,null,null,null,null,{"$f":"IF(BC621&BE621&BG621&BI621=\"\",\"\",(IF(ISERROR(VLOOKUP(BC621&BE621&BG621&BI621,日本標準産業分類!AT:AU,2,FALSE)),\"該当の細分類がありません\",VLOOKUP(BC621&BE621&BG621&BI621,日本標準産業分類!AT:AU,2,FALSE))))","v":""},null,null,null,null,null,null,null,false]
[]
[null,"第",null,null,null,null,null,null,null,"種",null,null,null,null,null,"",null,null,null,null,null,null,null,null,null,null,null,null,null,null,null,null,"〒",null,null,null,null,null,null,null,null,null,null,null,null,null,null,null,null,null,null,null,null,null,{"$f":"IF(AU621&AW621&AY621&BA621=\"\",\"\",(IF(ISERROR(VLOOKUP(AU621&AW621&AY621&BA621,日本標準産業分類!A:B,2,FALSE)),\"該当の細分類がありません\",VLOOKUP(AU621&AW621&AY621&BA621,日本標準産業分類!A:B,2,FALSE))))","v":""}]
[null,"（ 指定区分の変更手続きが必要 □ ）"]
[null,null,null,null,null,null,null,null,null,null,null,null,null,null,null,null,null,null,null,null,null,null,null,null,null,null,null,null,null,null,null,null,null,null,null,null,null,null,null,null,null,null,null,null,null,null,null,null,null,null,null,null,null,null,{"$f":"IF(BC625&BE625&BG625&BI625=\"\",\"\",(IF(ISERROR(VLOOKUP(BC625&BE625&BG625&BI625,日本標準産業分類!AT:AU,2,FALSE)),\"該当の細分類がありません\",VLOOKUP(BC625&BE625&BG625&BI625,日本標準産業分類!AT:AU,2,FALSE))))","v":""},null,null,null,null,null,null,null,false]
[]
[null,"第",null,null,null,null,null,null,null,"種",null,null,null,null,null,"",null,null,null,null,null,null,null,null,null,null,null,null,null,null,null,null,"〒",null,null,null,null,null,null,null,null,null,null,null,null,null,null,null,null,null,null,null,null,null,{"$f":"IF(AU625&AW625&AY625&BA625=\"\",\"\",(IF(ISERROR(VLOOKUP(AU625&AW625&AY625&BA625,日本標準産業分類!A:B,2,FALSE)),\"該当の細分類がありません\",VLOOKUP(AU625&AW625&AY625&BA625,日本標準産業分類!A:B,2,FALSE))))","v":""}]
[null,"（ 指定区分の変更手続きが必要 □ ）"]
[null,null,null,null,null,null,null,null,null,null,null,null,null,null,null,null,null,null,null,null,null,null,null,null,null,null,null,null,null,null,null,null,null,null,null,null,null,null,null,null,null,null,null,null,null,null,null,null,null,null,null,null,null,null,{"$f":"IF(BC629&BE629&BG629&BI629=\"\",\"\",(IF(ISERROR(VLOOKUP(BC629&BE629&BG629&BI629,日本標準産業分類!AT:AU,2,FALSE)),\"該当の細分類がありません\",VLOOKUP(BC629&BE629&BG629&BI629,日本標準産業分類!AT:AU,2,FALSE))))","v":""},null,null,null,null,null,null,null,false]
[]
[null,"第",null,null,null,null,null,null,null,"種",null,null,null,null,null,"",null,null,null,null,null,null,null,null,null,null,null,null,null,null,null,null,"〒",null,null,null,null,null,null,null,null,null,null,null,null,null,null,null,null,null,null,null,null,null,{"$f":"IF(AU629&AW629&AY629&BA629=\"\",\"\",(IF(ISERROR(VLOOKUP(AU629&AW629&AY629&BA629,日本標準産業分類!A:B,2,FALSE)),\"該当の細分類がありません\",VLOOKUP(AU629&AW629&AY629&BA629,日本標準産業分類!A:B,2,FALSE))))","v":""}]
[null,"（ 指定区分の変更手続きが必要 □ ）"]
[null,null,null,null,null,null,null,null,null,null,null,null,null,null,null,null,null,null,null,null,null,null,null,null,null,null,null,null,null,null,null,null,null,null,null,null,null,null,null,null,null,null,null,null,null,null,null,null,null,null,null,null,null,null,{"$f":"IF(BC633&BE633&BG633&BI633=\"\",\"\",(IF(ISERROR(VLOOKUP(BC633&BE633&BG633&BI633,日本標準産業分類!AT:AU,2,FALSE)),\"該当の細分類がありません\",VLOOKUP(BC633&BE633&BG633&BI633,日本標準産業分類!AT:AU,2,FALSE))))","v":""},null,null,null,null,null,null,null,false]
[]
[null,"第",null,null,null,null,null,null,null,"種",null,null,null,null,null,"",null,null,null,null,null,null,null,null,null,null,null,null,null,null,null,null,"〒",null,null,null,null,null,null,null,null,null,null,null,null,null,null,null,null,null,null,null,null,null,{"$f":"IF(AU633&AW633&AY633&BA633=\"\",\"\",(IF(ISERROR(VLOOKUP(AU633&AW633&AY633&BA633,日本標準産業分類!A:B,2,FALSE)),\"該当の細分類がありません\",VLOOKUP(AU633&AW633&AY633&BA633,日本標準産業分類!A:B,2,FALSE))))","v":""}]
[null,"（ 指定区分の変更手続きが必要 □ ）"]
[null,null,null,null,null,null,null,null,null,null,null,null,null,null,null,null,null,null,null,null,null,null,null,null,null,null,null,null,null,null,null,null,null,null,null,null,null,null,null,null,null,null,null,null,null,null,null,null,null,null,null,null,null,null,{"$f":"IF(BC637&BE637&BG637&BI637=\"\",\"\",(IF(ISERROR(VLOOKUP(BC637&BE637&BG637&BI637,日本標準産業分類!AT:AU,2,FALSE)),\"該当の細分類がありません\",VLOOKUP(BC637&BE637&BG637&BI637,日本標準産業分類!AT:AU,2,FALSE))))","v":""},null,null,null,null,null,null,null,false]
[]
[null,"第",null,null,null,null,null,null,null,"種",null,null,null,null,null,"",null,null,null,null,null,null,null,null,null,null,null,null,null,null,null,null,"〒",null,null,null,null,null,null,null,null,null,null,null,null,null,null,null,null,null,null,null,null,null,{"$f":"IF(AU637&AW637&AY637&BA637=\"\",\"\",(IF(ISERROR(VLOOKUP(AU637&AW637&AY637&BA637,日本標準産業分類!A:B,2,FALSE)),\"該当の細分類がありません\",VLOOKUP(AU637&AW637&AY637&BA637,日本標準産業分類!A:B,2,FALSE))))","v":""}]
[null,"（ 指定区分の変更手続きが必要 □ ）"]
[null,null,null,null,null,null,null,null,null,null,null,null,null,null,null,null,null,null,null,null,null,null,null,null,null,null,null,null,null,null,null,null,null,null,null,null,null,null,null,null,null,null,null,null,null,null,null,null,null,null,null,null,null,null,{"$f":"IF(BC641&BE641&BG641&BI641=\"\",\"\",(IF(ISERROR(VLOOKUP(BC641&BE641&BG641&BI641,日本標準産業分類!AT:AU,2,FALSE)),\"該当の細分類がありません\",VLOOKUP(BC641&BE641&BG641&BI641,日本標準産業分類!AT:AU,2,FALSE))))","v":""},null,null,null,null,null,null,null,false]
[]
[null,"第",null,null,null,null,null,null,null,"種",null,null,null,null,null,"",null,null,null,null,null,null,null,null,null,null,null,null,null,null,null,null,"〒",null,null,null,null,null,null,null,null,null,null,null,null,null,null,null,null,null,null,null,null,null,{"$f":"IF(AU641&AW641&AY641&BA641=\"\",\"\",(IF(ISERROR(VLOOKUP(AU641&AW641&AY641&BA641,日本標準産業分類!A:B,2,FALSE)),\"該当の細分類がありません\",VLOOKUP(AU641&AW641&AY641&BA641,日本標準産業分類!A:B,2,FALSE))))","v":""}]
[null,"（ 指定区分の変更手続きが必要 □ ）"]
[null,null,null,null,null,null,null,null,null,null,null,null,null,null,null,null,null,null,null,null,null,null,null,null,null,null,null,null,null,null,null,null,null,null,null,null,null,null,null,null,null,null,null,null,null,null,null,null,null,null,null,null,null,null,{"$f":"IF(BC645&BE645&BG645&BI645=\"\",\"\",(IF(ISERROR(VLOOKUP(BC645&BE645&BG645&BI645,日本標準産業分類!AT:AU,2,FALSE)),\"該当の細分類がありません\",VLOOKUP(BC645&BE645&BG645&BI645,日本標準産業分類!AT:AU,2,FALSE))))","v":""},null,null,null,null,null,null,null,false]
[]
[null,"第",null,null,null,null,null,null,null,"種",null,null,null,null,null,"",null,null,null,null,null,null,null,null,null,null,null,null,null,null,null,null,"〒",null,null,null,null,null,null,null,null,null,null,null,null,null,null,null,null,null,null,null,null,null,{"$f":"IF(AU645&AW645&AY645&BA645=\"\",\"\",(IF(ISERROR(VLOOKUP(AU645&AW645&AY645&BA645,日本標準産業分類!A:B,2,FALSE)),\"該当の細分類がありません\",VLOOKUP(AU645&AW645&AY645&BA645,日本標準産業分類!A:B,2,FALSE))))","v":""}]
[null,"（ 指定区分の変更手続きが必要 □ ）"]
[null,null,null,null,null,null,null,null,null,null,null,null,null,null,null,null,null,null,null,null,null,null,null,null,null,null,null,null,null,null,null,null,null,null,null,null,null,null,null,null,null,null,null,null,null,null,null,null,null,null,null,null,null,null,{"$f":"IF(BC649&BE649&BG649&BI649=\"\",\"\",(IF(ISERROR(VLOOKUP(BC649&BE649&BG649&BI649,日本標準産業分類!AT:AU,2,FALSE)),\"該当の細分類がありません\",VLOOKUP(BC649&BE649&BG649&BI649,日本標準産業分類!AT:AU,2,FALSE))))","v":""},null,null,null,null,null,null,null,false]
[]
[null,"第",null,null,null,null,null,null,null,"種",null,null,null,null,null,"",null,null,null,null,null,null,null,null,null,null,null,null,null,null,null,null,"〒",null,null,null,null,null,null,null,null,null,null,null,null,null,null,null,null,null,null,null,null,null,{"$f":"IF(AU649&AW649&AY649&BA649=\"\",\"\",(IF(ISERROR(VLOOKUP(AU649&AW649&AY649&BA649,日本標準産業分類!A:B,2,FALSE)),\"該当の細分類がありません\",VLOOKUP(AU649&AW649&AY649&BA649,日本標準産業分類!A:B,2,FALSE))))","v":""}]
[null,"（ 指定区分の変更手続きが必要 □ ）"]
[null,null,null,null,null,null,null,null,null,null,null,null,null,null,null,null,null,null,null,null,null,null,null,null,null,null,null,null,null,null,null,null,null,null,null,null,null,null,null,null,null,null,null,null,null,null,null,null,null,null,null,null,null,null,{"$f":"IF(BC653&BE653&BG653&BI653=\"\",\"\",(IF(ISERROR(VLOOKUP(BC653&BE653&BG653&BI653,日本標準産業分類!AT:AU,2,FALSE)),\"該当の細分類がありません\",VLOOKUP(BC653&BE653&BG653&BI653,日本標準産業分類!AT:AU,2,FALSE))))","v":""},null,null,null,null,null,null,null,false]
[]
[null,"第",null,null,null,null,null,null,null,"種",null,null,null,null,null,"",null,null,null,null,null,null,null,null,null,null,null,null,null,null,null,null,"〒",null,null,null,null,null,null,null,null,null,null,null,null,null,null,null,null,null,null,null,null,null,{"$f":"IF(AU653&AW653&AY653&BA653=\"\",\"\",(IF(ISERROR(VLOOKUP(AU653&AW653&AY653&BA653,日本標準産業分類!A:B,2,FALSE)),\"該当の細分類がありません\",VLOOKUP(AU653&AW653&AY653&BA653,日本標準産業分類!A:B,2,FALSE))))","v":""}]
[null,"（ 指定区分の変更手続きが必要 □ ）"]
[null,null,null,null,null,null,null,null,null,null,null,null,null,null,null,null,null,null,null,null,null,null,null,null,null,null,null,null,null,null,null,null,null,null,null,null,null,null,null,null,null,null,null,null,null,null,null,null,null,null,null,null,null,null,{"$f":"IF(BC657&BE657&BG657&BI657=\"\",\"\",(IF(ISERROR(VLOOKUP(BC657&BE657&BG657&BI657,日本標準産業分類!AT:AU,2,FALSE)),\"該当の細分類がありません\",VLOOKUP(BC657&BE657&BG657&BI657,日本標準産業分類!AT:AU,2,FALSE))))","v":""},null,null,null,null,null,null,null,false]
[]
[null,"第",null,null,null,null,null,null,null,"種",null,null,null,null,null,"",null,null,null,null,null,null,null,null,null,null,null,null,null,null,null,null,"〒",null,null,null,null,null,null,null,null,null,null,null,null,null,null,null,null,null,null,null,null,null,{"$f":"IF(AU657&AW657&AY657&BA657=\"\",\"\",(IF(ISERROR(VLOOKUP(AU657&AW657&AY657&BA657,日本標準産業分類!A:B,2,FALSE)),\"該当の細分類がありません\",VLOOKUP(AU657&AW657&AY657&BA657,日本標準産業分類!A:B,2,FALSE))))","v":""}]
[null,"（ 指定区分の変更手続きが必要 □ ）"]
[null,null,null,null,null,null,null,null,null,null,null,null,null,null,null,null,null,null,null,null,null,null,null,null,null,null,null,null,null,null,null,null,null,null,null,null,null,null,null,null,null,null,null,null,null,null,null,null,null,null,null,null,null,null,{"$f":"IF(BC661&BE661&BG661&BI661=\"\",\"\",(IF(ISERROR(VLOOKUP(BC661&BE661&BG661&BI661,日本標準産業分類!AT:AU,2,FALSE)),\"該当の細分類がありません\",VLOOKUP(BC661&BE661&BG661&BI661,日本標準産業分類!AT:AU,2,FALSE))))","v":""},null,null,null,null,null,null,null,false]
[]
[null,"第",null,null,null,null,null,null,null,"種",null,null,null,null,null,"",null,null,null,null,null,null,null,null,null,null,null,null,null,null,null,null,"〒",null,null,null,null,null,null,null,null,null,null,null,null,null,null,null,null,null,null,null,null,null,{"$f":"IF(AU661&AW661&AY661&BA661=\"\",\"\",(IF(ISERROR(VLOOKUP(AU661&AW661&AY661&BA661,日本標準産業分類!A:B,2,FALSE)),\"該当の細分類がありません\",VLOOKUP(AU661&AW661&AY661&BA661,日本標準産業分類!A:B,2,FALSE))))","v":""}]
[null,"（ 指定区分の変更手続きが必要 □ ）"]
[null,null,null,null,null,null,null,null,null,null,null,null,null,null,null,null,null,null,null,null,null,null,null,null,null,null,null,null,null,null,null,null,null,null,null,null,null,null,null,null,null,null,null,null,null,null,null,null,null,null,null,null,null,null,{"$f":"IF(BC665&BE665&BG665&BI665=\"\",\"\",(IF(ISERROR(VLOOKUP(BC665&BE665&BG665&BI665,日本標準産業分類!AT:AU,2,FALSE)),\"該当の細分類がありません\",VLOOKUP(BC665&BE665&BG665&BI665,日本標準産業分類!AT:AU,2,FALSE))))","v":""},null,null,null,null,null,null,null,false]
[]
[null,"第",null,null,null,null,null,null,null,"種",null,null,null,null,null,"",null,null,null,null,null,null,null,null,null,null,null,null,null,null,null,null,"〒",null,null,null,null,null,null,null,null,null,null,null,null,null,null,null,null,null,null,null,null,null,{"$f":"IF(AU665&AW665&AY665&BA665=\"\",\"\",(IF(ISERROR(VLOOKUP(AU665&AW665&AY665&BA665,日本標準産業分類!A:B,2,FALSE)),\"該当の細分類がありません\",VLOOKUP(AU665&AW665&AY665&BA665,日本標準産業分類!A:B,2,FALSE))))","v":""}]
[null,"（ 指定区分の変更手続きが必要 □ ）"]
[null,null,null,null,null,null,null,null,null,null,null,null,null,null,null,null,null,null,null,null,null,null,null,null,null,null,null,null,null,null,null,null,null,null,null,null,null,null,null,null,null,null,null,null,null,null,null,null,null,null,null,null,null,null,{"$f":"IF(BC669&BE669&BG669&BI669=\"\",\"\",(IF(ISERROR(VLOOKUP(BC669&BE669&BG669&BI669,日本標準産業分類!AT:AU,2,FALSE)),\"該当の細分類がありません\",VLOOKUP(BC669&BE669&BG669&BI669,日本標準産業分類!AT:AU,2,FALSE))))","v":""},null,null,null,null,null,null,null,false]
[]
[null,"第",null,null,null,null,null,null,null,"種",null,null,null,null,null,"",null,null,null,null,null,null,null,null,null,null,null,null,null,null,null,null,"〒",null,null,null,null,null,null,null,null,null,null,null,null,null,null,null,null,null,null,null,null,null,{"$f":"IF(AU669&AW669&AY669&BA669=\"\",\"\",(IF(ISERROR(VLOOKUP(AU669&AW669&AY669&BA669,日本標準産業分類!A:B,2,FALSE)),\"該当の細分類がありません\",VLOOKUP(AU669&AW669&AY669&BA669,日本標準産業分類!A:B,2,FALSE))))","v":""}]
[null,"（ 指定区分の変更手続きが必要 □ ）"]
[null,null,null,null,null,null,null,null,null,null,null,null,null,null,null,null,null,null,null,null,null,null,null,null,null,null,null,null,null,null,null,null,null,null,null,null,null,null,null,null,null,null,null,null,null,null,null,null,null,null,null,null,null,null,{"$f":"IF(BC673&BE673&BG673&BI673=\"\",\"\",(IF(ISERROR(VLOOKUP(BC673&BE673&BG673&BI673,日本標準産業分類!AT:AU,2,FALSE)),\"該当の細分類がありません\",VLOOKUP(BC673&BE673&BG673&BI673,日本標準産業分類!AT:AU,2,FALSE))))","v":""},null,null,null,null,null,null,null,false]
[]
[null,"第",null,null,null,null,null,null,null,"種",null,null,null,null,null,"",null,null,null,null,null,null,null,null,null,null,null,null,null,null,null,null,"〒",null,null,null,null,null,null,null,null,null,null,null,null,null,null,null,null,null,null,null,null,null,{"$f":"IF(AU673&AW673&AY673&BA673=\"\",\"\",(IF(ISERROR(VLOOKUP(AU673&AW673&AY673&BA673,日本標準産業分類!A:B,2,FALSE)),\"該当の細分類がありません\",VLOOKUP(AU673&AW673&AY673&BA673,日本標準産業分類!A:B,2,FALSE))))","v":""}]
[null,"（ 指定区分の変更手続きが必要 □ ）"]
[null,null,null,null,null,null,null,null,null,null,null,null,null,null,null,null,null,null,null,null,null,null,null,null,null,null,null,null,null,null,null,null,null,null,null,null,null,null,null,null,null,null,null,null,null,null,null,null,null,null,null,null,null,null,{"$f":"IF(BC677&BE677&BG677&BI677=\"\",\"\",(IF(ISERROR(VLOOKUP(BC677&BE677&BG677&BI677,日本標準産業分類!AT:AU,2,FALSE)),\"該当の細分類がありません\",VLOOKUP(BC677&BE677&BG677&BI677,日本標準産業分類!AT:AU,2,FALSE))))","v":""},null,null,null,null,null,null,null,false]
[]
[null,"第",null,null,null,null,null,null,null,"種",null,null,null,null,null,"",null,null,null,null,null,null,null,null,null,null,null,null,null,null,null,null,"〒",null,null,null,null,null,null,null,null,null,null,null,null,null,null,null,null,null,null,null,null,null,{"$f":"IF(AU677&AW677&AY677&BA677=\"\",\"\",(IF(ISERROR(VLOOKUP(AU677&AW677&AY677&BA677,日本標準産業分類!A:B,2,FALSE)),\"該当の細分類がありません\",VLOOKUP(AU677&AW677&AY677&BA677,日本標準産業分類!A:B,2,FALSE))))","v":""}]
[null,"（ 指定区分の変更手続きが必要 □ ）"]
[null,null,null,null,null,null,null,null,null,null,null,null,null,null,null,null,null,null,null,null,null,null,null,null,null,null,null,null,null,null,null,null,null,null,null,null,null,null,null,null,null,null,null,null,null,null,null,null,null,null,null,null,null,null,{"$f":"IF(BC681&BE681&BG681&BI681=\"\",\"\",(IF(ISERROR(VLOOKUP(BC681&BE681&BG681&BI681,日本標準産業分類!AT:AU,2,FALSE)),\"該当の細分類がありません\",VLOOKUP(BC681&BE681&BG681&BI681,日本標準産業分類!AT:AU,2,FALSE))))","v":""},null,null,null,null,null,null,null,false]
[]
[null,"第",null,null,null,null,null,null,null,"種",null,null,null,null,null,"",null,null,null,null,null,null,null,null,null,null,null,null,null,null,null,null,"〒",null,null,null,null,null,null,null,null,null,null,null,null,null,null,null,null,null,null,null,null,null,{"$f":"IF(AU681&AW681&AY681&BA681=\"\",\"\",(IF(ISERROR(VLOOKUP(AU681&AW681&AY681&BA681,日本標準産業分類!A:B,2,FALSE)),\"該当の細分類がありません\",VLOOKUP(AU681&AW681&AY681&BA681,日本標準産業分類!A:B,2,FALSE))))","v":""}]
[null,"（ 指定区分の変更手続きが必要 □ ）"]
[null,null,null,null,null,null,null,null,null,null,null,null,null,null,null,null,null,null,null,null,null,null,null,null,null,null,null,null,null,null,null,null,null,null,null,null,null,null,null,null,null,null,null,null,null,null,null,null,null,null,null,null,null,null,{"$f":"IF(BC685&BE685&BG685&BI685=\"\",\"\",(IF(ISERROR(VLOOKUP(BC685&BE685&BG685&BI685,日本標準産業分類!AT:AU,2,FALSE)),\"該当の細分類がありません\",VLOOKUP(BC685&BE685&BG685&BI685,日本標準産業分類!AT:AU,2,FALSE))))","v":""},null,null,null,null,null,null,null,false]
[]
[null,"第",null,null,null,null,null,null,null,"種",null,null,null,null,null,"",null,null,null,null,null,null,null,null,null,null,null,null,null,null,null,null,"〒",null,null,null,null,null,null,null,null,null,null,null,null,null,null,null,null,null,null,null,null,null,{"$f":"IF(AU685&AW685&AY685&BA685=\"\",\"\",(IF(ISERROR(VLOOKUP(AU685&AW685&AY685&BA685,日本標準産業分類!A:B,2,FALSE)),\"該当の細分類がありません\",VLOOKUP(AU685&AW685&AY685&BA685,日本標準産業分類!A:B,2,FALSE))))","v":""}]
[null,"（ 指定区分の変更手続きが必要 □ ）"]
[null,null,null,null,null,null,null,null,null,null,null,null,null,null,null,null,null,null,null,null,null,null,null,null,null,null,null,null,null,null,null,null,null,null,null,null,null,null,null,null,null,null,null,null,null,null,null,null,null,null,null,null,null,null,{"$f":"IF(BC689&BE689&BG689&BI689=\"\",\"\",(IF(ISERROR(VLOOKUP(BC689&BE689&BG689&BI689,日本標準産業分類!AT:AU,2,FALSE)),\"該当の細分類がありません\",VLOOKUP(BC689&BE689&BG689&BI689,日本標準産業分類!AT:AU,2,FALSE))))","v":""},null,null,null,null,null,null,null,false]
[]
[null,"第",null,null,null,null,null,null,null,"種",null,null,null,null,null,"",null,null,null,null,null,null,null,null,null,null,null,null,null,null,null,null,"〒",null,null,null,null,null,null,null,null,null,null,null,null,null,null,null,null,null,null,null,null,null,{"$f":"IF(AU689&AW689&AY689&BA689=\"\",\"\",(IF(ISERROR(VLOOKUP(AU689&AW689&AY689&BA689,日本標準産業分類!A:B,2,FALSE)),\"該当の細分類がありません\",VLOOKUP(AU689&AW689&AY689&BA689,日本標準産業分類!A:B,2,FALSE))))","v":""}]
[null,"（ 指定区分の変更手続きが必要 □ ）"]
[null,null,null,null,null,null,null,null,null,null,null,null,null,null,null,null,null,null,null,null,null,null,null,null,null,null,null,null,null,null,null,null,null,null,null,null,null,null,null,null,null,null,null,null,null,null,null,null,null,null,null,null,null,null,{"$f":"IF(BC693&BE693&BG693&BI693=\"\",\"\",(IF(ISERROR(VLOOKUP(BC693&BE693&BG693&BI693,日本標準産業分類!AT:AU,2,FALSE)),\"該当の細分類がありません\",VLOOKUP(BC693&BE693&BG693&BI693,日本標準産業分類!AT:AU,2,FALSE))))","v":""},null,null,null,null,null,null,null,false]
[]
[null,"第",null,null,null,null,null,null,null,"種",null,null,null,null,null,"",null,null,null,null,null,null,null,null,null,null,null,null,null,null,null,null,"〒",null,null,null,null,null,null,null,null,null,null,null,null,null,null,null,null,null,null,null,null,null,{"$f":"IF(AU693&AW693&AY693&BA693=\"\",\"\",(IF(ISERROR(VLOOKUP(AU693&AW693&AY693&BA693,日本標準産業分類!A:B,2,FALSE)),\"該当の細分類がありません\",VLOOKUP(AU693&AW693&AY693&BA693,日本標準産業分類!A:B,2,FALSE))))","v":""}]
[null,"（ 指定区分の変更手続きが必要 □ ）"]
[null,null,null,null,null,null,null,null,null,null,null,null,null,null,null,null,null,null,null,null,null,null,null,null,null,null,null,null,null,null,null,null,null,null,null,null,null,null,null,null,null,null,null,null,null,null,null,null,null,null,null,null,null,null,{"$f":"IF(BC697&BE697&BG697&BI697=\"\",\"\",(IF(ISERROR(VLOOKUP(BC697&BE697&BG697&BI697,日本標準産業分類!AT:AU,2,FALSE)),\"該当の細分類がありません\",VLOOKUP(BC697&BE697&BG697&BI697,日本標準産業分類!AT:AU,2,FALSE))))","v":""},null,null,null,null,null,null,null,false]
[]
[null,"第",null,null,null,null,null,null,null,"種",null,null,null,null,null,"",null,null,null,null,null,null,null,null,null,null,null,null,null,null,null,null,"〒",null,null,null,null,null,null,null,null,null,null,null,null,null,null,null,null,null,null,null,null,null,{"$f":"IF(AU697&AW697&AY697&BA697=\"\",\"\",(IF(ISERROR(VLOOKUP(AU697&AW697&AY697&BA697,日本標準産業分類!A:B,2,FALSE)),\"該当の細分類がありません\",VLOOKUP(AU697&AW697&AY697&BA697,日本標準産業分類!A:B,2,FALSE))))","v":""}]
[null,"（ 指定区分の変更手続きが必要 □ ）"]
[null,null,null,null,null,null,null,null,null,null,null,null,null,null,null,null,null,null,null,null,null,null,null,null,null,null,null,null,null,null,null,null,null,null,null,null,null,null,null,null,null,null,null,null,null,null,null,null,null,null,null,null,null,null,{"$f":"IF(BC701&BE701&BG701&BI701=\"\",\"\",(IF(ISERROR(VLOOKUP(BC701&BE701&BG701&BI701,日本標準産業分類!AT:AU,2,FALSE)),\"該当の細分類がありません\",VLOOKUP(BC701&BE701&BG701&BI701,日本標準産業分類!AT:AU,2,FALSE))))","v":""},null,null,null,null,null,null,null,false]
[]
[null,"第",null,null,null,null,null,null,null,"種",null,null,null,null,null,"",null,null,null,null,null,null,null,null,null,null,null,null,null,null,null,null,"〒",null,null,null,null,null,null,null,null,null,null,null,null,null,null,null,null,null,null,null,null,null,{"$f":"IF(AU701&AW701&AY701&BA701=\"\",\"\",(IF(ISERROR(VLOOKUP(AU701&AW701&AY701&BA701,日本標準産業分類!A:B,2,FALSE)),\"該当の細分類がありません\",VLOOKUP(AU701&AW701&AY701&BA701,日本標準産業分類!A:B,2,FALSE))))","v":""}]
[null,"（ 指定区分の変更手続きが必要 □ ）"]
[null,null,null,null,null,null,null,null,null,null,null,null,null,null,null,null,null,null,null,null,null,null,null,null,null,null,null,null,null,null,null,null,null,null,null,null,null,null,null,null,null,null,null,null,null,null,null,null,null,null,null,null,null,null,{"$f":"IF(BC705&BE705&BG705&BI705=\"\",\"\",(IF(ISERROR(VLOOKUP(BC705&BE705&BG705&BI705,日本標準産業分類!AT:AU,2,FALSE)),\"該当の細分類がありません\",VLOOKUP(BC705&BE705&BG705&BI705,日本標準産業分類!AT:AU,2,FALSE))))","v":""},null,null,null,null,null,null,null,false]
[]
[null,"第",null,null,null,null,null,null,null,"種",null,null,null,null,null,"",null,null,null,null,null,null,null,null,null,null,null,null,null,null,null,null,"〒",null,null,null,null,null,null,null,null,null,null,null,null,null,null,null,null,null,null,null,null,null,{"$f":"IF(AU705&AW705&AY705&BA705=\"\",\"\",(IF(ISERROR(VLOOKUP(AU705&AW705&AY705&BA705,日本標準産業分類!A:B,2,FALSE)),\"該当の細分類がありません\",VLOOKUP(AU705&AW705&AY705&BA705,日本標準産業分類!A:B,2,FALSE))))","v":""}]
[null,"（ 指定区分の変更手続きが必要 □ ）"]
[null,null,null,null,null,null,null,null,null,null,null,null,null,null,null,null,null,null,null,null,null,null,null,null,null,null,null,null,null,null,null,null,null,null,null,null,null,null,null,null,null,null,null,null,null,null,null,null,null,null,null,null,null,null,{"$f":"IF(BC709&BE709&BG709&BI709=\"\",\"\",(IF(ISERROR(VLOOKUP(BC709&BE709&BG709&BI709,日本標準産業分類!AT:AU,2,FALSE)),\"該当の細分類がありません\",VLOOKUP(BC709&BE709&BG709&BI709,日本標準産業分類!AT:AU,2,FALSE))))","v":""},null,null,null,null,null,null,null,false]
[]
[null,"第",null,null,null,null,null,null,null,"種",null,null,null,null,null,"",null,null,null,null,null,null,null,null,null,null,null,null,null,null,null,null,"〒",null,null,null,null,null,null,null,null,null,null,null,null,null,null,null,null,null,null,null,null,null,{"$f":"IF(AU709&AW709&AY709&BA709=\"\",\"\",(IF(ISERROR(VLOOKUP(AU709&AW709&AY709&BA709,日本標準産業分類!A:B,2,FALSE)),\"該当の細分類がありません\",VLOOKUP(AU709&AW709&AY709&BA709,日本標準産業分類!A:B,2,FALSE))))","v":""}]
[null,"（ 指定区分の変更手続きが必要 □ ）"]
[null,null,null,null,null,null,null,null,null,null,null,null,null,null,null,null,null,null,null,null,null,null,null,null,null,null,null,null,null,null,null,null,null,null,null,null,null,null,null,null,null,null,null,null,null,null,null,null,null,null,null,null,null,null,{"$f":"IF(BC713&BE713&BG713&BI713=\"\",\"\",(IF(ISERROR(VLOOKUP(BC713&BE713&BG713&BI713,日本標準産業分類!AT:AU,2,FALSE)),\"該当の細分類がありません\",VLOOKUP(BC713&BE713&BG713&BI713,日本標準産業分類!AT:AU,2,FALSE))))","v":""},null,null,null,null,null,null,null,false]
[]
[null,"第",null,null,null,null,null,null,null,"種",null,null,null,null,null,"",null,null,null,null,null,null,null,null,null,null,null,null,null,null,null,null,"〒",null,null,null,null,null,null,null,null,null,null,null,null,null,null,null,null,null,null,null,null,null,{"$f":"IF(AU713&AW713&AY713&BA713=\"\",\"\",(IF(ISERROR(VLOOKUP(AU713&AW713&AY713&BA713,日本標準産業分類!A:B,2,FALSE)),\"該当の細分類がありません\",VLOOKUP(AU713&AW713&AY713&BA713,日本標準産業分類!A:B,2,FALSE))))","v":""}]
[null,"（ 指定区分の変更手続きが必要 □ ）"]
[null,null,null,null,null,null,null,null,null,null,null,null,null,null,null,null,null,null,null,null,null,null,null,null,null,null,null,null,null,null,null,null,null,null,null,null,null,null,null,null,null,null,null,null,null,null,null,null,null,null,null,null,null,null,{"$f":"IF(BC717&BE717&BG717&BI717=\"\",\"\",(IF(ISERROR(VLOOKUP(BC717&BE717&BG717&BI717,日本標準産業分類!AT:AU,2,FALSE)),\"該当の細分類がありません\",VLOOKUP(BC717&BE717&BG717&BI717,日本標準産業分類!AT:AU,2,FALSE))))","v":""},null,null,null,null,null,null,null,false]
[]
[null,"第",null,null,null,null,null,null,null,"種",null,null,null,null,null,"",null,null,null,null,null,null,null,null,null,null,null,null,null,null,null,null,"〒",null,null,null,null,null,null,null,null,null,null,null,null,null,null,null,null,null,null,null,null,null,{"$f":"IF(AU717&AW717&AY717&BA717=\"\",\"\",(IF(ISERROR(VLOOKUP(AU717&AW717&AY717&BA717,日本標準産業分類!A:B,2,FALSE)),\"該当の細分類がありません\",VLOOKUP(AU717&AW717&AY717&BA717,日本標準産業分類!A:B,2,FALSE))))","v":""}]
[null,"（ 指定区分の変更手続きが必要 □ ）"]
[null,null,null,null,null,null,null,null,null,null,null,null,null,null,null,null,null,null,null,null,null,null,null,null,null,null,null,null,null,null,null,null,null,null,null,null,null,null,null,null,null,null,null,null,null,null,null,null,null,null,null,null,null,null,{"$f":"IF(BC721&BE721&BG721&BI721=\"\",\"\",(IF(ISERROR(VLOOKUP(BC721&BE721&BG721&BI721,日本標準産業分類!AT:AU,2,FALSE)),\"該当の細分類がありません\",VLOOKUP(BC721&BE721&BG721&BI721,日本標準産業分類!AT:AU,2,FALSE))))","v":""},null,null,null,null,null,null,null,false]
[]
[null,"第",null,null,null,null,null,null,null,"種",null,null,null,null,null,"",null,null,null,null,null,null,null,null,null,null,null,null,null,null,null,null,"〒",null,null,null,null,null,null,null,null,null,null,null,null,null,null,null,null,null,null,null,null,null,{"$f":"IF(AU721&AW721&AY721&BA721=\"\",\"\",(IF(ISERROR(VLOOKUP(AU721&AW721&AY721&BA721,日本標準産業分類!A:B,2,FALSE)),\"該当の細分類がありません\",VLOOKUP(AU721&AW721&AY721&BA721,日本標準産業分類!A:B,2,FALSE))))","v":""}]
[null,"（ 指定区分の変更手続きが必要 □ ）"]
[null,null,null,null,null,null,null,null,null,null,null,null,null,null,null,null,null,null,null,null,null,null,null,null,null,null,null,null,null,null,null,null,null,null,null,null,null,null,null,null,null,null,null,null,null,null,null,null,null,null,null,null,null,null,{"$f":"IF(BC725&BE725&BG725&BI725=\"\",\"\",(IF(ISERROR(VLOOKUP(BC725&BE725&BG725&BI725,日本標準産業分類!AT:AU,2,FALSE)),\"該当の細分類がありません\",VLOOKUP(BC725&BE725&BG725&BI725,日本標準産業分類!AT:AU,2,FALSE))))","v":""},null,null,null,null,null,null,null,false]
[]
[null,"第",null,null,null,null,null,null,null,"種",null,null,null,null,null,"",null,null,null,null,null,null,null,null,null,null,null,null,null,null,null,null,"〒",null,null,null,null,null,null,null,null,null,null,null,null,null,null,null,null,null,null,null,null,null,{"$f":"IF(AU725&AW725&AY725&BA725=\"\",\"\",(IF(ISERROR(VLOOKUP(AU725&AW725&AY725&BA725,日本標準産業分類!A:B,2,FALSE)),\"該当の細分類がありません\",VLOOKUP(AU725&AW725&AY725&BA725,日本標準産業分類!A:B,2,FALSE))))","v":""}]
[null,"（ 指定区分の変更手続きが必要 □ ）"]
[null,null,null,null,null,null,null,null,null,null,null,null,null,null,null,null,null,null,null,null,null,null,null,null,null,null,null,null,null,null,null,null,null,null,null,null,null,null,null,null,null,null,null,null,null,null,null,null,null,null,null,null,null,null,{"$f":"IF(BC729&BE729&BG729&BI729=\"\",\"\",(IF(ISERROR(VLOOKUP(BC729&BE729&BG729&BI729,日本標準産業分類!AT:AU,2,FALSE)),\"該当の細分類がありません\",VLOOKUP(BC729&BE729&BG729&BI729,日本標準産業分類!AT:AU,2,FALSE))))","v":""},null,null,null,null,null,null,null,false]
[]
[null,"第",null,null,null,null,null,null,null,"種",null,null,null,null,null,"",null,null,null,null,null,null,null,null,null,null,null,null,null,null,null,null,"〒",null,null,null,null,null,null,null,null,null,null,null,null,null,null,null,null,null,null,null,null,null,{"$f":"IF(AU729&AW729&AY729&BA729=\"\",\"\",(IF(ISERROR(VLOOKUP(AU729&AW729&AY729&BA729,日本標準産業分類!A:B,2,FALSE)),\"該当の細分類がありません\",VLOOKUP(AU729&AW729&AY729&BA729,日本標準産業分類!A:B,2,FALSE))))","v":""}]
[null,"（ 指定区分の変更手続きが必要 □ ）"]
[null,null,null,null,null,null,null,null,null,null,null,null,null,null,null,null,null,null,null,null,null,null,null,null,null,null,null,null,null,null,null,null,null,null,null,null,null,null,null,null,null,null,null,null,null,null,null,null,null,null,null,null,null,null,{"$f":"IF(BC733&BE733&BG733&BI733=\"\",\"\",(IF(ISERROR(VLOOKUP(BC733&BE733&BG733&BI733,日本標準産業分類!AT:AU,2,FALSE)),\"該当の細分類がありません\",VLOOKUP(BC733&BE733&BG733&BI733,日本標準産業分類!AT:AU,2,FALSE))))","v":""},null,null,null,null,null,null,null,false]
[]
[null,"第",null,null,null,null,null,null,null,"種",null,null,null,null,null,"",null,null,null,null,null,null,null,null,null,null,null,null,null,null,null,null,"〒",null,null,null,null,null,null,null,null,null,null,null,null,null,null,null,null,null,null,null,null,null,{"$f":"IF(AU733&AW733&AY733&BA733=\"\",\"\",(IF(ISERROR(VLOOKUP(AU733&AW733&AY733&BA733,日本標準産業分類!A:B,2,FALSE)),\"該当の細分類がありません\",VLOOKUP(AU733&AW733&AY733&BA733,日本標準産業分類!A:B,2,FALSE))))","v":""}]
[null,"（ 指定区分の変更手続きが必要 □ ）"]
[null,null,null,null,null,null,null,null,null,null,null,null,null,null,null,null,null,null,null,null,null,null,null,null,null,null,null,null,null,null,null,null,null,null,null,null,null,null,null,null,null,null,null,null,null,null,null,null,null,null,null,null,null,null,{"$f":"IF(BC737&BE737&BG737&BI737=\"\",\"\",(IF(ISERROR(VLOOKUP(BC737&BE737&BG737&BI737,日本標準産業分類!AT:AU,2,FALSE)),\"該当の細分類がありません\",VLOOKUP(BC737&BE737&BG737&BI737,日本標準産業分類!AT:AU,2,FALSE))))","v":""},null,null,null,null,null,null,null,false]
[]
[null,"第",null,null,null,null,null,null,null,"種",null,null,null,null,null,"",null,null,null,null,null,null,null,null,null,null,null,null,null,null,null,null,"〒",null,null,null,null,null,null,null,null,null,null,null,null,null,null,null,null,null,null,null,null,null,{"$f":"IF(AU737&AW737&AY737&BA737=\"\",\"\",(IF(ISERROR(VLOOKUP(AU737&AW737&AY737&BA737,日本標準産業分類!A:B,2,FALSE)),\"該当の細分類がありません\",VLOOKUP(AU737&AW737&AY737&BA737,日本標準産業分類!A:B,2,FALSE))))","v":""}]
[null,"（ 指定区分の変更手続きが必要 □ ）"]
[null,null,null,null,null,null,null,null,null,null,null,null,null,null,null,null,null,null,null,null,null,null,null,null,null,null,null,null,null,null,null,null,null,null,null,null,null,null,null,null,null,null,null,null,null,null,null,null,null,null,null,null,null,null,{"$f":"IF(BC741&BE741&BG741&BI741=\"\",\"\",(IF(ISERROR(VLOOKUP(BC741&BE741&BG741&BI741,日本標準産業分類!AT:AU,2,FALSE)),\"該当の細分類がありません\",VLOOKUP(BC741&BE741&BG741&BI741,日本標準産業分類!AT:AU,2,FALSE))))","v":""},null,null,null,null,null,null,null,false]
[]
[null,"第",null,null,null,null,null,null,null,"種",null,null,null,null,null,"",null,null,null,null,null,null,null,null,null,null,null,null,null,null,null,null,"〒",null,null,null,null,null,null,null,null,null,null,null,null,null,null,null,null,null,null,null,null,null,{"$f":"IF(AU741&AW741&AY741&BA741=\"\",\"\",(IF(ISERROR(VLOOKUP(AU741&AW741&AY741&BA741,日本標準産業分類!A:B,2,FALSE)),\"該当の細分類がありません\",VLOOKUP(AU741&AW741&AY741&BA741,日本標準産業分類!A:B,2,FALSE))))","v":""}]
[null,"（ 指定区分の変更手続きが必要 □ ）"]
[null,null,null,null,null,null,null,null,null,null,null,null,null,null,null,null,null,null,null,null,null,null,null,null,null,null,null,null,null,null,null,null,null,null,null,null,null,null,null,null,null,null,null,null,null,null,null,null,null,null,null,null,null,null,{"$f":"IF(BC745&BE745&BG745&BI745=\"\",\"\",(IF(ISERROR(VLOOKUP(BC745&BE745&BG745&BI745,日本標準産業分類!AT:AU,2,FALSE)),\"該当の細分類がありません\",VLOOKUP(BC745&BE745&BG745&BI745,日本標準産業分類!AT:AU,2,FALSE))))","v":""},null,null,null,null,null,null,null,false]
[]
[null,"第",null,null,null,null,null,null,null,"種",null,null,null,null,null,"",null,null,null,null,null,null,null,null,null,null,null,null,null,null,null,null,"〒",null,null,null,null,null,null,null,null,null,null,null,null,null,null,null,null,null,null,null,null,null,{"$f":"IF(AU745&AW745&AY745&BA745=\"\",\"\",(IF(ISERROR(VLOOKUP(AU745&AW745&AY745&BA745,日本標準産業分類!A:B,2,FALSE)),\"該当の細分類がありません\",VLOOKUP(AU745&AW745&AY745&BA745,日本標準産業分類!A:B,2,FALSE))))","v":""}]
[null,"（ 指定区分の変更手続きが必要 □ ）"]
[null,null,null,null,null,null,null,null,null,null,null,null,null,null,null,null,null,null,null,null,null,null,null,null,null,null,null,null,null,null,null,null,null,null,null,null,null,null,null,null,null,null,null,null,null,null,null,null,null,null,null,null,null,null,{"$f":"IF(BC749&BE749&BG749&BI749=\"\",\"\",(IF(ISERROR(VLOOKUP(BC749&BE749&BG749&BI749,日本標準産業分類!AT:AU,2,FALSE)),\"該当の細分類がありません\",VLOOKUP(BC749&BE749&BG749&BI749,日本標準産業分類!AT:AU,2,FALSE))))","v":""},null,null,null,null,null,null,null,false]
[]
[null,"第",null,null,null,null,null,null,null,"種",null,null,null,null,null,"",null,null,null,null,null,null,null,null,null,null,null,null,null,null,null,null,"〒",null,null,null,null,null,null,null,null,null,null,null,null,null,null,null,null,null,null,null,null,null,{"$f":"IF(AU749&AW749&AY749&BA749=\"\",\"\",(IF(ISERROR(VLOOKUP(AU749&AW749&AY749&BA749,日本標準産業分類!A:B,2,FALSE)),\"該当の細分類がありません\",VLOOKUP(AU749&AW749&AY749&BA749,日本標準産業分類!A:B,2,FALSE))))","v":""}]
[null,"（ 指定区分の変更手続きが必要 □ ）"]
[null,null,null,null,null,null,null,null,null,null,null,null,null,null,null,null,null,null,null,null,null,null,null,null,null,null,null,null,null,null,null,null,null,null,null,null,null,null,null,null,null,null,null,null,null,null,null,null,null,null,null,null,null,null,{"$f":"IF(BC753&BE753&BG753&BI753=\"\",\"\",(IF(ISERROR(VLOOKUP(BC753&BE753&BG753&BI753,日本標準産業分類!AT:AU,2,FALSE)),\"該当の細分類がありません\",VLOOKUP(BC753&BE753&BG753&BI753,日本標準産業分類!AT:AU,2,FALSE))))","v":""},null,null,null,null,null,null,null,false]
[]
[null,"第",null,null,null,null,null,null,null,"種",null,null,null,null,null,"",null,null,null,null,null,null,null,null,null,null,null,null,null,null,null,null,"〒",null,null,null,null,null,null,null,null,null,null,null,null,null,null,null,null,null,null,null,null,null,{"$f":"IF(AU753&AW753&AY753&BA753=\"\",\"\",(IF(ISERROR(VLOOKUP(AU753&AW753&AY753&BA753,日本標準産業分類!A:B,2,FALSE)),\"該当の細分類がありません\",VLOOKUP(AU753&AW753&AY753&BA753,日本標準産業分類!A:B,2,FALSE))))","v":""}]
[null,"（ 指定区分の変更手続きが必要 □ ）"]
[null,null,null,null,null,null,null,null,null,null,null,null,null,null,null,null,null,null,null,null,null,null,null,null,null,null,null,null,null,null,null,null,null,null,null,null,null,null,null,null,null,null,null,null,null,null,null,null,null,null,null,null,null,null,{"$f":"IF(BC757&BE757&BG757&BI757=\"\",\"\",(IF(ISERROR(VLOOKUP(BC757&BE757&BG757&BI757,日本標準産業分類!AT:AU,2,FALSE)),\"該当の細分類がありません\",VLOOKUP(BC757&BE757&BG757&BI757,日本標準産業分類!AT:AU,2,FALSE))))","v":""},null,null,null,null,null,null,null,false]
[]
[null,"第",null,null,null,null,null,null,null,"種",null,null,null,null,null,"",null,null,null,null,null,null,null,null,null,null,null,null,null,null,null,null,"〒",null,null,null,null,null,null,null,null,null,null,null,null,null,null,null,null,null,null,null,null,null,{"$f":"IF(AU757&AW757&AY757&BA757=\"\",\"\",(IF(ISERROR(VLOOKUP(AU757&AW757&AY757&BA757,日本標準産業分類!A:B,2,FALSE)),\"該当の細分類がありません\",VLOOKUP(AU757&AW757&AY757&BA757,日本標準産業分類!A:B,2,FALSE))))","v":""}]
[null,"（ 指定区分の変更手続きが必要 □ ）"]
[null,null,null,null,null,null,null,null,null,null,null,null,null,null,null,null,null,null,null,null,null,null,null,null,null,null,null,null,null,null,null,null,null,null,null,null,null,null,null,null,null,null,null,null,null,null,null,null,null,null,null,null,null,null,{"$f":"IF(BC761&BE761&BG761&BI761=\"\",\"\",(IF(ISERROR(VLOOKUP(BC761&BE761&BG761&BI761,日本標準産業分類!AT:AU,2,FALSE)),\"該当の細分類がありません\",VLOOKUP(BC761&BE761&BG761&BI761,日本標準産業分類!AT:AU,2,FALSE))))","v":""},null,null,null,null,null,null,null,false]
[]
[null,"第",null,null,null,null,null,null,null,"種",null,null,null,null,null,"",null,null,null,null,null,null,null,null,null,null,null,null,null,null,null,null,"〒",null,null,null,null,null,null,null,null,null,null,null,null,null,null,null,null,null,null,null,null,null,{"$f":"IF(AU761&AW761&AY761&BA761=\"\",\"\",(IF(ISERROR(VLOOKUP(AU761&AW761&AY761&BA761,日本標準産業分類!A:B,2,FALSE)),\"該当の細分類がありません\",VLOOKUP(AU761&AW761&AY761&BA761,日本標準産業分類!A:B,2,FALSE))))","v":""}]
[null,"（ 指定区分の変更手続きが必要 □ ）"]
[null,null,null,null,null,null,null,null,null,null,null,null,null,null,null,null,null,null,null,null,null,null,null,null,null,null,null,null,null,null,null,null,null,null,null,null,null,null,null,null,null,null,null,null,null,null,null,null,null,null,null,null,null,null,{"$f":"IF(BC765&BE765&BG765&BI765=\"\",\"\",(IF(ISERROR(VLOOKUP(BC765&BE765&BG765&BI765,日本標準産業分類!AT:AU,2,FALSE)),\"該当の細分類がありません\",VLOOKUP(BC765&BE765&BG765&BI765,日本標準産業分類!AT:AU,2,FALSE))))","v":""},null,null,null,null,null,null,null,false]
[]
[null,"第",null,null,null,null,null,null,null,"種",null,null,null,null,null,"",null,null,null,null,null,null,null,null,null,null,null,null,null,null,null,null,"〒",null,null,null,null,null,null,null,null,null,null,null,null,null,null,null,null,null,null,null,null,null,{"$f":"IF(AU765&AW765&AY765&BA765=\"\",\"\",(IF(ISERROR(VLOOKUP(AU765&AW765&AY765&BA765,日本標準産業分類!A:B,2,FALSE)),\"該当の細分類がありません\",VLOOKUP(AU765&AW765&AY765&BA765,日本標準産業分類!A:B,2,FALSE))))","v":""}]
[null,"（ 指定区分の変更手続きが必要 □ ）"]
[null,null,null,null,null,null,null,null,null,null,null,null,null,null,null,null,null,null,null,null,null,null,null,null,null,null,null,null,null,null,null,null,null,null,null,null,null,null,null,null,null,null,null,null,null,null,null,null,null,null,null,null,null,null,{"$f":"IF(BC769&BE769&BG769&BI769=\"\",\"\",(IF(ISERROR(VLOOKUP(BC769&BE769&BG769&BI769,日本標準産業分類!AT:AU,2,FALSE)),\"該当の細分類がありません\",VLOOKUP(BC769&BE769&BG769&BI769,日本標準産業分類!AT:AU,2,FALSE))))","v":""},null,null,null,null,null,null,null,false]
[]
[null,"第",null,null,null,null,null,null,null,"種",null,null,null,null,null,"",null,null,null,null,null,null,null,null,null,null,null,null,null,null,null,null,"〒",null,null,null,null,null,null,null,null,null,null,null,null,null,null,null,null,null,null,null,null,null,{"$f":"IF(AU769&AW769&AY769&BA769=\"\",\"\",(IF(ISERROR(VLOOKUP(AU769&AW769&AY769&BA769,日本標準産業分類!A:B,2,FALSE)),\"該当の細分類がありません\",VLOOKUP(AU769&AW769&AY769&BA769,日本標準産業分類!A:B,2,FALSE))))","v":""}]
[null,"（ 指定区分の変更手続きが必要 □ ）"]
[null,null,null,null,null,null,null,null,null,null,null,null,null,null,null,null,null,null,null,null,null,null,null,null,null,null,null,null,null,null,null,null,null,null,null,null,null,null,null,null,null,null,null,null,null,null,null,null,null,null,null,null,null,null,{"$f":"IF(BC773&BE773&BG773&BI773=\"\",\"\",(IF(ISERROR(VLOOKUP(BC773&BE773&BG773&BI773,日本標準産業分類!AT:AU,2,FALSE)),\"該当の細分類がありません\",VLOOKUP(BC773&BE773&BG773&BI773,日本標準産業分類!AT:AU,2,FALSE))))","v":""},null,null,null,null,null,null,null,false]
[]
[null,"第",null,null,null,null,null,null,null,"種",null,null,null,null,null,"",null,null,null,null,null,null,null,null,null,null,null,null,null,null,null,null,"〒",null,null,null,null,null,null,null,null,null,null,null,null,null,null,null,null,null,null,null,null,null,{"$f":"IF(AU773&AW773&AY773&BA773=\"\",\"\",(IF(ISERROR(VLOOKUP(AU773&AW773&AY773&BA773,日本標準産業分類!A:B,2,FALSE)),\"該当の細分類がありません\",VLOOKUP(AU773&AW773&AY773&BA773,日本標準産業分類!A:B,2,FALSE))))","v":""}]
[null,"（ 指定区分の変更手続きが必要 □ ）"]
[null,null,null,null,null,null,null,null,null,null,null,null,null,null,null,null,null,null,null,null,null,null,null,null,null,null,null,null,null,null,null,null,null,null,null,null,null,null,null,null,null,null,null,null,null,null,null,null,null,null,null,null,null,null,{"$f":"IF(BC777&BE777&BG777&BI777=\"\",\"\",(IF(ISERROR(VLOOKUP(BC777&BE777&BG777&BI777,日本標準産業分類!AT:AU,2,FALSE)),\"該当の細分類がありません\",VLOOKUP(BC777&BE777&BG777&BI777,日本標準産業分類!AT:AU,2,FALSE))))","v":""},null,null,null,null,null,null,null,false]
[]
[null,"第",null,null,null,null,null,null,null,"種",null,null,null,null,null,"",null,null,null,null,null,null,null,null,null,null,null,null,null,null,null,null,"〒",null,null,null,null,null,null,null,null,null,null,null,null,null,null,null,null,null,null,null,null,null,{"$f":"IF(AU777&AW777&AY777&BA777=\"\",\"\",(IF(ISERROR(VLOOKUP(AU777&AW777&AY777&BA777,日本標準産業分類!A:B,2,FALSE)),\"該当の細分類がありません\",VLOOKUP(AU777&AW777&AY777&BA777,日本標準産業分類!A:B,2,FALSE))))","v":""}]
[null,"（ 指定区分の変更手続きが必要 □ ）"]
[null,null,null,null,null,null,null,null,null,null,null,null,null,null,null,null,null,null,null,null,null,null,null,null,null,null,null,null,null,null,null,null,null,null,null,null,null,null,null,null,null,null,null,null,null,null,null,null,null,null,null,null,null,null,{"$f":"IF(BC781&BE781&BG781&BI781=\"\",\"\",(IF(ISERROR(VLOOKUP(BC781&BE781&BG781&BI781,日本標準産業分類!AT:AU,2,FALSE)),\"該当の細分類がありません\",VLOOKUP(BC781&BE781&BG781&BI781,日本標準産業分類!AT:AU,2,FALSE))))","v":""},null,null,null,null,null,null,null,false]
[]
[null,"第",null,null,null,null,null,null,null,"種",null,null,null,null,null,"",null,null,null,null,null,null,null,null,null,null,null,null,null,null,null,null,"〒",null,null,null,null,null,null,null,null,null,null,null,null,null,null,null,null,null,null,null,null,null,{"$f":"IF(AU781&AW781&AY781&BA781=\"\",\"\",(IF(ISERROR(VLOOKUP(AU781&AW781&AY781&BA781,日本標準産業分類!A:B,2,FALSE)),\"該当の細分類がありません\",VLOOKUP(AU781&AW781&AY781&BA781,日本標準産業分類!A:B,2,FALSE))))","v":""}]
[null,"（ 指定区分の変更手続きが必要 □ ）"]
[null,null,null,null,null,null,null,null,null,null,null,null,null,null,null,null,null,null,null,null,null,null,null,null,null,null,null,null,null,null,null,null,null,null,null,null,null,null,null,null,null,null,null,null,null,null,null,null,null,null,null,null,null,null,{"$f":"IF(BC785&BE785&BG785&BI785=\"\",\"\",(IF(ISERROR(VLOOKUP(BC785&BE785&BG785&BI785,日本標準産業分類!AT:AU,2,FALSE)),\"該当の細分類がありません\",VLOOKUP(BC785&BE785&BG785&BI785,日本標準産業分類!AT:AU,2,FALSE))))","v":""},null,null,null,null,null,null,null,false]
[]
[null,"第",null,null,null,null,null,null,null,"種",null,null,null,null,null,"",null,null,null,null,null,null,null,null,null,null,null,null,null,null,null,null,"〒",null,null,null,null,null,null,null,null,null,null,null,null,null,null,null,null,null,null,null,null,null,{"$f":"IF(AU785&AW785&AY785&BA785=\"\",\"\",(IF(ISERROR(VLOOKUP(AU785&AW785&AY785&BA785,日本標準産業分類!A:B,2,FALSE)),\"該当の細分類がありません\",VLOOKUP(AU785&AW785&AY785&BA785,日本標準産業分類!A:B,2,FALSE))))","v":""}]
[null,"（ 指定区分の変更手続きが必要 □ ）"]
[null,null,null,null,null,null,null,null,null,null,null,null,null,null,null,null,null,null,null,null,null,null,null,null,null,null,null,null,null,null,null,null,null,null,null,null,null,null,null,null,null,null,null,null,null,null,null,null,null,null,null,null,null,null,{"$f":"IF(BC789&BE789&BG789&BI789=\"\",\"\",(IF(ISERROR(VLOOKUP(BC789&BE789&BG789&BI789,日本標準産業分類!AT:AU,2,FALSE)),\"該当の細分類がありません\",VLOOKUP(BC789&BE789&BG789&BI789,日本標準産業分類!AT:AU,2,FALSE))))","v":""},null,null,null,null,null,null,null,false]
[]
[null,"第",null,null,null,null,null,null,null,"種",null,null,null,null,null,"",null,null,null,null,null,null,null,null,null,null,null,null,null,null,null,null,"〒",null,null,null,null,null,null,null,null,null,null,null,null,null,null,null,null,null,null,null,null,null,{"$f":"IF(AU789&AW789&AY789&BA789=\"\",\"\",(IF(ISERROR(VLOOKUP(AU789&AW789&AY789&BA789,日本標準産業分類!A:B,2,FALSE)),\"該当の細分類がありません\",VLOOKUP(AU789&AW789&AY789&BA789,日本標準産業分類!A:B,2,FALSE))))","v":""}]
[null,"（ 指定区分の変更手続きが必要 □ ）"]
[null,null,null,null,null,null,null,null,null,null,null,null,null,null,null,null,null,null,null,null,null,null,null,null,null,null,null,null,null,null,null,null,null,null,null,null,null,null,null,null,null,null,null,null,null,null,null,null,null,null,null,null,null,null,{"$f":"IF(BC793&BE793&BG793&BI793=\"\",\"\",(IF(ISERROR(VLOOKUP(BC793&BE793&BG793&BI793,日本標準産業分類!AT:AU,2,FALSE)),\"該当の細分類がありません\",VLOOKUP(BC793&BE793&BG793&BI793,日本標準産業分類!AT:AU,2,FALSE))))","v":""},null,null,null,null,null,null,null,false]
[]
[null,"第",null,null,null,null,null,null,null,"種",null,null,null,null,null,"",null,null,null,null,null,null,null,null,null,null,null,null,null,null,null,null,"〒",null,null,null,null,null,null,null,null,null,null,null,null,null,null,null,null,null,null,null,null,null,{"$f":"IF(AU793&AW793&AY793&BA793=\"\",\"\",(IF(ISERROR(VLOOKUP(AU793&AW793&AY793&BA793,日本標準産業分類!A:B,2,FALSE)),\"該当の細分類がありません\",VLOOKUP(AU793&AW793&AY793&BA793,日本標準産業分類!A:B,2,FALSE))))","v":""}]
[null,"（ 指定区分の変更手続きが必要 □ ）"]
[null,null,null,null,null,null,null,null,null,null,null,null,null,null,null,null,null,null,null,null,null,null,null,null,null,null,null,null,null,null,null,null,null,null,null,null,null,null,null,null,null,null,null,null,null,null,null,null,null,null,null,null,null,null,{"$f":"IF(BC797&BE797&BG797&BI797=\"\",\"\",(IF(ISERROR(VLOOKUP(BC797&BE797&BG797&BI797,日本標準産業分類!AT:AU,2,FALSE)),\"該当の細分類がありません\",VLOOKUP(BC797&BE797&BG797&BI797,日本標準産業分類!AT:AU,2,FALSE))))","v":""},null,null,null,null,null,null,null,true]
[]
[null,"第",null,null,null,null,null,null,null,"種",null,null,null,null,null,"",null,null,null,null,null,null,null,null,null,null,null,null,null,null,null,null,"〒",null,null,null,null,null,null,null,null,null,null,null,null,null,null,null,null,null,null,null,null,null,{"$f":"IF(AU797&AW797&AY797&BA797=\"\",\"\",(IF(ISERROR(VLOOKUP(AU797&AW797&AY797&BA797,日本標準産業分類!A:B,2,FALSE)),\"該当の細分類がありません\",VLOOKUP(AU797&AW797&AY797&BA797,日本標準産業分類!A:B,2,FALSE))))","v":""}]
[null,"（ 指定区分の変更手続きが必要 □ ）"]
[null,null,null,null,null,null,null,null,null,null,null,null,null,null,null,null,null,null,null,null,null,null,null,null,null,null,null,null,null,null,null,null,null,null,null,null,null,null,null,null,null,null,null,null,null,null,null,null,null,null,null,null,null,null,{"$f":"IF(BC801&BE801&BG801&BI801=\"\",\"\",(IF(ISERROR(VLOOKUP(BC801&BE801&BG801&BI801,日本標準産業分類!AT:AU,2,FALSE)),\"該当の細分類がありません\",VLOOKUP(BC801&BE801&BG801&BI801,日本標準産業分類!AT:AU,2,FALSE))))","v":""},null,null,null,null,null,null,null,false]
[]
[null,"第",null,null,null,null,null,null,null,"種",null,null,null,null,null,"",null,null,null,null,null,null,null,null,null,null,null,null,null,null,null,null,"〒",null,null,null,null,null,null,null,null,null,null,null,null,null,null,null,null,null,null,null,null,null,{"$f":"IF(AU801&AW801&AY801&BA801=\"\",\"\",(IF(ISERROR(VLOOKUP(AU801&AW801&AY801&BA801,日本標準産業分類!A:B,2,FALSE)),\"該当の細分類がありません\",VLOOKUP(AU801&AW801&AY801&BA801,日本標準産業分類!A:B,2,FALSE))))","v":""}]
[null,"（ 指定区分の変更手続きが必要 □ ）"]
[null,null,null,null,null,null,null,null,null,null,null,null,null,null,null,null,null,null,null,null,null,null,null,null,null,null,null,null,null,null,null,null,null,null,null,null,null,null,null,null,null,null,null,null,null,null,null,null,null,null,null,null,null,null,{"$f":"IF(BC805&BE805&BG805&BI805=\"\",\"\",(IF(ISERROR(VLOOKUP(BC805&BE805&BG805&BI805,日本標準産業分類!AT:AU,2,FALSE)),\"該当の細分類がありません\",VLOOKUP(BC805&BE805&BG805&BI805,日本標準産業分類!AT:AU,2,FALSE))))","v":""},null,null,null,null,null,null,null,false]
[]
[null,"第",null,null,null,null,null,null,null,"種",null,null,null,null,null,"",null,null,null,null,null,null,null,null,null,null,null,null,null,null,null,null,"〒",null,null,null,null,null,null,null,null,null,null,null,null,null,null,null,null,null,null,null,null,null,{"$f":"IF(AU805&AW805&AY805&BA805=\"\",\"\",(IF(ISERROR(VLOOKUP(AU805&AW805&AY805&BA805,日本標準産業分類!A:B,2,FALSE)),\"該当の細分類がありません\",VLOOKUP(AU805&AW805&AY805&BA805,日本標準産業分類!A:B,2,FALSE))))","v":""}]
[null,"（ 指定区分の変更手続きが必要 □ ）"]
[null,null,null,null,null,null,null,null,null,null,null,null,null,null,null,null,null,null,null,null,null,null,null,null,null,null,null,null,null,null,null,null,null,null,null,null,null,null,null,null,null,null,null,null,null,null,null,null,null,null,null,null,null,null,{"$f":"IF(BC809&BE809&BG809&BI809=\"\",\"\",(IF(ISERROR(VLOOKUP(BC809&BE809&BG809&BI809,日本標準産業分類!AT:AU,2,FALSE)),\"該当の細分類がありません\",VLOOKUP(BC809&BE809&BG809&BI809,日本標準産業分類!AT:AU,2,FALSE))))","v":""},null,null,null,null,null,null,null,false]
[]
[null,"第",null,null,null,null,null,null,null,"種",null,null,null,null,null,"",null,null,null,null,null,null,null,null,null,null,null,null,null,null,null,null,"〒",null,null,null,null,null,null,null,null,null,null,null,null,null,null,null,null,null,null,null,null,null,{"$f":"IF(AU809&AW809&AY809&BA809=\"\",\"\",(IF(ISERROR(VLOOKUP(AU809&AW809&AY809&BA809,日本標準産業分類!A:B,2,FALSE)),\"該当の細分類がありません\",VLOOKUP(AU809&AW809&AY809&BA809,日本標準産業分類!A:B,2,FALSE))))","v":""}]
[null,"（ 指定区分の変更手続きが必要 □ ）"]
[null,null,null,null,null,null,null,null,null,null,null,null,null,null,null,null,null,null,null,null,null,null,null,null,null,null,null,null,null,null,null,null,null,null,null,null,null,null,null,null,null,null,null,null,null,null,null,null,null,null,null,null,null,null,{"$f":"IF(BC813&BE813&BG813&BI813=\"\",\"\",(IF(ISERROR(VLOOKUP(BC813&BE813&BG813&BI813,日本標準産業分類!AT:AU,2,FALSE)),\"該当の細分類がありません\",VLOOKUP(BC813&BE813&BG813&BI813,日本標準産業分類!AT:AU,2,FALSE))))","v":""},null,null,null,null,null,null,null,false]
[]
[null,"第",null,null,null,null,null,null,null,"種",null,null,null,null,null,"",null,null,null,null,null,null,null,null,null,null,null,null,null,null,null,null,"〒",null,null,null,null,null,null,null,null,null,null,null,null,null,null,null,null,null,null,null,null,null,{"$f":"IF(AU813&AW813&AY813&BA813=\"\",\"\",(IF(ISERROR(VLOOKUP(AU813&AW813&AY813&BA813,日本標準産業分類!A:B,2,FALSE)),\"該当の細分類がありません\",VLOOKUP(AU813&AW813&AY813&BA813,日本標準産業分類!A:B,2,FALSE))))","v":""}]
[null,"（ 指定区分の変更手続きが必要 □ ）"]
[null,null,null,null,null,null,null,null,null,null,null,null,null,null,null,null,null,null,null,null,null,null,null,null,null,null,null,null,null,null,null,null,null,null,null,null,null,null,null,null,null,null,null,null,null,null,null,null,null,null,null,null,null,null,{"$f":"IF(BC817&BE817&BG817&BI817=\"\",\"\",(IF(ISERROR(VLOOKUP(BC817&BE817&BG817&BI817,日本標準産業分類!AT:AU,2,FALSE)),\"該当の細分類がありません\",VLOOKUP(BC817&BE817&BG817&BI817,日本標準産業分類!AT:AU,2,FALSE))))","v":""},null,null,null,null,null,null,null,false]
[]
[null,"第",null,null,null,null,null,null,null,"種",null,null,null,null,null,"",null,null,null,null,null,null,null,null,null,null,null,null,null,null,null,null,"〒",null,null,null,null,null,null,null,null,null,null,null,null,null,null,null,null,null,null,null,null,null,{"$f":"IF(AU817&AW817&AY817&BA817=\"\",\"\",(IF(ISERROR(VLOOKUP(AU817&AW817&AY817&BA817,日本標準産業分類!A:B,2,FALSE)),\"該当の細分類がありません\",VLOOKUP(AU817&AW817&AY817&BA817,日本標準産業分類!A:B,2,FALSE))))","v":""}]
[null,"（ 指定区分の変更手続きが必要 □ ）"]
[null,null,null,null,null,null,null,null,null,null,null,null,null,null,null,null,null,null,null,null,null,null,null,null,null,null,null,null,null,null,null,null,null,null,null,null,null,null,null,null,null,null,null,null,null,null,null,null,null,null,null,null,null,null,{"$f":"IF(BC821&BE821&BG821&BI821=\"\",\"\",(IF(ISERROR(VLOOKUP(BC821&BE821&BG821&BI821,日本標準産業分類!AT:AU,2,FALSE)),\"該当の細分類がありません\",VLOOKUP(BC821&BE821&BG821&BI821,日本標準産業分類!AT:AU,2,FALSE))))","v":""},null,null,null,null,null,null,null,false]
[]
[null,"第",null,null,null,null,null,null,null,"種",null,null,null,null,null,"",null,null,null,null,null,null,null,null,null,null,null,null,null,null,null,null,"〒",null,null,null,null,null,null,null,null,null,null,null,null,null,null,null,null,null,null,null,null,null,{"$f":"IF(AU821&AW821&AY821&BA821=\"\",\"\",(IF(ISERROR(VLOOKUP(AU821&AW821&AY821&BA821,日本標準産業分類!A:B,2,FALSE)),\"該当の細分類がありません\",VLOOKUP(AU821&AW821&AY821&BA821,日本標準産業分類!A:B,2,FALSE))))","v":""}]
[null,"（ 指定区分の変更手続きが必要 □ ）"]
[null,null,null,null,null,null,null,null,null,null,null,null,null,null,null,null,null,null,null,null,null,null,null,null,null,null,null,null,null,null,null,null,null,null,null,null,null,null,null,null,null,null,null,null,null,null,null,null,null,null,null,null,null,null,{"$f":"IF(BC825&BE825&BG825&BI825=\"\",\"\",(IF(ISERROR(VLOOKUP(BC825&BE825&BG825&BI825,日本標準産業分類!AT:AU,2,FALSE)),\"該当の細分類がありません\",VLOOKUP(BC825&BE825&BG825&BI825,日本標準産業分類!AT:AU,2,FALSE))))","v":""},null,null,null,null,null,null,null,false]
[]
[null,"第",null,null,null,null,null,null,null,"種",null,null,null,null,null,"",null,null,null,null,null,null,null,null,null,null,null,null,null,null,null,null,"〒",null,null,null,null,null,null,null,null,null,null,null,null,null,null,null,null,null,null,null,null,null,{"$f":"IF(AU825&AW825&AY825&BA825=\"\",\"\",(IF(ISERROR(VLOOKUP(AU825&AW825&AY825&BA825,日本標準産業分類!A:B,2,FALSE)),\"該当の細分類がありません\",VLOOKUP(AU825&AW825&AY825&BA825,日本標準産業分類!A:B,2,FALSE))))","v":""}]
[null,"（ 指定区分の変更手続きが必要 □ ）"]
[null,null,null,null,null,null,null,null,null,null,null,null,null,null,null,null,null,null,null,null,null,null,null,null,null,null,null,null,null,null,null,null,null,null,null,null,null,null,null,null,null,null,null,null,null,null,null,null,null,null,null,null,null,null,{"$f":"IF(BC829&BE829&BG829&BI829=\"\",\"\",(IF(ISERROR(VLOOKUP(BC829&BE829&BG829&BI829,日本標準産業分類!AT:AU,2,FALSE)),\"該当の細分類がありません\",VLOOKUP(BC829&BE829&BG829&BI829,日本標準産業分類!AT:AU,2,FALSE))))","v":""},null,null,null,null,null,null,null,false]
[]
[null,"第",null,null,null,null,null,null,null,"種",null,null,null,null,null,"",null,null,null,null,null,null,null,null,null,null,null,null,null,null,null,null,"〒",null,null,null,null,null,null,null,null,null,null,null,null,null,null,null,null,null,null,null,null,null,{"$f":"IF(AU829&AW829&AY829&BA829=\"\",\"\",(IF(ISERROR(VLOOKUP(AU829&AW829&AY829&BA829,日本標準産業分類!A:B,2,FALSE)),\"該当の細分類がありません\",VLOOKUP(AU829&AW829&AY829&BA829,日本標準産業分類!A:B,2,FALSE))))","v":""}]
[null,"（ 指定区分の変更手続きが必要 □ ）"]
[null,null,null,null,null,null,null,null,null,null,null,null,null,null,null,null,null,null,null,null,null,null,null,null,null,null,null,null,null,null,null,null,null,null,null,null,null,null,null,null,null,null,null,null,null,null,null,null,null,null,null,null,null,null,{"$f":"IF(BC833&BE833&BG833&BI833=\"\",\"\",(IF(ISERROR(VLOOKUP(BC833&BE833&BG833&BI833,日本標準産業分類!AT:AU,2,FALSE)),\"該当の細分類がありません\",VLOOKUP(BC833&BE833&BG833&BI833,日本標準産業分類!AT:AU,2,FALSE))))","v":""},null,null,null,null,null,null,null,false]
[]
[null,"第",null,null,null,null,null,null,null,"種",null,null,null,null,null,"",null,null,null,null,null,null,null,null,null,null,null,null,null,null,null,null,"〒",null,null,null,null,null,null,null,null,null,null,null,null,null,null,null,null,null,null,null,null,null,{"$f":"IF(AU833&AW833&AY833&BA833=\"\",\"\",(IF(ISERROR(VLOOKUP(AU833&AW833&AY833&BA833,日本標準産業分類!A:B,2,FALSE)),\"該当の細分類がありません\",VLOOKUP(AU833&AW833&AY833&BA833,日本標準産業分類!A:B,2,FALSE))))","v":""}]
[null,"（ 指定区分の変更手続きが必要 □ ）"]
[null,null,null,null,null,null,null,null,null,null,null,null,null,null,null,null,null,null,null,null,null,null,null,null,null,null,null,null,null,null,null,null,null,null,null,null,null,null,null,null,null,null,null,null,null,null,null,null,null,null,null,null,null,null,{"$f":"IF(BC837&BE837&BG837&BI837=\"\",\"\",(IF(ISERROR(VLOOKUP(BC837&BE837&BG837&BI837,日本標準産業分類!AT:AU,2,FALSE)),\"該当の細分類がありません\",VLOOKUP(BC837&BE837&BG837&BI837,日本標準産業分類!AT:AU,2,FALSE))))","v":""},null,null,null,null,null,null,null,false]
[]
[null,"第",null,null,null,null,null,null,null,"種",null,null,null,null,null,"",null,null,null,null,null,null,null,null,null,null,null,null,null,null,null,null,"〒",null,null,null,null,null,null,null,null,null,null,null,null,null,null,null,null,null,null,null,null,null,{"$f":"IF(AU837&AW837&AY837&BA837=\"\",\"\",(IF(ISERROR(VLOOKUP(AU837&AW837&AY837&BA837,日本標準産業分類!A:B,2,FALSE)),\"該当の細分類がありません\",VLOOKUP(AU837&AW837&AY837&BA837,日本標準産業分類!A:B,2,FALSE))))","v":""}]
[null,"（ 指定区分の変更手続きが必要 □ ）"]
[null,null,null,null,null,null,null,null,null,null,null,null,null,null,null,null,null,null,null,null,null,null,null,null,null,null,null,null,null,null,null,null,null,null,null,null,null,null,null,null,null,null,null,null,null,null,null,null,null,null,null,null,null,null,{"$f":"IF(BC841&BE841&BG841&BI841=\"\",\"\",(IF(ISERROR(VLOOKUP(BC841&BE841&BG841&BI841,日本標準産業分類!AT:AU,2,FALSE)),\"該当の細分類がありません\",VLOOKUP(BC841&BE841&BG841&BI841,日本標準産業分類!AT:AU,2,FALSE))))","v":""},null,null,null,null,null,null,null,false]
[]
[null,"第",null,null,null,null,null,null,null,"種",null,null,null,null,null,"",null,null,null,null,null,null,null,null,null,null,null,null,null,null,null,null,"〒",null,null,null,null,null,null,null,null,null,null,null,null,null,null,null,null,null,null,null,null,null,{"$f":"IF(AU841&AW841&AY841&BA841=\"\",\"\",(IF(ISERROR(VLOOKUP(AU841&AW841&AY841&BA841,日本標準産業分類!A:B,2,FALSE)),\"該当の細分類がありません\",VLOOKUP(AU841&AW841&AY841&BA841,日本標準産業分類!A:B,2,FALSE))))","v":""}]
[null,"（ 指定区分の変更手続きが必要 □ ）"]
[null,null,null,null,null,null,null,null,null,null,null,null,null,null,null,null,null,null,null,null,null,null,null,null,null,null,null,null,null,null,null,null,null,null,null,null,null,null,null,null,null,null,null,null,null,null,null,null,null,null,null,null,null,null,{"$f":"IF(BC845&BE845&BG845&BI845=\"\",\"\",(IF(ISERROR(VLOOKUP(BC845&BE845&BG845&BI845,日本標準産業分類!AT:AU,2,FALSE)),\"該当の細分類がありません\",VLOOKUP(BC845&BE845&BG845&BI845,日本標準産業分類!AT:AU,2,FALSE))))","v":""},null,null,null,null,null,null,null,false]
[]
[null,"第",null,null,null,null,null,null,null,"種",null,null,null,null,null,"",null,null,null,null,null,null,null,null,null,null,null,null,null,null,null,null,"〒",null,null,null,null,null,null,null,null,null,null,null,null,null,null,null,null,null,null,null,null,null,{"$f":"IF(AU845&AW845&AY845&BA845=\"\",\"\",(IF(ISERROR(VLOOKUP(AU845&AW845&AY845&BA845,日本標準産業分類!A:B,2,FALSE)),\"該当の細分類がありません\",VLOOKUP(AU845&AW845&AY845&BA845,日本標準産業分類!A:B,2,FALSE))))","v":""}]
[null,"（ 指定区分の変更手続きが必要 □ ）"]
[null,null,null,null,null,null,null,null,null,null,null,null,null,null,null,null,null,null,null,null,null,null,null,null,null,null,null,null,null,null,null,null,null,null,null,null,null,null,null,null,null,null,null,null,null,null,null,null,null,null,null,null,null,null,{"$f":"IF(BC849&BE849&BG849&BI849=\"\",\"\",(IF(ISERROR(VLOOKUP(BC849&BE849&BG849&BI849,日本標準産業分類!AT:AU,2,FALSE)),\"該当の細分類がありません\",VLOOKUP(BC849&BE849&BG849&BI849,日本標準産業分類!AT:AU,2,FALSE))))","v":""},null,null,null,null,null,null,null,false]
[]
[null,"第",null,null,null,null,null,null,null,"種",null,null,null,null,null,"",null,null,null,null,null,null,null,null,null,null,null,null,null,null,null,null,"〒",null,null,null,null,null,null,null,null,null,null,null,null,null,null,null,null,null,null,null,null,null,{"$f":"IF(AU849&AW849&AY849&BA849=\"\",\"\",(IF(ISERROR(VLOOKUP(AU849&AW849&AY849&BA849,日本標準産業分類!A:B,2,FALSE)),\"該当の細分類がありません\",VLOOKUP(AU849&AW849&AY849&BA849,日本標準産業分類!A:B,2,FALSE))))","v":""}]
[null,"（ 指定区分の変更手続きが必要 □ ）"]
[null,null,null,null,null,null,null,null,null,null,null,null,null,null,null,null,null,null,null,null,null,null,null,null,null,null,null,null,null,null,null,null,null,null,null,null,null,null,null,null,null,null,null,null,null,null,null,null,null,null,null,null,null,null,{"$f":"IF(BC853&BE853&BG853&BI853=\"\",\"\",(IF(ISERROR(VLOOKUP(BC853&BE853&BG853&BI853,日本標準産業分類!AT:AU,2,FALSE)),\"該当の細分類がありません\",VLOOKUP(BC853&BE853&BG853&BI853,日本標準産業分類!AT:AU,2,FALSE))))","v":""},null,null,null,null,null,null,null,false]
[]
[null,"第",null,null,null,null,null,null,null,"種",null,null,null,null,null,"",null,null,null,null,null,null,null,null,null,null,null,null,null,null,null,null,"〒",null,null,null,null,null,null,null,null,null,null,null,null,null,null,null,null,null,null,null,null,null,{"$f":"IF(AU853&AW853&AY853&BA853=\"\",\"\",(IF(ISERROR(VLOOKUP(AU853&AW853&AY853&BA853,日本標準産業分類!A:B,2,FALSE)),\"該当の細分類がありません\",VLOOKUP(AU853&AW853&AY853&BA853,日本標準産業分類!A:B,2,FALSE))))","v":""}]
[null,"（ 指定区分の変更手続きが必要 □ ）"]
[null,null,null,null,null,null,null,null,null,null,null,null,null,null,null,null,null,null,null,null,null,null,null,null,null,null,null,null,null,null,null,null,null,null,null,null,null,null,null,null,null,null,null,null,null,null,null,null,null,null,null,null,null,null,{"$f":"IF(BC857&BE857&BG857&BI857=\"\",\"\",(IF(ISERROR(VLOOKUP(BC857&BE857&BG857&BI857,日本標準産業分類!AT:AU,2,FALSE)),\"該当の細分類がありません\",VLOOKUP(BC857&BE857&BG857&BI857,日本標準産業分類!AT:AU,2,FALSE))))","v":""},null,null,null,null,null,null,null,false]
[]
[null,"第",null,null,null,null,null,null,null,"種",null,null,null,null,null,"",null,null,null,null,null,null,null,null,null,null,null,null,null,null,null,null,"〒",null,null,null,null,null,null,null,null,null,null,null,null,null,null,null,null,null,null,null,null,null,{"$f":"IF(AU857&AW857&AY857&BA857=\"\",\"\",(IF(ISERROR(VLOOKUP(AU857&AW857&AY857&BA857,日本標準産業分類!A:B,2,FALSE)),\"該当の細分類がありません\",VLOOKUP(AU857&AW857&AY857&BA857,日本標準産業分類!A:B,2,FALSE))))","v":""}]
[null,"（ 指定区分の変更手続きが必要 □ ）"]
[null,null,null,null,null,null,null,null,null,null,null,null,null,null,null,null,null,null,null,null,null,null,null,null,null,null,null,null,null,null,null,null,null,null,null,null,null,null,null,null,null,null,null,null,null,null,null,null,null,null,null,null,null,null,{"$f":"IF(BC861&BE861&BG861&BI861=\"\",\"\",(IF(ISERROR(VLOOKUP(BC861&BE861&BG861&BI861,日本標準産業分類!AT:AU,2,FALSE)),\"該当の細分類がありません\",VLOOKUP(BC861&BE861&BG861&BI861,日本標準産業分類!AT:AU,2,FALSE))))","v":""},null,null,null,null,null,null,null,false]
[]
[null,"第",null,null,null,null,null,null,null,"種",null,null,null,null,null,"",null,null,null,null,null,null,null,null,null,null,null,null,null,null,null,null,"〒",null,null,null,null,null,null,null,null,null,null,null,null,null,null,null,null,null,null,null,null,null,{"$f":"IF(AU861&AW861&AY861&BA861=\"\",\"\",(IF(ISERROR(VLOOKUP(AU861&AW861&AY861&BA861,日本標準産業分類!A:B,2,FALSE)),\"該当の細分類がありません\",VLOOKUP(AU861&AW861&AY861&BA861,日本標準産業分類!A:B,2,FALSE))))","v":""}]
[null,"（ 指定区分の変更手続きが必要 □ ）"]
[null,null,null,null,null,null,null,null,null,null,null,null,null,null,null,null,null,null,null,null,null,null,null,null,null,null,null,null,null,null,null,null,null,null,null,null,null,null,null,null,null,null,null,null,null,null,null,null,null,null,null,null,null,null,{"$f":"IF(BC865&BE865&BG865&BI865=\"\",\"\",(IF(ISERROR(VLOOKUP(BC865&BE865&BG865&BI865,日本標準産業分類!AT:AU,2,FALSE)),\"該当の細分類がありません\",VLOOKUP(BC865&BE865&BG865&BI865,日本標準産業分類!AT:AU,2,FALSE))))","v":""},null,null,null,null,null,null,null,false]
[]
[null,"第",null,null,null,null,null,null,null,"種",null,null,null,null,null,"",null,null,null,null,null,null,null,null,null,null,null,null,null,null,null,null,"〒",null,null,null,null,null,null,null,null,null,null,null,null,null,null,null,null,null,null,null,null,null,{"$f":"IF(AU865&AW865&AY865&BA865=\"\",\"\",(IF(ISERROR(VLOOKUP(AU865&AW865&AY865&BA865,日本標準産業分類!A:B,2,FALSE)),\"該当の細分類がありません\",VLOOKUP(AU865&AW865&AY865&BA865,日本標準産業分類!A:B,2,FALSE))))","v":""}]
[null,"（ 指定区分の変更手続きが必要 □ ）"]
[null,null,null,null,null,null,null,null,null,null,null,null,null,null,null,null,null,null,null,null,null,null,null,null,null,null,null,null,null,null,null,null,null,null,null,null,null,null,null,null,null,null,null,null,null,null,null,null,null,null,null,null,null,null,{"$f":"IF(BC869&BE869&BG869&BI869=\"\",\"\",(IF(ISERROR(VLOOKUP(BC869&BE869&BG869&BI869,日本標準産業分類!AT:AU,2,FALSE)),\"該当の細分類がありません\",VLOOKUP(BC869&BE869&BG869&BI869,日本標準産業分類!AT:AU,2,FALSE))))","v":""},null,null,null,null,null,null,null,false]
[]
[null,"第",null,null,null,null,null,null,null,"種",null,null,null,null,null,"",null,null,null,null,null,null,null,null,null,null,null,null,null,null,null,null,"〒",null,null,null,null,null,null,null,null,null,null,null,null,null,null,null,null,null,null,null,null,null,{"$f":"IF(AU869&AW869&AY869&BA869=\"\",\"\",(IF(ISERROR(VLOOKUP(AU869&AW869&AY869&BA869,日本標準産業分類!A:B,2,FALSE)),\"該当の細分類がありません\",VLOOKUP(AU869&AW869&AY869&BA869,日本標準産業分類!A:B,2,FALSE))))","v":""}]
[null,"（ 指定区分の変更手続きが必要 □ ）"]
[null,null,null,null,null,null,null,null,null,null,null,null,null,null,null,null,null,null,null,null,null,null,null,null,null,null,null,null,null,null,null,null,null,null,null,null,null,null,null,null,null,null,null,null,null,null,null,null,null,null,null,null,null,null,{"$f":"IF(BC873&BE873&BG873&BI873=\"\",\"\",(IF(ISERROR(VLOOKUP(BC873&BE873&BG873&BI873,日本標準産業分類!AT:AU,2,FALSE)),\"該当の細分類がありません\",VLOOKUP(BC873&BE873&BG873&BI873,日本標準産業分類!AT:AU,2,FALSE))))","v":""},null,null,null,null,null,null,null,false]
[]
[null,"第",null,null,null,null,null,null,null,"種",null,null,null,null,null,"",null,null,null,null,null,null,null,null,null,null,null,null,null,null,null,null,"〒",null,null,null,null,null,null,null,null,null,null,null,null,null,null,null,null,null,null,null,null,null,{"$f":"IF(AU873&AW873&AY873&BA873=\"\",\"\",(IF(ISERROR(VLOOKUP(AU873&AW873&AY873&BA873,日本標準産業分類!A:B,2,FALSE)),\"該当の細分類がありません\",VLOOKUP(AU873&AW873&AY873&BA873,日本標準産業分類!A:B,2,FALSE))))","v":""}]
[null,"（ 指定区分の変更手続きが必要 □ ）"]
[null,null,null,null,null,null,null,null,null,null,null,null,null,null,null,null,null,null,null,null,null,null,null,null,null,null,null,null,null,null,null,null,null,null,null,null,null,null,null,null,null,null,null,null,null,null,null,null,null,null,null,null,null,null,{"$f":"IF(BC877&BE877&BG877&BI877=\"\",\"\",(IF(ISERROR(VLOOKUP(BC877&BE877&BG877&BI877,日本標準産業分類!AT:AU,2,FALSE)),\"該当の細分類がありません\",VLOOKUP(BC877&BE877&BG877&BI877,日本標準産業分類!AT:AU,2,FALSE))))","v":""},null,null,null,null,null,null,null,false]
[]
[null,"第",null,null,null,null,null,null,null,"種",null,null,null,null,null,"",null,null,null,null,null,null,null,null,null,null,null,null,null,null,null,null,"〒",null,null,null,null,null,null,null,null,null,null,null,null,null,null,null,null,null,null,null,null,null,{"$f":"IF(AU877&AW877&AY877&BA877=\"\",\"\",(IF(ISERROR(VLOOKUP(AU877&AW877&AY877&BA877,日本標準産業分類!A:B,2,FALSE)),\"該当の細分類がありません\",VLOOKUP(AU877&AW877&AY877&BA877,日本標準産業分類!A:B,2,FALSE))))","v":""}]
[null,"（ 指定区分の変更手続きが必要 □ ）"]
[null,null,null,null,null,null,null,null,null,null,null,null,null,null,null,null,null,null,null,null,null,null,null,null,null,null,null,null,null,null,null,null,null,null,null,null,null,null,null,null,null,null,null,null,null,null,null,null,null,null,null,null,null,null,{"$f":"IF(BC881&BE881&BG881&BI881=\"\",\"\",(IF(ISERROR(VLOOKUP(BC881&BE881&BG881&BI881,日本標準産業分類!AT:AU,2,FALSE)),\"該当の細分類がありません\",VLOOKUP(BC881&BE881&BG881&BI881,日本標準産業分類!AT:AU,2,FALSE))))","v":""},null,null,null,null,null,null,null,false]
[]
[null,"第",null,null,null,null,null,null,null,"種",null,null,null,null,null,"",null,null,null,null,null,null,null,null,null,null,null,null,null,null,null,null,"〒",null,null,null,null,null,null,null,null,null,null,null,null,null,null,null,null,null,null,null,null,null,{"$f":"IF(AU881&AW881&AY881&BA881=\"\",\"\",(IF(ISERROR(VLOOKUP(AU881&AW881&AY881&BA881,日本標準産業分類!A:B,2,FALSE)),\"該当の細分類がありません\",VLOOKUP(AU881&AW881&AY881&BA881,日本標準産業分類!A:B,2,FALSE))))","v":""}]
[null,"（ 指定区分の変更手続きが必要 □ ）"]
[null,null,null,null,null,null,null,null,null,null,null,null,null,null,null,null,null,null,null,null,null,null,null,null,null,null,null,null,null,null,null,null,null,null,null,null,null,null,null,null,null,null,null,null,null,null,null,null,null,null,null,null,null,null,{"$f":"IF(BC885&BE885&BG885&BI885=\"\",\"\",(IF(ISERROR(VLOOKUP(BC885&BE885&BG885&BI885,日本標準産業分類!AT:AU,2,FALSE)),\"該当の細分類がありません\",VLOOKUP(BC885&BE885&BG885&BI885,日本標準産業分類!AT:AU,2,FALSE))))","v":""},null,null,null,null,null,null,null,false]
[]
[null,"第",null,null,null,null,null,null,null,"種",null,null,null,null,null,"",null,null,null,null,null,null,null,null,null,null,null,null,null,null,null,null,"〒",null,null,null,null,null,null,null,null,null,null,null,null,null,null,null,null,null,null,null,null,null,{"$f":"IF(AU885&AW885&AY885&BA885=\"\",\"\",(IF(ISERROR(VLOOKUP(AU885&AW885&AY885&BA885,日本標準産業分類!A:B,2,FALSE)),\"該当の細分類がありません\",VLOOKUP(AU885&AW885&AY885&BA885,日本標準産業分類!A:B,2,FALSE))))","v":""}]
[null,"（ 指定区分の変更手続きが必要 □ ）"]
[null,null,null,null,null,null,null,null,null,null,null,null,null,null,null,null,null,null,null,null,null,null,null,null,null,null,null,null,null,null,null,null,null,null,null,null,null,null,null,null,null,null,null,null,null,null,null,null,null,null,null,null,null,null,{"$f":"IF(BC889&BE889&BG889&BI889=\"\",\"\",(IF(ISERROR(VLOOKUP(BC889&BE889&BG889&BI889,日本標準産業分類!AT:AU,2,FALSE)),\"該当の細分類がありません\",VLOOKUP(BC889&BE889&BG889&BI889,日本標準産業分類!AT:AU,2,FALSE))))","v":""},null,null,null,null,null,null,null,false]
[]
[null,"第",null,null,null,null,null,null,null,"種",null,null,null,null,null,"",null,null,null,null,null,null,null,null,null,null,null,null,null,null,null,null,"〒",null,null,null,null,null,null,null,null,null,null,null,null,null,null,null,null,null,null,null,null,null,{"$f":"IF(AU889&AW889&AY889&BA889=\"\",\"\",(IF(ISERROR(VLOOKUP(AU889&AW889&AY889&BA889,日本標準産業分類!A:B,2,FALSE)),\"該当の細分類がありません\",VLOOKUP(AU889&AW889&AY889&BA889,日本標準産業分類!A:B,2,FALSE))))","v":""}]
[null,"（ 指定区分の変更手続きが必要 □ ）"]
[null,null,null,null,null,null,null,null,null,null,null,null,null,null,null,null,null,null,null,null,null,null,null,null,null,null,null,null,null,null,null,null,null,null,null,null,null,null,null,null,null,null,null,null,null,null,null,null,null,null,null,null,null,null,{"$f":"IF(BC893&BE893&BG893&BI893=\"\",\"\",(IF(ISERROR(VLOOKUP(BC893&BE893&BG893&BI893,日本標準産業分類!AT:AU,2,FALSE)),\"該当の細分類がありません\",VLOOKUP(BC893&BE893&BG893&BI893,日本標準産業分類!AT:AU,2,FALSE))))","v":""},null,null,null,null,null,null,null,false]
[]
[null,"第",null,null,null,null,null,null,null,"種",null,null,null,null,null,"",null,null,null,null,null,null,null,null,null,null,null,null,null,null,null,null,"〒",null,null,null,null,null,null,null,null,null,null,null,null,null,null,null,null,null,null,null,null,null,{"$f":"IF(AU893&AW893&AY893&BA893=\"\",\"\",(IF(ISERROR(VLOOKUP(AU893&AW893&AY893&BA893,日本標準産業分類!A:B,2,FALSE)),\"該当の細分類がありません\",VLOOKUP(AU893&AW893&AY893&BA893,日本標準産業分類!A:B,2,FALSE))))","v":""}]
[null,"（ 指定区分の変更手続きが必要 □ ）"]
[null,null,null,null,null,null,null,null,null,null,null,null,null,null,null,null,null,null,null,null,null,null,null,null,null,null,null,null,null,null,null,null,null,null,null,null,null,null,null,null,null,null,null,null,null,null,null,null,null,null,null,null,null,null,{"$f":"IF(BC897&BE897&BG897&BI897=\"\",\"\",(IF(ISERROR(VLOOKUP(BC897&BE897&BG897&BI897,日本標準産業分類!AT:AU,2,FALSE)),\"該当の細分類がありません\",VLOOKUP(BC897&BE897&BG897&BI897,日本標準産業分類!AT:AU,2,FALSE))))","v":""},null,null,null,null,null,null,null,false]
[]
[null,"第",null,null,null,null,null,null,null,"種",null,null,null,null,null,"",null,null,null,null,null,null,null,null,null,null,null,null,null,null,null,null,"〒",null,null,null,null,null,null,null,null,null,null,null,null,null,null,null,null,null,null,null,null,null,{"$f":"IF(AU897&AW897&AY897&BA897=\"\",\"\",(IF(ISERROR(VLOOKUP(AU897&AW897&AY897&BA897,日本標準産業分類!A:B,2,FALSE)),\"該当の細分類がありません\",VLOOKUP(AU897&AW897&AY897&BA897,日本標準産業分類!A:B,2,FALSE))))","v":""}]
[null,"（ 指定区分の変更手続きが必要 □ ）"]
[null,null,null,null,null,null,null,null,null,null,null,null,null,null,null,null,null,null,null,null,null,null,null,null,null,null,null,null,null,null,null,null,null,null,null,null,null,null,null,null,null,null,null,null,null,null,null,null,null,null,null,null,null,null,{"$f":"IF(BC901&BE901&BG901&BI901=\"\",\"\",(IF(ISERROR(VLOOKUP(BC901&BE901&BG901&BI901,日本標準産業分類!AT:AU,2,FALSE)),\"該当の細分類がありません\",VLOOKUP(BC901&BE901&BG901&BI901,日本標準産業分類!AT:AU,2,FALSE))))","v":""},null,null,null,null,null,null,null,false]
[]
[null,"第",null,null,null,null,null,null,null,"種",null,null,null,null,null,"",null,null,null,null,null,null,null,null,null,null,null,null,null,null,null,null,"〒",null,null,null,null,null,null,null,null,null,null,null,null,null,null,null,null,null,null,null,null,null,{"$f":"IF(AU901&AW901&AY901&BA901=\"\",\"\",(IF(ISERROR(VLOOKUP(AU901&AW901&AY901&BA901,日本標準産業分類!A:B,2,FALSE)),\"該当の細分類がありません\",VLOOKUP(AU901&AW901&AY901&BA901,日本標準産業分類!A:B,2,FALSE))))","v":""}]
[null,"（ 指定区分の変更手続きが必要 □ ）"]
[null,null,null,null,null,null,null,null,null,null,null,null,null,null,null,null,null,null,null,null,null,null,null,null,null,null,null,null,null,null,null,null,null,null,null,null,null,null,null,null,null,null,null,null,null,null,null,null,null,null,null,null,null,null,{"$f":"IF(BC905&BE905&BG905&BI905=\"\",\"\",(IF(ISERROR(VLOOKUP(BC905&BE905&BG905&BI905,日本標準産業分類!AT:AU,2,FALSE)),\"該当の細分類がありません\",VLOOKUP(BC905&BE905&BG905&BI905,日本標準産業分類!AT:AU,2,FALSE))))","v":""},null,null,null,null,null,null,null,false]
[]
[null,"第",null,null,null,null,null,null,null,"種",null,null,null,null,null,"",null,null,null,null,null,null,null,null,null,null,null,null,null,null,null,null,"〒",null,null,null,null,null,null,null,null,null,null,null,null,null,null,null,null,null,null,null,null,null,{"$f":"IF(AU905&AW905&AY905&BA905=\"\",\"\",(IF(ISERROR(VLOOKUP(AU905&AW905&AY905&BA905,日本標準産業分類!A:B,2,FALSE)),\"該当の細分類がありません\",VLOOKUP(AU905&AW905&AY905&BA905,日本標準産業分類!A:B,2,FALSE))))","v":""}]
[null,"（ 指定区分の変更手続きが必要 □ ）"]
[null,null,null,null,null,null,null,null,null,null,null,null,null,null,null,null,null,null,null,null,null,null,null,null,null,null,null,null,null,null,null,null,null,null,null,null,null,null,null,null,null,null,null,null,null,null,null,null,null,null,null,null,null,null,{"$f":"IF(BC909&BE909&BG909&BI909=\"\",\"\",(IF(ISERROR(VLOOKUP(BC909&BE909&BG909&BI909,日本標準産業分類!AT:AU,2,FALSE)),\"該当の細分類がありません\",VLOOKUP(BC909&BE909&BG909&BI909,日本標準産業分類!AT:AU,2,FALSE))))","v":""},null,null,null,null,null,null,null,false]
[]
[null,"第",null,null,null,null,null,null,null,"種",null,null,null,null,null,"",null,null,null,null,null,null,null,null,null,null,null,null,null,null,null,null,"〒",null,null,null,null,null,null,null,null,null,null,null,null,null,null,null,null,null,null,null,null,null,{"$f":"IF(AU909&AW909&AY909&BA909=\"\",\"\",(IF(ISERROR(VLOOKUP(AU909&AW909&AY909&BA909,日本標準産業分類!A:B,2,FALSE)),\"該当の細分類がありません\",VLOOKUP(AU909&AW909&AY909&BA909,日本標準産業分類!A:B,2,FALSE))))","v":""}]
[null,"（ 指定区分の変更手続きが必要 □ ）"]
[null,null,null,null,null,null,null,null,null,null,null,null,null,null,null,null,null,null,null,null,null,null,null,null,null,null,null,null,null,null,null,null,null,null,null,null,null,null,null,null,null,null,null,null,null,null,null,null,null,null,null,null,null,null,{"$f":"IF(BC913&BE913&BG913&BI913=\"\",\"\",(IF(ISERROR(VLOOKUP(BC913&BE913&BG913&BI913,日本標準産業分類!AT:AU,2,FALSE)),\"該当の細分類がありません\",VLOOKUP(BC913&BE913&BG913&BI913,日本標準産業分類!AT:AU,2,FALSE))))","v":""},null,null,null,null,null,null,null,false]
[]
[null,"第",null,null,null,null,null,null,null,"種",null,null,null,null,null,"",null,null,null,null,null,null,null,null,null,null,null,null,null,null,null,null,"〒",null,null,null,null,null,null,null,null,null,null,null,null,null,null,null,null,null,null,null,null,null,{"$f":"IF(AU913&AW913&AY913&BA913=\"\",\"\",(IF(ISERROR(VLOOKUP(AU913&AW913&AY913&BA913,日本標準産業分類!A:B,2,FALSE)),\"該当の細分類がありません\",VLOOKUP(AU913&AW913&AY913&BA913,日本標準産業分類!A:B,2,FALSE))))","v":""}]
[null,"（ 指定区分の変更手続きが必要 □ ）"]
[null,null,null,null,null,null,null,null,null,null,null,null,null,null,null,null,null,null,null,null,null,null,null,null,null,null,null,null,null,null,null,null,null,null,null,null,null,null,null,null,null,null,null,null,null,null,null,null,null,null,null,null,null,null,{"$f":"IF(BC917&BE917&BG917&BI917=\"\",\"\",(IF(ISERROR(VLOOKUP(BC917&BE917&BG917&BI917,日本標準産業分類!AT:AU,2,FALSE)),\"該当の細分類がありません\",VLOOKUP(BC917&BE917&BG917&BI917,日本標準産業分類!AT:AU,2,FALSE))))","v":""},null,null,null,null,null,null,null,false]
[]
[null,"第",null,null,null,null,null,null,null,"種",null,null,null,null,null,"",null,null,null,null,null,null,null,null,null,null,null,null,null,null,null,null,"〒",null,null,null,null,null,null,null,null,null,null,null,null,null,null,null,null,null,null,null,null,null,{"$f":"IF(AU917&AW917&AY917&BA917=\"\",\"\",(IF(ISERROR(VLOOKUP(AU917&AW917&AY917&BA917,日本標準産業分類!A:B,2,FALSE)),\"該当の細分類がありません\",VLOOKUP(AU917&AW917&AY917&BA917,日本標準産業分類!A:B,2,FALSE))))","v":""}]
[null,"（ 指定区分の変更手続きが必要 □ ）"]
[null,null,null,null,null,null,null,null,null,null,null,null,null,null,null,null,null,null,null,null,null,null,null,null,null,null,null,null,null,null,null,null,null,null,null,null,null,null,null,null,null,null,null,null,null,null,null,null,null,null,null,null,null,null,{"$f":"IF(BC921&BE921&BG921&BI921=\"\",\"\",(IF(ISERROR(VLOOKUP(BC921&BE921&BG921&BI921,日本標準産業分類!AT:AU,2,FALSE)),\"該当の細分類がありません\",VLOOKUP(BC921&BE921&BG921&BI921,日本標準産業分類!AT:AU,2,FALSE))))","v":""},null,null,null,null,null,null,null,false]
[]
[null,"第",null,null,null,null,null,null,null,"種",null,null,null,null,null,"",null,null,null,null,null,null,null,null,null,null,null,null,null,null,null,null,"〒",null,null,null,null,null,null,null,null,null,null,null,null,null,null,null,null,null,null,null,null,null,{"$f":"IF(AU921&AW921&AY921&BA921=\"\",\"\",(IF(ISERROR(VLOOKUP(AU921&AW921&AY921&BA921,日本標準産業分類!A:B,2,FALSE)),\"該当の細分類がありません\",VLOOKUP(AU921&AW921&AY921&BA921,日本標準産業分類!A:B,2,FALSE))))","v":""}]
[null,"（ 指定区分の変更手続きが必要 □ ）"]
[null,null,null,null,null,null,null,null,null,null,null,null,null,null,null,null,null,null,null,null,null,null,null,null,null,null,null,null,null,null,null,null,null,null,null,null,null,null,null,null,null,null,null,null,null,null,null,null,null,null,null,null,null,null,{"$f":"IF(BC925&BE925&BG925&BI925=\"\",\"\",(IF(ISERROR(VLOOKUP(BC925&BE925&BG925&BI925,日本標準産業分類!AT:AU,2,FALSE)),\"該当の細分類がありません\",VLOOKUP(BC925&BE925&BG925&BI925,日本標準産業分類!AT:AU,2,FALSE))))","v":""},null,null,null,null,null,null,null,false]
[]
[null,"第",null,null,null,null,null,null,null,"種",null,null,null,null,null,"",null,null,null,null,null,null,null,null,null,null,null,null,null,null,null,null,"〒",null,null,null,null,null,null,null,null,null,null,null,null,null,null,null,null,null,null,null,null,null,{"$f":"IF(AU925&AW925&AY925&BA925=\"\",\"\",(IF(ISERROR(VLOOKUP(AU925&AW925&AY925&BA925,日本標準産業分類!A:B,2,FALSE)),\"該当の細分類がありません\",VLOOKUP(AU925&AW925&AY925&BA925,日本標準産業分類!A:B,2,FALSE))))","v":""}]
[null,"（ 指定区分の変更手続きが必要 □ ）"]
[null,null,null,null,null,null,null,null,null,null,null,null,null,null,null,null,null,null,null,null,null,null,null,null,null,null,null,null,null,null,null,null,null,null,null,null,null,null,null,null,null,null,null,null,null,null,null,null,null,null,null,null,null,null,{"$f":"IF(BC929&BE929&BG929&BI929=\"\",\"\",(IF(ISERROR(VLOOKUP(BC929&BE929&BG929&BI929,日本標準産業分類!AT:AU,2,FALSE)),\"該当の細分類がありません\",VLOOKUP(BC929&BE929&BG929&BI929,日本標準産業分類!AT:AU,2,FALSE))))","v":""},null,null,null,null,null,null,null,false]
[]
[null,"第",null,null,null,null,null,null,null,"種",null,null,null,null,null,"",null,null,null,null,null,null,null,null,null,null,null,null,null,null,null,null,"〒",null,null,null,null,null,null,null,null,null,null,null,null,null,null,null,null,null,null,null,null,null,{"$f":"IF(AU929&AW929&AY929&BA929=\"\",\"\",(IF(ISERROR(VLOOKUP(AU929&AW929&AY929&BA929,日本標準産業分類!A:B,2,FALSE)),\"該当の細分類がありません\",VLOOKUP(AU929&AW929&AY929&BA929,日本標準産業分類!A:B,2,FALSE))))","v":""}]
[null,"（ 指定区分の変更手続きが必要 □ ）"]
[null,null,null,null,null,null,null,null,null,null,null,null,null,null,null,null,null,null,null,null,null,null,null,null,null,null,null,null,null,null,null,null,null,null,null,null,null,null,null,null,null,null,null,null,null,null,null,null,null,null,null,null,null,null,{"$f":"IF(BC933&BE933&BG933&BI933=\"\",\"\",(IF(ISERROR(VLOOKUP(BC933&BE933&BG933&BI933,日本標準産業分類!AT:AU,2,FALSE)),\"該当の細分類がありません\",VLOOKUP(BC933&BE933&BG933&BI933,日本標準産業分類!AT:AU,2,FALSE))))","v":""},null,null,null,null,null,null,null,false]
[]
[null,"第",null,null,null,null,null,null,null,"種",null,null,null,null,null,"",null,null,null,null,null,null,null,null,null,null,null,null,null,null,null,null,"〒",null,null,null,null,null,null,null,null,null,null,null,null,null,null,null,null,null,null,null,null,null,{"$f":"IF(AU933&AW933&AY933&BA933=\"\",\"\",(IF(ISERROR(VLOOKUP(AU933&AW933&AY933&BA933,日本標準産業分類!A:B,2,FALSE)),\"該当の細分類がありません\",VLOOKUP(AU933&AW933&AY933&BA933,日本標準産業分類!A:B,2,FALSE))))","v":""}]
[null,"（ 指定区分の変更手続きが必要 □ ）"]
[null,null,null,null,null,null,null,null,null,null,null,null,null,null,null,null,null,null,null,null,null,null,null,null,null,null,null,null,null,null,null,null,null,null,null,null,null,null,null,null,null,null,null,null,null,null,null,null,null,null,null,null,null,null,{"$f":"IF(BC937&BE937&BG937&BI937=\"\",\"\",(IF(ISERROR(VLOOKUP(BC937&BE937&BG937&BI937,日本標準産業分類!AT:AU,2,FALSE)),\"該当の細分類がありません\",VLOOKUP(BC937&BE937&BG937&BI937,日本標準産業分類!AT:AU,2,FALSE))))","v":""},null,null,null,null,null,null,null,false]
[]
[null,"第",null,null,null,null,null,null,null,"種",null,null,null,null,null,"",null,null,null,null,null,null,null,null,null,null,null,null,null,null,null,null,"〒",null,null,null,null,null,null,null,null,null,null,null,null,null,null,null,null,null,null,null,null,null,{"$f":"IF(AU937&AW937&AY937&BA937=\"\",\"\",(IF(ISERROR(VLOOKUP(AU937&AW937&AY937&BA937,日本標準産業分類!A:B,2,FALSE)),\"該当の細分類がありません\",VLOOKUP(AU937&AW937&AY937&BA937,日本標準産業分類!A:B,2,FALSE))))","v":""}]
[null,"（ 指定区分の変更手続きが必要 □ ）"]
[null,null,null,null,null,null,null,null,null,null,null,null,null,null,null,null,null,null,null,null,null,null,null,null,null,null,null,null,null,null,null,null,null,null,null,null,null,null,null,null,null,null,null,null,null,null,null,null,null,null,null,null,null,null,{"$f":"IF(BC941&BE941&BG941&BI941=\"\",\"\",(IF(ISERROR(VLOOKUP(BC941&BE941&BG941&BI941,日本標準産業分類!AT:AU,2,FALSE)),\"該当の細分類がありません\",VLOOKUP(BC941&BE941&BG941&BI941,日本標準産業分類!AT:AU,2,FALSE))))","v":""},null,null,null,null,null,null,null,false]
[]
[null,"第",null,null,null,null,null,null,null,"種",null,null,null,null,null,"",null,null,null,null,null,null,null,null,null,null,null,null,null,null,null,null,"〒",null,null,null,null,null,null,null,null,null,null,null,null,null,null,null,null,null,null,null,null,null,{"$f":"IF(AU941&AW941&AY941&BA941=\"\",\"\",(IF(ISERROR(VLOOKUP(AU941&AW941&AY941&BA941,日本標準産業分類!A:B,2,FALSE)),\"該当の細分類がありません\",VLOOKUP(AU941&AW941&AY941&BA941,日本標準産業分類!A:B,2,FALSE))))","v":""}]
[null,"（ 指定区分の変更手続きが必要 □ ）"]
[null,null,null,null,null,null,null,null,null,null,null,null,null,null,null,null,null,null,null,null,null,null,null,null,null,null,null,null,null,null,null,null,null,null,null,null,null,null,null,null,null,null,null,null,null,null,null,null,null,null,null,null,null,null,{"$f":"IF(BC945&BE945&BG945&BI945=\"\",\"\",(IF(ISERROR(VLOOKUP(BC945&BE945&BG945&BI945,日本標準産業分類!AT:AU,2,FALSE)),\"該当の細分類がありません\",VLOOKUP(BC945&BE945&BG945&BI945,日本標準産業分類!AT:AU,2,FALSE))))","v":""},null,null,null,null,null,null,null,false]
[]
[null,"第",null,null,null,null,null,null,null,"種",null,null,null,null,null,"",null,null,null,null,null,null,null,null,null,null,null,null,null,null,null,null,"〒",null,null,null,null,null,null,null,null,null,null,null,null,null,null,null,null,null,null,null,null,null,{"$f":"IF(AU945&AW945&AY945&BA945=\"\",\"\",(IF(ISERROR(VLOOKUP(AU945&AW945&AY945&BA945,日本標準産業分類!A:B,2,FALSE)),\"該当の細分類がありません\",VLOOKUP(AU945&AW945&AY945&BA945,日本標準産業分類!A:B,2,FALSE))))","v":""}]
[null,"（ 指定区分の変更手続きが必要 □ ）"]
[null,null,null,null,null,null,null,null,null,null,null,null,null,null,null,null,null,null,null,null,null,null,null,null,null,null,null,null,null,null,null,null,null,null,null,null,null,null,null,null,null,null,null,null,null,null,null,null,null,null,null,null,null,null,{"$f":"IF(BC949&BE949&BG949&BI949=\"\",\"\",(IF(ISERROR(VLOOKUP(BC949&BE949&BG949&BI949,日本標準産業分類!AT:AU,2,FALSE)),\"該当の細分類がありません\",VLOOKUP(BC949&BE949&BG949&BI949,日本標準産業分類!AT:AU,2,FALSE))))","v":""},null,null,null,null,null,null,null,false]
[]
[null,"第",null,null,null,null,null,null,null,"種",null,null,null,null,null,"",null,null,null,null,null,null,null,null,null,null,null,null,null,null,null,null,"〒",null,null,null,null,null,null,null,null,null,null,null,null,null,null,null,null,null,null,null,null,null,{"$f":"IF(AU949&AW949&AY949&BA949=\"\",\"\",(IF(ISERROR(VLOOKUP(AU949&AW949&AY949&BA949,日本標準産業分類!A:B,2,FALSE)),\"該当の細分類がありません\",VLOOKUP(AU949&AW949&AY949&BA949,日本標準産業分類!A:B,2,FALSE))))","v":""}]
[null,"（ 指定区分の変更手続きが必要 □ ）"]
[null,null,null,null,null,null,null,null,null,null,null,null,null,null,null,null,null,null,null,null,null,null,null,null,null,null,null,null,null,null,null,null,null,null,null,null,null,null,null,null,null,null,null,null,null,null,null,null,null,null,null,null,null,null,{"$f":"IF(BC953&BE953&BG953&BI953=\"\",\"\",(IF(ISERROR(VLOOKUP(BC953&BE953&BG953&BI953,日本標準産業分類!AT:AU,2,FALSE)),\"該当の細分類がありません\",VLOOKUP(BC953&BE953&BG953&BI953,日本標準産業分類!AT:AU,2,FALSE))))","v":""},null,null,null,null,null,null,null,false]
[]
[null,"第",null,null,null,null,null,null,null,"種",null,null,null,null,null,"",null,null,null,null,null,null,null,null,null,null,null,null,null,null,null,null,"〒",null,null,null,null,null,null,null,null,null,null,null,null,null,null,null,null,null,null,null,null,null,{"$f":"IF(AU953&AW953&AY953&BA953=\"\",\"\",(IF(ISERROR(VLOOKUP(AU953&AW953&AY953&BA953,日本標準産業分類!A:B,2,FALSE)),\"該当の細分類がありません\",VLOOKUP(AU953&AW953&AY953&BA953,日本標準産業分類!A:B,2,FALSE))))","v":""}]
[null,"（ 指定区分の変更手続きが必要 □ ）"]
[null,null,null,null,null,null,null,null,null,null,null,null,null,null,null,null,null,null,null,null,null,null,null,null,null,null,null,null,null,null,null,null,null,null,null,null,null,null,null,null,null,null,null,null,null,null,null,null,null,null,null,null,null,null,{"$f":"IF(BC957&BE957&BG957&BI957=\"\",\"\",(IF(ISERROR(VLOOKUP(BC957&BE957&BG957&BI957,日本標準産業分類!AT:AU,2,FALSE)),\"該当の細分類がありません\",VLOOKUP(BC957&BE957&BG957&BI957,日本標準産業分類!AT:AU,2,FALSE))))","v":""},null,null,null,null,null,null,null,false]
[]
[null,"第",null,null,null,null,null,null,null,"種",null,null,null,null,null,"",null,null,null,null,null,null,null,null,null,null,null,null,null,null,null,null,"〒",null,null,null,null,null,null,null,null,null,null,null,null,null,null,null,null,null,null,null,null,null,{"$f":"IF(AU957&AW957&AY957&BA957=\"\",\"\",(IF(ISERROR(VLOOKUP(AU957&AW957&AY957&BA957,日本標準産業分類!A:B,2,FALSE)),\"該当の細分類がありません\",VLOOKUP(AU957&AW957&AY957&BA957,日本標準産業分類!A:B,2,FALSE))))","v":""}]
[null,"（ 指定区分の変更手続きが必要 □ ）"]
[null,null,null,null,null,null,null,null,null,null,null,null,null,null,null,null,null,null,null,null,null,null,null,null,null,null,null,null,null,null,null,null,null,null,null,null,null,null,null,null,null,null,null,null,null,null,null,null,null,null,null,null,null,null,{"$f":"IF(BC961&BE961&BG961&BI961=\"\",\"\",(IF(ISERROR(VLOOKUP(BC961&BE961&BG961&BI961,日本標準産業分類!AT:AU,2,FALSE)),\"該当の細分類がありません\",VLOOKUP(BC961&BE961&BG961&BI961,日本標準産業分類!AT:AU,2,FALSE))))","v":""},null,null,null,null,null,null,null,false]
[]
[null,"第",null,null,null,null,null,null,null,"種",null,null,null,null,null,"",null,null,null,null,null,null,null,null,null,null,null,null,null,null,null,null,"〒",null,null,null,null,null,null,null,null,null,null,null,null,null,null,null,null,null,null,null,null,null,{"$f":"IF(AU961&AW961&AY961&BA961=\"\",\"\",(IF(ISERROR(VLOOKUP(AU961&AW961&AY961&BA961,日本標準産業分類!A:B,2,FALSE)),\"該当の細分類がありません\",VLOOKUP(AU961&AW961&AY961&BA961,日本標準産業分類!A:B,2,FALSE))))","v":""}]
[null,"（ 指定区分の変更手続きが必要 □ ）"]
[null,null,null,null,null,null,null,null,null,null,null,null,null,null,null,null,null,null,null,null,null,null,null,null,null,null,null,null,null,null,null,null,null,null,null,null,null,null,null,null,null,null,null,null,null,null,null,null,null,null,null,null,null,null,{"$f":"IF(BC965&BE965&BG965&BI965=\"\",\"\",(IF(ISERROR(VLOOKUP(BC965&BE965&BG965&BI965,日本標準産業分類!AT:AU,2,FALSE)),\"該当の細分類がありません\",VLOOKUP(BC965&BE965&BG965&BI965,日本標準産業分類!AT:AU,2,FALSE))))","v":""},null,null,null,null,null,null,null,false]
[]
[null,"第",null,null,null,null,null,null,null,"種",null,null,null,null,null,"",null,null,null,null,null,null,null,null,null,null,null,null,null,null,null,null,"〒",null,null,null,null,null,null,null,null,null,null,null,null,null,null,null,null,null,null,null,null,null,{"$f":"IF(AU965&AW965&AY965&BA965=\"\",\"\",(IF(ISERROR(VLOOKUP(AU965&AW965&AY965&BA965,日本標準産業分類!A:B,2,FALSE)),\"該当の細分類がありません\",VLOOKUP(AU965&AW965&AY965&BA965,日本標準産業分類!A:B,2,FALSE))))","v":""}]
[null,"（ 指定区分の変更手続きが必要 □ ）"]
[null,null,null,null,null,null,null,null,null,null,null,null,null,null,null,null,null,null,null,null,null,null,null,null,null,null,null,null,null,null,null,null,null,null,null,null,null,null,null,null,null,null,null,null,null,null,null,null,null,null,null,null,null,null,{"$f":"IF(BC969&BE969&BG969&BI969=\"\",\"\",(IF(ISERROR(VLOOKUP(BC969&BE969&BG969&BI969,日本標準産業分類!AT:AU,2,FALSE)),\"該当の細分類がありません\",VLOOKUP(BC969&BE969&BG969&BI969,日本標準産業分類!AT:AU,2,FALSE))))","v":""},null,null,null,null,null,null,null,false]
[]
[null,"第",null,null,null,null,null,null,null,"種",null,null,null,null,null,"",null,null,null,null,null,null,null,null,null,null,null,null,null,null,null,null,"〒",null,null,null,null,null,null,null,null,null,null,null,null,null,null,null,null,null,null,null,null,null,{"$f":"IF(AU969&AW969&AY969&BA969=\"\",\"\",(IF(ISERROR(VLOOKUP(AU969&AW969&AY969&BA969,日本標準産業分類!A:B,2,FALSE)),\"該当の細分類がありません\",VLOOKUP(AU969&AW969&AY969&BA969,日本標準産業分類!A:B,2,FALSE))))","v":""}]
[null,"（ 指定区分の変更手続きが必要 □ ）"]
[null,null,null,null,null,null,null,null,null,null,null,null,null,null,null,null,null,null,null,null,null,null,null,null,null,null,null,null,null,null,null,null,null,null,null,null,null,null,null,null,null,null,null,null,null,null,null,null,null,null,null,null,null,null,{"$f":"IF(BC973&BE973&BG973&BI973=\"\",\"\",(IF(ISERROR(VLOOKUP(BC973&BE973&BG973&BI973,日本標準産業分類!AT:AU,2,FALSE)),\"該当の細分類がありません\",VLOOKUP(BC973&BE973&BG973&BI973,日本標準産業分類!AT:AU,2,FALSE))))","v":""},null,null,null,null,null,null,null,false]
[]
[null,"第",null,null,null,null,null,null,null,"種",null,null,null,null,null,"",null,null,null,null,null,null,null,null,null,null,null,null,null,null,null,null,"〒",null,null,null,null,null,null,null,null,null,null,null,null,null,null,null,null,null,null,null,null,null,{"$f":"IF(AU973&AW973&AY973&BA973=\"\",\"\",(IF(ISERROR(VLOOKUP(AU973&AW973&AY973&BA973,日本標準産業分類!A:B,2,FALSE)),\"該当の細分類がありません\",VLOOKUP(AU973&AW973&AY973&BA973,日本標準産業分類!A:B,2,FALSE))))","v":""}]
[null,"（ 指定区分の変更手続きが必要 □ ）"]
[null,null,null,null,null,null,null,null,null,null,null,null,null,null,null,null,null,null,null,null,null,null,null,null,null,null,null,null,null,null,null,null,null,null,null,null,null,null,null,null,null,null,null,null,null,null,null,null,null,null,null,null,null,null,{"$f":"IF(BC977&BE977&BG977&BI977=\"\",\"\",(IF(ISERROR(VLOOKUP(BC977&BE977&BG977&BI977,日本標準産業分類!AT:AU,2,FALSE)),\"該当の細分類がありません\",VLOOKUP(BC977&BE977&BG977&BI977,日本標準産業分類!AT:AU,2,FALSE))))","v":""},null,null,null,null,null,null,null,false]
[]
[null,"第",null,null,null,null,null,null,null,"種",null,null,null,null,null,"",null,null,null,null,null,null,null,null,null,null,null,null,null,null,null,null,"〒",null,null,null,null,null,null,null,null,null,null,null,null,null,null,null,null,null,null,null,null,null,{"$f":"IF(AU977&AW977&AY977&BA977=\"\",\"\",(IF(ISERROR(VLOOKUP(AU977&AW977&AY977&BA977,日本標準産業分類!A:B,2,FALSE)),\"該当の細分類がありません\",VLOOKUP(AU977&AW977&AY977&BA977,日本標準産業分類!A:B,2,FALSE))))","v":""}]
[null,"（ 指定区分の変更手続きが必要 □ ）"]
[null,null,null,null,null,null,null,null,null,null,null,null,null,null,null,null,null,null,null,null,null,null,null,null,null,null,null,null,null,null,null,null,null,null,null,null,null,null,null,null,null,null,null,null,null,null,null,null,null,null,null,null,null,null,{"$f":"IF(BC981&BE981&BG981&BI981=\"\",\"\",(IF(ISERROR(VLOOKUP(BC981&BE981&BG981&BI981,日本標準産業分類!AT:AU,2,FALSE)),\"該当の細分類がありません\",VLOOKUP(BC981&BE981&BG981&BI981,日本標準産業分類!AT:AU,2,FALSE))))","v":""},null,null,null,null,null,null,null,false]
[]
[null,"第",null,null,null,null,null,null,null,"種",null,null,null,null,null,"",null,null,null,null,null,null,null,null,null,null,null,null,null,null,null,null,"〒",null,null,null,null,null,null,null,null,null,null,null,null,null,null,null,null,null,null,null,null,null,{"$f":"IF(AU981&AW981&AY981&BA981=\"\",\"\",(IF(ISERROR(VLOOKUP(AU981&AW981&AY981&BA981,日本標準産業分類!A:B,2,FALSE)),\"該当の細分類がありません\",VLOOKUP(AU981&AW981&AY981&BA981,日本標準産業分類!A:B,2,FALSE))))","v":""}]
[null,"（ 指定区分の変更手続きが必要 □ ）"]
[null,null,null,null,null,null,null,null,null,null,null,null,null,null,null,null,null,null,null,null,null,null,null,null,null,null,null,null,null,null,null,null,null,null,null,null,null,null,null,null,null,null,null,null,null,null,null,null,null,null,null,null,null,null,{"$f":"IF(BC985&BE985&BG985&BI985=\"\",\"\",(IF(ISERROR(VLOOKUP(BC985&BE985&BG985&BI985,日本標準産業分類!AT:AU,2,FALSE)),\"該当の細分類がありません\",VLOOKUP(BC985&BE985&BG985&BI985,日本標準産業分類!AT:AU,2,FALSE))))","v":""},null,null,null,null,null,null,null,false]
[]
[null,"第",null,null,null,null,null,null,null,"種",null,null,null,null,null,"",null,null,null,null,null,null,null,null,null,null,null,null,null,null,null,null,"〒",null,null,null,null,null,null,null,null,null,null,null,null,null,null,null,null,null,null,null,null,null,{"$f":"IF(AU985&AW985&AY985&BA985=\"\",\"\",(IF(ISERROR(VLOOKUP(AU985&AW985&AY985&BA985,日本標準産業分類!A:B,2,FALSE)),\"該当の細分類がありません\",VLOOKUP(AU985&AW985&AY985&BA985,日本標準産業分類!A:B,2,FALSE))))","v":""}]
[null,"（ 指定区分の変更手続きが必要 □ ）"]
[null,null,null,null,null,null,null,null,null,null,null,null,null,null,null,null,null,null,null,null,null,null,null,null,null,null,null,null,null,null,null,null,null,null,null,null,null,null,null,null,null,null,null,null,null,null,null,null,null,null,null,null,null,null,{"$f":"IF(BC989&BE989&BG989&BI989=\"\",\"\",(IF(ISERROR(VLOOKUP(BC989&BE989&BG989&BI989,日本標準産業分類!AT:AU,2,FALSE)),\"該当の細分類がありません\",VLOOKUP(BC989&BE989&BG989&BI989,日本標準産業分類!AT:AU,2,FALSE))))","v":""},null,null,null,null,null,null,null,false]
[]
[null,"第",null,null,null,null,null,null,null,"種",null,null,null,null,null,"",null,null,null,null,null,null,null,null,null,null,null,null,null,null,null,null,"〒",null,null,null,null,null,null,null,null,null,null,null,null,null,null,null,null,null,null,null,null,null,{"$f":"IF(AU989&AW989&AY989&BA989=\"\",\"\",(IF(ISERROR(VLOOKUP(AU989&AW989&AY989&BA989,日本標準産業分類!A:B,2,FALSE)),\"該当の細分類がありません\",VLOOKUP(AU989&AW989&AY989&BA989,日本標準産業分類!A:B,2,FALSE))))","v":""}]
[null,"（ 指定区分の変更手続きが必要 □ ）"]
[null,null,null,null,null,null,null,null,null,null,null,null,null,null,null,null,null,null,null,null,null,null,null,null,null,null,null,null,null,null,null,null,null,null,null,null,null,null,null,null,null,null,null,null,null,null,null,null,null,null,null,null,null,null,{"$f":"IF(BC993&BE993&BG993&BI993=\"\",\"\",(IF(ISERROR(VLOOKUP(BC993&BE993&BG993&BI993,日本標準産業分類!AT:AU,2,FALSE)),\"該当の細分類がありません\",VLOOKUP(BC993&BE993&BG993&BI993,日本標準産業分類!AT:AU,2,FALSE))))","v":""},null,null,null,null,null,null,null,false]
[]
[null,"第",null,null,null,null,null,null,null,"種",null,null,null,null,null,"",null,null,null,null,null,null,null,null,null,null,null,null,null,null,null,null,"〒",null,null,null,null,null,null,null,null,null,null,null,null,null,null,null,null,null,null,null,null,null,{"$f":"IF(AU993&AW993&AY993&BA993=\"\",\"\",(IF(ISERROR(VLOOKUP(AU993&AW993&AY993&BA993,日本標準産業分類!A:B,2,FALSE)),\"該当の細分類がありません\",VLOOKUP(AU993&AW993&AY993&BA993,日本標準産業分類!A:B,2,FALSE))))","v":""}]
[null,"（ 指定区分の変更手続きが必要 □ ）"]
[null,null,null,null,null,null,null,null,null,null,null,null,null,null,null,null,null,null,null,null,null,null,null,null,null,null,null,null,null,null,null,null,null,null,null,null,null,null,null,null,null,null,null,null,null,null,null,null,null,null,null,null,null,null,{"$f":"IF(BC997&BE997&BG997&BI997=\"\",\"\",(IF(ISERROR(VLOOKUP(BC997&BE997&BG997&BI997,日本標準産業分類!AT:AU,2,FALSE)),\"該当の細分類がありません\",VLOOKUP(BC997&BE997&BG997&BI997,日本標準産業分類!AT:AU,2,FALSE))))","v":""},null,null,null,null,null,null,null,false]
[]
[null,"第",null,null,null,null,null,null,null,"種",null,null,null,null,null,"",null,null,null,null,null,null,null,null,null,null,null,null,null,null,null,null,"〒",null,null,null,null,null,null,null,null,null,null,null,null,null,null,null,null,null,null,null,null,null,{"$f":"IF(AU997&AW997&AY997&BA997=\"\",\"\",(IF(ISERROR(VLOOKUP(AU997&AW997&AY997&BA997,日本標準産業分類!A:B,2,FALSE)),\"該当の細分類がありません\",VLOOKUP(AU997&AW997&AY997&BA997,日本標準産業分類!A:B,2,FALSE))))","v":""}]
[null,"（ 指定区分の変更手続きが必要 □ ）"]
[null,null,null,null,null,null,null,null,null,null,null,null,null,null,null,null,null,null,null,null,null,null,null,null,null,null,null,null,null,null,null,null,null,null,null,null,null,null,null,null,null,null,null,null,null,null,null,null,null,null,null,null,null,null,{"$f":"IF(BC1001&BE1001&BG1001&BI1001=\"\",\"\",(IF(ISERROR(VLOOKUP(BC1001&BE1001&BG1001&BI1001,日本標準産業分類!AT:AU,2,FALSE)),\"該当の細分類がありません\",VLOOKUP(BC1001&BE1001&BG1001&BI1001,日本標準産業分類!AT:AU,2,FALSE))))","v":""},null,null,null,null,null,null,null,false]
[]
[null,"第",null,null,null,null,null,null,null,"種",null,null,null,null,null,"",null,null,null,null,null,null,null,null,null,null,null,null,null,null,null,null,"〒",null,null,null,null,null,null,null,null,null,null,null,null,null,null,null,null,null,null,null,null,null,{"$f":"IF(AU1001&AW1001&AY1001&BA1001=\"\",\"\",(IF(ISERROR(VLOOKUP(AU1001&AW1001&AY1001&BA1001,日本標準産業分類!A:B,2,FALSE)),\"該当の細分類がありません\",VLOOKUP(AU1001&AW1001&AY1001&BA1001,日本標準産業分類!A:B,2,FALSE))))","v":""}]
[null,"（ 指定区分の変更手続きが必要 □ ）"]
[null,null,null,null,null,null,null,null,null,null,null,null,null,null,null,null,null,null,null,null,null,null,null,null,null,null,null,null,null,null,null,null,null,null,null,null,null,null,null,null,null,null,null,null,null,null,null,null,null,null,null,null,null,null,{"$f":"IF(BC1005&BE1005&BG1005&BI1005=\"\",\"\",(IF(ISERROR(VLOOKUP(BC1005&BE1005&BG1005&BI1005,日本標準産業分類!AT:AU,2,FALSE)),\"該当の細分類がありません\",VLOOKUP(BC1005&BE1005&BG1005&BI1005,日本標準産業分類!AT:AU,2,FALSE))))","v":""},null,null,null,null,null,null,null,false]
[]
[null,"第",null,null,null,null,null,null,null,"種",null,null,null,null,null,"",null,null,null,null,null,null,null,null,null,null,null,null,null,null,null,null,"〒",null,null,null,null,null,null,null,null,null,null,null,null,null,null,null,null,null,null,null,null,null,{"$f":"IF(AU1005&AW1005&AY1005&BA1005=\"\",\"\",(IF(ISERROR(VLOOKUP(AU1005&AW1005&AY1005&BA1005,日本標準産業分類!A:B,2,FALSE)),\"該当の細分類がありません\",VLOOKUP(AU1005&AW1005&AY1005&BA1005,日本標準産業分類!A:B,2,FALSE))))","v":""}]
[null,"（ 指定区分の変更手続きが必要 □ ）"]
[null,null,null,null,null,null,null,null,null,null,null,null,null,null,null,null,null,null,null,null,null,null,null,null,null,null,null,null,null,null,null,null,null,null,null,null,null,null,null,null,null,null,null,null,null,null,null,null,null,null,null,null,null,null,{"$f":"IF(BC1009&BE1009&BG1009&BI1009=\"\",\"\",(IF(ISERROR(VLOOKUP(BC1009&BE1009&BG1009&BI1009,日本標準産業分類!AT:AU,2,FALSE)),\"該当の細分類がありません\",VLOOKUP(BC1009&BE1009&BG1009&BI1009,日本標準産業分類!AT:AU,2,FALSE))))","v":""},null,null,null,null,null,null,null,false]
[]
[null,"第",null,null,null,null,null,null,null,"種",null,null,null,null,null,"",null,null,null,null,null,null,null,null,null,null,null,null,null,null,null,null,"〒",null,null,null,null,null,null,null,null,null,null,null,null,null,null,null,null,null,null,null,null,null,{"$f":"IF(AU1009&AW1009&AY1009&BA1009=\"\",\"\",(IF(ISERROR(VLOOKUP(AU1009&AW1009&AY1009&BA1009,日本標準産業分類!A:B,2,FALSE)),\"該当の細分類がありません\",VLOOKUP(AU1009&AW1009&AY1009&BA1009,日本標準産業分類!A:B,2,FALSE))))","v":""}]
[null,"（ 指定区分の変更手続きが必要 □ ）"]
[null,null,null,null,null,null,null,null,null,null,null,null,null,null,null,null,null,null,null,null,null,null,null,null,null,null,null,null,null,null,null,null,null,null,null,null,null,null,null,null,null,null,null,null,null,null,null,null,null,null,null,null,null,null,{"$f":"IF(BC1013&BE1013&BG1013&BI1013=\"\",\"\",(IF(ISERROR(VLOOKUP(BC1013&BE1013&BG1013&BI1013,日本標準産業分類!AT:AU,2,FALSE)),\"該当の細分類がありません\",VLOOKUP(BC1013&BE1013&BG1013&BI1013,日本標準産業分類!AT:AU,2,FALSE))))","v":""},null,null,null,null,null,null,null,false]
[]
[null,"第",null,null,null,null,null,null,null,"種",null,null,null,null,null,"",null,null,null,null,null,null,null,null,null,null,null,null,null,null,null,null,"〒",null,null,null,null,null,null,null,null,null,null,null,null,null,null,null,null,null,null,null,null,null,{"$f":"IF(AU1013&AW1013&AY1013&BA1013=\"\",\"\",(IF(ISERROR(VLOOKUP(AU1013&AW1013&AY1013&BA1013,日本標準産業分類!A:B,2,FALSE)),\"該当の細分類がありません\",VLOOKUP(AU1013&AW1013&AY1013&BA1013,日本標準産業分類!A:B,2,FALSE))))","v":""}]
[null,"（ 指定区分の変更手続きが必要 □ ）"]
[null,null,null,null,null,null,null,null,null,null,null,null,null,null,null,null,null,null,null,null,null,null,null,null,null,null,null,null,null,null,null,null,null,null,null,null,null,null,null,null,null,null,null,null,null,null,null,null,null,null,null,null,null,null,{"$f":"IF(BC1017&BE1017&BG1017&BI1017=\"\",\"\",(IF(ISERROR(VLOOKUP(BC1017&BE1017&BG1017&BI1017,日本標準産業分類!AT:AU,2,FALSE)),\"該当の細分類がありません\",VLOOKUP(BC1017&BE1017&BG1017&BI1017,日本標準産業分類!AT:AU,2,FALSE))))","v":""},null,null,null,null,null,null,null,false]
[]
[null,"第",null,null,null,null,null,null,null,"種",null,null,null,null,null,"",null,null,null,null,null,null,null,null,null,null,null,null,null,null,null,null,"〒",null,null,null,null,null,null,null,null,null,null,null,null,null,null,null,null,null,null,null,null,null,{"$f":"IF(AU1017&AW1017&AY1017&BA1017=\"\",\"\",(IF(ISERROR(VLOOKUP(AU1017&AW1017&AY1017&BA1017,日本標準産業分類!A:B,2,FALSE)),\"該当の細分類がありません\",VLOOKUP(AU1017&AW1017&AY1017&BA1017,日本標準産業分類!A:B,2,FALSE))))","v":""}]
[null,"（ 指定区分の変更手続きが必要 □ ）"]
[null,null,null,null,null,null,null,null,null,null,null,null,null,null,null,null,null,null,null,null,null,null,null,null,null,null,null,null,null,null,null,null,null,null,null,null,null,null,null,null,null,null,null,null,null,null,null,null,null,null,null,null,null,null,{"$f":"IF(BC1021&BE1021&BG1021&BI1021=\"\",\"\",(IF(ISERROR(VLOOKUP(BC1021&BE1021&BG1021&BI1021,日本標準産業分類!AT:AU,2,FALSE)),\"該当の細分類がありません\",VLOOKUP(BC1021&BE1021&BG1021&BI1021,日本標準産業分類!AT:AU,2,FALSE))))","v":""},null,null,null,null,null,null,null,false]
[]
[null,"第",null,null,null,null,null,null,null,"種",null,null,null,null,null,"",null,null,null,null,null,null,null,null,null,null,null,null,null,null,null,null,"〒",null,null,null,null,null,null,null,null,null,null,null,null,null,null,null,null,null,null,null,null,null,{"$f":"IF(AU1021&AW1021&AY1021&BA1021=\"\",\"\",(IF(ISERROR(VLOOKUP(AU1021&AW1021&AY1021&BA1021,日本標準産業分類!A:B,2,FALSE)),\"該当の細分類がありません\",VLOOKUP(AU1021&AW1021&AY1021&BA1021,日本標準産業分類!A:B,2,FALSE))))","v":""}]
[null,"（ 指定区分の変更手続きが必要 □ ）"]
[null,null,null,null,null,null,null,null,null,null,null,null,null,null,null,null,null,null,null,null,null,null,null,null,null,null,null,null,null,null,null,null,null,null,null,null,null,null,null,null,null,null,null,null,null,null,null,null,null,null,null,null,null,null,{"$f":"IF(BC1025&BE1025&BG1025&BI1025=\"\",\"\",(IF(ISERROR(VLOOKUP(BC1025&BE1025&BG1025&BI1025,日本標準産業分類!AT:AU,2,FALSE)),\"該当の細分類がありません\",VLOOKUP(BC1025&BE1025&BG1025&BI1025,日本標準産業分類!AT:AU,2,FALSE))))","v":""},null,null,null,null,null,null,null,false]
[]
[null,"第",null,null,null,null,null,null,null,"種",null,null,null,null,null,"",null,null,null,null,null,null,null,null,null,null,null,null,null,null,null,null,"〒",null,null,null,null,null,null,null,null,null,null,null,null,null,null,null,null,null,null,null,null,null,{"$f":"IF(AU1025&AW1025&AY1025&BA1025=\"\",\"\",(IF(ISERROR(VLOOKUP(AU1025&AW1025&AY1025&BA1025,日本標準産業分類!A:B,2,FALSE)),\"該当の細分類がありません\",VLOOKUP(AU1025&AW1025&AY1025&BA1025,日本標準産業分類!A:B,2,FALSE))))","v":""}]
[null,"（ 指定区分の変更手続きが必要 □ ）"]
[null,null,null,null,null,null,null,null,null,null,null,null,null,null,null,null,null,null,null,null,null,null,null,null,null,null,null,null,null,null,null,null,null,null,null,null,null,null,null,null,null,null,null,null,null,null,null,null,null,null,null,null,null,null,{"$f":"IF(BC1029&BE1029&BG1029&BI1029=\"\",\"\",(IF(ISERROR(VLOOKUP(BC1029&BE1029&BG1029&BI1029,日本標準産業分類!AT:AU,2,FALSE)),\"該当の細分類がありません\",VLOOKUP(BC1029&BE1029&BG1029&BI1029,日本標準産業分類!AT:AU,2,FALSE))))","v":""},null,null,null,null,null,null,null,false]
[]
[null,"第",null,null,null,null,null,null,null,"種",null,null,null,null,null,"",null,null,null,null,null,null,null,null,null,null,null,null,null,null,null,null,"〒",null,null,null,null,null,null,null,null,null,null,null,null,null,null,null,null,null,null,null,null,null,{"$f":"IF(AU1029&AW1029&AY1029&BA1029=\"\",\"\",(IF(ISERROR(VLOOKUP(AU1029&AW1029&AY1029&BA1029,日本標準産業分類!A:B,2,FALSE)),\"該当の細分類がありません\",VLOOKUP(AU1029&AW1029&AY1029&BA1029,日本標準産業分類!A:B,2,FALSE))))","v":""}]
[null,"（ 指定区分の変更手続きが必要 □ ）"]
[null,null,null,null,null,null,null,null,null,null,null,null,null,null,null,null,null,null,null,null,null,null,null,null,null,null,null,null,null,null,null,null,null,null,null,null,null,null,null,null,null,null,null,null,null,null,null,null,null,null,null,null,null,null,{"$f":"IF(BC1033&BE1033&BG1033&BI1033=\"\",\"\",(IF(ISERROR(VLOOKUP(BC1033&BE1033&BG1033&BI1033,日本標準産業分類!AT:AU,2,FALSE)),\"該当の細分類がありません\",VLOOKUP(BC1033&BE1033&BG1033&BI1033,日本標準産業分類!AT:AU,2,FALSE))))","v":""},null,null,null,null,null,null,null,false]
[]
[null,"第",null,null,null,null,null,null,null,"種",null,null,null,null,null,"",null,null,null,null,null,null,null,null,null,null,null,null,null,null,null,null,"〒",null,null,null,null,null,null,null,null,null,null,null,null,null,null,null,null,null,null,null,null,null,{"$f":"IF(AU1033&AW1033&AY1033&BA1033=\"\",\"\",(IF(ISERROR(VLOOKUP(AU1033&AW1033&AY1033&BA1033,日本標準産業分類!A:B,2,FALSE)),\"該当の細分類がありません\",VLOOKUP(AU1033&AW1033&AY1033&BA1033,日本標準産業分類!A:B,2,FALSE))))","v":""}]
[null,"（ 指定区分の変更手続きが必要 □ ）"]
[null,null,null,null,null,null,null,null,null,null,null,null,null,null,null,null,null,null,null,null,null,null,null,null,null,null,null,null,null,null,null,null,null,null,null,null,null,null,null,null,null,null,null,null,null,null,null,null,null,null,null,null,null,null,{"$f":"IF(BC1037&BE1037&BG1037&BI1037=\"\",\"\",(IF(ISERROR(VLOOKUP(BC1037&BE1037&BG1037&BI1037,日本標準産業分類!AT:AU,2,FALSE)),\"該当の細分類がありません\",VLOOKUP(BC1037&BE1037&BG1037&BI1037,日本標準産業分類!AT:AU,2,FALSE))))","v":""},null,null,null,null,null,null,null,false]
[]
[null,"第",null,null,null,null,null,null,null,"種",null,null,null,null,null,"",null,null,null,null,null,null,null,null,null,null,null,null,null,null,null,null,"〒",null,null,null,null,null,null,null,null,null,null,null,null,null,null,null,null,null,null,null,null,null,{"$f":"IF(AU1037&AW1037&AY1037&BA1037=\"\",\"\",(IF(ISERROR(VLOOKUP(AU1037&AW1037&AY1037&BA1037,日本標準産業分類!A:B,2,FALSE)),\"該当の細分類がありません\",VLOOKUP(AU1037&AW1037&AY1037&BA1037,日本標準産業分類!A:B,2,FALSE))))","v":""}]
[null,"（ 指定区分の変更手続きが必要 □ ）"]
[null,null,null,null,null,null,null,null,null,null,null,null,null,null,null,null,null,null,null,null,null,null,null,null,null,null,null,null,null,null,null,null,null,null,null,null,null,null,null,null,null,null,null,null,null,null,null,null,null,null,null,null,null,null,{"$f":"IF(BC1041&BE1041&BG1041&BI1041=\"\",\"\",(IF(ISERROR(VLOOKUP(BC1041&BE1041&BG1041&BI1041,日本標準産業分類!AT:AU,2,FALSE)),\"該当の細分類がありません\",VLOOKUP(BC1041&BE1041&BG1041&BI1041,日本標準産業分類!AT:AU,2,FALSE))))","v":""},null,null,null,null,null,null,null,false]
[]
[null,"第",null,null,null,null,null,null,null,"種",null,null,null,null,null,"",null,null,null,null,null,null,null,null,null,null,null,null,null,null,null,null,"〒",null,null,null,null,null,null,null,null,null,null,null,null,null,null,null,null,null,null,null,null,null,{"$f":"IF(AU1041&AW1041&AY1041&BA1041=\"\",\"\",(IF(ISERROR(VLOOKUP(AU1041&AW1041&AY1041&BA1041,日本標準産業分類!A:B,2,FALSE)),\"該当の細分類がありません\",VLOOKUP(AU1041&AW1041&AY1041&BA1041,日本標準産業分類!A:B,2,FALSE))))","v":""}]
[null,"（ 指定区分の変更手続きが必要 □ ）"]
[null,null,null,null,null,null,null,null,null,null,null,null,null,null,null,null,null,null,null,null,null,null,null,null,null,null,null,null,null,null,null,null,null,null,null,null,null,null,null,null,null,null,null,null,null,null,null,null,null,null,null,null,null,null,{"$f":"IF(BC1045&BE1045&BG1045&BI1045=\"\",\"\",(IF(ISERROR(VLOOKUP(BC1045&BE1045&BG1045&BI1045,日本標準産業分類!AT:AU,2,FALSE)),\"該当の細分類がありません\",VLOOKUP(BC1045&BE1045&BG1045&BI1045,日本標準産業分類!AT:AU,2,FALSE))))","v":""},null,null,null,null,null,null,null,false]
[]
[null,"第",null,null,null,null,null,null,null,"種",null,null,null,null,null,"",null,null,null,null,null,null,null,null,null,null,null,null,null,null,null,null,"〒",null,null,null,null,null,null,null,null,null,null,null,null,null,null,null,null,null,null,null,null,null,{"$f":"IF(AU1045&AW1045&AY1045&BA1045=\"\",\"\",(IF(ISERROR(VLOOKUP(AU1045&AW1045&AY1045&BA1045,日本標準産業分類!A:B,2,FALSE)),\"該当の細分類がありません\",VLOOKUP(AU1045&AW1045&AY1045&BA1045,日本標準産業分類!A:B,2,FALSE))))","v":""}]
[null,"（ 指定区分の変更手続きが必要 □ ）"]
[null,null,null,null,null,null,null,null,null,null,null,null,null,null,null,null,null,null,null,null,null,null,null,null,null,null,null,null,null,null,null,null,null,null,null,null,null,null,null,null,null,null,null,null,null,null,null,null,null,null,null,null,null,null,{"$f":"IF(BC1049&BE1049&BG1049&BI1049=\"\",\"\",(IF(ISERROR(VLOOKUP(BC1049&BE1049&BG1049&BI1049,日本標準産業分類!AT:AU,2,FALSE)),\"該当の細分類がありません\",VLOOKUP(BC1049&BE1049&BG1049&BI1049,日本標準産業分類!AT:AU,2,FALSE))))","v":""},null,null,null,null,null,null,null,false]
[]
[null,"第",null,null,null,null,null,null,null,"種",null,null,null,null,null,"",null,null,null,null,null,null,null,null,null,null,null,null,null,null,null,null,"〒",null,null,null,null,null,null,null,null,null,null,null,null,null,null,null,null,null,null,null,null,null,{"$f":"IF(AU1049&AW1049&AY1049&BA1049=\"\",\"\",(IF(ISERROR(VLOOKUP(AU1049&AW1049&AY1049&BA1049,日本標準産業分類!A:B,2,FALSE)),\"該当の細分類がありません\",VLOOKUP(AU1049&AW1049&AY1049&BA1049,日本標準産業分類!A:B,2,FALSE))))","v":""}]
[null,"（ 指定区分の変更手続きが必要 □ ）"]
[null,null,null,null,null,null,null,null,null,null,null,null,null,null,null,null,null,null,null,null,null,null,null,null,null,null,null,null,null,null,null,null,null,null,null,null,null,null,null,null,null,null,null,null,null,null,null,null,null,null,null,null,null,null,{"$f":"IF(BC1053&BE1053&BG1053&BI1053=\"\",\"\",(IF(ISERROR(VLOOKUP(BC1053&BE1053&BG1053&BI1053,日本標準産業分類!AT:AU,2,FALSE)),\"該当の細分類がありません\",VLOOKUP(BC1053&BE1053&BG1053&BI1053,日本標準産業分類!AT:AU,2,FALSE))))","v":""},null,null,null,null,null,null,null,false]
[]
[null,"第",null,null,null,null,null,null,null,"種",null,null,null,null,null,"",null,null,null,null,null,null,null,null,null,null,null,null,null,null,null,null,"〒",null,null,null,null,null,null,null,null,null,null,null,null,null,null,null,null,null,null,null,null,null,{"$f":"IF(AU1053&AW1053&AY1053&BA1053=\"\",\"\",(IF(ISERROR(VLOOKUP(AU1053&AW1053&AY1053&BA1053,日本標準産業分類!A:B,2,FALSE)),\"該当の細分類がありません\",VLOOKUP(AU1053&AW1053&AY1053&BA1053,日本標準産業分類!A:B,2,FALSE))))","v":""}]
[null,"（ 指定区分の変更手続きが必要 □ ）"]
[null,null,null,null,null,null,null,null,null,null,null,null,null,null,null,null,null,null,null,null,null,null,null,null,null,null,null,null,null,null,null,null,null,null,null,null,null,null,null,null,null,null,null,null,null,null,null,null,null,null,null,null,null,null,{"$f":"IF(BC1057&BE1057&BG1057&BI1057=\"\",\"\",(IF(ISERROR(VLOOKUP(BC1057&BE1057&BG1057&BI1057,日本標準産業分類!AT:AU,2,FALSE)),\"該当の細分類がありません\",VLOOKUP(BC1057&BE1057&BG1057&BI1057,日本標準産業分類!AT:AU,2,FALSE))))","v":""},null,null,null,null,null,null,null,false]
[]
[null,"第",null,null,null,null,null,null,null,"種",null,null,null,null,null,"",null,null,null,null,null,null,null,null,null,null,null,null,null,null,null,null,"〒",null,null,null,null,null,null,null,null,null,null,null,null,null,null,null,null,null,null,null,null,null,{"$f":"IF(AU1057&AW1057&AY1057&BA1057=\"\",\"\",(IF(ISERROR(VLOOKUP(AU1057&AW1057&AY1057&BA1057,日本標準産業分類!A:B,2,FALSE)),\"該当の細分類がありません\",VLOOKUP(AU1057&AW1057&AY1057&BA1057,日本標準産業分類!A:B,2,FALSE))))","v":""}]
[null,"（ 指定区分の変更手続きが必要 □ ）"]
[null,null,null,null,null,null,null,null,null,null,null,null,null,null,null,null,null,null,null,null,null,null,null,null,null,null,null,null,null,null,null,null,null,null,null,null,null,null,null,null,null,null,null,null,null,null,null,null,null,null,null,null,null,null,{"$f":"IF(BC1061&BE1061&BG1061&BI1061=\"\",\"\",(IF(ISERROR(VLOOKUP(BC1061&BE1061&BG1061&BI1061,日本標準産業分類!AT:AU,2,FALSE)),\"該当の細分類がありません\",VLOOKUP(BC1061&BE1061&BG1061&BI1061,日本標準産業分類!AT:AU,2,FALSE))))","v":""},null,null,null,null,null,null,null,false]
[]
[null,"第",null,null,null,null,null,null,null,"種",null,null,null,null,null,"",null,null,null,null,null,null,null,null,null,null,null,null,null,null,null,null,"〒",null,null,null,null,null,null,null,null,null,null,null,null,null,null,null,null,null,null,null,null,null,{"$f":"IF(AU1061&AW1061&AY1061&BA1061=\"\",\"\",(IF(ISERROR(VLOOKUP(AU1061&AW1061&AY1061&BA1061,日本標準産業分類!A:B,2,FALSE)),\"該当の細分類がありません\",VLOOKUP(AU1061&AW1061&AY1061&BA1061,日本標準産業分類!A:B,2,FALSE))))","v":""}]
[null,"（ 指定区分の変更手続きが必要 □ ）"]
[null,null,null,null,null,null,null,null,null,null,null,null,null,null,null,null,null,null,null,null,null,null,null,null,null,null,null,null,null,null,null,null,null,null,null,null,null,null,null,null,null,null,null,null,null,null,null,null,null,null,null,null,null,null,{"$f":"IF(BC1065&BE1065&BG1065&BI1065=\"\",\"\",(IF(ISERROR(VLOOKUP(BC1065&BE1065&BG1065&BI1065,日本標準産業分類!AT:AU,2,FALSE)),\"該当の細分類がありません\",VLOOKUP(BC1065&BE1065&BG1065&BI1065,日本標準産業分類!AT:AU,2,FALSE))))","v":""},null,null,null,null,null,null,null,false]
[]
[null,"第",null,null,null,null,null,null,null,"種",null,null,null,null,null,"",null,null,null,null,null,null,null,null,null,null,null,null,null,null,null,null,"〒",null,null,null,null,null,null,null,null,null,null,null,null,null,null,null,null,null,null,null,null,null,{"$f":"IF(AU1065&AW1065&AY1065&BA1065=\"\",\"\",(IF(ISERROR(VLOOKUP(AU1065&AW1065&AY1065&BA1065,日本標準産業分類!A:B,2,FALSE)),\"該当の細分類がありません\",VLOOKUP(AU1065&AW1065&AY1065&BA1065,日本標準産業分類!A:B,2,FALSE))))","v":""}]
[null,"（ 指定区分の変更手続きが必要 □ ）"]
[null,null,null,null,null,null,null,null,null,null,null,null,null,null,null,null,null,null,null,null,null,null,null,null,null,null,null,null,null,null,null,null,null,null,null,null,null,null,null,null,null,null,null,null,null,null,null,null,null,null,null,null,null,null,{"$f":"IF(BC1069&BE1069&BG1069&BI1069=\"\",\"\",(IF(ISERROR(VLOOKUP(BC1069&BE1069&BG1069&BI1069,日本標準産業分類!AT:AU,2,FALSE)),\"該当の細分類がありません\",VLOOKUP(BC1069&BE1069&BG1069&BI1069,日本標準産業分類!AT:AU,2,FALSE))))","v":""},null,null,null,null,null,null,null,false]
[]
[null,"第",null,null,null,null,null,null,null,"種",null,null,null,null,null,"",null,null,null,null,null,null,null,null,null,null,null,null,null,null,null,null,"〒",null,null,null,null,null,null,null,null,null,null,null,null,null,null,null,null,null,null,null,null,null,{"$f":"IF(AU1069&AW1069&AY1069&BA1069=\"\",\"\",(IF(ISERROR(VLOOKUP(AU1069&AW1069&AY1069&BA1069,日本標準産業分類!A:B,2,FALSE)),\"該当の細分類がありません\",VLOOKUP(AU1069&AW1069&AY1069&BA1069,日本標準産業分類!A:B,2,FALSE))))","v":""}]
[null,"（ 指定区分の変更手続きが必要 □ ）"]
[null,null,null,null,null,null,null,null,null,null,null,null,null,null,null,null,null,null,null,null,null,null,null,null,null,null,null,null,null,null,null,null,null,null,null,null,null,null,null,null,null,null,null,null,null,null,null,null,null,null,null,null,null,null,{"$f":"IF(BC1073&BE1073&BG1073&BI1073=\"\",\"\",(IF(ISERROR(VLOOKUP(BC1073&BE1073&BG1073&BI1073,日本標準産業分類!AT:AU,2,FALSE)),\"該当の細分類がありません\",VLOOKUP(BC1073&BE1073&BG1073&BI1073,日本標準産業分類!AT:AU,2,FALSE))))","v":""},null,null,null,null,null,null,null,false]
[]
[null,"第",null,null,null,null,null,null,null,"種",null,null,null,null,null,"",null,null,null,null,null,null,null,null,null,null,null,null,null,null,null,null,"〒",null,null,null,null,null,null,null,null,null,null,null,null,null,null,null,null,null,null,null,null,null,{"$f":"IF(AU1073&AW1073&AY1073&BA1073=\"\",\"\",(IF(ISERROR(VLOOKUP(AU1073&AW1073&AY1073&BA1073,日本標準産業分類!A:B,2,FALSE)),\"該当の細分類がありません\",VLOOKUP(AU1073&AW1073&AY1073&BA1073,日本標準産業分類!A:B,2,FALSE))))","v":""}]
[null,"（ 指定区分の変更手続きが必要 □ ）"]
[null,null,null,null,null,null,null,null,null,null,null,null,null,null,null,null,null,null,null,null,null,null,null,null,null,null,null,null,null,null,null,null,null,null,null,null,null,null,null,null,null,null,null,null,null,null,null,null,null,null,null,null,null,null,{"$f":"IF(BC1077&BE1077&BG1077&BI1077=\"\",\"\",(IF(ISERROR(VLOOKUP(BC1077&BE1077&BG1077&BI1077,日本標準産業分類!AT:AU,2,FALSE)),\"該当の細分類がありません\",VLOOKUP(BC1077&BE1077&BG1077&BI1077,日本標準産業分類!AT:AU,2,FALSE))))","v":""},null,null,null,null,null,null,null,false]
[]
[null,"第",null,null,null,null,null,null,null,"種",null,null,null,null,null,"",null,null,null,null,null,null,null,null,null,null,null,null,null,null,null,null,"〒",null,null,null,null,null,null,null,null,null,null,null,null,null,null,null,null,null,null,null,null,null,{"$f":"IF(AU1077&AW1077&AY1077&BA1077=\"\",\"\",(IF(ISERROR(VLOOKUP(AU1077&AW1077&AY1077&BA1077,日本標準産業分類!A:B,2,FALSE)),\"該当の細分類がありません\",VLOOKUP(AU1077&AW1077&AY1077&BA1077,日本標準産業分類!A:B,2,FALSE))))","v":""}]
[null,"（ 指定区分の変更手続きが必要 □ ）"]
[null,null,null,null,null,null,null,null,null,null,null,null,null,null,null,null,null,null,null,null,null,null,null,null,null,null,null,null,null,null,null,null,null,null,null,null,null,null,null,null,null,null,null,null,null,null,null,null,null,null,null,null,null,null,{"$f":"IF(BC1081&BE1081&BG1081&BI1081=\"\",\"\",(IF(ISERROR(VLOOKUP(BC1081&BE1081&BG1081&BI1081,日本標準産業分類!AT:AU,2,FALSE)),\"該当の細分類がありません\",VLOOKUP(BC1081&BE1081&BG1081&BI1081,日本標準産業分類!AT:AU,2,FALSE))))","v":""},null,null,null,null,null,null,null,false]
[]
[null,"第",null,null,null,null,null,null,null,"種",null,null,null,null,null,"",null,null,null,null,null,null,null,null,null,null,null,null,null,null,null,null,"〒",null,null,null,null,null,null,null,null,null,null,null,null,null,null,null,null,null,null,null,null,null,{"$f":"IF(AU1081&AW1081&AY1081&BA1081=\"\",\"\",(IF(ISERROR(VLOOKUP(AU1081&AW1081&AY1081&BA1081,日本標準産業分類!A:B,2,FALSE)),\"該当の細分類がありません\",VLOOKUP(AU1081&AW1081&AY1081&BA1081,日本標準産業分類!A:B,2,FALSE))))","v":""}]
[null,"（ 指定区分の変更手続きが必要 □ ）"]
[null,null,null,null,null,null,null,null,null,null,null,null,null,null,null,null,null,null,null,null,null,null,null,null,null,null,null,null,null,null,null,null,null,null,null,null,null,null,null,null,null,null,null,null,null,null,null,null,null,null,null,null,null,null,{"$f":"IF(BC1085&BE1085&BG1085&BI1085=\"\",\"\",(IF(ISERROR(VLOOKUP(BC1085&BE1085&BG1085&BI1085,日本標準産業分類!AT:AU,2,FALSE)),\"該当の細分類がありません\",VLOOKUP(BC1085&BE1085&BG1085&BI1085,日本標準産業分類!AT:AU,2,FALSE))))","v":""},null,null,null,null,null,null,null,false]
[]
[null,"第",null,null,null,null,null,null,null,"種",null,null,null,null,null,"",null,null,null,null,null,null,null,null,null,null,null,null,null,null,null,null,"〒",null,null,null,null,null,null,null,null,null,null,null,null,null,null,null,null,null,null,null,null,null,{"$f":"IF(AU1085&AW1085&AY1085&BA1085=\"\",\"\",(IF(ISERROR(VLOOKUP(AU1085&AW1085&AY1085&BA1085,日本標準産業分類!A:B,2,FALSE)),\"該当の細分類がありません\",VLOOKUP(AU1085&AW1085&AY1085&BA1085,日本標準産業分類!A:B,2,FALSE))))","v":""}]
[null,"（ 指定区分の変更手続きが必要 □ ）"]
[null,null,null,null,null,null,null,null,null,null,null,null,null,null,null,null,null,null,null,null,null,null,null,null,null,null,null,null,null,null,null,null,null,null,null,null,null,null,null,null,null,null,null,null,null,null,null,null,null,null,null,null,null,null,{"$f":"IF(BC1089&BE1089&BG1089&BI1089=\"\",\"\",(IF(ISERROR(VLOOKUP(BC1089&BE1089&BG1089&BI1089,日本標準産業分類!AT:AU,2,FALSE)),\"該当の細分類がありません\",VLOOKUP(BC1089&BE1089&BG1089&BI1089,日本標準産業分類!AT:AU,2,FALSE))))","v":""},null,null,null,null,null,null,null,false]
[]
[null,"第",null,null,null,null,null,null,null,"種",null,null,null,null,null,"",null,null,null,null,null,null,null,null,null,null,null,null,null,null,null,null,"〒",null,null,null,null,null,null,null,null,null,null,null,null,null,null,null,null,null,null,null,null,null,{"$f":"IF(AU1089&AW1089&AY1089&BA1089=\"\",\"\",(IF(ISERROR(VLOOKUP(AU1089&AW1089&AY1089&BA1089,日本標準産業分類!A:B,2,FALSE)),\"該当の細分類がありません\",VLOOKUP(AU1089&AW1089&AY1089&BA1089,日本標準産業分類!A:B,2,FALSE))))","v":""}]
[null,"（ 指定区分の変更手続きが必要 □ ）"]
[null,null,null,null,null,null,null,null,null,null,null,null,null,null,null,null,null,null,null,null,null,null,null,null,null,null,null,null,null,null,null,null,null,null,null,null,null,null,null,null,null,null,null,null,null,null,null,null,null,null,null,null,null,null,{"$f":"IF(BC1093&BE1093&BG1093&BI1093=\"\",\"\",(IF(ISERROR(VLOOKUP(BC1093&BE1093&BG1093&BI1093,日本標準産業分類!AT:AU,2,FALSE)),\"該当の細分類がありません\",VLOOKUP(BC1093&BE1093&BG1093&BI1093,日本標準産業分類!AT:AU,2,FALSE))))","v":""},null,null,null,null,null,null,null,false]
[]
[null,"第",null,null,null,null,null,null,null,"種",null,null,null,null,null,"",null,null,null,null,null,null,null,null,null,null,null,null,null,null,null,null,"〒",null,null,null,null,null,null,null,null,null,null,null,null,null,null,null,null,null,null,null,null,null,{"$f":"IF(AU1093&AW1093&AY1093&BA1093=\"\",\"\",(IF(ISERROR(VLOOKUP(AU1093&AW1093&AY1093&BA1093,日本標準産業分類!A:B,2,FALSE)),\"該当の細分類がありません\",VLOOKUP(AU1093&AW1093&AY1093&BA1093,日本標準産業分類!A:B,2,FALSE))))","v":""}]
[null,"（ 指定区分の変更手続きが必要 □ ）"]
[null,null,null,null,null,null,null,null,null,null,null,null,null,null,null,null,null,null,null,null,null,null,null,null,null,null,null,null,null,null,null,null,null,null,null,null,null,null,null,null,null,null,null,null,null,null,null,null,null,null,null,null,null,null,{"$f":"IF(BC1097&BE1097&BG1097&BI1097=\"\",\"\",(IF(ISERROR(VLOOKUP(BC1097&BE1097&BG1097&BI1097,日本標準産業分類!AT:AU,2,FALSE)),\"該当の細分類がありません\",VLOOKUP(BC1097&BE1097&BG1097&BI1097,日本標準産業分類!AT:AU,2,FALSE))))","v":""},null,null,null,null,null,null,null,false]
[]
[null,"第",null,null,null,null,null,null,null,"種",null,null,null,null,null,"",null,null,null,null,null,null,null,null,null,null,null,null,null,null,null,null,"〒",null,null,null,null,null,null,null,null,null,null,null,null,null,null,null,null,null,null,null,null,null,{"$f":"IF(AU1097&AW1097&AY1097&BA1097=\"\",\"\",(IF(ISERROR(VLOOKUP(AU1097&AW1097&AY1097&BA1097,日本標準産業分類!A:B,2,FALSE)),\"該当の細分類がありません\",VLOOKUP(AU1097&AW1097&AY1097&BA1097,日本標準産業分類!A:B,2,FALSE))))","v":""}]
[null,"（ 指定区分の変更手続きが必要 □ ）"]
[null,null,null,null,null,null,null,null,null,null,null,null,null,null,null,null,null,null,null,null,null,null,null,null,null,null,null,null,null,null,null,null,null,null,null,null,null,null,null,null,null,null,null,null,null,null,null,null,null,null,null,null,null,null,{"$f":"IF(BC1101&BE1101&BG1101&BI1101=\"\",\"\",(IF(ISERROR(VLOOKUP(BC1101&BE1101&BG1101&BI1101,日本標準産業分類!AT:AU,2,FALSE)),\"該当の細分類がありません\",VLOOKUP(BC1101&BE1101&BG1101&BI1101,日本標準産業分類!AT:AU,2,FALSE))))","v":""},null,null,null,null,null,null,null,false]
[]
[null,"第",null,null,null,null,null,null,null,"種",null,null,null,null,null,"",null,null,null,null,null,null,null,null,null,null,null,null,null,null,null,null,"〒",null,null,null,null,null,null,null,null,null,null,null,null,null,null,null,null,null,null,null,null,null,{"$f":"IF(AU1101&AW1101&AY1101&BA1101=\"\",\"\",(IF(ISERROR(VLOOKUP(AU1101&AW1101&AY1101&BA1101,日本標準産業分類!A:B,2,FALSE)),\"該当の細分類がありません\",VLOOKUP(AU1101&AW1101&AY1101&BA1101,日本標準産業分類!A:B,2,FALSE))))","v":""}]
[null,"（ 指定区分の変更手続きが必要 □ ）"]
[null,null,null,null,null,null,null,null,null,null,null,null,null,null,null,null,null,null,null,null,null,null,null,null,null,null,null,null,null,null,null,null,null,null,null,null,null,null,null,null,null,null,null,null,null,null,null,null,null,null,null,null,null,null,{"$f":"IF(BC1105&BE1105&BG1105&BI1105=\"\",\"\",(IF(ISERROR(VLOOKUP(BC1105&BE1105&BG1105&BI1105,日本標準産業分類!AT:AU,2,FALSE)),\"該当の細分類がありません\",VLOOKUP(BC1105&BE1105&BG1105&BI1105,日本標準産業分類!AT:AU,2,FALSE))))","v":""},null,null,null,null,null,null,null,false]
[]
[null,"第",null,null,null,null,null,null,null,"種",null,null,null,null,null,"",null,null,null,null,null,null,null,null,null,null,null,null,null,null,null,null,"〒",null,null,null,null,null,null,null,null,null,null,null,null,null,null,null,null,null,null,null,null,null,{"$f":"IF(AU1105&AW1105&AY1105&BA1105=\"\",\"\",(IF(ISERROR(VLOOKUP(AU1105&AW1105&AY1105&BA1105,日本標準産業分類!A:B,2,FALSE)),\"該当の細分類がありません\",VLOOKUP(AU1105&AW1105&AY1105&BA1105,日本標準産業分類!A:B,2,FALSE))))","v":""}]
[null,"（ 指定区分の変更手続きが必要 □ ）"]
[null,null,null,null,null,null,null,null,null,null,null,null,null,null,null,null,null,null,null,null,null,null,null,null,null,null,null,null,null,null,null,null,null,null,null,null,null,null,null,null,null,null,null,null,null,null,null,null,null,null,null,null,null,null,{"$f":"IF(BC1109&BE1109&BG1109&BI1109=\"\",\"\",(IF(ISERROR(VLOOKUP(BC1109&BE1109&BG1109&BI1109,日本標準産業分類!AT:AU,2,FALSE)),\"該当の細分類がありません\",VLOOKUP(BC1109&BE1109&BG1109&BI1109,日本標準産業分類!AT:AU,2,FALSE))))","v":""},null,null,null,null,null,null,null,false]
[]
[null,"第",null,null,null,null,null,null,null,"種",null,null,null,null,null,"",null,null,null,null,null,null,null,null,null,null,null,null,null,null,null,null,"〒",null,null,null,null,null,null,null,null,null,null,null,null,null,null,null,null,null,null,null,null,null,{"$f":"IF(AU1109&AW1109&AY1109&BA1109=\"\",\"\",(IF(ISERROR(VLOOKUP(AU1109&AW1109&AY1109&BA1109,日本標準産業分類!A:B,2,FALSE)),\"該当の細分類がありません\",VLOOKUP(AU1109&AW1109&AY1109&BA1109,日本標準産業分類!A:B,2,FALSE))))","v":""}]
[null,"（ 指定区分の変更手続きが必要 □ ）"]
[null,null,null,null,null,null,null,null,null,null,null,null,null,null,null,null,null,null,null,null,null,null,null,null,null,null,null,null,null,null,null,null,null,null,null,null,null,null,null,null,null,null,null,null,null,null,null,null,null,null,null,null,null,null,{"$f":"IF(BC1113&BE1113&BG1113&BI1113=\"\",\"\",(IF(ISERROR(VLOOKUP(BC1113&BE1113&BG1113&BI1113,日本標準産業分類!AT:AU,2,FALSE)),\"該当の細分類がありません\",VLOOKUP(BC1113&BE1113&BG1113&BI1113,日本標準産業分類!AT:AU,2,FALSE))))","v":""},null,null,null,null,null,null,null,false]
[]
[null,"第",null,null,null,null,null,null,null,"種",null,null,null,null,null,"",null,null,null,null,null,null,null,null,null,null,null,null,null,null,null,null,"〒",null,null,null,null,null,null,null,null,null,null,null,null,null,null,null,null,null,null,null,null,null,{"$f":"IF(AU1113&AW1113&AY1113&BA1113=\"\",\"\",(IF(ISERROR(VLOOKUP(AU1113&AW1113&AY1113&BA1113,日本標準産業分類!A:B,2,FALSE)),\"該当の細分類がありません\",VLOOKUP(AU1113&AW1113&AY1113&BA1113,日本標準産業分類!A:B,2,FALSE))))","v":""}]
[null,"（ 指定区分の変更手続きが必要 □ ）"]
[null,null,null,null,null,null,null,null,null,null,null,null,null,null,null,null,null,null,null,null,null,null,null,null,null,null,null,null,null,null,null,null,null,null,null,null,null,null,null,null,null,null,null,null,null,null,null,null,null,null,null,null,null,null,{"$f":"IF(BC1117&BE1117&BG1117&BI1117=\"\",\"\",(IF(ISERROR(VLOOKUP(BC1117&BE1117&BG1117&BI1117,日本標準産業分類!AT:AU,2,FALSE)),\"該当の細分類がありません\",VLOOKUP(BC1117&BE1117&BG1117&BI1117,日本標準産業分類!AT:AU,2,FALSE))))","v":""},null,null,null,null,null,null,null,false]
[]
[null,"第",null,null,null,null,null,null,null,"種",null,null,null,null,null,"",null,null,null,null,null,null,null,null,null,null,null,null,null,null,null,null,"〒",null,null,null,null,null,null,null,null,null,null,null,null,null,null,null,null,null,null,null,null,null,{"$f":"IF(AU1117&AW1117&AY1117&BA1117=\"\",\"\",(IF(ISERROR(VLOOKUP(AU1117&AW1117&AY1117&BA1117,日本標準産業分類!A:B,2,FALSE)),\"該当の細分類がありません\",VLOOKUP(AU1117&AW1117&AY1117&BA1117,日本標準産業分類!A:B,2,FALSE))))","v":""}]
[null,"（ 指定区分の変更手続きが必要 □ ）"]
[null,null,null,null,null,null,null,null,null,null,null,null,null,null,null,null,null,null,null,null,null,null,null,null,null,null,null,null,null,null,null,null,null,null,null,null,null,null,null,null,null,null,null,null,null,null,null,null,null,null,null,null,null,null,{"$f":"IF(BC1121&BE1121&BG1121&BI1121=\"\",\"\",(IF(ISERROR(VLOOKUP(BC1121&BE1121&BG1121&BI1121,日本標準産業分類!AT:AU,2,FALSE)),\"該当の細分類がありません\",VLOOKUP(BC1121&BE1121&BG1121&BI1121,日本標準産業分類!AT:AU,2,FALSE))))","v":""},null,null,null,null,null,null,null,false]
[]
[null,"第",null,null,null,null,null,null,null,"種",null,null,null,null,null,"",null,null,null,null,null,null,null,null,null,null,null,null,null,null,null,null,"〒",null,null,null,null,null,null,null,null,null,null,null,null,null,null,null,null,null,null,null,null,null,{"$f":"IF(AU1121&AW1121&AY1121&BA1121=\"\",\"\",(IF(ISERROR(VLOOKUP(AU1121&AW1121&AY1121&BA1121,日本標準産業分類!A:B,2,FALSE)),\"該当の細分類がありません\",VLOOKUP(AU1121&AW1121&AY1121&BA1121,日本標準産業分類!A:B,2,FALSE))))","v":""}]
[null,"（ 指定区分の変更手続きが必要 □ ）"]
[null,null,null,null,null,null,null,null,null,null,null,null,null,null,null,null,null,null,null,null,null,null,null,null,null,null,null,null,null,null,null,null,null,null,null,null,null,null,null,null,null,null,null,null,null,null,null,null,null,null,null,null,null,null,{"$f":"IF(BC1125&BE1125&BG1125&BI1125=\"\",\"\",(IF(ISERROR(VLOOKUP(BC1125&BE1125&BG1125&BI1125,日本標準産業分類!AT:AU,2,FALSE)),\"該当の細分類がありません\",VLOOKUP(BC1125&BE1125&BG1125&BI1125,日本標準産業分類!AT:AU,2,FALSE))))","v":""},null,null,null,null,null,null,null,false]
[]
[null,"第",null,null,null,null,null,null,null,"種",null,null,null,null,null,"",null,null,null,null,null,null,null,null,null,null,null,null,null,null,null,null,"〒",null,null,null,null,null,null,null,null,null,null,null,null,null,null,null,null,null,null,null,null,null,{"$f":"IF(AU1125&AW1125&AY1125&BA1125=\"\",\"\",(IF(ISERROR(VLOOKUP(AU1125&AW1125&AY1125&BA1125,日本標準産業分類!A:B,2,FALSE)),\"該当の細分類がありません\",VLOOKUP(AU1125&AW1125&AY1125&BA1125,日本標準産業分類!A:B,2,FALSE))))","v":""}]
[null,"（ 指定区分の変更手続きが必要 □ ）"]
[null,null,null,null,null,null,null,null,null,null,null,null,null,null,null,null,null,null,null,null,null,null,null,null,null,null,null,null,null,null,null,null,null,null,null,null,null,null,null,null,null,null,null,null,null,null,null,null,null,null,null,null,null,null,{"$f":"IF(BC1129&BE1129&BG1129&BI1129=\"\",\"\",(IF(ISERROR(VLOOKUP(BC1129&BE1129&BG1129&BI1129,日本標準産業分類!AT:AU,2,FALSE)),\"該当の細分類がありません\",VLOOKUP(BC1129&BE1129&BG1129&BI1129,日本標準産業分類!AT:AU,2,FALSE))))","v":""},null,null,null,null,null,null,null,false]
[]
[null,"第",null,null,null,null,null,null,null,"種",null,null,null,null,null,"",null,null,null,null,null,null,null,null,null,null,null,null,null,null,null,null,"〒",null,null,null,null,null,null,null,null,null,null,null,null,null,null,null,null,null,null,null,null,null,{"$f":"IF(AU1129&AW1129&AY1129&BA1129=\"\",\"\",(IF(ISERROR(VLOOKUP(AU1129&AW1129&AY1129&BA1129,日本標準産業分類!A:B,2,FALSE)),\"該当の細分類がありません\",VLOOKUP(AU1129&AW1129&AY1129&BA1129,日本標準産業分類!A:B,2,FALSE))))","v":""}]
[null,"（ 指定区分の変更手続きが必要 □ ）"]
[null,null,null,null,null,null,null,null,null,null,null,null,null,null,null,null,null,null,null,null,null,null,null,null,null,null,null,null,null,null,null,null,null,null,null,null,null,null,null,null,null,null,null,null,null,null,null,null,null,null,null,null,null,null,{"$f":"IF(BC1133&BE1133&BG1133&BI1133=\"\",\"\",(IF(ISERROR(VLOOKUP(BC1133&BE1133&BG1133&BI1133,日本標準産業分類!AT:AU,2,FALSE)),\"該当の細分類がありません\",VLOOKUP(BC1133&BE1133&BG1133&BI1133,日本標準産業分類!AT:AU,2,FALSE))))","v":""},null,null,null,null,null,null,null,false]
[]
[null,"第",null,null,null,null,null,null,null,"種",null,null,null,null,null,"",null,null,null,null,null,null,null,null,null,null,null,null,null,null,null,null,"〒",null,null,null,null,null,null,null,null,null,null,null,null,null,null,null,null,null,null,null,null,null,{"$f":"IF(AU1133&AW1133&AY1133&BA1133=\"\",\"\",(IF(ISERROR(VLOOKUP(AU1133&AW1133&AY1133&BA1133,日本標準産業分類!A:B,2,FALSE)),\"該当の細分類がありません\",VLOOKUP(AU1133&AW1133&AY1133&BA1133,日本標準産業分類!A:B,2,FALSE))))","v":""}]
[null,"（ 指定区分の変更手続きが必要 □ ）"]
[null,null,null,null,null,null,null,null,null,null,null,null,null,null,null,null,null,null,null,null,null,null,null,null,null,null,null,null,null,null,null,null,null,null,null,null,null,null,null,null,null,null,null,null,null,null,null,null,null,null,null,null,null,null,{"$f":"IF(BC1137&BE1137&BG1137&BI1137=\"\",\"\",(IF(ISERROR(VLOOKUP(BC1137&BE1137&BG1137&BI1137,日本標準産業分類!AT:AU,2,FALSE)),\"該当の細分類がありません\",VLOOKUP(BC1137&BE1137&BG1137&BI1137,日本標準産業分類!AT:AU,2,FALSE))))","v":""},null,null,null,null,null,null,null,false]
[]
[null,"第",null,null,null,null,null,null,null,"種",null,null,null,null,null,"",null,null,null,null,null,null,null,null,null,null,null,null,null,null,null,null,"〒",null,null,null,null,null,null,null,null,null,null,null,null,null,null,null,null,null,null,null,null,null,{"$f":"IF(AU1137&AW1137&AY1137&BA1137=\"\",\"\",(IF(ISERROR(VLOOKUP(AU1137&AW1137&AY1137&BA1137,日本標準産業分類!A:B,2,FALSE)),\"該当の細分類がありません\",VLOOKUP(AU1137&AW1137&AY1137&BA1137,日本標準産業分類!A:B,2,FALSE))))","v":""}]
[null,"（ 指定区分の変更手続きが必要 □ ）"]
[null,null,null,null,null,null,null,null,null,null,null,null,null,null,null,null,null,null,null,null,null,null,null,null,null,null,null,null,null,null,null,null,null,null,null,null,null,null,null,null,null,null,null,null,null,null,null,null,null,null,null,null,null,null,{"$f":"IF(BC1141&BE1141&BG1141&BI1141=\"\",\"\",(IF(ISERROR(VLOOKUP(BC1141&BE1141&BG1141&BI1141,日本標準産業分類!AT:AU,2,FALSE)),\"該当の細分類がありません\",VLOOKUP(BC1141&BE1141&BG1141&BI1141,日本標準産業分類!AT:AU,2,FALSE))))","v":""},null,null,null,null,null,null,null,false]
[]
[null,"第",null,null,null,null,null,null,null,"種",null,null,null,null,null,"",null,null,null,null,null,null,null,null,null,null,null,null,null,null,null,null,"〒",null,null,null,null,null,null,null,null,null,null,null,null,null,null,null,null,null,null,null,null,null,{"$f":"IF(AU1141&AW1141&AY1141&BA1141=\"\",\"\",(IF(ISERROR(VLOOKUP(AU1141&AW1141&AY1141&BA1141,日本標準産業分類!A:B,2,FALSE)),\"該当の細分類がありません\",VLOOKUP(AU1141&AW1141&AY1141&BA1141,日本標準産業分類!A:B,2,FALSE))))","v":""}]
[null,"（ 指定区分の変更手続きが必要 □ ）"]
[null,null,null,null,null,null,null,null,null,null,null,null,null,null,null,null,null,null,null,null,null,null,null,null,null,null,null,null,null,null,null,null,null,null,null,null,null,null,null,null,null,null,null,null,null,null,null,null,null,null,null,null,null,null,{"$f":"IF(BC1145&BE1145&BG1145&BI1145=\"\",\"\",(IF(ISERROR(VLOOKUP(BC1145&BE1145&BG1145&BI1145,日本標準産業分類!AT:AU,2,FALSE)),\"該当の細分類がありません\",VLOOKUP(BC1145&BE1145&BG1145&BI1145,日本標準産業分類!AT:AU,2,FALSE))))","v":""},null,null,null,null,null,null,null,false]
[]
[null,"第",null,null,null,null,null,null,null,"種",null,null,null,null,null,"",null,null,null,null,null,null,null,null,null,null,null,null,null,null,null,null,"〒",null,null,null,null,null,null,null,null,null,null,null,null,null,null,null,null,null,null,null,null,null,{"$f":"IF(AU1145&AW1145&AY1145&BA1145=\"\",\"\",(IF(ISERROR(VLOOKUP(AU1145&AW1145&AY1145&BA1145,日本標準産業分類!A:B,2,FALSE)),\"該当の細分類がありません\",VLOOKUP(AU1145&AW1145&AY1145&BA1145,日本標準産業分類!A:B,2,FALSE))))","v":""}]
[null,"（ 指定区分の変更手続きが必要 □ ）"]
[null,null,null,null,null,null,null,null,null,null,null,null,null,null,null,null,null,null,null,null,null,null,null,null,null,null,null,null,null,null,null,null,null,null,null,null,null,null,null,null,null,null,null,null,null,null,null,null,null,null,null,null,null,null,{"$f":"IF(BC1149&BE1149&BG1149&BI1149=\"\",\"\",(IF(ISERROR(VLOOKUP(BC1149&BE1149&BG1149&BI1149,日本標準産業分類!AT:AU,2,FALSE)),\"該当の細分類がありません\",VLOOKUP(BC1149&BE1149&BG1149&BI1149,日本標準産業分類!AT:AU,2,FALSE))))","v":""},null,null,null,null,null,null,null,false]
[]
[null,"第",null,null,null,null,null,null,null,"種",null,null,null,null,null,"",null,null,null,null,null,null,null,null,null,null,null,null,null,null,null,null,"〒",null,null,null,null,null,null,null,null,null,null,null,null,null,null,null,null,null,null,null,null,null,{"$f":"IF(AU1149&AW1149&AY1149&BA1149=\"\",\"\",(IF(ISERROR(VLOOKUP(AU1149&AW1149&AY1149&BA1149,日本標準産業分類!A:B,2,FALSE)),\"該当の細分類がありません\",VLOOKUP(AU1149&AW1149&AY1149&BA1149,日本標準産業分類!A:B,2,FALSE))))","v":""}]
[null,"（ 指定区分の変更手続きが必要 □ ）"]
[null,null,null,null,null,null,null,null,null,null,null,null,null,null,null,null,null,null,null,null,null,null,null,null,null,null,null,null,null,null,null,null,null,null,null,null,null,null,null,null,null,null,null,null,null,null,null,null,null,null,null,null,null,null,{"$f":"IF(BC1153&BE1153&BG1153&BI1153=\"\",\"\",(IF(ISERROR(VLOOKUP(BC1153&BE1153&BG1153&BI1153,日本標準産業分類!AT:AU,2,FALSE)),\"該当の細分類がありません\",VLOOKUP(BC1153&BE1153&BG1153&BI1153,日本標準産業分類!AT:AU,2,FALSE))))","v":""},null,null,null,null,null,null,null,false]
[]
[null,"第",null,null,null,null,null,null,null,"種",null,null,null,null,null,"",null,null,null,null,null,null,null,null,null,null,null,null,null,null,null,null,"〒",null,null,null,null,null,null,null,null,null,null,null,null,null,null,null,null,null,null,null,null,null,{"$f":"IF(AU1153&AW1153&AY1153&BA1153=\"\",\"\",(IF(ISERROR(VLOOKUP(AU1153&AW1153&AY1153&BA1153,日本標準産業分類!A:B,2,FALSE)),\"該当の細分類がありません\",VLOOKUP(AU1153&AW1153&AY1153&BA1153,日本標準産業分類!A:B,2,FALSE))))","v":""}]
[null,"（ 指定区分の変更手続きが必要 □ ）"]
[null,null,null,null,null,null,null,null,null,null,null,null,null,null,null,null,null,null,null,null,null,null,null,null,null,null,null,null,null,null,null,null,null,null,null,null,null,null,null,null,null,null,null,null,null,null,null,null,null,null,null,null,null,null,{"$f":"IF(BC1157&BE1157&BG1157&BI1157=\"\",\"\",(IF(ISERROR(VLOOKUP(BC1157&BE1157&BG1157&BI1157,日本標準産業分類!AT:AU,2,FALSE)),\"該当の細分類がありません\",VLOOKUP(BC1157&BE1157&BG1157&BI1157,日本標準産業分類!AT:AU,2,FALSE))))","v":""},null,null,null,null,null,null,null,false]
[]
[null,"第",null,null,null,null,null,null,null,"種",null,null,null,null,null,"",null,null,null,null,null,null,null,null,null,null,null,null,null,null,null,null,"〒",null,null,null,null,null,null,null,null,null,null,null,null,null,null,null,null,null,null,null,null,null,{"$f":"IF(AU1157&AW1157&AY1157&BA1157=\"\",\"\",(IF(ISERROR(VLOOKUP(AU1157&AW1157&AY1157&BA1157,日本標準産業分類!A:B,2,FALSE)),\"該当の細分類がありません\",VLOOKUP(AU1157&AW1157&AY1157&BA1157,日本標準産業分類!A:B,2,FALSE))))","v":""}]
[null,"（ 指定区分の変更手続きが必要 □ ）"]
[null,null,null,null,null,null,null,null,null,null,null,null,null,null,null,null,null,null,null,null,null,null,null,null,null,null,null,null,null,null,null,null,null,null,null,null,null,null,null,null,null,null,null,null,null,null,null,null,null,null,null,null,null,null,{"$f":"IF(BC1161&BE1161&BG1161&BI1161=\"\",\"\",(IF(ISERROR(VLOOKUP(BC1161&BE1161&BG1161&BI1161,日本標準産業分類!AT:AU,2,FALSE)),\"該当の細分類がありません\",VLOOKUP(BC1161&BE1161&BG1161&BI1161,日本標準産業分類!AT:AU,2,FALSE))))","v":""},null,null,null,null,null,null,null,false]
[]
[null,"第",null,null,null,null,null,null,null,"種",null,null,null,null,null,"",null,null,null,null,null,null,null,null,null,null,null,null,null,null,null,null,"〒",null,null,null,null,null,null,null,null,null,null,null,null,null,null,null,null,null,null,null,null,null,{"$f":"IF(AU1161&AW1161&AY1161&BA1161=\"\",\"\",(IF(ISERROR(VLOOKUP(AU1161&AW1161&AY1161&BA1161,日本標準産業分類!A:B,2,FALSE)),\"該当の細分類がありません\",VLOOKUP(AU1161&AW1161&AY1161&BA1161,日本標準産業分類!A:B,2,FALSE))))","v":""}]
[null,"（ 指定区分の変更手続きが必要 □ ）"]
[null,null,null,null,null,null,null,null,null,null,null,null,null,null,null,null,null,null,null,null,null,null,null,null,null,null,null,null,null,null,null,null,null,null,null,null,null,null,null,null,null,null,null,null,null,null,null,null,null,null,null,null,null,null,{"$f":"IF(BC1165&BE1165&BG1165&BI1165=\"\",\"\",(IF(ISERROR(VLOOKUP(BC1165&BE1165&BG1165&BI1165,日本標準産業分類!AT:AU,2,FALSE)),\"該当の細分類がありません\",VLOOKUP(BC1165&BE1165&BG1165&BI1165,日本標準産業分類!AT:AU,2,FALSE))))","v":""},null,null,null,null,null,null,null,false]
[]
[]
[]
[null,"特定‐第１１表　現在エネルギー管理指定工場等の指定を受けていない工場等であって、エネルギーの使用量が令第６条に定める数値\n　　　　　　　以上の工場等の一覧"]
[]
[null,"工場等の名称",null,null,null,null,null,null,null,null,null,"工場等の所在地",null,null,null,null,null,null,null,null,null,null,null,null,null,null,null,null,null,null,"日本標準産業分類に\nおける細分類番号",null,null,null,null,null,null,null,"工場等に係る事業の名称",null,null,null,null,null,null,null,null,null,null,null,null,null,"エネルギーの使用量\n（原油換算ｋｌ）"]
[]
[]
[null,null,null,null,null,null,null,null,null,null,null,"〒",null,null,null,null,null,null,null,null,null,null,null,null,null,null,null,null,null,null,null,null,null,null,null,null,null,null,{"$f":"IF(AE1172&AG1172&AI1172&AK1172=\"\",\"\",(IF(ISERROR(VLOOKUP(AE1172&AG1172&AI1172&AK1172,日本標準産業分類!A:B,2,FALSE)),\"該当の細分類がありません\",VLOOKUP(AE1172&AG1172&AI1172&AK1172,日本標準産業分類!A:B,2,FALSE))))","v":""}]
[]
[]
[null,null,null,null,null,null,null,null,null,null,null,"〒",null,null,null,null,null,null,null,null,null,null,null,null,null,null,null,null,null,null,null,null,null,null,null,null,null,null,{"$f":"IF(AE1175&AG1175&AI1175&AK1175=\"\",\"\",(IF(ISERROR(VLOOKUP(AE1175&AG1175&AI1175&AK1175,日本標準産業分類!A:B,2,FALSE)),\"該当の細分類がありません\",VLOOKUP(AE1175&AG1175&AI1175&AK1175,日本標準産業分類!A:B,2,FALSE))))","v":""}]
[]
[]
[null,null,null,null,null,null,null,null,null,null,null,"〒",null,null,null,null,null,null,null,null,null,null,null,null,null,null,null,null,null,null,null,null,null,null,null,null,null,null,{"$f":"IF(AE1178&AG1178&AI1178&AK1178=\"\",\"\",(IF(ISERROR(VLOOKUP(AE1178&AG1178&AI1178&AK1178,日本標準産業分類!A:B,2,FALSE)),\"該当の細分類がありません\",VLOOKUP(AE1178&AG1178&AI1178&AK1178,日本標準産業分類!A:B,2,FALSE))))","v":""}]
[]
[]
[null,null,null,null,null,null,null,null,null,null,null,"〒",null,null,null,null,null,null,null,null,null,null,null,null,null,null,null,null,null,null,null,null,null,null,null,null,null,null,{"$f":"IF(AE1181&AG1181&AI1181&AK1181=\"\",\"\",(IF(ISERROR(VLOOKUP(AE1181&AG1181&AI1181&AK1181,日本標準産業分類!A:B,2,FALSE)),\"該当の細分類がありません\",VLOOKUP(AE1181&AG1181&AI1181&AK1181,日本標準産業分類!A:B,2,FALSE))))","v":""}]
[]
[]
[null,null,null,null,null,null,null,null,null,null,null,"〒",null,null,null,null,null,null,null,null,null,null,null,null,null,null,null,null,null,null,null,null,null,null,null,null,null,null,{"$f":"IF(AE1184&AG1184&AI1184&AK1184=\"\",\"\",(IF(ISERROR(VLOOKUP(AE1184&AG1184&AI1184&AK1184,日本標準産業分類!A:B,2,FALSE)),\"該当の細分類がありません\",VLOOKUP(AE1184&AG1184&AI1184&AK1184,日本標準産業分類!A:B,2,FALSE))))","v":""}]
[]
[]
[null,null,null,null,null,null,null,null,null,null,null,"〒",null,null,null,null,null,null,null,null,null,null,null,null,null,null,null,null,null,null,null,null,null,null,null,null,null,null,{"$f":"IF(AE1187&AG1187&AI1187&AK1187=\"\",\"\",(IF(ISERROR(VLOOKUP(AE1187&AG1187&AI1187&AK1187,日本標準産業分類!A:B,2,FALSE)),\"該当の細分類がありません\",VLOOKUP(AE1187&AG1187&AI1187&AK1187,日本標準産業分類!A:B,2,FALSE))))","v":""}]
[]
[]
[null,null,null,null,null,null,null,null,null,null,null,"〒",null,null,null,null,null,null,null,null,null,null,null,null,null,null,null,null,null,null,null,null,null,null,null,null,null,null,{"$f":"IF(AE1190&AG1190&AI1190&AK1190=\"\",\"\",(IF(ISERROR(VLOOKUP(AE1190&AG1190&AI1190&AK1190,日本標準産業分類!A:B,2,FALSE)),\"該当の細分類がありません\",VLOOKUP(AE1190&AG1190&AI1190&AK1190,日本標準産業分類!A:B,2,FALSE))))","v":""}]
[]
[]
[null,null,null,null,null,null,null,null,null,null,null,"〒",null,null,null,null,null,null,null,null,null,null,null,null,null,null,null,null,null,null,null,null,null,null,null,null,null,null,{"$f":"IF(AE1193&AG1193&AI1193&AK1193=\"\",\"\",(IF(ISERROR(VLOOKUP(AE1193&AG1193&AI1193&AK1193,日本標準産業分類!A:B,2,FALSE)),\"該当の細分類がありません\",VLOOKUP(AE1193&AG1193&AI1193&AK1193,日本標準産業分類!A:B,2,FALSE))))","v":""}]
[]
[]
[null,null,null,null,null,null,null,null,null,null,null,"〒",null,null,null,null,null,null,null,null,null,null,null,null,null,null,null,null,null,null,null,null,null,null,null,null,null,null,{"$f":"IF(AE1196&AG1196&AI1196&AK1196=\"\",\"\",(IF(ISERROR(VLOOKUP(AE1196&AG1196&AI1196&AK1196,日本標準産業分類!A:B,2,FALSE)),\"該当の細分類がありません\",VLOOKUP(AE1196&AG1196&AI1196&AK1196,日本標準産業分類!A:B,2,FALSE))))","v":""}]
[]
[]
[null,null,null,null,null,null,null,null,null,null,null,"〒",null,null,null,null,null,null,null,null,null,null,null,null,null,null,null,null,null,null,null,null,null,null,null,null,null,null,{"$f":"IF(AE1199&AG1199&AI1199&AK1199=\"\",\"\",(IF(ISERROR(VLOOKUP(AE1199&AG1199&AI1199&AK1199,日本標準産業分類!A:B,2,FALSE)),\"該当の細分類がありません\",VLOOKUP(AE1199&AG1199&AI1199&AK1199,日本標準産業分類!A:B,2,FALSE))))","v":""}]
[]
[]
[null,null,null,null,null,null,null,null,null,null,null,"〒",null,null,null,null,null,null,null,null,null,null,null,null,null,null,null,null,null,null,null,null,null,null,null,null,null,null,{"$f":"IF(AE1202&AG1202&AI1202&AK1202=\"\",\"\",(IF(ISERROR(VLOOKUP(AE1202&AG1202&AI1202&AK1202,日本標準産業分類!A:B,2,FALSE)),\"該当の細分類がありません\",VLOOKUP(AE1202&AG1202&AI1202&AK1202,日本標準産業分類!A:B,2,FALSE))))","v":""}]
[]
[]
[null,null,null,null,null,null,null,null,null,null,null,"〒",null,null,null,null,null,null,null,null,null,null,null,null,null,null,null,null,null,null,null,null,null,null,null,null,null,null,{"$f":"IF(AE1205&AG1205&AI1205&AK1205=\"\",\"\",(IF(ISERROR(VLOOKUP(AE1205&AG1205&AI1205&AK1205,日本標準産業分類!A:B,2,FALSE)),\"該当の細分類がありません\",VLOOKUP(AE1205&AG1205&AI1205&AK1205,日本標準産業分類!A:B,2,FALSE))))","v":""}]
[]
[]
[null,null,null,null,null,null,null,null,null,null,null,"〒",null,null,null,null,null,null,null,null,null,null,null,null,null,null,null,null,null,null,null,null,null,null,null,null,null,null,{"$f":"IF(AE1208&AG1208&AI1208&AK1208=\"\",\"\",(IF(ISERROR(VLOOKUP(AE1208&AG1208&AI1208&AK1208,日本標準産業分類!A:B,2,FALSE)),\"該当の細分類がありません\",VLOOKUP(AE1208&AG1208&AI1208&AK1208,日本標準産業分類!A:B,2,FALSE))))","v":""}]
[]
[]
[null,null,null,null,null,null,null,null,null,null,null,"〒",null,null,null,null,null,null,null,null,null,null,null,null,null,null,null,null,null,null,null,null,null,null,null,null,null,null,{"$f":"IF(AE1211&AG1211&AI1211&AK1211=\"\",\"\",(IF(ISERROR(VLOOKUP(AE1211&AG1211&AI1211&AK1211,日本標準産業分類!A:B,2,FALSE)),\"該当の細分類がありません\",VLOOKUP(AE1211&AG1211&AI1211&AK1211,日本標準産業分類!A:B,2,FALSE))))","v":""}]
[]
[]
[null,null,null,null,null,null,null,null,null,null,null,"〒",null,null,null,null,null,null,null,null,null,null,null,null,null,null,null,null,null,null,null,null,null,null,null,null,null,null,{"$f":"IF(AE1214&AG1214&AI1214&AK1214=\"\",\"\",(IF(ISERROR(VLOOKUP(AE1214&AG1214&AI1214&AK1214,日本標準産業分類!A:B,2,FALSE)),\"該当の細分類がありません\",VLOOKUP(AE1214&AG1214&AI1214&AK1214,日本標準産業分類!A:B,2,FALSE))))","v":""}]
[]
[]
[null,null,null,null,null,null,null,null,null,null,null,"〒",null,null,null,null,null,null,null,null,null,null,null,null,null,null,null,null,null,null,null,null,null,null,null,null,null,null,{"$f":"IF(AE1217&AG1217&AI1217&AK1217=\"\",\"\",(IF(ISERROR(VLOOKUP(AE1217&AG1217&AI1217&AK1217,日本標準産業分類!A:B,2,FALSE)),\"該当の細分類がありません\",VLOOKUP(AE1217&AG1217&AI1217&AK1217,日本標準産業分類!A:B,2,FALSE))))","v":""}]
[]
[]
[null,null,null,null,null,null,null,null,null,null,null,"〒",null,null,null,null,null,null,null,null,null,null,null,null,null,null,null,null,null,null,null,null,null,null,null,null,null,null,{"$f":"IF(AE1220&AG1220&AI1220&AK1220=\"\",\"\",(IF(ISERROR(VLOOKUP(AE1220&AG1220&AI1220&AK1220,日本標準産業分類!A:B,2,FALSE)),\"該当の細分類がありません\",VLOOKUP(AE1220&AG1220&AI1220&AK1220,日本標準産業分類!A:B,2,FALSE))))","v":""}]
[]
[]
[null,null,null,null,null,null,null,null,null,null,null,"〒",null,null,null,null,null,null,null,null,null,null,null,null,null,null,null,null,null,null,null,null,null,null,null,null,null,null,{"$f":"IF(AE1223&AG1223&AI1223&AK1223=\"\",\"\",(IF(ISERROR(VLOOKUP(AE1223&AG1223&AI1223&AK1223,日本標準産業分類!A:B,2,FALSE)),\"該当の細分類がありません\",VLOOKUP(AE1223&AG1223&AI1223&AK1223,日本標準産業分類!A:B,2,FALSE))))","v":""}]
[]
[]
[null,null,null,null,null,null,null,null,null,null,null,"〒",null,null,null,null,null,null,null,null,null,null,null,null,null,null,null,null,null,null,null,null,null,null,null,null,null,null,{"$f":"IF(AE1226&AG1226&AI1226&AK1226=\"\",\"\",(IF(ISERROR(VLOOKUP(AE1226&AG1226&AI1226&AK1226,日本標準産業分類!A:B,2,FALSE)),\"該当の細分類がありません\",VLOOKUP(AE1226&AG1226&AI1226&AK1226,日本標準産業分類!A:B,2,FALSE))))","v":""}]
[]
[]
[null,null,null,null,null,null,null,null,null,null,null,"〒",null,null,null,null,null,null,null,null,null,null,null,null,null,null,null,null,null,null,null,null,null,null,null,null,null,null,{"$f":"IF(AE1229&AG1229&AI1229&AK1229=\"\",\"\",(IF(ISERROR(VLOOKUP(AE1229&AG1229&AI1229&AK1229,日本標準産業分類!A:B,2,FALSE)),\"該当の細分類がありません\",VLOOKUP(AE1229&AG1229&AI1229&AK1229,日本標準産業分類!A:B,2,FALSE))))","v":""}]
[]
[]
[null,null,null,null,null,null,null,null,null,null,null,"〒",null,null,null,null,null,null,null,null,null,null,null,null,null,null,null,null,null,null,null,null,null,null,null,null,null,null,{"$f":"IF(AE1232&AG1232&AI1232&AK1232=\"\",\"\",(IF(ISERROR(VLOOKUP(AE1232&AG1232&AI1232&AK1232,日本標準産業分類!A:B,2,FALSE)),\"該当の細分類がありません\",VLOOKUP(AE1232&AG1232&AI1232&AK1232,日本標準産業分類!A:B,2,FALSE))))","v":""}]
[]
[]
[null,null,null,null,null,null,null,null,null,null,null,"〒",null,null,null,null,null,null,null,null,null,null,null,null,null,null,null,null,null,null,null,null,null,null,null,null,null,null,{"$f":"IF(AE1235&AG1235&AI1235&AK1235=\"\",\"\",(IF(ISERROR(VLOOKUP(AE1235&AG1235&AI1235&AK1235,日本標準産業分類!A:B,2,FALSE)),\"該当の細分類がありません\",VLOOKUP(AE1235&AG1235&AI1235&AK1235,日本標準産業分類!A:B,2,FALSE))))","v":""}]
[]
[]
[null,null,null,null,null,null,null,null,null,null,null,"〒",null,null,null,null,null,null,null,null,null,null,null,null,null,null,null,null,null,null,null,null,null,null,null,null,null,null,{"$f":"IF(AE1238&AG1238&AI1238&AK1238=\"\",\"\",(IF(ISERROR(VLOOKUP(AE1238&AG1238&AI1238&AK1238,日本標準産業分類!A:B,2,FALSE)),\"該当の細分類がありません\",VLOOKUP(AE1238&AG1238&AI1238&AK1238,日本標準産業分類!A:B,2,FALSE))))","v":""}]
[]
[]
[null,null,null,null,null,null,null,null,null,null,null,"〒",null,null,null,null,null,null,null,null,null,null,null,null,null,null,null,null,null,null,null,null,null,null,null,null,null,null,{"$f":"IF(AE1241&AG1241&AI1241&AK1241=\"\",\"\",(IF(ISERROR(VLOOKUP(AE1241&AG1241&AI1241&AK1241,日本標準産業分類!A:B,2,FALSE)),\"該当の細分類がありません\",VLOOKUP(AE1241&AG1241&AI1241&AK1241,日本標準産業分類!A:B,2,FALSE))))","v":""}]
[]
[]
[null,null,null,null,null,null,null,null,null,null,null,"〒",null,null,null,null,null,null,null,null,null,null,null,null,null,null,null,null,null,null,null,null,null,null,null,null,null,null,{"$f":"IF(AE1244&AG1244&AI1244&AK1244=\"\",\"\",(IF(ISERROR(VLOOKUP(AE1244&AG1244&AI1244&AK1244,日本標準産業分類!A:B,2,FALSE)),\"該当の細分類がありません\",VLOOKUP(AE1244&AG1244&AI1244&AK1244,日本標準産業分類!A:B,2,FALSE))))","v":""}]
[]
[]
[null,null,null,null,null,null,null,null,null,null,null,"〒",null,null,null,null,null,null,null,null,null,null,null,null,null,null,null,null,null,null,null,null,null,null,null,null,null,null,{"$f":"IF(AE1247&AG1247&AI1247&AK1247=\"\",\"\",(IF(ISERROR(VLOOKUP(AE1247&AG1247&AI1247&AK1247,日本標準産業分類!A:B,2,FALSE)),\"該当の細分類がありません\",VLOOKUP(AE1247&AG1247&AI1247&AK1247,日本標準産業分類!A:B,2,FALSE))))","v":""}]
[]
[]
[null,null,null,null,null,null,null,null,null,null,null,"〒",null,null,null,null,null,null,null,null,null,null,null,null,null,null,null,null,null,null,null,null,null,null,null,null,null,null,{"$f":"IF(AE1250&AG1250&AI1250&AK1250=\"\",\"\",(IF(ISERROR(VLOOKUP(AE1250&AG1250&AI1250&AK1250,日本標準産業分類!A:B,2,FALSE)),\"該当の細分類がありません\",VLOOKUP(AE1250&AG1250&AI1250&AK1250,日本標準産業分類!A:B,2,FALSE))))","v":""}]
[]
[]
[null,null,null,null,null,null,null,null,null,null,null,"〒",null,null,null,null,null,null,null,null,null,null,null,null,null,null,null,null,null,null,null,null,null,null,null,null,null,null,{"$f":"IF(AE1253&AG1253&AI1253&AK1253=\"\",\"\",(IF(ISERROR(VLOOKUP(AE1253&AG1253&AI1253&AK1253,日本標準産業分類!A:B,2,FALSE)),\"該当の細分類がありません\",VLOOKUP(AE1253&AG1253&AI1253&AK1253,日本標準産業分類!A:B,2,FALSE))))","v":""}]
[]
[]
[null,null,null,null,null,null,null,null,null,null,null,"〒",null,null,null,null,null,null,null,null,null,null,null,null,null,null,null,null,null,null,null,null,null,null,null,null,null,null,{"$f":"IF(AE1256&AG1256&AI1256&AK1256=\"\",\"\",(IF(ISERROR(VLOOKUP(AE1256&AG1256&AI1256&AK1256,日本標準産業分類!A:B,2,FALSE)),\"該当の細分類がありません\",VLOOKUP(AE1256&AG1256&AI1256&AK1256,日本標準産業分類!A:B,2,FALSE))))","v":""}]
[]
[]
[null,null,null,null,null,null,null,null,null,null,null,"〒",null,null,null,null,null,null,null,null,null,null,null,null,null,null,null,null,null,null,null,null,null,null,null,null,null,null,{"$f":"IF(AE1259&AG1259&AI1259&AK1259=\"\",\"\",(IF(ISERROR(VLOOKUP(AE1259&AG1259&AI1259&AK1259,日本標準産業分類!A:B,2,FALSE)),\"該当の細分類がありません\",VLOOKUP(AE1259&AG1259&AI1259&AK1259,日本標準産業分類!A:B,2,FALSE))))","v":""}]
[]
[]
[]
[]
[null,"特定－第１２表　事業者の全体及び事業分類ごとのエネルギーの使用に伴って発生する二酸化炭素の温室効果ガス算定排出量等"]
[null,null,null,null,null,null,null,null,null,null,null,null,null,null,null,null,null,null,null,null,null,null,null,null,null,null,null,null,null,null,null,null,null,null,null,null,null,null,null,null,null,null,null,null,null,null,null,"排出年度：平成",null,null,null,null,null,null,null,{"$f":"'特定-第１・２表'!AL148","v":27},null,"年度"]
[null,"１　エネルギーの使用に伴って発生する二酸化炭素の温室効果ガス算定排出量"]
[null,"番号",null,"事 業 分 類",null,null,null,null,null,null,null,null,null,null,null,null,null,null,null,null,null,null,null,null,null,null,null,null,null,null,null,"エネルギーの使用に伴って\n発生する二酸化炭素"]
[null,"特定事業者\n全体",null,null,null,null,null,null,null,null,null,"主たる事業",null,null,null,null,null,null,null,"ジュエリー製品小売",null,null,null,null,null,null,null,null,null,null,null,4260,null,null,null,null,null,null,null,null,null,null,null,null,null,null,null,null,null,null,null,null,null,null,null,null,null,null,"t-CO2"]
[null,null,null,null,null,null,null,null,null,null,null,"細分類番号",null,null,null,null,null,null,null,6,null,null,0,null,null,9,null,null,5]
[null,null,null,null,null,null,null,null,null,null,null,"当該事業を\n所管する大臣"]
[null,null,null,null,null,null,null,null,null,null,null,null,null,null,null,null,null,null,null,"経済産業大臣"]
[]
[null,null,null,null,null,null,null,null,null,null,null,"商標又は\n商号等",null,null,null,null,null,null,null,"As-meエステール株式会社"]
[null,1,null,"工場等に係る事業の名称",null,null,null,null,null,null,null,null,null,null,null,null,null,null,null,"ジュエリー製品小売",null,null,null,null,null,null,null,null,null,null,null,3998,null,null,null,null,null,null,null,null,null,null,null,null,null,null,null,null,null,null,null,null,null,null,null,null,null,null,"t-CO2"]
[null,null,null,"細分類番号",null,null,null,null,null,null,null,null,null,null,null,null,null,null,null,6,null,null,0,null,null,9,null,null,5]
[null,null,null,"当該事業を所管する大臣"]
[null,null,null,null,null,null,null,null,null,null,null,null,null,null,null,null,null,null,null,"経済産業大臣"]
[]
[null,2,null,"工場等に係る事業の名称",null,null,null,null,null,null,null,null,null,null,null,null,null,null,null,"主として管理事務を行う本社等",null,null,null,null,null,null,null,null,null,null,null,262,null,null,null,null,null,null,null,null,null,null,null,null,null,null,null,null,null,null,null,null,null,null,null,null,null,null,"t-CO2"]
[null,null,null,"細分類番号",null,null,null,null,null,null,null,null,null,null,null,null,null,null,null,6,null,null,0,null,null,0,null,null,0]
[null,null,null,"当該事業を所管する大臣"]
[]
[]
[null,3,null,"工場等に係る事業の名称",null,null,null,null,null,null,null,null,null,null,null,null,null,null,null,{"$f":"IF(T1285&W1285&Z1285&AC1285=\"\",\"\",(IF(ISERROR(VLOOKUP(T1285&W1285&Z1285&AC1285,日本標準産業分類!A:B,2,FALSE)),\"該当の細分類がありません\",VLOOKUP(T1285&W1285&Z1285&AC1285,日本標準産業分類!A:B,2,FALSE))))","v":""},null,null,null,null,null,null,null,null,null,null,null,null,null,null,null,null,null,null,null,null,null,null,null,null,null,null,null,null,null,null,null,null,null,null,null,null,null,null,"t-CO2"]
[null,null,null,"細分類番号"]
[null,null,null,"当該事業を所管する大臣"]
[]
[]
[null,4,null,"工場等に係る事業の名称",null,null,null,null,null,null,null,null,null,null,null,null,null,null,null,{"$f":"IF(T1290&W1290&Z1290&AC1290=\"\",\"\",(IF(ISERROR(VLOOKUP(T1290&W1290&Z1290&AC1290,日本標準産業分類!A:B,2,FALSE)),\"該当の細分類がありません\",VLOOKUP(T1290&W1290&Z1290&AC1290,日本標準産業分類!A:B,2,FALSE))))","v":""},null,null,null,null,null,null,null,null,null,null,null,null,null,null,null,null,null,null,null,null,null,null,null,null,null,null,null,null,null,null,null,null,null,null,null,null,null,null,"t-CO2"]
[null,null,null,"細分類番号"]
[null,null,null,"当該事業を所管する大臣"]
[]
[]
[null,5,null,"工場等に係る事業の名称",null,null,null,null,null,null,null,null,null,null,null,null,null,null,null,{"$f":"IF(T1295&W1295&Z1295&AC1295=\"\",\"\",(IF(ISERROR(VLOOKUP(T1295&W1295&Z1295&AC1295,日本標準産業分類!A:B,2,FALSE)),\"該当の細分類がありません\",VLOOKUP(T1295&W1295&Z1295&AC1295,日本標準産業分類!A:B,2,FALSE))))","v":""},null,null,null,null,null,null,null,null,null,null,null,null,null,null,null,null,null,null,null,null,null,null,null,null,null,null,null,null,null,null,null,null,null,null,null,null,null,null,"t-CO2"]
[null,null,null,"細分類番号"]
[null,null,null,"当該事業を所管する大臣"]
[]
[]
[null,6,null,"工場等に係る事業の名称",null,null,null,null,null,null,null,null,null,null,null,null,null,null,null,{"$f":"IF(T1300&W1300&Z1300&AC1300=\"\",\"\",(IF(ISERROR(VLOOKUP(T1300&W1300&Z1300&AC1300,日本標準産業分類!A:B,2,FALSE)),\"該当の細分類がありません\",VLOOKUP(T1300&W1300&Z1300&AC1300,日本標準産業分類!A:B,2,FALSE))))","v":""},null,null,null,null,null,null,null,null,null,null,null,null,null,null,null,null,null,null,null,null,null,null,null,null,null,null,null,null,null,null,null,null,null,null,null,null,null,null,"t-CO2"]
[null,null,null,"細分類番号"]
[null,null,null,"当該事業を所管する大臣"]
[]
[]
[null,7,null,"工場等に係る事業の名称",null,null,null,null,null,null,null,null,null,null,null,null,null,null,null,{"$f":"IF(T1305&W1305&Z1305&AC1305=\"\",\"\",(IF(ISERROR(VLOOKUP(T1305&W1305&Z1305&AC1305,日本標準産業分類!A:B,2,FALSE)),\"該当の細分類がありません\",VLOOKUP(T1305&W1305&Z1305&AC1305,日本標準産業分類!A:B,2,FALSE))))","v":""},null,null,null,null,null,null,null,null,null,null,null,null,null,null,null,null,null,null,null,null,null,null,null,null,null,null,null,null,null,null,null,null,null,null,null,null,null,null,"t-CO2"]
[null,null,null,"細分類番号"]
[null,null,null,"当該事業を所管する大臣"]
[]
[]
[null,8,null,"工場等に係る事業の名称",null,null,null,null,null,null,null,null,null,null,null,null,null,null,null,{"$f":"IF(T1310&W1310&Z1310&AC1310=\"\",\"\",(IF(ISERROR(VLOOKUP(T1310&W1310&Z1310&AC1310,日本標準産業分類!A:B,2,FALSE)),\"該当の細分類がありません\",VLOOKUP(T1310&W1310&Z1310&AC1310,日本標準産業分類!A:B,2,FALSE))))","v":""},null,null,null,null,null,null,null,null,null,null,null,null,null,null,null,null,null,null,null,null,null,null,null,null,null,null,null,null,null,null,null,null,null,null,null,null,null,null,"t-CO2"]
[null,null,null,"細分類番号"]
[null,null,null,"当該事業を所管する大臣"]
[]
[]
[null,9,null,"工場等に係る事業の名称",null,null,null,null,null,null,null,null,null,null,null,null,null,null,null,{"$f":"IF(T1315&W1315&Z1315&AC1315=\"\",\"\",(IF(ISERROR(VLOOKUP(T1315&W1315&Z1315&AC1315,日本標準産業分類!A:B,2,FALSE)),\"該当の細分類がありません\",VLOOKUP(T1315&W1315&Z1315&AC1315,日本標準産業分類!A:B,2,FALSE))))","v":""},null,null,null,null,null,null,null,null,null,null,null,null,null,null,null,null,null,null,null,null,null,null,null,null,null,null,null,null,null,null,null,null,null,null,null,null,null,null,"t-CO2"]
[null,null,null,"細分類番号"]
[null,null,null,"当該事業を所管する大臣"]
[]
[]
[null,10,null,"工場等に係る事業の名称",null,null,null,null,null,null,null,null,null,null,null,null,null,null,null,{"$f":"IF(T1320&W1320&Z1320&AC1320=\"\",\"\",(IF(ISERROR(VLOOKUP(T1320&W1320&Z1320&AC1320,日本標準産業分類!A:B,2,FALSE)),\"該当の細分類がありません\",VLOOKUP(T1320&W1320&Z1320&AC1320,日本標準産業分類!A:B,2,FALSE))))","v":""},null,null,null,null,null,null,null,null,null,null,null,null,null,null,null,null,null,null,null,null,null,null,null,null,null,null,null,null,null,null,null,null,null,null,null,null,null,null,"t-CO2"]
[null,null,null,"細分類番号"]
[null,null,null,"当該事業を所管する大臣"]
[]
[]
[null,11,null,"工場等に係る事業の名称",null,null,null,null,null,null,null,null,null,null,null,null,null,null,null,{"$f":"IF(T1325&W1325&Z1325&AC1325=\"\",\"\",(IF(ISERROR(VLOOKUP(T1325&W1325&Z1325&AC1325,日本標準産業分類!A:B,2,FALSE)),\"該当の細分類がありません\",VLOOKUP(T1325&W1325&Z1325&AC1325,日本標準産業分類!A:B,2,FALSE))))","v":""},null,null,null,null,null,null,null,null,null,null,null,null,null,null,null,null,null,null,null,null,null,null,null,null,null,null,null,null,null,null,null,null,null,null,null,null,null,null,"t-CO2"]
[null,null,null,"細分類番号"]
[null,null,null,"当該事業を所管する大臣"]
[]
[]
[null,12,null,"工場等に係る事業の名称",null,null,null,null,null,null,null,null,null,null,null,null,null,null,null,{"$f":"IF(T1330&W1330&Z1330&AC1330=\"\",\"\",(IF(ISERROR(VLOOKUP(T1330&W1330&Z1330&AC1330,日本標準産業分類!A:B,2,FALSE)),\"該当の細分類がありません\",VLOOKUP(T1330&W1330&Z1330&AC1330,日本標準産業分類!A:B,2,FALSE))))","v":""},null,null,null,null,null,null,null,null,null,null,null,null,null,null,null,null,null,null,null,null,null,null,null,null,null,null,null,null,null,null,null,null,null,null,null,null,null,null,"t-CO2"]
[null,null,null,"細分類番号"]
[null,null,null,"当該事業を所管する大臣"]
[]
[]
[null,13,null,"工場等に係る事業の名称",null,null,null,null,null,null,null,null,null,null,null,null,null,null,null,{"$f":"IF(T1335&W1335&Z1335&AC1335=\"\",\"\",(IF(ISERROR(VLOOKUP(T1335&W1335&Z1335&AC1335,日本標準産業分類!A:B,2,FALSE)),\"該当の細分類がありません\",VLOOKUP(T1335&W1335&Z1335&AC1335,日本標準産業分類!A:B,2,FALSE))))","v":""},null,null,null,null,null,null,null,null,null,null,null,null,null,null,null,null,null,null,null,null,null,null,null,null,null,null,null,null,null,null,null,null,null,null,null,null,null,null,"t-CO2"]
[null,null,null,"細分類番号"]
[null,null,null,"当該事業を所管する大臣"]
[]
[]
[null,14,null,"工場等に係る事業の名称",null,null,null,null,null,null,null,null,null,null,null,null,null,null,null,{"$f":"IF(T1340&W1340&Z1340&AC1340=\"\",\"\",(IF(ISERROR(VLOOKUP(T1340&W1340&Z1340&AC1340,日本標準産業分類!A:B,2,FALSE)),\"該当の細分類がありません\",VLOOKUP(T1340&W1340&Z1340&AC1340,日本標準産業分類!A:B,2,FALSE))))","v":""},null,null,null,null,null,null,null,null,null,null,null,null,null,null,null,null,null,null,null,null,null,null,null,null,null,null,null,null,null,null,null,null,null,null,null,null,null,null,"t-CO2"]
[null,null,null,"細分類番号"]
[null,null,null,"当該事業を所管する大臣"]
[]
[]
[null,15,null,"工場等に係る事業の名称",null,null,null,null,null,null,null,null,null,null,null,null,null,null,null,{"$f":"IF(T1345&W1345&Z1345&AC1345=\"\",\"\",(IF(ISERROR(VLOOKUP(T1345&W1345&Z1345&AC1345,日本標準産業分類!A:B,2,FALSE)),\"該当の細分類がありません\",VLOOKUP(T1345&W1345&Z1345&AC1345,日本標準産業分類!A:B,2,FALSE))))","v":""},null,null,null,null,null,null,null,null,null,null,null,null,null,null,null,null,null,null,null,null,null,null,null,null,null,null,null,null,null,null,null,null,null,null,null,null,null,null,"t-CO2"]
[null,null,null,"細分類番号"]
[null,null,null,"当該事業を所管する大臣"]
[]
[]
[null,16,null,"工場等に係る事業の名称",null,null,null,null,null,null,null,null,null,null,null,null,null,null,null,{"$f":"IF(T1350&W1350&Z1350&AC1350=\"\",\"\",(IF(ISERROR(VLOOKUP(T1350&W1350&Z1350&AC1350,日本標準産業分類!A:B,2,FALSE)),\"該当の細分類がありません\",VLOOKUP(T1350&W1350&Z1350&AC1350,日本標準産業分類!A:B,2,FALSE))))","v":""},null,null,null,null,null,null,null,null,null,null,null,null,null,null,null,null,null,null,null,null,null,null,null,null,null,null,null,null,null,null,null,null,null,null,null,null,null,null,"t-CO2"]
[null,null,null,"細分類番号"]
[null,null,null,"当該事業を所管する大臣"]
[]
[]
[null,17,null,"工場等に係る事業の名称",null,null,null,null,null,null,null,null,null,null,null,null,null,null,null,{"$f":"IF(T1355&W1355&Z1355&AC1355=\"\",\"\",(IF(ISERROR(VLOOKUP(T1355&W1355&Z1355&AC1355,日本標準産業分類!A:B,2,FALSE)),\"該当の細分類がありません\",VLOOKUP(T1355&W1355&Z1355&AC1355,日本標準産業分類!A:B,2,FALSE))))","v":""},null,null,null,null,null,null,null,null,null,null,null,null,null,null,null,null,null,null,null,null,null,null,null,null,null,null,null,null,null,null,null,null,null,null,null,null,null,null,"t-CO2"]
[null,null,null,"細分類番号"]
[null,null,null,"当該事業を所管する大臣"]
[]
[]
[null,18,null,"工場等に係る事業の名称",null,null,null,null,null,null,null,null,null,null,null,null,null,null,null,{"$f":"IF(T1360&W1360&Z1360&AC1360=\"\",\"\",(IF(ISERROR(VLOOKUP(T1360&W1360&Z1360&AC1360,日本標準産業分類!A:B,2,FALSE)),\"該当の細分類がありません\",VLOOKUP(T1360&W1360&Z1360&AC1360,日本標準産業分類!A:B,2,FALSE))))","v":""},null,null,null,null,null,null,null,null,null,null,null,null,null,null,null,null,null,null,null,null,null,null,null,null,null,null,null,null,null,null,null,null,null,null,null,null,null,null,"t-CO2"]
[null,null,null,"細分類番号"]
[null,null,null,"当該事業を所管する大臣"]
[]
[]
[null,19,null,"工場等に係る事業の名称",null,null,null,null,null,null,null,null,null,null,null,null,null,null,null,{"$f":"IF(T1365&W1365&Z1365&AC1365=\"\",\"\",(IF(ISERROR(VLOOKUP(T1365&W1365&Z1365&AC1365,日本標準産業分類!A:B,2,FALSE)),\"該当の細分類がありません\",VLOOKUP(T1365&W1365&Z1365&AC1365,日本標準産業分類!A:B,2,FALSE))))","v":""},null,null,null,null,null,null,null,null,null,null,null,null,null,null,null,null,null,null,null,null,null,null,null,null,null,null,null,null,null,null,null,null,null,null,null,null,null,null,"t-CO2"]
[null,null,null,"細分類番号"]
[null,null,null,"当該事業を所管する大臣"]
[]
[]
[null,20,null,"工場等に係る事業の名称",null,null,null,null,null,null,null,null,null,null,null,null,null,null,null,{"$f":"IF(T1370&W1370&Z1370&AC1370=\"\",\"\",(IF(ISERROR(VLOOKUP(T1370&W1370&Z1370&AC1370,日本標準産業分類!A:B,2,FALSE)),\"該当の細分類がありません\",VLOOKUP(T1370&W1370&Z1370&AC1370,日本標準産業分類!A:B,2,FALSE))))","v":""},null,null,null,null,null,null,null,null,null,null,null,null,null,null,null,null,null,null,null,null,null,null,null,null,null,null,null,null,null,null,null,null,null,null,null,null,null,null,"t-CO2"]
[null,null,null,"細分類番号"]
[null,null,null,"当該事業を所管する大臣"]
[]
[]
[null,21,null,"工場等に係る事業の名称",null,null,null,null,null,null,null,null,null,null,null,null,null,null,null,{"$f":"IF(T1375&W1375&Z1375&AC1375=\"\",\"\",(IF(ISERROR(VLOOKUP(T1375&W1375&Z1375&AC1375,日本標準産業分類!A:B,2,FALSE)),\"該当の細分類がありません\",VLOOKUP(T1375&W1375&Z1375&AC1375,日本標準産業分類!A:B,2,FALSE))))","v":""},null,null,null,null,null,null,null,null,null,null,null,null,null,null,null,null,null,null,null,null,null,null,null,null,null,null,null,null,null,null,null,null,null,null,null,null,null,null,"t-CO2"]
[null,null,null,"細分類番号"]
[null,null,null,"当該事業を所管する大臣"]
[]
[]
[null,22,null,"工場等に係る事業の名称",null,null,null,null,null,null,null,null,null,null,null,null,null,null,null,{"$f":"IF(T1380&W1380&Z1380&AC1380=\"\",\"\",(IF(ISERROR(VLOOKUP(T1380&W1380&Z1380&AC1380,日本標準産業分類!A:B,2,FALSE)),\"該当の細分類がありません\",VLOOKUP(T1380&W1380&Z1380&AC1380,日本標準産業分類!A:B,2,FALSE))))","v":""},null,null,null,null,null,null,null,null,null,null,null,null,null,null,null,null,null,null,null,null,null,null,null,null,null,null,null,null,null,null,null,null,null,null,null,null,null,null,"t-CO2"]
[null,null,null,"細分類番号"]
[null,null,null,"当該事業を所管する大臣"]
[]
[]
[null,23,null,"工場等に係る事業の名称",null,null,null,null,null,null,null,null,null,null,null,null,null,null,null,{"$f":"IF(T1385&W1385&Z1385&AC1385=\"\",\"\",(IF(ISERROR(VLOOKUP(T1385&W1385&Z1385&AC1385,日本標準産業分類!A:B,2,FALSE)),\"該当の細分類がありません\",VLOOKUP(T1385&W1385&Z1385&AC1385,日本標準産業分類!A:B,2,FALSE))))","v":""},null,null,null,null,null,null,null,null,null,null,null,null,null,null,null,null,null,null,null,null,null,null,null,null,null,null,null,null,null,null,null,null,null,null,null,null,null,null,"t-CO2"]
[null,null,null,"細分類番号"]
[null,null,null,"当該事業を所管する大臣"]
[]
[]
[null,24,null,"工場等に係る事業の名称",null,null,null,null,null,null,null,null,null,null,null,null,null,null,null,{"$f":"IF(T1390&W1390&Z1390&AC1390=\"\",\"\",(IF(ISERROR(VLOOKUP(T1390&W1390&Z1390&AC1390,日本標準産業分類!A:B,2,FALSE)),\"該当の細分類がありません\",VLOOKUP(T1390&W1390&Z1390&AC1390,日本標準産業分類!A:B,2,FALSE))))","v":""},null,null,null,null,null,null,null,null,null,null,null,null,null,null,null,null,null,null,null,null,null,null,null,null,null,null,null,null,null,null,null,null,null,null,null,null,null,null,"t-CO2"]
[null,null,null,"細分類番号"]
[null,null,null,"当該事業を所管する大臣"]
[]
[]
[null,25,null,"工場等に係る事業の名称",null,null,null,null,null,null,null,null,null,null,null,null,null,null,null,{"$f":"IF(T1395&W1395&Z1395&AC1395=\"\",\"\",(IF(ISERROR(VLOOKUP(T1395&W1395&Z1395&AC1395,日本標準産業分類!A:B,2,FALSE)),\"該当の細分類がありません\",VLOOKUP(T1395&W1395&Z1395&AC1395,日本標準産業分類!A:B,2,FALSE))))","v":""},null,null,null,null,null,null,null,null,null,null,null,null,null,null,null,null,null,null,null,null,null,null,null,null,null,null,null,null,null,null,null,null,null,null,null,null,null,null,"t-CO2"]
[null,null,null,"細分類番号"]
[null,null,null,"当該事業を所管する大臣"]
[]
[]
[null,26,null,"工場等に係る事業の名称",null,null,null,null,null,null,null,null,null,null,null,null,null,null,null,{"$f":"IF(T1400&W1400&Z1400&AC1400=\"\",\"\",(IF(ISERROR(VLOOKUP(T1400&W1400&Z1400&AC1400,日本標準産業分類!A:B,2,FALSE)),\"該当の細分類がありません\",VLOOKUP(T1400&W1400&Z1400&AC1400,日本標準産業分類!A:B,2,FALSE))))","v":""},null,null,null,null,null,null,null,null,null,null,null,null,null,null,null,null,null,null,null,null,null,null,null,null,null,null,null,null,null,null,null,null,null,null,null,null,null,null,"t-CO2"]
[null,null,null,"細分類番号"]
[null,null,null,"当該事業を所管する大臣"]
[]
[]
[null,27,null,"工場等に係る事業の名称",null,null,null,null,null,null,null,null,null,null,null,null,null,null,null,{"$f":"IF(T1405&W1405&Z1405&AC1405=\"\",\"\",(IF(ISERROR(VLOOKUP(T1405&W1405&Z1405&AC1405,日本標準産業分類!A:B,2,FALSE)),\"該当の細分類がありません\",VLOOKUP(T1405&W1405&Z1405&AC1405,日本標準産業分類!A:B,2,FALSE))))","v":""},null,null,null,null,null,null,null,null,null,null,null,null,null,null,null,null,null,null,null,null,null,null,null,null,null,null,null,null,null,null,null,null,null,null,null,null,null,null,"t-CO2"]
[null,null,null,"細分類番号"]
[null,null,null,"当該事業を所管する大臣"]
[]
[]
[null,28,null,"工場等に係る事業の名称",null,null,null,null,null,null,null,null,null,null,null,null,null,null,null,{"$f":"IF(T1410&W1410&Z1410&AC1410=\"\",\"\",(IF(ISERROR(VLOOKUP(T1410&W1410&Z1410&AC1410,日本標準産業分類!A:B,2,FALSE)),\"該当の細分類がありません\",VLOOKUP(T1410&W1410&Z1410&AC1410,日本標準産業分類!A:B,2,FALSE))))","v":""},null,null,null,null,null,null,null,null,null,null,null,null,null,null,null,null,null,null,null,null,null,null,null,null,null,null,null,null,null,null,null,null,null,null,null,null,null,null,"t-CO2"]
[null,null,null,"細分類番号"]
[null,null,null,"当該事業を所管する大臣"]
[]
[]
[null,29,null,"工場等に係る事業の名称",null,null,null,null,null,null,null,null,null,null,null,null,null,null,null,{"$f":"IF(T1415&W1415&Z1415&AC1415=\"\",\"\",(IF(ISERROR(VLOOKUP(T1415&W1415&Z1415&AC1415,日本標準産業分類!A:B,2,FALSE)),\"該当の細分類がありません\",VLOOKUP(T1415&W1415&Z1415&AC1415,日本標準産業分類!A:B,2,FALSE))))","v":""},null,null,null,null,null,null,null,null,null,null,null,null,null,null,null,null,null,null,null,null,null,null,null,null,null,null,null,null,null,null,null,null,null,null,null,null,null,null,"t-CO2"]
[null,null,null,"細分類番号"]
[null,null,null,"当該事業を所管する大臣"]
[]
[]
[null,30,null,"工場等に係る事業の名称",null,null,null,null,null,null,null,null,null,null,null,null,null,null,null,{"$f":"IF(T1420&W1420&Z1420&AC1420=\"\",\"\",(IF(ISERROR(VLOOKUP(T1420&W1420&Z1420&AC1420,日本標準産業分類!A:B,2,FALSE)),\"該当の細分類がありません\",VLOOKUP(T1420&W1420&Z1420&AC1420,日本標準産業分類!A:B,2,FALSE))))","v":""},null,null,null,null,null,null,null,null,null,null,null,null,null,null,null,null,null,null,null,null,null,null,null,null,null,null,null,null,null,null,null,null,null,null,null,null,null,null,"t-CO2"]
[null,null,null,"細分類番号"]
[null,null,null,"当該事業を所管する大臣"]
[]
[]
[null,31,null,"工場等に係る事業の名称",null,null,null,null,null,null,null,null,null,null,null,null,null,null,null,{"$f":"IF(T1425&W1425&Z1425&AC1425=\"\",\"\",(IF(ISERROR(VLOOKUP(T1425&W1425&Z1425&AC1425,日本標準産業分類!A:B,2,FALSE)),\"該当の細分類がありません\",VLOOKUP(T1425&W1425&Z1425&AC1425,日本標準産業分類!A:B,2,FALSE))))","v":""},null,null,null,null,null,null,null,null,null,null,null,null,null,null,null,null,null,null,null,null,null,null,null,null,null,null,null,null,null,null,null,null,null,null,null,null,null,null,"t-CO2"]
[null,null,null,"細分類番号"]
[null,null,null,"当該事業を所管する大臣"]
[]
[]
[null,32,null,"工場等に係る事業の名称",null,null,null,null,null,null,null,null,null,null,null,null,null,null,null,{"$f":"IF(T1430&W1430&Z1430&AC1430=\"\",\"\",(IF(ISERROR(VLOOKUP(T1430&W1430&Z1430&AC1430,日本標準産業分類!A:B,2,FALSE)),\"該当の細分類がありません\",VLOOKUP(T1430&W1430&Z1430&AC1430,日本標準産業分類!A:B,2,FALSE))))","v":""},null,null,null,null,null,null,null,null,null,null,null,null,null,null,null,null,null,null,null,null,null,null,null,null,null,null,null,null,null,null,null,null,null,null,null,null,null,null,"t-CO2"]
[null,null,null,"細分類番号"]
[null,null,null,"当該事業を所管する大臣"]
[]
[]
[null,33,null,"工場等に係る事業の名称",null,null,null,null,null,null,null,null,null,null,null,null,null,null,null,{"$f":"IF(T1435&W1435&Z1435&AC1435=\"\",\"\",(IF(ISERROR(VLOOKUP(T1435&W1435&Z1435&AC1435,日本標準産業分類!A:B,2,FALSE)),\"該当の細分類がありません\",VLOOKUP(T1435&W1435&Z1435&AC1435,日本標準産業分類!A:B,2,FALSE))))","v":""},null,null,null,null,null,null,null,null,null,null,null,null,null,null,null,null,null,null,null,null,null,null,null,null,null,null,null,null,null,null,null,null,null,null,null,null,null,null,"t-CO2"]
[null,null,null,"細分類番号"]
[null,null,null,"当該事業を所管する大臣"]
[]
[]
[null,34,null,"工場等に係る事業の名称",null,null,null,null,null,null,null,null,null,null,null,null,null,null,null,{"$f":"IF(T1440&W1440&Z1440&AC1440=\"\",\"\",(IF(ISERROR(VLOOKUP(T1440&W1440&Z1440&AC1440,日本標準産業分類!A:B,2,FALSE)),\"該当の細分類がありません\",VLOOKUP(T1440&W1440&Z1440&AC1440,日本標準産業分類!A:B,2,FALSE))))","v":""},null,null,null,null,null,null,null,null,null,null,null,null,null,null,null,null,null,null,null,null,null,null,null,null,null,null,null,null,null,null,null,null,null,null,null,null,null,null,"t-CO2"]
[null,null,null,"細分類番号"]
[null,null,null,"当該事業を所管する大臣"]
[]
[]
[null,35,null,"工場等に係る事業の名称",null,null,null,null,null,null,null,null,null,null,null,null,null,null,null,{"$f":"IF(T1445&W1445&Z1445&AC1445=\"\",\"\",(IF(ISERROR(VLOOKUP(T1445&W1445&Z1445&AC1445,日本標準産業分類!A:B,2,FALSE)),\"該当の細分類がありません\",VLOOKUP(T1445&W1445&Z1445&AC1445,日本標準産業分類!A:B,2,FALSE))))","v":""},null,null,null,null,null,null,null,null,null,null,null,null,null,null,null,null,null,null,null,null,null,null,null,null,null,null,null,null,null,null,null,null,null,null,null,null,null,null,"t-CO2"]
[null,null,null,"細分類番号"]
[null,null,null,"当該事業を所管する大臣"]
[]
[]
[null,36,null,"工場等に係る事業の名称",null,null,null,null,null,null,null,null,null,null,null,null,null,null,null,{"$f":"IF(T1450&W1450&Z1450&AC1450=\"\",\"\",(IF(ISERROR(VLOOKUP(T1450&W1450&Z1450&AC1450,日本標準産業分類!A:B,2,FALSE)),\"該当の細分類がありません\",VLOOKUP(T1450&W1450&Z1450&AC1450,日本標準産業分類!A:B,2,FALSE))))","v":""},null,null,null,null,null,null,null,null,null,null,null,null,null,null,null,null,null,null,null,null,null,null,null,null,null,null,null,null,null,null,null,null,null,null,null,null,null,null,"t-CO2"]
[null,null,null,"細分類番号"]
[null,null,null,"当該事業を所管する大臣"]
[]
[]
[null,37,null,"工場等に係る事業の名称",null,null,null,null,null,null,null,null,null,null,null,null,null,null,null,{"$f":"IF(T1455&W1455&Z1455&AC1455=\"\",\"\",(IF(ISERROR(VLOOKUP(T1455&W1455&Z1455&AC1455,日本標準産業分類!A:B,2,FALSE)),\"該当の細分類がありません\",VLOOKUP(T1455&W1455&Z1455&AC1455,日本標準産業分類!A:B,2,FALSE))))","v":""},null,null,null,null,null,null,null,null,null,null,null,null,null,null,null,null,null,null,null,null,null,null,null,null,null,null,null,null,null,null,null,null,null,null,null,null,null,null,"t-CO2"]
[null,null,null,"細分類番号"]
[null,null,null,"当該事業を所管する大臣"]
[]
[]
[null,38,null,"工場等に係る事業の名称",null,null,null,null,null,null,null,null,null,null,null,null,null,null,null,{"$f":"IF(T1460&W1460&Z1460&AC1460=\"\",\"\",(IF(ISERROR(VLOOKUP(T1460&W1460&Z1460&AC1460,日本標準産業分類!A:B,2,FALSE)),\"該当の細分類がありません\",VLOOKUP(T1460&W1460&Z1460&AC1460,日本標準産業分類!A:B,2,FALSE))))","v":""},null,null,null,null,null,null,null,null,null,null,null,null,null,null,null,null,null,null,null,null,null,null,null,null,null,null,null,null,null,null,null,null,null,null,null,null,null,null,"t-CO2"]
[null,null,null,"細分類番号"]
[null,null,null,"当該事業を所管する大臣"]
[]
[]
[null,39,null,"工場等に係る事業の名称",null,null,null,null,null,null,null,null,null,null,null,null,null,null,null,{"$f":"IF(T1465&W1465&Z1465&AC1465=\"\",\"\",(IF(ISERROR(VLOOKUP(T1465&W1465&Z1465&AC1465,日本標準産業分類!A:B,2,FALSE)),\"該当の細分類がありません\",VLOOKUP(T1465&W1465&Z1465&AC1465,日本標準産業分類!A:B,2,FALSE))))","v":""},null,null,null,null,null,null,null,null,null,null,null,null,null,null,null,null,null,null,null,null,null,null,null,null,null,null,null,null,null,null,null,null,null,null,null,null,null,null,"t-CO2"]
[null,null,null,"細分類番号"]
[null,null,null,"当該事業を所管する大臣"]
[]
[]
[null,40,null,"工場等に係る事業の名称",null,null,null,null,null,null,null,null,null,null,null,null,null,null,null,{"$f":"IF(T1470&W1470&Z1470&AC1470=\"\",\"\",(IF(ISERROR(VLOOKUP(T1470&W1470&Z1470&AC1470,日本標準産業分類!A:B,2,FALSE)),\"該当の細分類がありません\",VLOOKUP(T1470&W1470&Z1470&AC1470,日本標準産業分類!A:B,2,FALSE))))","v":""},null,null,null,null,null,null,null,null,null,null,null,null,null,null,null,null,null,null,null,null,null,null,null,null,null,null,null,null,null,null,null,null,null,null,null,null,null,null,"t-CO2"]
[null,null,null,"細分類番号"]
[null,null,null,"当該事業を所管する大臣"]
[]
[]
[null,41,null,"工場等に係る事業の名称",null,null,null,null,null,null,null,null,null,null,null,null,null,null,null,{"$f":"IF(T1475&W1475&Z1475&AC1475=\"\",\"\",(IF(ISERROR(VLOOKUP(T1475&W1475&Z1475&AC1475,日本標準産業分類!A:B,2,FALSE)),\"該当の細分類がありません\",VLOOKUP(T1475&W1475&Z1475&AC1475,日本標準産業分類!A:B,2,FALSE))))","v":""},null,null,null,null,null,null,null,null,null,null,null,null,null,null,null,null,null,null,null,null,null,null,null,null,null,null,null,null,null,null,null,null,null,null,null,null,null,null,"t-CO2"]
[null,null,null,"細分類番号"]
[null,null,null,"当該事業を所管する大臣"]
[]
[]
[null,42,null,"工場等に係る事業の名称",null,null,null,null,null,null,null,null,null,null,null,null,null,null,null,{"$f":"IF(T1480&W1480&Z1480&AC1480=\"\",\"\",(IF(ISERROR(VLOOKUP(T1480&W1480&Z1480&AC1480,日本標準産業分類!A:B,2,FALSE)),\"該当の細分類がありません\",VLOOKUP(T1480&W1480&Z1480&AC1480,日本標準産業分類!A:B,2,FALSE))))","v":""},null,null,null,null,null,null,null,null,null,null,null,null,null,null,null,null,null,null,null,null,null,null,null,null,null,null,null,null,null,null,null,null,null,null,null,null,null,null,"t-CO2"]
[null,null,null,"細分類番号"]
[null,null,null,"当該事業を所管する大臣"]
[]
[]
[null,43,null,"工場等に係る事業の名称",null,null,null,null,null,null,null,null,null,null,null,null,null,null,null,{"$f":"IF(T1485&W1485&Z1485&AC1485=\"\",\"\",(IF(ISERROR(VLOOKUP(T1485&W1485&Z1485&AC1485,日本標準産業分類!A:B,2,FALSE)),\"該当の細分類がありません\",VLOOKUP(T1485&W1485&Z1485&AC1485,日本標準産業分類!A:B,2,FALSE))))","v":""},null,null,null,null,null,null,null,null,null,null,null,null,null,null,null,null,null,null,null,null,null,null,null,null,null,null,null,null,null,null,null,null,null,null,null,null,null,null,"t-CO2"]
[null,null,null,"細分類番号"]
[null,null,null,"当該事業を所管する大臣"]
[]
[]
[null,44,null,"工場等に係る事業の名称",null,null,null,null,null,null,null,null,null,null,null,null,null,null,null,{"$f":"IF(T1490&W1490&Z1490&AC1490=\"\",\"\",(IF(ISERROR(VLOOKUP(T1490&W1490&Z1490&AC1490,日本標準産業分類!A:B,2,FALSE)),\"該当の細分類がありません\",VLOOKUP(T1490&W1490&Z1490&AC1490,日本標準産業分類!A:B,2,FALSE))))","v":""},null,null,null,null,null,null,null,null,null,null,null,null,null,null,null,null,null,null,null,null,null,null,null,null,null,null,null,null,null,null,null,null,null,null,null,null,null,null,"t-CO2"]
[null,null,null,"細分類番号"]
[null,null,null,"当該事業を所管する大臣"]
[]
[]
[null,45,null,"工場等に係る事業の名称",null,null,null,null,null,null,null,null,null,null,null,null,null,null,null,{"$f":"IF(T1495&W1495&Z1495&AC1495=\"\",\"\",(IF(ISERROR(VLOOKUP(T1495&W1495&Z1495&AC1495,日本標準産業分類!A:B,2,FALSE)),\"該当の細分類がありません\",VLOOKUP(T1495&W1495&Z1495&AC1495,日本標準産業分類!A:B,2,FALSE))))","v":""},null,null,null,null,null,null,null,null,null,null,null,null,null,null,null,null,null,null,null,null,null,null,null,null,null,null,null,null,null,null,null,null,null,null,null,null,null,null,"t-CO2"]
[null,null,null,"細分類番号"]
[null,null,null,"当該事業を所管する大臣"]
[]
[]
[null,46,null,"工場等に係る事業の名称",null,null,null,null,null,null,null,null,null,null,null,null,null,null,null,{"$f":"IF(T1500&W1500&Z1500&AC1500=\"\",\"\",(IF(ISERROR(VLOOKUP(T1500&W1500&Z1500&AC1500,日本標準産業分類!A:B,2,FALSE)),\"該当の細分類がありません\",VLOOKUP(T1500&W1500&Z1500&AC1500,日本標準産業分類!A:B,2,FALSE))))","v":""},null,null,null,null,null,null,null,null,null,null,null,null,null,null,null,null,null,null,null,null,null,null,null,null,null,null,null,null,null,null,null,null,null,null,null,null,null,null,"t-CO2"]
[null,null,null,"細分類番号"]
[null,null,null,"当該事業を所管する大臣"]
[]
[]
[null,47,null,"工場等に係る事業の名称",null,null,null,null,null,null,null,null,null,null,null,null,null,null,null,{"$f":"IF(T1505&W1505&Z1505&AC1505=\"\",\"\",(IF(ISERROR(VLOOKUP(T1505&W1505&Z1505&AC1505,日本標準産業分類!A:B,2,FALSE)),\"該当の細分類がありません\",VLOOKUP(T1505&W1505&Z1505&AC1505,日本標準産業分類!A:B,2,FALSE))))","v":""},null,null,null,null,null,null,null,null,null,null,null,null,null,null,null,null,null,null,null,null,null,null,null,null,null,null,null,null,null,null,null,null,null,null,null,null,null,null,"t-CO2"]
[null,null,null,"細分類番号"]
[null,null,null,"当該事業を所管する大臣"]
[]
[]
[null,48,null,"工場等に係る事業の名称",null,null,null,null,null,null,null,null,null,null,null,null,null,null,null,{"$f":"IF(T1510&W1510&Z1510&AC1510=\"\",\"\",(IF(ISERROR(VLOOKUP(T1510&W1510&Z1510&AC1510,日本標準産業分類!A:B,2,FALSE)),\"該当の細分類がありません\",VLOOKUP(T1510&W1510&Z1510&AC1510,日本標準産業分類!A:B,2,FALSE))))","v":""},null,null,null,null,null,null,null,null,null,null,null,null,null,null,null,null,null,null,null,null,null,null,null,null,null,null,null,null,null,null,null,null,null,null,null,null,null,null,"t-CO2"]
[null,null,null,"細分類番号"]
[null,null,null,"当該事業を所管する大臣"]
[]
[]
[null,49,null,"工場等に係る事業の名称",null,null,null,null,null,null,null,null,null,null,null,null,null,null,null,{"$f":"IF(T1515&W1515&Z1515&AC1515=\"\",\"\",(IF(ISERROR(VLOOKUP(T1515&W1515&Z1515&AC1515,日本標準産業分類!A:B,2,FALSE)),\"該当の細分類がありません\",VLOOKUP(T1515&W1515&Z1515&AC1515,日本標準産業分類!A:B,2,FALSE))))","v":""},null,null,null,null,null,null,null,null,null,null,null,null,null,null,null,null,null,null,null,null,null,null,null,null,null,null,null,null,null,null,null,null,null,null,null,null,null,null,"t-CO2"]
[null,null,null,"細分類番号"]
[null,null,null,"当該事業を所管する大臣"]
[]
[]
[null,50,null,"工場等に係る事業の名称",null,null,null,null,null,null,null,null,null,null,null,null,null,null,null,{"$f":"IF(T1520&W1520&Z1520&AC1520=\"\",\"\",(IF(ISERROR(VLOOKUP(T1520&W1520&Z1520&AC1520,日本標準産業分類!A:B,2,FALSE)),\"該当の細分類がありません\",VLOOKUP(T1520&W1520&Z1520&AC1520,日本標準産業分類!A:B,2,FALSE))))","v":""},null,null,null,null,null,null,null,null,null,null,null,null,null,null,null,null,null,null,null,null,null,null,null,null,null,null,null,null,null,null,null,null,null,null,null,null,null,null,"t-CO2"]
[null,null,null,"細分類番号"]
[null,null,null,"当該事業を所管する大臣"]
[]
[]
[null,51,null,"工場等に係る事業の名称",null,null,null,null,null,null,null,null,null,null,null,null,null,null,null,{"$f":"IF(T1525&W1525&Z1525&AC1525=\"\",\"\",(IF(ISERROR(VLOOKUP(T1525&W1525&Z1525&AC1525,日本標準産業分類!A:B,2,FALSE)),\"該当の細分類がありません\",VLOOKUP(T1525&W1525&Z1525&AC1525,日本標準産業分類!A:B,2,FALSE))))","v":""},null,null,null,null,null,null,null,null,null,null,null,null,null,null,null,null,null,null,null,null,null,null,null,null,null,null,null,null,null,null,null,null,null,null,null,null,null,null,"t-CO2"]
[null,null,null,"細分類番号"]
[null,null,null,"当該事業を所管する大臣"]
[]
[]
[null,52,null,"工場等に係る事業の名称",null,null,null,null,null,null,null,null,null,null,null,null,null,null,null,{"$f":"IF(T1530&W1530&Z1530&AC1530=\"\",\"\",(IF(ISERROR(VLOOKUP(T1530&W1530&Z1530&AC1530,日本標準産業分類!A:B,2,FALSE)),\"該当の細分類がありません\",VLOOKUP(T1530&W1530&Z1530&AC1530,日本標準産業分類!A:B,2,FALSE))))","v":""},null,null,null,null,null,null,null,null,null,null,null,null,null,null,null,null,null,null,null,null,null,null,null,null,null,null,null,null,null,null,null,null,null,null,null,null,null,null,"t-CO2"]
[null,null,null,"細分類番号"]
[null,null,null,"当該事業を所管する大臣"]
[]
[]
[null,53,null,"工場等に係る事業の名称",null,null,null,null,null,null,null,null,null,null,null,null,null,null,null,{"$f":"IF(T1535&W1535&Z1535&AC1535=\"\",\"\",(IF(ISERROR(VLOOKUP(T1535&W1535&Z1535&AC1535,日本標準産業分類!A:B,2,FALSE)),\"該当の細分類がありません\",VLOOKUP(T1535&W1535&Z1535&AC1535,日本標準産業分類!A:B,2,FALSE))))","v":""},null,null,null,null,null,null,null,null,null,null,null,null,null,null,null,null,null,null,null,null,null,null,null,null,null,null,null,null,null,null,null,null,null,null,null,null,null,null,"t-CO2"]
[null,null,null,"細分類番号"]
[null,null,null,"当該事業を所管する大臣"]
[]
[]
[null,54,null,"工場等に係る事業の名称",null,null,null,null,null,null,null,null,null,null,null,null,null,null,null,{"$f":"IF(T1540&W1540&Z1540&AC1540=\"\",\"\",(IF(ISERROR(VLOOKUP(T1540&W1540&Z1540&AC1540,日本標準産業分類!A:B,2,FALSE)),\"該当の細分類がありません\",VLOOKUP(T1540&W1540&Z1540&AC1540,日本標準産業分類!A:B,2,FALSE))))","v":""},null,null,null,null,null,null,null,null,null,null,null,null,null,null,null,null,null,null,null,null,null,null,null,null,null,null,null,null,null,null,null,null,null,null,null,null,null,null,"t-CO2"]
[null,null,null,"細分類番号"]
[null,null,null,"当該事業を所管する大臣"]
[]
[]
[null,55,null,"工場等に係る事業の名称",null,null,null,null,null,null,null,null,null,null,null,null,null,null,null,{"$f":"IF(T1545&W1545&Z1545&AC1545=\"\",\"\",(IF(ISERROR(VLOOKUP(T1545&W1545&Z1545&AC1545,日本標準産業分類!A:B,2,FALSE)),\"該当の細分類がありません\",VLOOKUP(T1545&W1545&Z1545&AC1545,日本標準産業分類!A:B,2,FALSE))))","v":""},null,null,null,null,null,null,null,null,null,null,null,null,null,null,null,null,null,null,null,null,null,null,null,null,null,null,null,null,null,null,null,null,null,null,null,null,null,null,"t-CO2"]
[null,null,null,"細分類番号"]
[null,null,null,"当該事業を所管する大臣"]
[]
[]
[null,56,null,"工場等に係る事業の名称",null,null,null,null,null,null,null,null,null,null,null,null,null,null,null,{"$f":"IF(T1550&W1550&Z1550&AC1550=\"\",\"\",(IF(ISERROR(VLOOKUP(T1550&W1550&Z1550&AC1550,日本標準産業分類!A:B,2,FALSE)),\"該当の細分類がありません\",VLOOKUP(T1550&W1550&Z1550&AC1550,日本標準産業分類!A:B,2,FALSE))))","v":""},null,null,null,null,null,null,null,null,null,null,null,null,null,null,null,null,null,null,null,null,null,null,null,null,null,null,null,null,null,null,null,null,null,null,null,null,null,null,"t-CO2"]
[null,null,null,"細分類番号"]
[null,null,null,"当該事業を所管する大臣"]
[]
[]
[null,57,null,"工場等に係る事業の名称",null,null,null,null,null,null,null,null,null,null,null,null,null,null,null,{"$f":"IF(T1555&W1555&Z1555&AC1555=\"\",\"\",(IF(ISERROR(VLOOKUP(T1555&W1555&Z1555&AC1555,日本標準産業分類!A:B,2,FALSE)),\"該当の細分類がありません\",VLOOKUP(T1555&W1555&Z1555&AC1555,日本標準産業分類!A:B,2,FALSE))))","v":""},null,null,null,null,null,null,null,null,null,null,null,null,null,null,null,null,null,null,null,null,null,null,null,null,null,null,null,null,null,null,null,null,null,null,null,null,null,null,"t-CO2"]
[null,null,null,"細分類番号"]
[null,null,null,"当該事業を所管する大臣"]
[]
[]
[null,58,null,"工場等に係る事業の名称",null,null,null,null,null,null,null,null,null,null,null,null,null,null,null,{"$f":"IF(T1560&W1560&Z1560&AC1560=\"\",\"\",(IF(ISERROR(VLOOKUP(T1560&W1560&Z1560&AC1560,日本標準産業分類!A:B,2,FALSE)),\"該当の細分類がありません\",VLOOKUP(T1560&W1560&Z1560&AC1560,日本標準産業分類!A:B,2,FALSE))))","v":""},null,null,null,null,null,null,null,null,null,null,null,null,null,null,null,null,null,null,null,null,null,null,null,null,null,null,null,null,null,null,null,null,null,null,null,null,null,null,"t-CO2"]
[null,null,null,"細分類番号"]
[null,null,null,"当該事業を所管する大臣"]
[]
[]
[null,59,null,"工場等に係る事業の名称",null,null,null,null,null,null,null,null,null,null,null,null,null,null,null,{"$f":"IF(T1565&W1565&Z1565&AC1565=\"\",\"\",(IF(ISERROR(VLOOKUP(T1565&W1565&Z1565&AC1565,日本標準産業分類!A:B,2,FALSE)),\"該当の細分類がありません\",VLOOKUP(T1565&W1565&Z1565&AC1565,日本標準産業分類!A:B,2,FALSE))))","v":""},null,null,null,null,null,null,null,null,null,null,null,null,null,null,null,null,null,null,null,null,null,null,null,null,null,null,null,null,null,null,null,null,null,null,null,null,null,null,"t-CO2"]
[null,null,null,"細分類番号"]
[null,null,null,"当該事業を所管する大臣"]
[]
[]
[null,60,null,"工場等に係る事業の名称",null,null,null,null,null,null,null,null,null,null,null,null,null,null,null,{"$f":"IF(T1570&W1570&Z1570&AC1570=\"\",\"\",(IF(ISERROR(VLOOKUP(T1570&W1570&Z1570&AC1570,日本標準産業分類!A:B,2,FALSE)),\"該当の細分類がありません\",VLOOKUP(T1570&W1570&Z1570&AC1570,日本標準産業分類!A:B,2,FALSE))))","v":""},null,null,null,null,null,null,null,null,null,null,null,null,null,null,null,null,null,null,null,null,null,null,null,null,null,null,null,null,null,null,null,null,null,null,null,null,null,null,"t-CO2"]
[null,null,null,"細分類番号"]
[null,null,null,"当該事業を所管する大臣"]
[]
[]
[null,61,null,"工場等に係る事業の名称",null,null,null,null,null,null,null,null,null,null,null,null,null,null,null,{"$f":"IF(T1575&W1575&Z1575&AC1575=\"\",\"\",(IF(ISERROR(VLOOKUP(T1575&W1575&Z1575&AC1575,日本標準産業分類!A:B,2,FALSE)),\"該当の細分類がありません\",VLOOKUP(T1575&W1575&Z1575&AC1575,日本標準産業分類!A:B,2,FALSE))))","v":""},null,null,null,null,null,null,null,null,null,null,null,null,null,null,null,null,null,null,null,null,null,null,null,null,null,null,null,null,null,null,null,null,null,null,null,null,null,null,"t-CO2"]
[null,null,null,"細分類番号"]
[null,null,null,"当該事業を所管する大臣"]
[]
[]
[null,62,null,"工場等に係る事業の名称",null,null,null,null,null,null,null,null,null,null,null,null,null,null,null,{"$f":"IF(T1580&W1580&Z1580&AC1580=\"\",\"\",(IF(ISERROR(VLOOKUP(T1580&W1580&Z1580&AC1580,日本標準産業分類!A:B,2,FALSE)),\"該当の細分類がありません\",VLOOKUP(T1580&W1580&Z1580&AC1580,日本標準産業分類!A:B,2,FALSE))))","v":""},null,null,null,null,null,null,null,null,null,null,null,null,null,null,null,null,null,null,null,null,null,null,null,null,null,null,null,null,null,null,null,null,null,null,null,null,null,null,"t-CO2"]
[null,null,null,"細分類番号"]
[null,null,null,"当該事業を所管する大臣"]
[]
[]
[null,63,null,"工場等に係る事業の名称",null,null,null,null,null,null,null,null,null,null,null,null,null,null,null,{"$f":"IF(T1585&W1585&Z1585&AC1585=\"\",\"\",(IF(ISERROR(VLOOKUP(T1585&W1585&Z1585&AC1585,日本標準産業分類!A:B,2,FALSE)),\"該当の細分類がありません\",VLOOKUP(T1585&W1585&Z1585&AC1585,日本標準産業分類!A:B,2,FALSE))))","v":""},null,null,null,null,null,null,null,null,null,null,null,null,null,null,null,null,null,null,null,null,null,null,null,null,null,null,null,null,null,null,null,null,null,null,null,null,null,null,"t-CO2"]
[null,null,null,"細分類番号"]
[null,null,null,"当該事業を所管する大臣"]
[]
[]
[]
[null,"備考",null,"１",null,"排出年度の欄には、当該年度を記入すること。"]
[null,null,null,"２",null,"番号１から３までの項には、事業分類ごとに合計した温室効果ガス算定排出量を記載すること。なお、事業分類は、日本標準産業分類"]
[null,null,null,null,"（細分類）ごととする。また、事業分類が４分類以上になる場合には、項の追加を行うこと。"]
[null,null,null,"３",null,"エネルギーの使用に伴って発生する二酸化炭素の温室効果ガス算定排出量の算定は、地球温暖化対策の推進に関する法律に基づく命令の"]
[null,null,null,null,"規定に基づいて行うこと。"]
[null,null,null,"４",null,"エネルギーの使用に伴って発生する二酸化炭素の温室効果ガス算定排出量の欄には、次に掲げる量（他人への電気又は熱の供給に係るも"]
[null,null,null,null,"のを除く。）の合計量を記載すること。"]
[null,null,null,null,"（１）",null,null,"燃料の使用に伴って発生する二酸化炭素の排出量"]
[null,null,null,null,"（２）",null,null,"他人から供給された電気の使用に伴って発生する二酸化炭素の排出量"]
[null,null,null,null,"（３）",null,null,"他人から供給された熱の使用に伴って発生する二酸化炭素の排出量"]
[null,null,null,"５",null,"エネルギーの使用に伴って発生する二酸化炭素の温室効果ガス算定排出量に、備考４（２）に掲げる量が含まれる場合は、本表に加えて"]
[null,null,null,null,"特定－第12表の４の１及び４の２にも必要事項を記載すること。"]
[null,null,null,"６",null,"本報告に係る特定排出者が、電気事業の用に供する発電所又は熱供給事業の用に供する熱供給施設を設置している場合は、本表に加えて"]
[null,null,null,null,"特定－第12表の２に必要事項を記載すること。"]
[null,null,null,"７",null,"特定連鎖化事業者にあっては、商標又は商号等の欄に当該連鎖化事業に係る特定の商標、商号その他の表示について記載すること。"]
[]
[]
[null,"２　電気事業の用に供する発電所又は熱供給事業の用に供する熱供給施設を設置している特定排出者に係る燃料の使用に伴って発生\n　する二酸化炭素の温室効果ガス算定排出量"]
[null,"番号",null,"事 業 分 類",null,null,null,null,null,null,null,null,null,null,null,null,null,null,null,null,null,null,null,null,null,null,null,null,null,null,null,"エネルギーの使用に伴って\n発生する二酸化炭素"]
[null,"特定事業者全体",null,null,null,null,null,null,null,null,null,"主たる事業",null,null,null,null,null,null,null,{"$f":"IF(T1610&W1610&Z1610&AC1610=\"\",\"\",(IF(ISERROR(VLOOKUP(T1610&W1610&Z1610&AC1610,日本標準産業分類!A:B,2,FALSE)),\"該当の細分類がありません\",VLOOKUP(T1610&W1610&Z1610&AC1610,日本標準産業分類!A:B,2,FALSE))))","v":""},null,null,null,null,null,null,null,null,null,null,null,null,null,null,null,null,null,null,null,null,null,null,null,null,null,null,null,null,null,null,null,null,null,null,null,null,null,null,"t-CO2"]
[null,null,null,null,null,null,null,null,null,null,null,"細分類番号"]
[null,null,null,null,null,null,null,null,null,null,null,"当該事業を\n所管する大臣"]
[]
[]
[null,1,null,"工場等に係る事業の名称",null,null,null,null,null,null,null,null,null,null,null,null,null,null,null,{"$f":"IF(T1615&W1615&Z1615&AC1615=\"\",\"\",(IF(ISERROR(VLOOKUP(T1615&W1615&Z1615&AC1615,日本標準産業分類!A:B,2,FALSE)),\"該当の細分類がありません\",VLOOKUP(T1615&W1615&Z1615&AC1615,日本標準産業分類!A:B,2,FALSE))))","v":""},null,null,null,null,null,null,null,null,null,null,null,null,null,null,null,null,null,null,null,null,null,null,null,null,null,null,null,null,null,null,null,null,null,null,null,null,null,null,"t-CO2"]
[null,null,null,"細分類番号"]
[null,null,null,"当該事業を所管する大臣"]
[]
[]
[null,2,null,"工場等に係る事業の名称",null,null,null,null,null,null,null,null,null,null,null,null,null,null,null,{"$f":"IF(T1620&W1620&Z1620&AC1620=\"\",\"\",(IF(ISERROR(VLOOKUP(T1620&W1620&Z1620&AC1620,日本標準産業分類!A:B,2,FALSE)),\"該当の細分類がありません\",VLOOKUP(T1620&W1620&Z1620&AC1620,日本標準産業分類!A:B,2,FALSE))))","v":""},null,null,null,null,null,null,null,null,null,null,null,null,null,null,null,null,null,null,null,null,null,null,null,null,null,null,null,null,null,null,null,null,null,null,null,null,null,null,"t-CO2"]
[null,null,null,"細分類番号"]
[null,null,null,"当該事業を所管する大臣"]
[]
[]
[null,3,null,"工場等に係る事業の名称",null,null,null,null,null,null,null,null,null,null,null,null,null,null,null,{"$f":"IF(T1625&W1625&Z1625&AC1625=\"\",\"\",(IF(ISERROR(VLOOKUP(T1625&W1625&Z1625&AC1625,日本標準産業分類!A:B,2,FALSE)),\"該当の細分類がありません\",VLOOKUP(T1625&W1625&Z1625&AC1625,日本標準産業分類!A:B,2,FALSE))))","v":""},null,null,null,null,null,null,null,null,null,null,null,null,null,null,null,null,null,null,null,null,null,null,null,null,null,null,null,null,null,null,null,null,null,null,null,null,null,null,"t-CO2"]
[null,null,null,"細分類番号"]
[null,null,null,"当該事業を所管する大臣"]
[]
[]
[null,4,null,"工場等に係る事業の名称",null,null,null,null,null,null,null,null,null,null,null,null,null,null,null,{"$f":"IF(T1630&W1630&Z1630&AC1630=\"\",\"\",(IF(ISERROR(VLOOKUP(T1630&W1630&Z1630&AC1630,日本標準産業分類!A:B,2,FALSE)),\"該当の細分類がありません\",VLOOKUP(T1630&W1630&Z1630&AC1630,日本標準産業分類!A:B,2,FALSE))))","v":""},null,null,null,null,null,null,null,null,null,null,null,null,null,null,null,null,null,null,null,null,null,null,null,null,null,null,null,null,null,null,null,null,null,null,null,null,null,null,"t-CO2"]
[null,null,null,"細分類番号"]
[null,null,null,"当該事業を所管する大臣"]
[]
[]
[null,5,null,"工場等に係る事業の名称",null,null,null,null,null,null,null,null,null,null,null,null,null,null,null,{"$f":"IF(T1635&W1635&Z1635&AC1635=\"\",\"\",(IF(ISERROR(VLOOKUP(T1635&W1635&Z1635&AC1635,日本標準産業分類!A:B,2,FALSE)),\"該当の細分類がありません\",VLOOKUP(T1635&W1635&Z1635&AC1635,日本標準産業分類!A:B,2,FALSE))))","v":""},null,null,null,null,null,null,null,null,null,null,null,null,null,null,null,null,null,null,null,null,null,null,null,null,null,null,null,null,null,null,null,null,null,null,null,null,null,null,"t-CO2"]
[null,null,null,"細分類番号"]
[null,null,null,"当該事業を所管する大臣"]
[]
[]
[null,6,null,"工場等に係る事業の名称",null,null,null,null,null,null,null,null,null,null,null,null,null,null,null,{"$f":"IF(T1640&W1640&Z1640&AC1640=\"\",\"\",(IF(ISERROR(VLOOKUP(T1640&W1640&Z1640&AC1640,日本標準産業分類!A:B,2,FALSE)),\"該当の細分類がありません\",VLOOKUP(T1640&W1640&Z1640&AC1640,日本標準産業分類!A:B,2,FALSE))))","v":""},null,null,null,null,null,null,null,null,null,null,null,null,null,null,null,null,null,null,null,null,null,null,null,null,null,null,null,null,null,null,null,null,null,null,null,null,null,null,"t-CO2"]
[null,null,null,"細分類番号"]
[null,null,null,"当該事業を所管する大臣"]
[]
[]
[null,7,null,"工場等に係る事業の名称",null,null,null,null,null,null,null,null,null,null,null,null,null,null,null,{"$f":"IF(T1645&W1645&Z1645&AC1645=\"\",\"\",(IF(ISERROR(VLOOKUP(T1645&W1645&Z1645&AC1645,日本標準産業分類!A:B,2,FALSE)),\"該当の細分類がありません\",VLOOKUP(T1645&W1645&Z1645&AC1645,日本標準産業分類!A:B,2,FALSE))))","v":""},null,null,null,null,null,null,null,null,null,null,null,null,null,null,null,null,null,null,null,null,null,null,null,null,null,null,null,null,null,null,null,null,null,null,null,null,null,null,"t-CO2"]
[null,null,null,"細分類番号"]
[null,null,null,"当該事業を所管する大臣"]
[]
[]
[null,8,null,"工場等に係る事業の名称",null,null,null,null,null,null,null,null,null,null,null,null,null,null,null,{"$f":"IF(T1650&W1650&Z1650&AC1650=\"\",\"\",(IF(ISERROR(VLOOKUP(T1650&W1650&Z1650&AC1650,日本標準産業分類!A:B,2,FALSE)),\"該当の細分類がありません\",VLOOKUP(T1650&W1650&Z1650&AC1650,日本標準産業分類!A:B,2,FALSE))))","v":""},null,null,null,null,null,null,null,null,null,null,null,null,null,null,null,null,null,null,null,null,null,null,null,null,null,null,null,null,null,null,null,null,null,null,null,null,null,null,"t-CO2"]
[null,null,null,"細分類番号"]
[null,null,null,"当該事業を所管する大臣"]
[]
[]
[null,9,null,"工場等に係る事業の名称",null,null,null,null,null,null,null,null,null,null,null,null,null,null,null,{"$f":"IF(T1655&W1655&Z1655&AC1655=\"\",\"\",(IF(ISERROR(VLOOKUP(T1655&W1655&Z1655&AC1655,日本標準産業分類!A:B,2,FALSE)),\"該当の細分類がありません\",VLOOKUP(T1655&W1655&Z1655&AC1655,日本標準産業分類!A:B,2,FALSE))))","v":""},null,null,null,null,null,null,null,null,null,null,null,null,null,null,null,null,null,null,null,null,null,null,null,null,null,null,null,null,null,null,null,null,null,null,null,null,null,null,"t-CO2"]
[null,null,null,"細分類番号"]
[null,null,null,"当該事業を所管する大臣"]
[]
[]
[null,10,null,"工場等に係る事業の名称",null,null,null,null,null,null,null,null,null,null,null,null,null,null,null,{"$f":"IF(T1660&W1660&Z1660&AC1660=\"\",\"\",(IF(ISERROR(VLOOKUP(T1660&W1660&Z1660&AC1660,日本標準産業分類!A:B,2,FALSE)),\"該当の細分類がありません\",VLOOKUP(T1660&W1660&Z1660&AC1660,日本標準産業分類!A:B,2,FALSE))))","v":""},null,null,null,null,null,null,null,null,null,null,null,null,null,null,null,null,null,null,null,null,null,null,null,null,null,null,null,null,null,null,null,null,null,null,null,null,null,null,"t-CO2"]
[null,null,null,"細分類番号"]
[null,null,null,"当該事業を所管する大臣"]
[]
[]
[null,11,null,"工場等に係る事業の名称",null,null,null,null,null,null,null,null,null,null,null,null,null,null,null,{"$f":"IF(T1665&W1665&Z1665&AC1665=\"\",\"\",(IF(ISERROR(VLOOKUP(T1665&W1665&Z1665&AC1665,日本標準産業分類!A:B,2,FALSE)),\"該当の細分類がありません\",VLOOKUP(T1665&W1665&Z1665&AC1665,日本標準産業分類!A:B,2,FALSE))))","v":""},null,null,null,null,null,null,null,null,null,null,null,null,null,null,null,null,null,null,null,null,null,null,null,null,null,null,null,null,null,null,null,null,null,null,null,null,null,null,"t-CO2"]
[null,null,null,"細分類番号"]
[null,null,null,"当該事業を所管する大臣"]
[]
[]
[null,12,null,"工場等に係る事業の名称",null,null,null,null,null,null,null,null,null,null,null,null,null,null,null,{"$f":"IF(T1670&W1670&Z1670&AC1670=\"\",\"\",(IF(ISERROR(VLOOKUP(T1670&W1670&Z1670&AC1670,日本標準産業分類!A:B,2,FALSE)),\"該当の細分類がありません\",VLOOKUP(T1670&W1670&Z1670&AC1670,日本標準産業分類!A:B,2,FALSE))))","v":""},null,null,null,null,null,null,null,null,null,null,null,null,null,null,null,null,null,null,null,null,null,null,null,null,null,null,null,null,null,null,null,null,null,null,null,null,null,null,"t-CO2"]
[null,null,null,"細分類番号"]
[null,null,null,"当該事業を所管する大臣"]
[]
[]
[null,13,null,"工場等に係る事業の名称",null,null,null,null,null,null,null,null,null,null,null,null,null,null,null,{"$f":"IF(T1675&W1675&Z1675&AC1675=\"\",\"\",(IF(ISERROR(VLOOKUP(T1675&W1675&Z1675&AC1675,日本標準産業分類!A:B,2,FALSE)),\"該当の細分類がありません\",VLOOKUP(T1675&W1675&Z1675&AC1675,日本標準産業分類!A:B,2,FALSE))))","v":""},null,null,null,null,null,null,null,null,null,null,null,null,null,null,null,null,null,null,null,null,null,null,null,null,null,null,null,null,null,null,null,null,null,null,null,null,null,null,"t-CO2"]
[null,null,null,"細分類番号"]
[null,null,null,"当該事業を所管する大臣"]
[]
[]
[null,14,null,"工場等に係る事業の名称",null,null,null,null,null,null,null,null,null,null,null,null,null,null,null,{"$f":"IF(T1680&W1680&Z1680&AC1680=\"\",\"\",(IF(ISERROR(VLOOKUP(T1680&W1680&Z1680&AC1680,日本標準産業分類!A:B,2,FALSE)),\"該当の細分類がありません\",VLOOKUP(T1680&W1680&Z1680&AC1680,日本標準産業分類!A:B,2,FALSE))))","v":""},null,null,null,null,null,null,null,null,null,null,null,null,null,null,null,null,null,null,null,null,null,null,null,null,null,null,null,null,null,null,null,null,null,null,null,null,null,null,"t-CO2"]
[null,null,null,"細分類番号"]
[null,null,null,"当該事業を所管する大臣"]
[]
[]
[null,15,null,"工場等に係る事業の名称",null,null,null,null,null,null,null,null,null,null,null,null,null,null,null,{"$f":"IF(T1685&W1685&Z1685&AC1685=\"\",\"\",(IF(ISERROR(VLOOKUP(T1685&W1685&Z1685&AC1685,日本標準産業分類!A:B,2,FALSE)),\"該当の細分類がありません\",VLOOKUP(T1685&W1685&Z1685&AC1685,日本標準産業分類!A:B,2,FALSE))))","v":""},null,null,null,null,null,null,null,null,null,null,null,null,null,null,null,null,null,null,null,null,null,null,null,null,null,null,null,null,null,null,null,null,null,null,null,null,null,null,"t-CO2"]
[null,null,null,"細分類番号"]
[null,null,null,"当該事業を所管する大臣"]
[]
[]
[null,16,null,"工場等に係る事業の名称",null,null,null,null,null,null,null,null,null,null,null,null,null,null,null,{"$f":"IF(T1690&W1690&Z1690&AC1690=\"\",\"\",(IF(ISERROR(VLOOKUP(T1690&W1690&Z1690&AC1690,日本標準産業分類!A:B,2,FALSE)),\"該当の細分類がありません\",VLOOKUP(T1690&W1690&Z1690&AC1690,日本標準産業分類!A:B,2,FALSE))))","v":""},null,null,null,null,null,null,null,null,null,null,null,null,null,null,null,null,null,null,null,null,null,null,null,null,null,null,null,null,null,null,null,null,null,null,null,null,null,null,"t-CO2"]
[null,null,null,"細分類番号"]
[null,null,null,"当該事業を所管する大臣"]
[]
[]
[null,17,null,"工場等に係る事業の名称",null,null,null,null,null,null,null,null,null,null,null,null,null,null,null,{"$f":"IF(T1695&W1695&Z1695&AC1695=\"\",\"\",(IF(ISERROR(VLOOKUP(T1695&W1695&Z1695&AC1695,日本標準産業分類!A:B,2,FALSE)),\"該当の細分類がありません\",VLOOKUP(T1695&W1695&Z1695&AC1695,日本標準産業分類!A:B,2,FALSE))))","v":""},null,null,null,null,null,null,null,null,null,null,null,null,null,null,null,null,null,null,null,null,null,null,null,null,null,null,null,null,null,null,null,null,null,null,null,null,null,null,"t-CO2"]
[null,null,null,"細分類番号"]
[null,null,null,"当該事業を所管する大臣"]
[]
[]
[null,18,null,"工場等に係る事業の名称",null,null,null,null,null,null,null,null,null,null,null,null,null,null,null,{"$f":"IF(T1700&W1700&Z1700&AC1700=\"\",\"\",(IF(ISERROR(VLOOKUP(T1700&W1700&Z1700&AC1700,日本標準産業分類!A:B,2,FALSE)),\"該当の細分類がありません\",VLOOKUP(T1700&W1700&Z1700&AC1700,日本標準産業分類!A:B,2,FALSE))))","v":""},null,null,null,null,null,null,null,null,null,null,null,null,null,null,null,null,null,null,null,null,null,null,null,null,null,null,null,null,null,null,null,null,null,null,null,null,null,null,"t-CO2"]
[null,null,null,"細分類番号"]
[null,null,null,"当該事業を所管する大臣"]
[]
[]
[null,19,null,"工場等に係る事業の名称",null,null,null,null,null,null,null,null,null,null,null,null,null,null,null,{"$f":"IF(T1705&W1705&Z1705&AC1705=\"\",\"\",(IF(ISERROR(VLOOKUP(T1705&W1705&Z1705&AC1705,日本標準産業分類!A:B,2,FALSE)),\"該当の細分類がありません\",VLOOKUP(T1705&W1705&Z1705&AC1705,日本標準産業分類!A:B,2,FALSE))))","v":""},null,null,null,null,null,null,null,null,null,null,null,null,null,null,null,null,null,null,null,null,null,null,null,null,null,null,null,null,null,null,null,null,null,null,null,null,null,null,"t-CO2"]
[null,null,null,"細分類番号"]
[null,null,null,"当該事業を所管する大臣"]
[]
[]
[null,20,null,"工場等に係る事業の名称",null,null,null,null,null,null,null,null,null,null,null,null,null,null,null,{"$f":"IF(T1710&W1710&Z1710&AC1710=\"\",\"\",(IF(ISERROR(VLOOKUP(T1710&W1710&Z1710&AC1710,日本標準産業分類!A:B,2,FALSE)),\"該当の細分類がありません\",VLOOKUP(T1710&W1710&Z1710&AC1710,日本標準産業分類!A:B,2,FALSE))))","v":""},null,null,null,null,null,null,null,null,null,null,null,null,null,null,null,null,null,null,null,null,null,null,null,null,null,null,null,null,null,null,null,null,null,null,null,null,null,null,"t-CO2"]
[null,null,null,"細分類番号"]
[null,null,null,"当該事業を所管する大臣"]
[]
[]
[null,21,null,"工場等に係る事業の名称",null,null,null,null,null,null,null,null,null,null,null,null,null,null,null,{"$f":"IF(T1715&W1715&Z1715&AC1715=\"\",\"\",(IF(ISERROR(VLOOKUP(T1715&W1715&Z1715&AC1715,日本標準産業分類!A:B,2,FALSE)),\"該当の細分類がありません\",VLOOKUP(T1715&W1715&Z1715&AC1715,日本標準産業分類!A:B,2,FALSE))))","v":""},null,null,null,null,null,null,null,null,null,null,null,null,null,null,null,null,null,null,null,null,null,null,null,null,null,null,null,null,null,null,null,null,null,null,null,null,null,null,"t-CO2"]
[null,null,null,"細分類番号"]
[null,null,null,"当該事業を所管する大臣"]
[]
[]
[null,22,null,"工場等に係る事業の名称",null,null,null,null,null,null,null,null,null,null,null,null,null,null,null,{"$f":"IF(T1720&W1720&Z1720&AC1720=\"\",\"\",(IF(ISERROR(VLOOKUP(T1720&W1720&Z1720&AC1720,日本標準産業分類!A:B,2,FALSE)),\"該当の細分類がありません\",VLOOKUP(T1720&W1720&Z1720&AC1720,日本標準産業分類!A:B,2,FALSE))))","v":""},null,null,null,null,null,null,null,null,null,null,null,null,null,null,null,null,null,null,null,null,null,null,null,null,null,null,null,null,null,null,null,null,null,null,null,null,null,null,"t-CO2"]
[null,null,null,"細分類番号"]
[null,null,null,"当該事業を所管する大臣"]
[]
[]
[null,23,null,"工場等に係る事業の名称",null,null,null,null,null,null,null,null,null,null,null,null,null,null,null,{"$f":"IF(T1725&W1725&Z1725&AC1725=\"\",\"\",(IF(ISERROR(VLOOKUP(T1725&W1725&Z1725&AC1725,日本標準産業分類!A:B,2,FALSE)),\"該当の細分類がありません\",VLOOKUP(T1725&W1725&Z1725&AC1725,日本標準産業分類!A:B,2,FALSE))))","v":""},null,null,null,null,null,null,null,null,null,null,null,null,null,null,null,null,null,null,null,null,null,null,null,null,null,null,null,null,null,null,null,null,null,null,null,null,null,null,"t-CO2"]
[null,null,null,"細分類番号"]
[null,null,null,"当該事業を所管する大臣"]
[]
[]
[null,24,null,"工場等に係る事業の名称",null,null,null,null,null,null,null,null,null,null,null,null,null,null,null,{"$f":"IF(T1730&W1730&Z1730&AC1730=\"\",\"\",(IF(ISERROR(VLOOKUP(T1730&W1730&Z1730&AC1730,日本標準産業分類!A:B,2,FALSE)),\"該当の細分類がありません\",VLOOKUP(T1730&W1730&Z1730&AC1730,日本標準産業分類!A:B,2,FALSE))))","v":""},null,null,null,null,null,null,null,null,null,null,null,null,null,null,null,null,null,null,null,null,null,null,null,null,null,null,null,null,null,null,null,null,null,null,null,null,null,null,"t-CO2"]
[null,null,null,"細分類番号"]
[null,null,null,"当該事業を所管する大臣"]
[]
[]
[null,25,null,"工場等に係る事業の名称",null,null,null,null,null,null,null,null,null,null,null,null,null,null,null,{"$f":"IF(T1735&W1735&Z1735&AC1735=\"\",\"\",(IF(ISERROR(VLOOKUP(T1735&W1735&Z1735&AC1735,日本標準産業分類!A:B,2,FALSE)),\"該当の細分類がありません\",VLOOKUP(T1735&W1735&Z1735&AC1735,日本標準産業分類!A:B,2,FALSE))))","v":""},null,null,null,null,null,null,null,null,null,null,null,null,null,null,null,null,null,null,null,null,null,null,null,null,null,null,null,null,null,null,null,null,null,null,null,null,null,null,"t-CO2"]
[null,null,null,"細分類番号"]
[null,null,null,"当該事業を所管する大臣"]
[]
[]
[null,26,null,"工場等に係る事業の名称",null,null,null,null,null,null,null,null,null,null,null,null,null,null,null,{"$f":"IF(T1740&W1740&Z1740&AC1740=\"\",\"\",(IF(ISERROR(VLOOKUP(T1740&W1740&Z1740&AC1740,日本標準産業分類!A:B,2,FALSE)),\"該当の細分類がありません\",VLOOKUP(T1740&W1740&Z1740&AC1740,日本標準産業分類!A:B,2,FALSE))))","v":""},null,null,null,null,null,null,null,null,null,null,null,null,null,null,null,null,null,null,null,null,null,null,null,null,null,null,null,null,null,null,null,null,null,null,null,null,null,null,"t-CO2"]
[null,null,null,"細分類番号"]
[null,null,null,"当該事業を所管する大臣"]
[]
[]
[null,27,null,"工場等に係る事業の名称",null,null,null,null,null,null,null,null,null,null,null,null,null,null,null,{"$f":"IF(T1745&W1745&Z1745&AC1745=\"\",\"\",(IF(ISERROR(VLOOKUP(T1745&W1745&Z1745&AC1745,日本標準産業分類!A:B,2,FALSE)),\"該当の細分類がありません\",VLOOKUP(T1745&W1745&Z1745&AC1745,日本標準産業分類!A:B,2,FALSE))))","v":""},null,null,null,null,null,null,null,null,null,null,null,null,null,null,null,null,null,null,null,null,null,null,null,null,null,null,null,null,null,null,null,null,null,null,null,null,null,null,"t-CO2"]
[null,null,null,"細分類番号"]
[null,null,null,"当該事業を所管する大臣"]
[]
[]
[null,28,null,"工場等に係る事業の名称",null,null,null,null,null,null,null,null,null,null,null,null,null,null,null,{"$f":"IF(T1750&W1750&Z1750&AC1750=\"\",\"\",(IF(ISERROR(VLOOKUP(T1750&W1750&Z1750&AC1750,日本標準産業分類!A:B,2,FALSE)),\"該当の細分類がありません\",VLOOKUP(T1750&W1750&Z1750&AC1750,日本標準産業分類!A:B,2,FALSE))))","v":""},null,null,null,null,null,null,null,null,null,null,null,null,null,null,null,null,null,null,null,null,null,null,null,null,null,null,null,null,null,null,null,null,null,null,null,null,null,null,"t-CO2"]
[null,null,null,"細分類番号"]
[null,null,null,"当該事業を所管する大臣"]
[]
[]
[null,29,null,"工場等に係る事業の名称",null,null,null,null,null,null,null,null,null,null,null,null,null,null,null,{"$f":"IF(T1755&W1755&Z1755&AC1755=\"\",\"\",(IF(ISERROR(VLOOKUP(T1755&W1755&Z1755&AC1755,日本標準産業分類!A:B,2,FALSE)),\"該当の細分類がありません\",VLOOKUP(T1755&W1755&Z1755&AC1755,日本標準産業分類!A:B,2,FALSE))))","v":""},null,null,null,null,null,null,null,null,null,null,null,null,null,null,null,null,null,null,null,null,null,null,null,null,null,null,null,null,null,null,null,null,null,null,null,null,null,null,"t-CO2"]
[null,null,null,"細分類番号"]
[null,null,null,"当該事業を所管する大臣"]
[]
[]
[null,30,null,"工場等に係る事業の名称",null,null,null,null,null,null,null,null,null,null,null,null,null,null,null,{"$f":"IF(T1760&W1760&Z1760&AC1760=\"\",\"\",(IF(ISERROR(VLOOKUP(T1760&W1760&Z1760&AC1760,日本標準産業分類!A:B,2,FALSE)),\"該当の細分類がありません\",VLOOKUP(T1760&W1760&Z1760&AC1760,日本標準産業分類!A:B,2,FALSE))))","v":""},null,null,null,null,null,null,null,null,null,null,null,null,null,null,null,null,null,null,null,null,null,null,null,null,null,null,null,null,null,null,null,null,null,null,null,null,null,null,"t-CO2"]
[null,null,null,"細分類番号"]
[null,null,null,"当該事業を所管する大臣"]
[]
[]
[null,31,null,"工場等に係る事業の名称",null,null,null,null,null,null,null,null,null,null,null,null,null,null,null,{"$f":"IF(T1765&W1765&Z1765&AC1765=\"\",\"\",(IF(ISERROR(VLOOKUP(T1765&W1765&Z1765&AC1765,日本標準産業分類!A:B,2,FALSE)),\"該当の細分類がありません\",VLOOKUP(T1765&W1765&Z1765&AC1765,日本標準産業分類!A:B,2,FALSE))))","v":""},null,null,null,null,null,null,null,null,null,null,null,null,null,null,null,null,null,null,null,null,null,null,null,null,null,null,null,null,null,null,null,null,null,null,null,null,null,null,"t-CO2"]
[null,null,null,"細分類番号"]
[null,null,null,"当該事業を所管する大臣"]
[]
[]
[null,32,null,"工場等に係る事業の名称",null,null,null,null,null,null,null,null,null,null,null,null,null,null,null,{"$f":"IF(T1770&W1770&Z1770&AC1770=\"\",\"\",(IF(ISERROR(VLOOKUP(T1770&W1770&Z1770&AC1770,日本標準産業分類!A:B,2,FALSE)),\"該当の細分類がありません\",VLOOKUP(T1770&W1770&Z1770&AC1770,日本標準産業分類!A:B,2,FALSE))))","v":""},null,null,null,null,null,null,null,null,null,null,null,null,null,null,null,null,null,null,null,null,null,null,null,null,null,null,null,null,null,null,null,null,null,null,null,null,null,null,"t-CO2"]
[null,null,null,"細分類番号"]
[null,null,null,"当該事業を所管する大臣"]
[]
[]
[null,33,null,"工場等に係る事業の名称",null,null,null,null,null,null,null,null,null,null,null,null,null,null,null,{"$f":"IF(T1775&W1775&Z1775&AC1775=\"\",\"\",(IF(ISERROR(VLOOKUP(T1775&W1775&Z1775&AC1775,日本標準産業分類!A:B,2,FALSE)),\"該当の細分類がありません\",VLOOKUP(T1775&W1775&Z1775&AC1775,日本標準産業分類!A:B,2,FALSE))))","v":""},null,null,null,null,null,null,null,null,null,null,null,null,null,null,null,null,null,null,null,null,null,null,null,null,null,null,null,null,null,null,null,null,null,null,null,null,null,null,"t-CO2"]
[null,null,null,"細分類番号"]
[null,null,null,"当該事業を所管する大臣"]
[]
[]
[null,34,null,"工場等に係る事業の名称",null,null,null,null,null,null,null,null,null,null,null,null,null,null,null,{"$f":"IF(T1780&W1780&Z1780&AC1780=\"\",\"\",(IF(ISERROR(VLOOKUP(T1780&W1780&Z1780&AC1780,日本標準産業分類!A:B,2,FALSE)),\"該当の細分類がありません\",VLOOKUP(T1780&W1780&Z1780&AC1780,日本標準産業分類!A:B,2,FALSE))))","v":""},null,null,null,null,null,null,null,null,null,null,null,null,null,null,null,null,null,null,null,null,null,null,null,null,null,null,null,null,null,null,null,null,null,null,null,null,null,null,"t-CO2"]
[null,null,null,"細分類番号"]
[null,null,null,"当該事業を所管する大臣"]
[]
[]
[null,35,null,"工場等に係る事業の名称",null,null,null,null,null,null,null,null,null,null,null,null,null,null,null,{"$f":"IF(T1785&W1785&Z1785&AC1785=\"\",\"\",(IF(ISERROR(VLOOKUP(T1785&W1785&Z1785&AC1785,日本標準産業分類!A:B,2,FALSE)),\"該当の細分類がありません\",VLOOKUP(T1785&W1785&Z1785&AC1785,日本標準産業分類!A:B,2,FALSE))))","v":""},null,null,null,null,null,null,null,null,null,null,null,null,null,null,null,null,null,null,null,null,null,null,null,null,null,null,null,null,null,null,null,null,null,null,null,null,null,null,"t-CO2"]
[null,null,null,"細分類番号"]
[null,null,null,"当該事業を所管する大臣"]
[]
[]
[null,36,null,"工場等に係る事業の名称",null,null,null,null,null,null,null,null,null,null,null,null,null,null,null,{"$f":"IF(T1790&W1790&Z1790&AC1790=\"\",\"\",(IF(ISERROR(VLOOKUP(T1790&W1790&Z1790&AC1790,日本標準産業分類!A:B,2,FALSE)),\"該当の細分類がありません\",VLOOKUP(T1790&W1790&Z1790&AC1790,日本標準産業分類!A:B,2,FALSE))))","v":""},null,null,null,null,null,null,null,null,null,null,null,null,null,null,null,null,null,null,null,null,null,null,null,null,null,null,null,null,null,null,null,null,null,null,null,null,null,null,"t-CO2"]
[null,null,null,"細分類番号"]
[null,null,null,"当該事業を所管する大臣"]
[]
[]
[]
[null,"備考",null,"１",null,"番号１から３までの項には、事業分類ごとに合計した排出量を記入すること。なお、事業分類は、日本標準産業分類（細分類）ごととす"]
[null,null,null,null,"る。また、事業分類が４分類以上になる場合には、項の追加を行うこと。"]
[null,null,null,"２",null,"エネルギーの使用に伴って発生する二酸化炭素の温室効果ガス算定排出量の欄には、特定－第12表の１の備考４（１）に掲げる量を記載"]
[null,null,null,null,"すること。"]
[null,null,null,"３",null,"エネルギーの使用に伴って発生する二酸化炭素の温室効果ガス算定排出量の算定は、地球温暖化対策の推進に関する法律に基づく命令の"]
[null,null,null,null,"規定に基づいて行うこと。"]
[]
[]
[null,"３　事業者の調整後温室効果ガス排出量"]
[null,null,null,"調整後温室効果ガス排出量",null,null,null,null,null,null,null,null,null,null,null,null,null,null,null,null,null,null,null,null,null,null,null,null,null,null,null,{"$f":"AF1268","v":4260},null,null,null,null,null,null,null,null,null,null,null,null,null,null,null,null,null,null,null,null,null,null,null,null,null,null,"t-CO2"]
[]
[null,"備考",null,null,"調整後温室効果ガス排出量の欄には、環境大臣及び経済産業大臣が定めるところにより算定した量を記載する。"]
[]
[]
[null,"４の１　エネルギーの使用に伴って発生する二酸化炭素のうち、他人から供給された電気の使用に伴う二酸化炭素の温室効果ガス算定\n　　排出量の算定に用いた係数"]
[]
[null,"係数の値",null,null,null,null,null,null,null,null,null,null,null,null,null,null,null,null,null,null,"係数の根拠",null,null,null,null,null,null,null,null,null,null,null,null,null,null,null,null,null,null,"係数の適用範囲"]
[null,"t-CO2/kWh",null,null,null,null,null,null,null,null,null,null,null,null,null,null,null,null,null,null,"代替値",null,null,null,null,null,null,null,null,null,null,null,null,null,null,null,null,null,null,"実排出係数"]
[null,0.57899999999999996]
[]
[]
[]
[]
[]
[]
[]
[]
[]
[]
[]
[]
[]
[]
[]
[]
[]
[]
[]
[]
[]
[]
[]
[]
[]
[]
[]
[]
[]
[]
[]
[]
[]
[]
[]
[]
[]
[]
[]
[]
[]
[]
[]
[]
[]
[]
[]
[]
[]
[null,"備考",null,null,"本表の各欄には、エネルギーの使用に伴って発生する二酸化炭素の算定において、他人から供給された電気の使用に伴う二酸化炭素の"]
[null,null,null,"排出量の算定に用いた係数について、当該係数の根拠及び係数の値を記載すること。"]
[]
[]
[]
[null,"４の２　調整後温室効果ガス排出量のうち、他人から供給された電気の使用に伴う二酸化炭素の調整後温室効果ガス排出量の算定に\n　　用いた係数"]
[]
[null,"係数の値",null,null,null,null,null,null,null,null,null,null,null,null,null,null,null,null,null,null,"係数の根拠",null,null,null,null,null,null,null,null,null,null,null,null,null,null,null,null,null,null,"係数の適用範囲"]
[null,"t-CO2/kWh",null,null,null,null,null,null,null,null,null,null,null,null,null,null,null,null,null,null,"代替値",null,null,null,null,null,null,null,null,null,null,null,null,null,null,null,null,null,null,"調整後排出係数"]
[null,0.57899999999999996]
[]
[]
[]
[]
[]
[]
[]
[]
[]
[]
[]
[]
[]
[]
[]
[]
[]
[]
[]
[]
[]
[]
[]
[]
[]
[]
[]
[]
[]
[]
[]
[]
[]
[]
[]
[]
[]
[]
[]
[]
[]
[]
[]
[]
[]
[]
[]
[]
[]
[null,"備考",null,null,"本表の各欄には、調整後温室効果ガス排出量の算定において、他人から供給された電気の使用に伴う二酸化炭素の排出量の算定に"]
[null,null,null,"用いた係数について、当該係数の根拠及び係数の値を記載すること。"]
[]
[]
[]
[null,"５　地球温暖化対策の推進に関する法律に基づく命令に定める算定方法又は係数と異なる算定方法又は係数の内容"]
[null,"電気を使用する店舗は、全国（北海道～沖縄）で３４５店舗のテナントで、事務所は８事業所ある。そのため、電気供給会社の把握が"]
[null,"困難を極めるため、代替値の係数を利用して計算している。なお、過去５年間も継続して代替値を利用しています。"]
[]
[]
[]
[]
[]
[]
[]
[]
[]
[]
[]
[]
[]
[]
[]
[]
[]
[]
[]
[]
[]
[]
[]
[]
[]
[]
[]
[]
[null,"備考",null,"１",null,"本表の各欄には、地球温暖化対策の推進に関する法律に基づく命令に定める算定方法又は係数と異なる算定方法又は係数を"]
[null,null,null,null,"用いた場合に、当該算定方法又は係数の内容について説明すること。"]
[null,null,null,"２",null,"他人から供給された電気の使用に伴う二酸化炭素の排出量の算定に用いた係数については、特定－第12表の４の１及び４の"]
[null,null,null,null,"２に記載すること。"]
[]
[]
[null,"６の１　調整後温室効果ガス排出量の算定に用いた京都メカニズムクレジットの量、国内認証排出削減量及び海外認証排出削減量の量"]
[null,"種　別",null,null,null,null,null,null,null,null,null,null,null,null,null,null,null,null,null,null,null,null,null,null,null,null,null,null,null,"合計量"]
[null,"１．",null,"京都メカニズムクレジット",null,null,null,null,null,null,null,null,null,null,null,null,null,null,null,null,null,null,null,null,null,null,null,null,null,null,null,null,null,null,null,null,null,null,null,null,null,null,null,null,null,null,null,null,null,null,null,null,null,null,null,null,"t-CO2"]
[null,"２．",null,null,null,null,null,null,null,null,null,null,null,null,null,null,null,null,null,null,null,null,null,null,null,null,null,null,null,null,null,null,null,null,null,null,null,null,null,null,null,null,null,null,null,null,null,null,null,null,null,null,null,null,null,null,"t-CO2"]
[null,"３．",null,null,null,null,null,null,null,null,null,null,null,null,null,null,null,null,null,null,null,null,null,null,null,null,null,null,null,null,null,null,null,null,null,null,null,null,null,null,null,null,null,null,null,null,null,null,null,null,null,null,null,null,null,null,"t-CO2"]
[null,"４．",null,null,null,null,null,null,null,null,null,null,null,null,null,null,null,null,null,null,null,null,null,null,null,null,null,null,null,null,null,null,null,null,null,null,null,null,null,null,null,null,null,null,null,null,null,null,null,null,null,null,null,null,null,null,"t-CO2"]
[null,"５．",null,null,null,null,null,null,null,null,null,null,null,null,null,null,null,null,null,null,null,null,null,null,null,null,null,null,null,null,null,null,null,null,null,null,null,null,null,null,null,null,null,null,null,null,null,null,null,null,null,null,null,null,null,null,"t-CO2"]
[null,"６．",null,null,null,null,null,null,null,null,null,null,null,null,null,null,null,null,null,null,null,null,null,null,null,null,null,null,null,null,null,null,null,null,null,null,null,null,null,null,null,null,null,null,null,null,null,null,null,null,null,null,null,null,null,null,"t-CO2",null,null,null,null,null,null,null,{"$f":"IF(SUM(AD1966:BD1969)=0,\"\",ROUND(SUM(AD1966:BD1969),2-INT(LOG(SUM(AD1966:BD1969)))))","v":""}]
[null,"備考",null,"１",null,"本表の１．の欄には、調整後温室効果ガス排出量の算定に用いた京都メカニズムクレジット（地球温暖化対策の推進に関する法律"]
[null,null,null,null,"第２条第６項に規定する算定割当量をいう。以下同じ。）の合計量を記載すること。併せて、特定－第１２表の６の２に、本欄に記"]
[null,null,null,null,"載した京都メカニズムクレジットに係る情報を記載すること。"]
[null,null,null,"２",null,"本表の２．以降の欄には、環境大臣及び経済産業大臣が定める国内認証排出削減量の種別ごとの合計量並びに環境大臣及び経済産"]
[null,null,null,null,"業大臣が定める海外認証排出削減量の種別ごとの合計量を記載すること。併せて、特定－第１２表の６の３に、本欄に記載した国内"]
[null,null,null,null,"認証排出削減量に係る情報を、特定－第１２表の６の４に、本欄に記載した海外認証排出削減量に係る情報を記載すること。"]
[]
[]
[null,"６の２　京都メカニズムクレジットに係る情報"]
[null,"識別番号",null,null,null,null,null,null,null,null,null,null,null,null,null,null,null,null,null,null,"移転日",null,null,null,null,null,null,null,null,null,null,null,null,null,null,null,null,null,null,"移転した量"]
[null,null,null,null,null,null,null,null,null,null,null,null,null,null,null,null,null,null,null,null,null,null,null,null,null,null,null,null,null,null,null,null,null,null,null,null,null,null,null,null,null,null,null,null,null,null,null,null,null,null,null,null,null,null,null,null,"t-CO2"]
[null,null,null,null,null,null,null,null,null,null,null,null,null,null,null,null,null,null,null,null,null,null,null,null,null,null,null,null,null,null,null,null,null,null,null,null,null,null,null,null,null,null,null,null,null,null,null,null,null,null,null,null,null,null,null,null,"t-CO2"]
[null,null,null,null,null,null,null,null,null,null,null,null,null,null,null,null,null,null,null,null,null,null,null,null,null,null,null,null,null,null,null,null,null,null,null,null,null,null,null,null,null,null,null,null,null,null,null,null,null,null,null,null,null,null,null,null,"t-CO2"]
[null,null,null,null,null,null,null,null,null,null,null,null,null,null,null,null,null,null,null,null,null,null,null,null,null,null,null,null,null,null,null,null,null,null,null,null,null,null,null,null,null,null,null,null,null,null,null,null,null,null,null,null,null,null,null,null,"t-CO2"]
[null,null,null,null,null,null,null,null,null,null,null,null,null,null,null,null,null,null,null,null,null,null,null,null,null,null,null,null,null,null,null,null,null,null,null,null,null,null,null,null,null,null,null,null,null,null,null,null,null,null,null,null,null,null,null,null,"t-CO2"]
[null,null,null,null,null,null,null,null,null,null,null,null,null,null,null,null,null,null,null,null,null,null,null,null,null,null,null,null,null,null,null,null,null,null,null,null,null,null,null,null,null,null,null,null,null,null,null,null,null,null,null,null,null,null,null,null,"t-CO2"]
[null,null,null,null,null,null,null,null,null,null,null,null,null,null,null,null,null,null,null,null,null,null,null,null,null,null,null,null,null,null,null,null,null,null,null,null,null,null,null,null,null,null,null,null,null,null,null,null,null,null,null,null,null,null,null,null,"t-CO2"]
[null,null,null,null,null,null,null,null,null,null,null,null,null,null,null,null,null,null,null,null,null,null,null,null,null,null,null,null,null,null,null,null,null,null,null,null,null,null,null,null,null,null,null,null,null,null,null,null,null,null,null,null,null,null,null,null,"t-CO2"]
[null,null,null,null,null,null,null,null,null,null,null,null,null,null,null,null,null,null,null,null,null,null,null,null,null,null,null,null,null,null,null,null,null,null,null,null,null,null,null,null,null,null,null,null,null,null,null,null,null,null,null,null,null,null,null,null,"t-CO2"]
[null,null,null,null,null,null,null,null,null,null,null,null,null,null,null,null,null,null,null,null,null,null,null,null,null,null,null,null,null,null,null,null,null,null,null,null,null,null,null,null,null,null,null,null,null,null,null,null,null,null,null,null,null,null,null,null,"t-CO2"]
[null,null,null,null,null,null,null,null,null,null,null,null,null,null,null,null,null,null,null,null,"",null,null,null,null,null,null,null,null,null,null,null,null,null,null,null,null,null,null,null,null,null,null,null,null,null,null,null,null,null,null,null,null,null,null,null,"t-CO2"]
[null,null,null,null,null,null,null,null,null,null,null,null,null,null,null,null,null,null,null,null,"",null,null,null,null,null,null,null,null,null,null,null,null,null,null,null,null,null,null,null,null,null,null,null,null,null,null,null,null,null,null,null,null,null,null,null,"t-CO2"]
[null,null,null,null,null,null,null,null,null,null,null,null,null,null,null,null,null,null,null,null,"",null,null,null,null,null,null,null,null,null,null,null,null,null,null,null,null,null,null,null,null,null,null,null,null,null,null,null,null,null,null,null,null,null,null,null,"t-CO2"]
[null,null,null,null,null,null,null,null,null,null,null,null,null,null,null,null,null,null,null,null,"",null,null,null,null,null,null,null,null,null,null,null,null,null,null,null,null,null,null,null,null,null,null,null,null,null,null,null,null,null,null,null,null,null,null,null,"t-CO2"]
[null,null,null,null,null,null,null,null,null,null,null,null,null,null,null,null,null,null,null,null,"",null,null,null,null,null,null,null,null,null,null,null,null,null,null,null,null,null,null,null,null,null,null,null,null,null,null,null,null,null,null,null,null,null,null,null,"t-CO2"]
[null,null,null,null,null,null,null,null,null,null,null,null,null,null,null,null,null,null,null,null,"",null,null,null,null,null,null,null,null,null,null,null,null,null,null,null,null,null,null,null,null,null,null,null,null,null,null,null,null,null,null,null,null,null,null,null,"t-CO2"]
[null,null,null,null,null,null,null,null,null,null,null,null,null,null,null,null,null,null,null,null,"",null,null,null,null,null,null,null,null,null,null,null,null,null,null,null,null,null,null,null,null,null,null,null,null,null,null,null,null,null,null,null,null,null,null,null,"t-CO2"]
[null,null,null,null,null,null,null,null,null,null,null,null,null,null,null,null,null,null,null,null,"",null,null,null,null,null,null,null,null,null,null,null,null,null,null,null,null,null,null,null,null,null,null,null,null,null,null,null,null,null,null,null,null,null,null,null,"t-CO2"]
[null,null,null,null,null,null,null,null,null,null,null,null,null,null,null,null,null,null,null,null,"",null,null,null,null,null,null,null,null,null,null,null,null,null,null,null,null,null,null,null,null,null,null,null,null,null,null,null,null,null,null,null,null,null,null,null,"t-CO2"]
[null,null,null,null,null,null,null,null,null,null,null,null,null,null,null,null,null,null,null,null,"",null,null,null,null,null,null,null,null,null,null,null,null,null,null,null,null,null,null,null,null,null,null,null,null,null,null,null,null,null,null,null,null,null,null,null,"t-CO2"]
[null,null,null,null,null,null,null,null,null,null,null,null,null,null,null,null,null,null,null,null,"",null,null,null,null,null,null,null,null,null,null,null,null,null,null,null,null,null,null,null,null,null,null,null,null,null,null,null,null,null,null,null,null,null,null,null,"t-CO2"]
[null,null,null,null,null,null,null,null,null,null,null,null,null,null,null,null,null,null,null,null,"",null,null,null,null,null,null,null,null,null,null,null,null,null,null,null,null,null,null,null,null,null,null,null,null,null,null,null,null,null,null,null,null,null,null,null,"t-CO2"]
[null,null,null,null,null,null,null,null,null,null,null,null,null,null,null,null,null,null,null,null,"",null,null,null,null,null,null,null,null,null,null,null,null,null,null,null,null,null,null,null,null,null,null,null,null,null,null,null,null,null,null,null,null,null,null,null,"t-CO2"]
[null,null,null,null,null,null,null,null,null,null,null,null,null,null,null,null,null,null,null,null,"",null,null,null,null,null,null,null,null,null,null,null,null,null,null,null,null,null,null,null,null,null,null,null,null,null,null,null,null,null,null,null,null,null,null,null,"t-CO2"]
[null,null,null,null,null,null,null,null,null,null,null,null,null,null,null,null,null,null,null,null,"",null,null,null,null,null,null,null,null,null,null,null,null,null,null,null,null,null,null,null,null,null,null,null,null,null,null,null,null,null,null,null,null,null,null,null,"t-CO2"]
[null,null,null,null,null,null,null,null,null,null,null,null,null,null,null,null,null,null,null,null,"",null,null,null,null,null,null,null,null,null,null,null,null,null,null,null,null,null,null,null,null,null,null,null,null,null,null,null,null,null,null,null,null,null,null,null,"t-CO2"]
[null,null,null,null,null,null,null,null,null,null,null,null,null,null,null,null,null,null,null,null,"",null,null,null,null,null,null,null,null,null,null,null,null,null,null,null,null,null,null,null,null,null,null,null,null,null,null,null,null,null,null,null,null,null,null,null,"t-CO2"]
[null,null,null,null,null,null,null,null,null,null,null,null,null,null,null,null,null,null,null,null,"",null,null,null,null,null,null,null,null,null,null,null,null,null,null,null,null,null,null,null,null,null,null,null,null,null,null,null,null,null,null,null,null,null,null,null,"t-CO2"]
[null,null,null,null,null,null,null,null,null,null,null,null,null,null,null,null,null,null,null,null,"",null,null,null,null,null,null,null,null,null,null,null,null,null,null,null,null,null,null,null,null,null,null,null,null,null,null,null,null,null,null,null,null,null,null,null,"t-CO2"]
[null,null,null,null,null,null,null,null,null,null,null,null,null,null,null,null,null,null,null,null,"",null,null,null,null,null,null,null,null,null,null,null,null,null,null,null,null,null,null,null,null,null,null,null,null,null,null,null,null,null,null,null,null,null,null,null,"t-CO2"]
[null,null,null,null,null,null,null,null,null,null,null,null,null,null,null,null,null,null,null,null,"",null,null,null,null,null,null,null,null,null,null,null,null,null,null,null,null,null,null,null,null,null,null,null,null,null,null,null,null,null,null,null,null,null,null,null,"t-CO2"]
[null,null,null,null,null,null,null,null,null,null,null,null,null,null,null,null,null,null,null,null,"",null,null,null,null,null,null,null,null,null,null,null,null,null,null,null,null,null,null,null,null,null,null,null,null,null,null,null,null,null,null,null,null,null,null,null,"t-CO2"]
[null,null,null,null,null,null,null,null,null,null,null,null,null,null,null,null,null,null,null,null,"",null,null,null,null,null,null,null,null,null,null,null,null,null,null,null,null,null,null,null,null,null,null,null,null,null,null,null,null,null,null,null,null,null,null,null,"t-CO2"]
[null,null,null,null,null,null,null,null,null,null,null,null,null,null,null,null,null,null,null,null,"",null,null,null,null,null,null,null,null,null,null,null,null,null,null,null,null,null,null,null,null,null,null,null,null,null,null,null,null,null,null,null,null,null,null,null,"t-CO2"]
[null,null,null,null,null,null,null,null,null,null,null,null,null,null,null,null,null,null,null,null,"",null,null,null,null,null,null,null,null,null,null,null,null,null,null,null,null,null,null,null,null,null,null,null,null,null,null,null,null,null,null,null,null,null,null,null,"t-CO2"]
[null,null,null,null,null,null,null,null,null,null,null,null,null,null,null,null,null,null,null,null,"",null,null,null,null,null,null,null,null,null,null,null,null,null,null,null,null,null,null,null,null,null,null,null,null,null,null,null,null,null,null,null,null,null,null,null,"t-CO2"]
[null,null,null,null,null,null,null,null,null,null,null,null,null,null,null,null,null,null,null,null,"",null,null,null,null,null,null,null,null,null,null,null,null,null,null,null,null,null,null,null,null,null,null,null,null,null,null,null,null,null,null,null,null,null,null,null,"t-CO2"]
[null,null,null,null,null,null,null,null,null,null,null,null,null,null,null,null,null,null,null,null,"",null,null,null,null,null,null,null,null,null,null,null,null,null,null,null,null,null,null,null,null,null,null,null,null,null,null,null,null,null,null,null,null,null,null,null,"t-CO2"]
[null,null,null,null,null,null,null,null,null,null,null,null,null,null,null,null,null,null,null,null,"",null,null,null,null,null,null,null,null,null,null,null,null,null,null,null,null,null,null,null,null,null,null,null,null,null,null,null,null,null,null,null,null,null,null,null,"t-CO2"]
[null,null,null,null,null,null,null,null,null,null,null,null,null,null,null,null,null,null,null,null,"",null,null,null,null,null,null,null,null,null,null,null,null,null,null,null,null,null,null,null,null,null,null,null,null,null,null,null,null,null,null,null,null,null,null,null,"t-CO2"]
[null,null,null,null,null,null,null,null,null,null,null,null,null,null,null,null,null,null,null,null,"",null,null,null,null,null,null,null,null,null,null,null,null,null,null,null,null,null,null,null,null,null,null,null,null,null,null,null,null,null,null,null,null,null,null,null,"t-CO2"]
[null,null,null,null,null,null,null,null,null,null,null,null,null,null,null,null,null,null,null,null,"",null,null,null,null,null,null,null,null,null,null,null,null,null,null,null,null,null,null,null,null,null,null,null,null,null,null,null,null,null,null,null,null,null,null,null,"t-CO2"]
[null,null,null,null,null,null,null,null,null,null,null,null,null,null,null,null,null,null,null,null,"",null,null,null,null,null,null,null,null,null,null,null,null,null,null,null,null,null,null,null,null,null,null,null,null,null,null,null,null,null,null,null,null,null,null,null,"t-CO2"]
[null,null,null,null,null,null,null,null,null,null,null,null,null,null,null,null,null,null,null,null,"",null,null,null,null,null,null,null,null,null,null,null,null,null,null,null,null,null,null,null,null,null,null,null,null,null,null,null,null,null,null,null,null,null,null,null,"t-CO2"]
[null,null,null,null,null,null,null,null,null,null,null,null,null,null,null,null,null,null,null,null,"",null,null,null,null,null,null,null,null,null,null,null,null,null,null,null,null,null,null,null,null,null,null,null,null,null,null,null,null,null,null,null,null,null,null,null,"t-CO2"]
[null,null,null,null,null,null,null,null,null,null,null,null,null,null,null,null,null,null,null,null,"",null,null,null,null,null,null,null,null,null,null,null,null,null,null,null,null,null,null,null,null,null,null,null,null,null,null,null,null,null,null,null,null,null,null,null,"t-CO2"]
[null,null,null,null,null,null,null,null,null,null,null,null,null,null,null,null,null,null,null,null,"",null,null,null,null,null,null,null,null,null,null,null,null,null,null,null,null,null,null,null,null,null,null,null,null,null,null,null,null,null,null,null,null,null,null,null,"t-CO2"]
[null,null,null,null,null,null,null,null,null,null,null,null,null,null,null,null,null,null,null,null,"",null,null,null,null,null,null,null,null,null,null,null,null,null,null,null,null,null,null,null,null,null,null,null,null,null,null,null,null,null,null,null,null,null,null,null,"t-CO2"]
[null,null,null,null,null,null,null,null,null,null,null,null,null,null,null,null,null,null,null,null,"",null,null,null,null,null,null,null,null,null,null,null,null,null,null,null,null,null,null,null,null,null,null,null,null,null,null,null,null,null,null,null,null,null,null,null,"t-CO2"]
[null,null,null,null,null,null,null,null,null,null,null,null,null,null,null,null,null,null,null,null,"",null,null,null,null,null,null,null,null,null,null,null,null,null,null,null,null,null,null,null,null,null,null,null,null,null,null,null,null,null,null,null,null,null,null,null,"t-CO2"]
[null,"合　計　量",null,null,null,null,null,null,null,null,null,null,null,null,null,null,null,null,null,null,null,null,null,null,null,null,null,null,null,null,null,null,null,null,null,null,null,null,null,{"$f":"IF(SUM(AN1982:BD2031)=0,\"\",ROUND(SUM(AN1982:BD2031),2-INT(LOG(ABS(SUM(AN1982:BD2031))))))","v":""},null,null,null,null,null,null,null,null,null,null,null,null,null,null,null,null,"t-CO2"]
[null,"備考",null,"１",null,"移転日の欄には、国の管理口座への移転を行った日を記載すること。"]
[null,null,null,"２",null,"本表に記載したすべての京都メカニズムクレジットについて、特定排出者が国の管理口座への移転を行ったことを確認するため、"]
[null,null,null,null,"国別登録簿システムから入手できる「算定割当量振替通知」を添付すること。"]
[]
[]
[]
[null,"６の３　国内認証排出削減量に係る情報"]
[null,"削減量の種別"]
[null,"識別番号",null,null,null,null,null,null,null,null,null,null,null,null,null,null,null,null,null,null,"対象企業名\n（特定排出者コード）",null,null,null,null,null,null,null,null,"無効化日又は移転日",null,null,null,null,null,null,null,null,null,null,"無効化量又は移転量"]
[null,null,null,null,null,null,null,null,null,null,null,null,null,null,null,null,null,null,null,null,null,null,null,null,null,null,null,null,null,null,null,null,null,null,null,null,null,null,null,null,null,null,null,null,null,null,null,null,null,null,null,null,null,null,null,null,null,"t-CO2"]
[null,null,null,null,null,null,null,null,null,null,null,null,null,null,null,null,null,null,null,null,null,null,null,null,null,null,null,null,null,null,null,null,null,null,null,null,null,null,null,null,null,null,null,null,null,null,null,null,null,null,null,null,null,null,null,null,null,"t-CO2"]
[null,null,null,null,null,null,null,null,null,null,null,null,null,null,null,null,null,null,null,null,null,null,null,null,null,null,null,null,null,null,null,null,null,null,null,null,null,null,null,null,null,null,null,null,null,null,null,null,null,null,null,null,null,null,null,null,null,"t-CO2"]
[null,null,null,null,null,null,null,null,null,null,null,null,null,null,null,null,null,null,null,null,null,null,null,null,null,null,null,null,null,null,null,null,null,null,null,null,null,null,null,null,null,null,null,null,null,null,null,null,null,null,null,null,null,null,null,null,null,"t-CO2"]
[null,null,null,null,null,null,null,null,null,null,null,null,null,null,null,null,null,null,null,null,null,null,null,null,null,null,null,null,null,null,null,null,null,null,null,null,null,null,null,null,null,null,null,null,null,null,null,null,null,null,null,null,null,null,null,null,null,"t-CO2"]
[null,null,null,null,null,null,null,null,null,null,null,null,null,null,null,null,null,null,null,null,null,null,null,null,null,null,null,null,null,null,null,null,null,null,null,null,null,null,null,null,null,null,null,null,null,null,null,null,null,null,null,null,null,null,null,null,null,"t-CO2"]
[null,null,null,null,null,null,null,null,null,null,null,null,null,null,null,null,null,null,null,null,null,null,null,null,null,null,null,null,null,null,null,null,null,null,null,null,null,null,null,null,null,null,null,null,null,null,null,null,null,null,null,null,null,null,null,null,null,"t-CO2"]
[null,null,null,null,null,null,null,null,null,null,null,null,null,null,null,null,null,null,null,null,null,null,null,null,null,null,null,null,null,null,null,null,null,null,null,null,null,null,null,null,null,null,null,null,null,null,null,null,null,null,null,null,null,null,null,null,null,"t-CO2"]
[null,null,null,null,null,null,null,null,null,null,null,null,null,null,null,null,null,null,null,null,null,null,null,null,null,null,null,null,null,null,null,null,null,null,null,null,null,null,null,null,null,null,null,null,null,null,null,null,null,null,null,null,null,null,null,null,null,"t-CO2"]
[null,null,null,null,null,null,null,null,null,null,null,null,null,null,null,null,null,null,null,null,null,null,null,null,null,null,null,null,null,null,null,null,null,null,null,null,null,null,null,null,null,null,null,null,null,null,null,null,null,null,null,null,null,null,null,null,null,"t-CO2"]
[null,null,null,null,null,null,null,null,null,null,null,null,null,null,null,null,null,null,null,null,null,null,null,null,null,null,null,null,null,"",null,null,null,null,null,null,null,null,null,null,null,null,null,null,null,null,null,null,null,null,null,null,null,null,null,null,null,"t-CO2"]
[null,null,null,null,null,null,null,null,null,null,null,null,null,null,null,null,null,null,null,null,null,null,null,null,null,null,null,null,null,"",null,null,null,null,null,null,null,null,null,null,null,null,null,null,null,null,null,null,null,null,null,null,null,null,null,null,null,"t-CO2"]
[null,null,null,null,null,null,null,null,null,null,null,null,null,null,null,null,null,null,null,null,null,null,null,null,null,null,null,null,null,"",null,null,null,null,null,null,null,null,null,null,null,null,null,null,null,null,null,null,null,null,null,null,null,null,null,null,null,"t-CO2"]
[null,null,null,null,null,null,null,null,null,null,null,null,null,null,null,null,null,null,null,null,null,null,null,null,null,null,null,null,null,"",null,null,null,null,null,null,null,null,null,null,null,null,null,null,null,null,null,null,null,null,null,null,null,null,null,null,null,"t-CO2"]
[null,null,null,null,null,null,null,null,null,null,null,null,null,null,null,null,null,null,null,null,null,null,null,null,null,null,null,null,null,"",null,null,null,null,null,null,null,null,null,null,null,null,null,null,null,null,null,null,null,null,null,null,null,null,null,null,null,"t-CO2"]
[null,null,null,null,null,null,null,null,null,null,null,null,null,null,null,null,null,null,null,null,null,null,null,null,null,null,null,null,null,"",null,null,null,null,null,null,null,null,null,null,null,null,null,null,null,null,null,null,null,null,null,null,null,null,null,null,null,"t-CO2"]
[null,null,null,null,null,null,null,null,null,null,null,null,null,null,null,null,null,null,null,null,null,null,null,null,null,null,null,null,null,"",null,null,null,null,null,null,null,null,null,null,null,null,null,null,null,null,null,null,null,null,null,null,null,null,null,null,null,"t-CO2"]
[null,null,null,null,null,null,null,null,null,null,null,null,null,null,null,null,null,null,null,null,null,null,null,null,null,null,null,null,null,"",null,null,null,null,null,null,null,null,null,null,null,null,null,null,null,null,null,null,null,null,null,null,null,null,null,null,null,"t-CO2"]
[null,null,null,null,null,null,null,null,null,null,null,null,null,null,null,null,null,null,null,null,null,null,null,null,null,null,null,null,null,"",null,null,null,null,null,null,null,null,null,null,null,null,null,null,null,null,null,null,null,null,null,null,null,null,null,null,null,"t-CO2"]
[null,null,null,null,null,null,null,null,null,null,null,null,null,null,null,null,null,null,null,null,null,null,null,null,null,null,null,null,null,"",null,null,null,null,null,null,null,null,null,null,null,null,null,null,null,null,null,null,null,null,null,null,null,null,null,null,null,"t-CO2"]
[null,null,null,null,null,null,null,null,null,null,null,null,null,null,null,null,null,null,null,null,null,null,null,null,null,null,null,null,null,"",null,null,null,null,null,null,null,null,null,null,null,null,null,null,null,null,null,null,null,null,null,null,null,null,null,null,null,"t-CO2"]
[null,null,null,null,null,null,null,null,null,null,null,null,null,null,null,null,null,null,null,null,null,null,null,null,null,null,null,null,null,"",null,null,null,null,null,null,null,null,null,null,null,null,null,null,null,null,null,null,null,null,null,null,null,null,null,null,null,"t-CO2"]
[null,null,null,null,null,null,null,null,null,null,null,null,null,null,null,null,null,null,null,null,null,null,null,null,null,null,null,null,null,"",null,null,null,null,null,null,null,null,null,null,null,null,null,null,null,null,null,null,null,null,null,null,null,null,null,null,null,"t-CO2"]
[null,null,null,null,null,null,null,null,null,null,null,null,null,null,null,null,null,null,null,null,null,null,null,null,null,null,null,null,null,"",null,null,null,null,null,null,null,null,null,null,null,null,null,null,null,null,null,null,null,null,null,null,null,null,null,null,null,"t-CO2"]
[null,null,null,null,null,null,null,null,null,null,null,null,null,null,null,null,null,null,null,null,null,null,null,null,null,null,null,null,null,"",null,null,null,null,null,null,null,null,null,null,null,null,null,null,null,null,null,null,null,null,null,null,null,null,null,null,null,"t-CO2"]
[null,null,null,null,null,null,null,null,null,null,null,null,null,null,null,null,null,null,null,null,null,null,null,null,null,null,null,null,null,"",null,null,null,null,null,null,null,null,null,null,null,null,null,null,null,null,null,null,null,null,null,null,null,null,null,null,null,"t-CO2"]
[null,null,null,null,null,null,null,null,null,null,null,null,null,null,null,null,null,null,null,null,null,null,null,null,null,null,null,null,null,"",null,null,null,null,null,null,null,null,null,null,null,null,null,null,null,null,null,null,null,null,null,null,null,null,null,null,null,"t-CO2"]
[null,null,null,null,null,null,null,null,null,null,null,null,null,null,null,null,null,null,null,null,null,null,null,null,null,null,null,null,null,"",null,null,null,null,null,null,null,null,null,null,null,null,null,null,null,null,null,null,null,null,null,null,null,null,null,null,null,"t-CO2"]
[null,null,null,null,null,null,null,null,null,null,null,null,null,null,null,null,null,null,null,null,null,null,null,null,null,null,null,null,null,"",null,null,null,null,null,null,null,null,null,null,null,null,null,null,null,null,null,null,null,null,null,null,null,null,null,null,null,"t-CO2"]
[null,null,null,null,null,null,null,null,null,null,null,null,null,null,null,null,null,null,null,null,null,null,null,null,null,null,null,null,null,"",null,null,null,null,null,null,null,null,null,null,null,null,null,null,null,null,null,null,null,null,null,null,null,null,null,null,null,"t-CO2"]
[null,null,null,null,null,null,null,null,null,null,null,null,null,null,null,null,null,null,null,null,null,null,null,null,null,null,null,null,null,"",null,null,null,null,null,null,null,null,null,null,null,null,null,null,null,null,null,null,null,null,null,null,null,null,null,null,null,"t-CO2"]
[null,null,null,null,null,null,null,null,null,null,null,null,null,null,null,null,null,null,null,null,null,null,null,null,null,null,null,null,null,"",null,null,null,null,null,null,null,null,null,null,null,null,null,null,null,null,null,null,null,null,null,null,null,null,null,null,null,"t-CO2"]
[null,null,null,null,null,null,null,null,null,null,null,null,null,null,null,null,null,null,null,null,null,null,null,null,null,null,null,null,null,"",null,null,null,null,null,null,null,null,null,null,null,null,null,null,null,null,null,null,null,null,null,null,null,null,null,null,null,"t-CO2"]
[null,null,null,null,null,null,null,null,null,null,null,null,null,null,null,null,null,null,null,null,null,null,null,null,null,null,null,null,null,"",null,null,null,null,null,null,null,null,null,null,null,null,null,null,null,null,null,null,null,null,null,null,null,null,null,null,null,"t-CO2"]
[null,null,null,null,null,null,null,null,null,null,null,null,null,null,null,null,null,null,null,null,null,null,null,null,null,null,null,null,null,"",null,null,null,null,null,null,null,null,null,null,null,null,null,null,null,null,null,null,null,null,null,null,null,null,null,null,null,"t-CO2"]
[null,"合　計　量",null,null,null,null,null,null,null,null,null,null,null,null,null,null,null,null,null,null,null,null,null,null,null,null,null,null,null,null,null,null,null,null,null,null,null,null,null,null,{"$f":"IF(SUM(AO2042:BE2076)=0,\"\",ROUND(SUM(AO2042:BE2076),2-INT(LOG(ABS(SUM(AO2042:BE2076))))))","v":""},null,null,null,null,null,null,null,null,null,null,null,null,null,null,null,null,"t-CO2"]
[]
[null,"削減量の種別"]
[null,"識別番号",null,null,null,null,null,null,null,null,null,null,null,null,null,null,null,null,null,null,"対象企業名\n（特定排出者コード）",null,null,null,null,null,null,null,null,"無効化日又は移転日",null,null,null,null,null,null,null,null,null,null,"無効化量又は移転量"]
[null,null,null,null,null,null,null,null,null,null,null,null,null,null,null,null,null,null,null,null,null,null,null,null,null,null,null,null,null,"",null,null,null,null,null,null,null,null,null,null,null,null,null,null,null,null,null,null,null,null,null,null,null,null,null,null,null,"t-CO2"]
[null,null,null,null,null,null,null,null,null,null,null,null,null,null,null,null,null,null,null,null,null,null,null,null,null,null,null,null,null,"",null,null,null,null,null,null,null,null,null,null,null,null,null,null,null,null,null,null,null,null,null,null,null,null,null,null,null,"t-CO2"]
[null,null,null,null,null,null,null,null,null,null,null,null,null,null,null,null,null,null,null,null,null,null,null,null,null,null,null,null,null,"",null,null,null,null,null,null,null,null,null,null,null,null,null,null,null,null,null,null,null,null,null,null,null,null,null,null,null,"t-CO2"]
[null,null,null,null,null,null,null,null,null,null,null,null,null,null,null,null,null,null,null,null,null,null,null,null,null,null,null,null,null,"",null,null,null,null,null,null,null,null,null,null,null,null,null,null,null,null,null,null,null,null,null,null,null,null,null,null,null,"t-CO2"]
[null,null,null,null,null,null,null,null,null,null,null,null,null,null,null,null,null,null,null,null,null,null,null,null,null,null,null,null,null,"",null,null,null,null,null,null,null,null,null,null,null,null,null,null,null,null,null,null,null,null,null,null,null,null,null,null,null,"t-CO2"]
[null,null,null,null,null,null,null,null,null,null,null,null,null,null,null,null,null,null,null,null,null,null,null,null,null,null,null,null,null,"",null,null,null,null,null,null,null,null,null,null,null,null,null,null,null,null,null,null,null,null,null,null,null,null,null,null,null,"t-CO2"]
[null,null,null,null,null,null,null,null,null,null,null,null,null,null,null,null,null,null,null,null,null,null,null,null,null,null,null,null,null,"",null,null,null,null,null,null,null,null,null,null,null,null,null,null,null,null,null,null,null,null,null,null,null,null,null,null,null,"t-CO2"]
[null,null,null,null,null,null,null,null,null,null,null,null,null,null,null,null,null,null,null,null,null,null,null,null,null,null,null,null,null,"",null,null,null,null,null,null,null,null,null,null,null,null,null,null,null,null,null,null,null,null,null,null,null,null,null,null,null,"t-CO2"]
[null,null,null,null,null,null,null,null,null,null,null,null,null,null,null,null,null,null,null,null,null,null,null,null,null,null,null,null,null,"",null,null,null,null,null,null,null,null,null,null,null,null,null,null,null,null,null,null,null,null,null,null,null,null,null,null,null,"t-CO2"]
[null,null,null,null,null,null,null,null,null,null,null,null,null,null,null,null,null,null,null,null,null,null,null,null,null,null,null,null,null,"",null,null,null,null,null,null,null,null,null,null,null,null,null,null,null,null,null,null,null,null,null,null,null,null,null,null,null,"t-CO2"]
[null,null,null,null,null,null,null,null,null,null,null,null,null,null,null,null,null,null,null,null,null,null,null,null,null,null,null,null,null,"",null,null,null,null,null,null,null,null,null,null,null,null,null,null,null,null,null,null,null,null,null,null,null,null,null,null,null,"t-CO2"]
[null,null,null,null,null,null,null,null,null,null,null,null,null,null,null,null,null,null,null,null,null,null,null,null,null,null,null,null,null,"",null,null,null,null,null,null,null,null,null,null,null,null,null,null,null,null,null,null,null,null,null,null,null,null,null,null,null,"t-CO2"]
[null,null,null,null,null,null,null,null,null,null,null,null,null,null,null,null,null,null,null,null,null,null,null,null,null,null,null,null,null,"",null,null,null,null,null,null,null,null,null,null,null,null,null,null,null,null,null,null,null,null,null,null,null,null,null,null,null,"t-CO2"]
[null,null,null,null,null,null,null,null,null,null,null,null,null,null,null,null,null,null,null,null,null,null,null,null,null,null,null,null,null,"",null,null,null,null,null,null,null,null,null,null,null,null,null,null,null,null,null,null,null,null,null,null,null,null,null,null,null,"t-CO2"]
[null,null,null,null,null,null,null,null,null,null,null,null,null,null,null,null,null,null,null,null,null,null,null,null,null,null,null,null,null,"",null,null,null,null,null,null,null,null,null,null,null,null,null,null,null,null,null,null,null,null,null,null,null,null,null,null,null,"t-CO2"]
[null,null,null,null,null,null,null,null,null,null,null,null,null,null,null,null,null,null,null,null,null,null,null,null,null,null,null,null,null,"",null,null,null,null,null,null,null,null,null,null,null,null,null,null,null,null,null,null,null,null,null,null,null,null,null,null,null,"t-CO2"]
[null,null,null,null,null,null,null,null,null,null,null,null,null,null,null,null,null,null,null,null,null,null,null,null,null,null,null,null,null,"",null,null,null,null,null,null,null,null,null,null,null,null,null,null,null,null,null,null,null,null,null,null,null,null,null,null,null,"t-CO2"]
[null,null,null,null,null,null,null,null,null,null,null,null,null,null,null,null,null,null,null,null,null,null,null,null,null,null,null,null,null,"",null,null,null,null,null,null,null,null,null,null,null,null,null,null,null,null,null,null,null,null,null,null,null,null,null,null,null,"t-CO2"]
[null,null,null,null,null,null,null,null,null,null,null,null,null,null,null,null,null,null,null,null,null,null,null,null,null,null,null,null,null,"",null,null,null,null,null,null,null,null,null,null,null,null,null,null,null,null,null,null,null,null,null,null,null,null,null,null,null,"t-CO2"]
[null,null,null,null,null,null,null,null,null,null,null,null,null,null,null,null,null,null,null,null,null,null,null,null,null,null,null,null,null,"",null,null,null,null,null,null,null,null,null,null,null,null,null,null,null,null,null,null,null,null,null,null,null,null,null,null,null,"t-CO2"]
[null,null,null,null,null,null,null,null,null,null,null,null,null,null,null,null,null,null,null,null,null,null,null,null,null,null,null,null,null,"",null,null,null,null,null,null,null,null,null,null,null,null,null,null,null,null,null,null,null,null,null,null,null,null,null,null,null,"t-CO2"]
[null,null,null,null,null,null,null,null,null,null,null,null,null,null,null,null,null,null,null,null,null,null,null,null,null,null,null,null,null,"",null,null,null,null,null,null,null,null,null,null,null,null,null,null,null,null,null,null,null,null,null,null,null,null,null,null,null,"t-CO2"]
[null,null,null,null,null,null,null,null,null,null,null,null,null,null,null,null,null,null,null,null,null,null,null,null,null,null,null,null,null,"",null,null,null,null,null,null,null,null,null,null,null,null,null,null,null,null,null,null,null,null,null,null,null,null,null,null,null,"t-CO2"]
[null,null,null,null,null,null,null,null,null,null,null,null,null,null,null,null,null,null,null,null,null,null,null,null,null,null,null,null,null,"",null,null,null,null,null,null,null,null,null,null,null,null,null,null,null,null,null,null,null,null,null,null,null,null,null,null,null,"t-CO2"]
[null,null,null,null,null,null,null,null,null,null,null,null,null,null,null,null,null,null,null,null,null,null,null,null,null,null,null,null,null,"",null,null,null,null,null,null,null,null,null,null,null,null,null,null,null,null,null,null,null,null,null,null,null,null,null,null,null,"t-CO2"]
[null,null,null,null,null,null,null,null,null,null,null,null,null,null,null,null,null,null,null,null,null,null,null,null,null,null,null,null,null,"",null,null,null,null,null,null,null,null,null,null,null,null,null,null,null,null,null,null,null,null,null,null,null,null,null,null,null,"t-CO2"]
[null,null,null,null,null,null,null,null,null,null,null,null,null,null,null,null,null,null,null,null,null,null,null,null,null,null,null,null,null,"",null,null,null,null,null,null,null,null,null,null,null,null,null,null,null,null,null,null,null,null,null,null,null,null,null,null,null,"t-CO2"]
[null,null,null,null,null,null,null,null,null,null,null,null,null,null,null,null,null,null,null,null,null,null,null,null,null,null,null,null,null,"",null,null,null,null,null,null,null,null,null,null,null,null,null,null,null,null,null,null,null,null,null,null,null,null,null,null,null,"t-CO2"]
[null,null,null,null,null,null,null,null,null,null,null,null,null,null,null,null,null,null,null,null,null,null,null,null,null,null,null,null,null,"",null,null,null,null,null,null,null,null,null,null,null,null,null,null,null,null,null,null,null,null,null,null,null,null,null,null,null,"t-CO2"]
[null,null,null,null,null,null,null,null,null,null,null,null,null,null,null,null,null,null,null,null,null,null,null,null,null,null,null,null,null,"",null,null,null,null,null,null,null,null,null,null,null,null,null,null,null,null,null,null,null,null,null,null,null,null,null,null,null,"t-CO2"]
[null,null,null,null,null,null,null,null,null,null,null,null,null,null,null,null,null,null,null,null,null,null,null,null,null,null,null,null,null,"",null,null,null,null,null,null,null,null,null,null,null,null,null,null,null,null,null,null,null,null,null,null,null,null,null,null,null,"t-CO2"]
[null,null,null,null,null,null,null,null,null,null,null,null,null,null,null,null,null,null,null,null,null,null,null,null,null,null,null,null,null,"",null,null,null,null,null,null,null,null,null,null,null,null,null,null,null,null,null,null,null,null,null,null,null,null,null,null,null,"t-CO2"]
[null,null,null,null,null,null,null,null,null,null,null,null,null,null,null,null,null,null,null,null,null,null,null,null,null,null,null,null,null,"",null,null,null,null,null,null,null,null,null,null,null,null,null,null,null,null,null,null,null,null,null,null,null,null,null,null,null,"t-CO2"]
[null,null,null,null,null,null,null,null,null,null,null,null,null,null,null,null,null,null,null,null,null,null,null,null,null,null,null,null,null,"",null,null,null,null,null,null,null,null,null,null,null,null,null,null,null,null,null,null,null,null,null,null,null,null,null,null,null,"t-CO2"]
[null,null,null,null,null,null,null,null,null,null,null,null,null,null,null,null,null,null,null,null,null,null,null,null,null,null,null,null,null,"",null,null,null,null,null,null,null,null,null,null,null,null,null,null,null,null,null,null,null,null,null,null,null,null,null,null,null,"t-CO2"]
[null,"合　計　量",null,null,null,null,null,null,null,null,null,null,null,null,null,null,null,null,null,null,null,null,null,null,null,null,null,null,null,null,null,null,null,null,null,null,null,null,null,null,{"$f":"IF(SUM(AO2081:BE2115)=0,\"\",ROUND(SUM(AO2081:BE2115),2-INT(LOG(ABS(SUM(AO2081:BE2115))))))","v":""},null,null,null,null,null,null,null,null,null,null,null,null,null,null,null,null,"t-CO2"]
[]
[null,"削減量の種別"]
[null,"識別番号",null,null,null,null,null,null,null,null,null,null,null,null,null,null,null,null,null,null,"対象企業名\n（特定排出者コード）",null,null,null,null,null,null,null,null,"無効化日又は移転日",null,null,null,null,null,null,null,null,null,null,"無効化量又は移転量"]
[null,null,null,null,null,null,null,null,null,null,null,null,null,null,null,null,null,null,null,null,null,null,null,null,null,null,null,null,null,"",null,null,null,null,null,null,null,null,null,null,null,null,null,null,null,null,null,null,null,null,null,null,null,null,null,null,null,"t-CO2"]
[null,null,null,null,null,null,null,null,null,null,null,null,null,null,null,null,null,null,null,null,null,null,null,null,null,null,null,null,null,"",null,null,null,null,null,null,null,null,null,null,null,null,null,null,null,null,null,null,null,null,null,null,null,null,null,null,null,"t-CO2"]
[null,null,null,null,null,null,null,null,null,null,null,null,null,null,null,null,null,null,null,null,null,null,null,null,null,null,null,null,null,"",null,null,null,null,null,null,null,null,null,null,null,null,null,null,null,null,null,null,null,null,null,null,null,null,null,null,null,"t-CO2"]
[null,null,null,null,null,null,null,null,null,null,null,null,null,null,null,null,null,null,null,null,null,null,null,null,null,null,null,null,null,"",null,null,null,null,null,null,null,null,null,null,null,null,null,null,null,null,null,null,null,null,null,null,null,null,null,null,null,"t-CO2"]
[null,null,null,null,null,null,null,null,null,null,null,null,null,null,null,null,null,null,null,null,null,null,null,null,null,null,null,null,null,"",null,null,null,null,null,null,null,null,null,null,null,null,null,null,null,null,null,null,null,null,null,null,null,null,null,null,null,"t-CO2"]
[null,null,null,null,null,null,null,null,null,null,null,null,null,null,null,null,null,null,null,null,null,null,null,null,null,null,null,null,null,"",null,null,null,null,null,null,null,null,null,null,null,null,null,null,null,null,null,null,null,null,null,null,null,null,null,null,null,"t-CO2"]
[null,null,null,null,null,null,null,null,null,null,null,null,null,null,null,null,null,null,null,null,null,null,null,null,null,null,null,null,null,"",null,null,null,null,null,null,null,null,null,null,null,null,null,null,null,null,null,null,null,null,null,null,null,null,null,null,null,"t-CO2"]
[null,null,null,null,null,null,null,null,null,null,null,null,null,null,null,null,null,null,null,null,null,null,null,null,null,null,null,null,null,"",null,null,null,null,null,null,null,null,null,null,null,null,null,null,null,null,null,null,null,null,null,null,null,null,null,null,null,"t-CO2"]
[null,null,null,null,null,null,null,null,null,null,null,null,null,null,null,null,null,null,null,null,null,null,null,null,null,null,null,null,null,"",null,null,null,null,null,null,null,null,null,null,null,null,null,null,null,null,null,null,null,null,null,null,null,null,null,null,null,"t-CO2"]
[null,null,null,null,null,null,null,null,null,null,null,null,null,null,null,null,null,null,null,null,null,null,null,null,null,null,null,null,null,"",null,null,null,null,null,null,null,null,null,null,null,null,null,null,null,null,null,null,null,null,null,null,null,null,null,null,null,"t-CO2"]
[null,null,null,null,null,null,null,null,null,null,null,null,null,null,null,null,null,null,null,null,null,null,null,null,null,null,null,null,null,"",null,null,null,null,null,null,null,null,null,null,null,null,null,null,null,null,null,null,null,null,null,null,null,null,null,null,null,"t-CO2"]
[null,null,null,null,null,null,null,null,null,null,null,null,null,null,null,null,null,null,null,null,null,null,null,null,null,null,null,null,null,"",null,null,null,null,null,null,null,null,null,null,null,null,null,null,null,null,null,null,null,null,null,null,null,null,null,null,null,"t-CO2"]
[null,null,null,null,null,null,null,null,null,null,null,null,null,null,null,null,null,null,null,null,null,null,null,null,null,null,null,null,null,"",null,null,null,null,null,null,null,null,null,null,null,null,null,null,null,null,null,null,null,null,null,null,null,null,null,null,null,"t-CO2"]
[null,null,null,null,null,null,null,null,null,null,null,null,null,null,null,null,null,null,null,null,null,null,null,null,null,null,null,null,null,"",null,null,null,null,null,null,null,null,null,null,null,null,null,null,null,null,null,null,null,null,null,null,null,null,null,null,null,"t-CO2"]
[null,null,null,null,null,null,null,null,null,null,null,null,null,null,null,null,null,null,null,null,null,null,null,null,null,null,null,null,null,"",null,null,null,null,null,null,null,null,null,null,null,null,null,null,null,null,null,null,null,null,null,null,null,null,null,null,null,"t-CO2"]
[null,null,null,null,null,null,null,null,null,null,null,null,null,null,null,null,null,null,null,null,null,null,null,null,null,null,null,null,null,"",null,null,null,null,null,null,null,null,null,null,null,null,null,null,null,null,null,null,null,null,null,null,null,null,null,null,null,"t-CO2"]
[null,null,null,null,null,null,null,null,null,null,null,null,null,null,null,null,null,null,null,null,null,null,null,null,null,null,null,null,null,"",null,null,null,null,null,null,null,null,null,null,null,null,null,null,null,null,null,null,null,null,null,null,null,null,null,null,null,"t-CO2"]
[null,null,null,null,null,null,null,null,null,null,null,null,null,null,null,null,null,null,null,null,null,null,null,null,null,null,null,null,null,"",null,null,null,null,null,null,null,null,null,null,null,null,null,null,null,null,null,null,null,null,null,null,null,null,null,null,null,"t-CO2"]
[null,null,null,null,null,null,null,null,null,null,null,null,null,null,null,null,null,null,null,null,null,null,null,null,null,null,null,null,null,"",null,null,null,null,null,null,null,null,null,null,null,null,null,null,null,null,null,null,null,null,null,null,null,null,null,null,null,"t-CO2"]
[null,null,null,null,null,null,null,null,null,null,null,null,null,null,null,null,null,null,null,null,null,null,null,null,null,null,null,null,null,"",null,null,null,null,null,null,null,null,null,null,null,null,null,null,null,null,null,null,null,null,null,null,null,null,null,null,null,"t-CO2"]
[null,null,null,null,null,null,null,null,null,null,null,null,null,null,null,null,null,null,null,null,null,null,null,null,null,null,null,null,null,"",null,null,null,null,null,null,null,null,null,null,null,null,null,null,null,null,null,null,null,null,null,null,null,null,null,null,null,"t-CO2"]
[null,null,null,null,null,null,null,null,null,null,null,null,null,null,null,null,null,null,null,null,null,null,null,null,null,null,null,null,null,"",null,null,null,null,null,null,null,null,null,null,null,null,null,null,null,null,null,null,null,null,null,null,null,null,null,null,null,"t-CO2"]
[null,null,null,null,null,null,null,null,null,null,null,null,null,null,null,null,null,null,null,null,null,null,null,null,null,null,null,null,null,"",null,null,null,null,null,null,null,null,null,null,null,null,null,null,null,null,null,null,null,null,null,null,null,null,null,null,null,"t-CO2"]
[null,null,null,null,null,null,null,null,null,null,null,null,null,null,null,null,null,null,null,null,null,null,null,null,null,null,null,null,null,"",null,null,null,null,null,null,null,null,null,null,null,null,null,null,null,null,null,null,null,null,null,null,null,null,null,null,null,"t-CO2"]
[null,null,null,null,null,null,null,null,null,null,null,null,null,null,null,null,null,null,null,null,null,null,null,null,null,null,null,null,null,"",null,null,null,null,null,null,null,null,null,null,null,null,null,null,null,null,null,null,null,null,null,null,null,null,null,null,null,"t-CO2"]
[null,null,null,null,null,null,null,null,null,null,null,null,null,null,null,null,null,null,null,null,null,null,null,null,null,null,null,null,null,"",null,null,null,null,null,null,null,null,null,null,null,null,null,null,null,null,null,null,null,null,null,null,null,null,null,null,null,"t-CO2"]
[null,null,null,null,null,null,null,null,null,null,null,null,null,null,null,null,null,null,null,null,null,null,null,null,null,null,null,null,null,"",null,null,null,null,null,null,null,null,null,null,null,null,null,null,null,null,null,null,null,null,null,null,null,null,null,null,null,"t-CO2"]
[null,null,null,null,null,null,null,null,null,null,null,null,null,null,null,null,null,null,null,null,null,null,null,null,null,null,null,null,null,"",null,null,null,null,null,null,null,null,null,null,null,null,null,null,null,null,null,null,null,null,null,null,null,null,null,null,null,"t-CO2"]
[null,null,null,null,null,null,null,null,null,null,null,null,null,null,null,null,null,null,null,null,null,null,null,null,null,null,null,null,null,"",null,null,null,null,null,null,null,null,null,null,null,null,null,null,null,null,null,null,null,null,null,null,null,null,null,null,null,"t-CO2"]
[null,null,null,null,null,null,null,null,null,null,null,null,null,null,null,null,null,null,null,null,null,null,null,null,null,null,null,null,null,"",null,null,null,null,null,null,null,null,null,null,null,null,null,null,null,null,null,null,null,null,null,null,null,null,null,null,null,"t-CO2"]
[null,null,null,null,null,null,null,null,null,null,null,null,null,null,null,null,null,null,null,null,null,null,null,null,null,null,null,null,null,"",null,null,null,null,null,null,null,null,null,null,null,null,null,null,null,null,null,null,null,null,null,null,null,null,null,null,null,"t-CO2"]
[null,null,null,null,null,null,null,null,null,null,null,null,null,null,null,null,null,null,null,null,null,null,null,null,null,null,null,null,null,"",null,null,null,null,null,null,null,null,null,null,null,null,null,null,null,null,null,null,null,null,null,null,null,null,null,null,null,"t-CO2"]
[null,null,null,null,null,null,null,null,null,null,null,null,null,null,null,null,null,null,null,null,null,null,null,null,null,null,null,null,null,"",null,null,null,null,null,null,null,null,null,null,null,null,null,null,null,null,null,null,null,null,null,null,null,null,null,null,null,"t-CO2"]
[null,null,null,null,null,null,null,null,null,null,null,null,null,null,null,null,null,null,null,null,null,null,null,null,null,null,null,null,null,"",null,null,null,null,null,null,null,null,null,null,null,null,null,null,null,null,null,null,null,null,null,null,null,null,null,null,null,"t-CO2"]
[null,null,null,null,null,null,null,null,null,null,null,null,null,null,null,null,null,null,null,null,null,null,null,null,null,null,null,null,null,"",null,null,null,null,null,null,null,null,null,null,null,null,null,null,null,null,null,null,null,null,null,null,null,null,null,null,null,"t-CO2"]
[null,"合　計　量",null,null,null,null,null,null,null,null,null,null,null,null,null,null,null,null,null,null,null,null,null,null,null,null,null,null,null,null,null,null,null,null,null,null,null,null,null,null,{"$f":"IF(SUM(AO2120:BE2154)=0,\"\",ROUND(SUM(AO2120:BE2154),2-INT(LOG(ABS(SUM(AO2120:BE2154))))))","v":""},null,null,null,null,null,null,null,null,null,null,null,null,null,null,null,null,"t-CO2"]
[]
[null,"削減量の種別"]
[null,"識別番号",null,null,null,null,null,null,null,null,null,null,null,null,null,null,null,null,null,null,"対象企業名\n（特定排出者コード）",null,null,null,null,null,null,null,null,"無効化日又は移転日",null,null,null,null,null,null,null,null,null,null,"無効化量又は移転量"]
[null,null,null,null,null,null,null,null,null,null,null,null,null,null,null,null,null,null,null,null,null,null,null,null,null,null,null,null,null,"",null,null,null,null,null,null,null,null,null,null,null,null,null,null,null,null,null,null,null,null,null,null,null,null,null,null,null,"t-CO2"]
[null,null,null,null,null,null,null,null,null,null,null,null,null,null,null,null,null,null,null,null,null,null,null,null,null,null,null,null,null,"",null,null,null,null,null,null,null,null,null,null,null,null,null,null,null,null,null,null,null,null,null,null,null,null,null,null,null,"t-CO2"]
[null,null,null,null,null,null,null,null,null,null,null,null,null,null,null,null,null,null,null,null,null,null,null,null,null,null,null,null,null,"",null,null,null,null,null,null,null,null,null,null,null,null,null,null,null,null,null,null,null,null,null,null,null,null,null,null,null,"t-CO2"]
[null,null,null,null,null,null,null,null,null,null,null,null,null,null,null,null,null,null,null,null,null,null,null,null,null,null,null,null,null,"",null,null,null,null,null,null,null,null,null,null,null,null,null,null,null,null,null,null,null,null,null,null,null,null,null,null,null,"t-CO2"]
[null,null,null,null,null,null,null,null,null,null,null,null,null,null,null,null,null,null,null,null,null,null,null,null,null,null,null,null,null,"",null,null,null,null,null,null,null,null,null,null,null,null,null,null,null,null,null,null,null,null,null,null,null,null,null,null,null,"t-CO2"]
[null,null,null,null,null,null,null,null,null,null,null,null,null,null,null,null,null,null,null,null,null,null,null,null,null,null,null,null,null,"",null,null,null,null,null,null,null,null,null,null,null,null,null,null,null,null,null,null,null,null,null,null,null,null,null,null,null,"t-CO2"]
[null,null,null,null,null,null,null,null,null,null,null,null,null,null,null,null,null,null,null,null,null,null,null,null,null,null,null,null,null,"",null,null,null,null,null,null,null,null,null,null,null,null,null,null,null,null,null,null,null,null,null,null,null,null,null,null,null,"t-CO2"]
[null,null,null,null,null,null,null,null,null,null,null,null,null,null,null,null,null,null,null,null,null,null,null,null,null,null,null,null,null,"",null,null,null,null,null,null,null,null,null,null,null,null,null,null,null,null,null,null,null,null,null,null,null,null,null,null,null,"t-CO2"]
[null,null,null,null,null,null,null,null,null,null,null,null,null,null,null,null,null,null,null,null,null,null,null,null,null,null,null,null,null,"",null,null,null,null,null,null,null,null,null,null,null,null,null,null,null,null,null,null,null,null,null,null,null,null,null,null,null,"t-CO2"]
[null,null,null,null,null,null,null,null,null,null,null,null,null,null,null,null,null,null,null,null,null,null,null,null,null,null,null,null,null,"",null,null,null,null,null,null,null,null,null,null,null,null,null,null,null,null,null,null,null,null,null,null,null,null,null,null,null,"t-CO2"]
[null,null,null,null,null,null,null,null,null,null,null,null,null,null,null,null,null,null,null,null,null,null,null,null,null,null,null,null,null,"",null,null,null,null,null,null,null,null,null,null,null,null,null,null,null,null,null,null,null,null,null,null,null,null,null,null,null,"t-CO2"]
[null,null,null,null,null,null,null,null,null,null,null,null,null,null,null,null,null,null,null,null,null,null,null,null,null,null,null,null,null,"",null,null,null,null,null,null,null,null,null,null,null,null,null,null,null,null,null,null,null,null,null,null,null,null,null,null,null,"t-CO2"]
[null,null,null,null,null,null,null,null,null,null,null,null,null,null,null,null,null,null,null,null,null,null,null,null,null,null,null,null,null,"",null,null,null,null,null,null,null,null,null,null,null,null,null,null,null,null,null,null,null,null,null,null,null,null,null,null,null,"t-CO2"]
[null,null,null,null,null,null,null,null,null,null,null,null,null,null,null,null,null,null,null,null,null,null,null,null,null,null,null,null,null,"",null,null,null,null,null,null,null,null,null,null,null,null,null,null,null,null,null,null,null,null,null,null,null,null,null,null,null,"t-CO2"]
[null,null,null,null,null,null,null,null,null,null,null,null,null,null,null,null,null,null,null,null,null,null,null,null,null,null,null,null,null,"",null,null,null,null,null,null,null,null,null,null,null,null,null,null,null,null,null,null,null,null,null,null,null,null,null,null,null,"t-CO2"]
[null,null,null,null,null,null,null,null,null,null,null,null,null,null,null,null,null,null,null,null,null,null,null,null,null,null,null,null,null,"",null,null,null,null,null,null,null,null,null,null,null,null,null,null,null,null,null,null,null,null,null,null,null,null,null,null,null,"t-CO2"]
[null,null,null,null,null,null,null,null,null,null,null,null,null,null,null,null,null,null,null,null,null,null,null,null,null,null,null,null,null,"",null,null,null,null,null,null,null,null,null,null,null,null,null,null,null,null,null,null,null,null,null,null,null,null,null,null,null,"t-CO2"]
[null,null,null,null,null,null,null,null,null,null,null,null,null,null,null,null,null,null,null,null,null,null,null,null,null,null,null,null,null,"",null,null,null,null,null,null,null,null,null,null,null,null,null,null,null,null,null,null,null,null,null,null,null,null,null,null,null,"t-CO2"]
[null,null,null,null,null,null,null,null,null,null,null,null,null,null,null,null,null,null,null,null,null,null,null,null,null,null,null,null,null,"",null,null,null,null,null,null,null,null,null,null,null,null,null,null,null,null,null,null,null,null,null,null,null,null,null,null,null,"t-CO2"]
[null,null,null,null,null,null,null,null,null,null,null,null,null,null,null,null,null,null,null,null,null,null,null,null,null,null,null,null,null,"",null,null,null,null,null,null,null,null,null,null,null,null,null,null,null,null,null,null,null,null,null,null,null,null,null,null,null,"t-CO2"]
[null,null,null,null,null,null,null,null,null,null,null,null,null,null,null,null,null,null,null,null,null,null,null,null,null,null,null,null,null,"",null,null,null,null,null,null,null,null,null,null,null,null,null,null,null,null,null,null,null,null,null,null,null,null,null,null,null,"t-CO2"]
[null,null,null,null,null,null,null,null,null,null,null,null,null,null,null,null,null,null,null,null,null,null,null,null,null,null,null,null,null,"",null,null,null,null,null,null,null,null,null,null,null,null,null,null,null,null,null,null,null,null,null,null,null,null,null,null,null,"t-CO2"]
[null,null,null,null,null,null,null,null,null,null,null,null,null,null,null,null,null,null,null,null,null,null,null,null,null,null,null,null,null,"",null,null,null,null,null,null,null,null,null,null,null,null,null,null,null,null,null,null,null,null,null,null,null,null,null,null,null,"t-CO2"]
[null,null,null,null,null,null,null,null,null,null,null,null,null,null,null,null,null,null,null,null,null,null,null,null,null,null,null,null,null,"",null,null,null,null,null,null,null,null,null,null,null,null,null,null,null,null,null,null,null,null,null,null,null,null,null,null,null,"t-CO2"]
[null,null,null,null,null,null,null,null,null,null,null,null,null,null,null,null,null,null,null,null,null,null,null,null,null,null,null,null,null,"",null,null,null,null,null,null,null,null,null,null,null,null,null,null,null,null,null,null,null,null,null,null,null,null,null,null,null,"t-CO2"]
[null,null,null,null,null,null,null,null,null,null,null,null,null,null,null,null,null,null,null,null,null,null,null,null,null,null,null,null,null,"",null,null,null,null,null,null,null,null,null,null,null,null,null,null,null,null,null,null,null,null,null,null,null,null,null,null,null,"t-CO2"]
[null,null,null,null,null,null,null,null,null,null,null,null,null,null,null,null,null,null,null,null,null,null,null,null,null,null,null,null,null,"",null,null,null,null,null,null,null,null,null,null,null,null,null,null,null,null,null,null,null,null,null,null,null,null,null,null,null,"t-CO2"]
[null,null,null,null,null,null,null,null,null,null,null,null,null,null,null,null,null,null,null,null,null,null,null,null,null,null,null,null,null,"",null,null,null,null,null,null,null,null,null,null,null,null,null,null,null,null,null,null,null,null,null,null,null,null,null,null,null,"t-CO2"]
[null,null,null,null,null,null,null,null,null,null,null,null,null,null,null,null,null,null,null,null,null,null,null,null,null,null,null,null,null,"",null,null,null,null,null,null,null,null,null,null,null,null,null,null,null,null,null,null,null,null,null,null,null,null,null,null,null,"t-CO2"]
[null,null,null,null,null,null,null,null,null,null,null,null,null,null,null,null,null,null,null,null,null,null,null,null,null,null,null,null,null,"",null,null,null,null,null,null,null,null,null,null,null,null,null,null,null,null,null,null,null,null,null,null,null,null,null,null,null,"t-CO2"]
[null,null,null,null,null,null,null,null,null,null,null,null,null,null,null,null,null,null,null,null,null,null,null,null,null,null,null,null,null,"",null,null,null,null,null,null,null,null,null,null,null,null,null,null,null,null,null,null,null,null,null,null,null,null,null,null,null,"t-CO2"]
[null,null,null,null,null,null,null,null,null,null,null,null,null,null,null,null,null,null,null,null,null,null,null,null,null,null,null,null,null,"",null,null,null,null,null,null,null,null,null,null,null,null,null,null,null,null,null,null,null,null,null,null,null,null,null,null,null,"t-CO2"]
[null,null,null,null,null,null,null,null,null,null,null,null,null,null,null,null,null,null,null,null,null,null,null,null,null,null,null,null,null,"",null,null,null,null,null,null,null,null,null,null,null,null,null,null,null,null,null,null,null,null,null,null,null,null,null,null,null,"t-CO2"]
[null,null,null,null,null,null,null,null,null,null,null,null,null,null,null,null,null,null,null,null,null,null,null,null,null,null,null,null,null,"",null,null,null,null,null,null,null,null,null,null,null,null,null,null,null,null,null,null,null,null,null,null,null,null,null,null,null,"t-CO2"]
[null,null,null,null,null,null,null,null,null,null,null,null,null,null,null,null,null,null,null,null,null,null,null,null,null,null,null,null,null,"",null,null,null,null,null,null,null,null,null,null,null,null,null,null,null,null,null,null,null,null,null,null,null,null,null,null,null,"t-CO2"]
[null,"合　計　量",null,null,null,null,null,null,null,null,null,null,null,null,null,null,null,null,null,null,null,null,null,null,null,null,null,null,null,null,null,null,null,null,null,null,null,null,null,null,{"$f":"IF(SUM(AO2159:BE2193)=0,\"\",ROUND(SUM(AO2159:BE2193),2-INT(LOG(ABS(SUM(AO2159:BE2193))))))","v":""},null,null,null,null,null,null,null,null,null,null,null,null,null,null,null,null,"t-CO2"]
[null,"備考",null,"１",null,"本表は、国内認証排出削減量の種別ごとに記載すること。"]
[null,null,null,"２",null,"算定に用いた国内認証排出削減量の種別が二以上になる場合には、表の追加を行うこと。"]
[null,null,null,"３",null,"国内認証排出削減量は、無効化日又は移転日ごとに記載すること。"]
[null,null,null,"４",null,"無効化日又は移転日の欄には、排出量調整無効化を行った日付又は登録簿上に記載された移転の日付を記載すること。"]
[null,null,null,"５",null,"無効化量は正の値、移転量は負の値で記載すること。"]
[null,null,null,"６",null,"本表に記載した全ての国内認証排出削減量について、特定排出者が無効化又は移転を行ったことを確認できる資料を添付すること。"]
[]
[]
[]
[null,"６の４　海外認証排出削減量に係る情報"]
[null,"削減量の種別"]
[null,"識別番号",null,null,null,null,null,null,null,null,null,null,null,null,null,null,null,null,null,null,"対象企業名\n（特定排出者コード）",null,null,null,null,null,null,null,null,"無効化日",null,null,null,null,null,null,null,null,null,null,"無効化量"]
[null,null,null,null,null,null,null,null,null,null,null,null,null,null,null,null,null,null,null,null,null,null,null,null,null,null,null,null,null,null,null,null,null,null,null,null,null,null,null,null,null,null,null,null,null,null,null,null,null,null,null,null,null,null,null,null,null,"t-CO2"]
[null,null,null,null,null,null,null,null,null,null,null,null,null,null,null,null,null,null,null,null,null,null,null,null,null,null,null,null,null,null,null,null,null,null,null,null,null,null,null,null,null,null,null,null,null,null,null,null,null,null,null,null,null,null,null,null,null,"t-CO2"]
[null,null,null,null,null,null,null,null,null,null,null,null,null,null,null,null,null,null,null,null,null,null,null,null,null,null,null,null,null,null,null,null,null,null,null,null,null,null,null,null,null,null,null,null,null,null,null,null,null,null,null,null,null,null,null,null,null,"t-CO2"]
[null,null,null,null,null,null,null,null,null,null,null,null,null,null,null,null,null,null,null,null,null,null,null,null,null,null,null,null,null,null,null,null,null,null,null,null,null,null,null,null,null,null,null,null,null,null,null,null,null,null,null,null,null,null,null,null,null,"t-CO2"]
[null,"合　計　量",null,null,null,null,null,null,null,null,null,null,null,null,null,null,null,null,null,null,null,null,null,null,null,null,null,null,null,null,null,null,null,null,null,null,null,null,null,null,{"$f":"IF(SUM(AO2207:BE2210)=0,\"\",ROUND(SUM(AO2207:BE2210),2-INT(LOG(ABS(SUM(AO2207:BE2210))))))","v":""},null,null,null,null,null,null,null,null,null,null,null,null,null,null,null,null,"t-CO2"]
[null,"備考",null,"１",null,"本表は、海外認証排出削減量の種別ごとに記載すること。"]
[null,null,null,"２",null,"算定に用いた海外認証排出削減量の種別が二以上になる場合には、表の追加を行うこと。"]
[null,null,null,"３",null,"無効化日の欄には、排出量調整無効化を行った日付を記載すること。"]
[null,null,null,"４",null,"本表に記載した全ての海外認証排出削減量について、特定排出者が無効化を行ったことを確認できる資料を添付すること。"]
[]
[]
[]
[null,"７　権利利益の保護に係る請求及び情報の提供の有無"]
[null,"権利利益の保護に係る請求の有無\n（該当するものに○をすること）",null,null,null,null,null,null,null,null,null,null,null,null,null,null,null,null,null,null,null,"１．　　有",null,null,null,null,null,null,null,null,null,"その他の関連情報の提供の有無\n（該当するものに○をすること）",null,null,null,null,null,null,null,null,null,null,null,null,null,null,null,null,null,null,null,null,"１．　　有"]
[null,null,null,null,null,null,null,null,null,null,null,null,null,null,null,null,null,null,null,null,null,{"$f":"IF(V2220=\"１．　　有\",\"②．　　無\",\"２．　　無\")","v":"②．　　無"},null,null,null,null,null,null,null,null,null,null,null,null,null,null,null,null,null,null,null,null,null,null,null,null,null,null,null,null,null,null,{"$f":"IF(BA2220=\"１．　　有\",\"②．　　無\",\"２．　　無\")","v":"②．　　無"}]
[null,"備考",null,"１",null,"本報告が地球温暖化対策の推進に関する法律第21条の３第１項の請求に係るものである場合は、左欄「１．有」に○をすること。"]
[null,null,null,"２",null,"同法第21条の８第１項の規定による情報の提供がある場合は右欄「１．有」に○をすること。"]
[null,null,null,"３",null,"本表の「１．有」に該当する場合は、地球温暖化対策の推進に関する法律に基づく命令に定める書類を本報告に添付すること。"]
[]
[]
[]
[]
[null,"備　考"]
[]
[null,"１",null,"用紙の大きさは、日本工業規格Ａ４とすること。"]
[null,"２",null,"文字は、かい書でインキ、タイプによる活字等により明確に記入すること。"]
[null,"３",null,"報告書冒頭の※印を付した「受理年月日」欄及び「処理年月日」欄は記入しないこと。"]
[null,"４",null,"特定-第１表の特定排出者番号の欄には、環境大臣及び経済産業大臣が定めるところにより付された番号を記入すること。"]
[null,"５",null,"特定-第２表の使用量の欄には、特定事業者にあっては、設置するすべての工場等（特定連鎖化事業者にあっては、設置するすべての工場等及び加盟者が設置している当該連鎖化事業に係るすべての工場等）の前年度におけるエネルギーの使用量を、エネルギーの種類ごとに固有単位での値及び熱量換算した値を記入すること。"]
[null,"６",null,"指定-第２表には、第一種エネルギー管理指定工場等又は第二種エネルギー管理指定工場等の前年度におけるエネルギーの使用量を、エネルギーの種類ごとに固有単位での値及び熱量換算した値を記入すること。"]
[null,"７",null,"特定-第２表及び指定-第２表の使用していない種類のエネルギーの欄は、省略することができる。"]
[null,"８",null,"特定-第２表及び指定-第２表の販売した副生エネルギーの量の欄には、エネルギーの種類ごとに販売したエネルギーを記入すること。"]
[null,"９",null,"特定-第２表及び指定-第２表の「その他の燃料」の「都市ガス」の下の欄には、製油所ガス等の燃料の種類を（　）内に記入し、その使用量を記入すること。複数の種類を記入するときは、新たに欄を設けて記入すること。"]
[null,"１０",null,"特定-第２表及び指定-第２表の「夏期・冬期における電気需要平準化時間帯」とは、工場等における電気の需要の平準化に資する措置に関する事業者の指針（平成25年経済産業省告示第271号）において規定される時間帯を指す。"]
[null,"１１",null,"販売した電気の量は、特定-第２表及び指定-第２表の「自家発電」の「販売した副生エネルギーの量」の欄に記入すること。"]
[null,"１２",null,"特定-第２表及び指定-第２表の「自家発電」の販売した副生エネルギーの量の欄に記入する熱量換算した値は、電気の量１キロワット時を熱量９，７６０キロジュールとして換算した値、又は当該電気を発生させるために使用した燃料の発熱量に換算した値を用いること。"]
[null,"１３",null,"特定-第２表及び指定-第２表のうちＧＪを単位として記入するものについては、必要に応じ、単位をＴＪ（ﾃﾗｼﾞｭｰﾙ）、ＰＪ（ﾍﾟﾀｼﾞｭｰﾙ）に代えて記入することができる。"]
[null,"１４",null,"特定-第２表及び指定-第２表のエネルギーの使用量の合計を算出する場合には、エネルギーとエネルギーから発生した副生物の両者を加算することを要しない。なお、この際、加算しなかったエネルギーの種類及びその量を特定-第２表及び指定-第２表の下に注記すること。"]
[null,"１５",null,"特定-第２表、特定-第４表、指定-第２表、指定-第４表、指定-第５表及び指定-第６表の上段の欄には、当該年度を記入すること。また、各表の「対前年度比」の欄には、前年度に提出した定期報告書において記載した値（指定-第４表及び指定-第５表については、前年度値は原則として当該年度値の算定に使用した計算式により算定した値）を用いて算出し、記入すること。算出方法は、以下のとおり。"]
[null,null,null,"　対前年度比（％）＝",null,null,null,null,null,null,null,null,null,null,null,null,"当該年度値",null,null,null,null,null,null,null,null,"×　１００（％）"]
[null,null,null,null,null,null,null,null,null,null,null,null,null,null,null,null,"前年度値"]
[null,"１６",null,"特定-第３表の欄Ⓔ及び指定-第４表の欄Ⓒの「生産数量又は建物延床面積その他のエネルギーの使用量と密接な関係をもつ値」には、生産量、生産額等又は建物延床面積その他のエネルギーの使用量と密接な関係をもつ値を記載し、その名称及び単位を（　）内に記入すること。いずれを選択するかについては、年間を通じ同一のものとし、前年度以前に報告をした場合には、原則としてその際に記載したものと同一のものを記載すること。なお、一つの工場において複数の製品を生産している場合等においては、当該工場における主たる製品を定め、主たる製品の生産量と、その他の製品を生産するのに要したエネルギー量で主たる製品を生産したとした場合の主たる製品の生産量を合計した値を工場全体の生産数量として記載することができる。"]
[null,"１７",null,"特定-第３表及び指定-第５表の「原単位」とは、単位生産数量等当たりのエネルギー消費量をいう。"]
[null,"１８",null,"特定-第３表１における事業者の全体又は事業分類ごとのエネルギーの使用に係る原単位等の求め方は、以下のとおりとする。"]
[null,null,null,"(1)",null,"特定事業者が設置するすべての工場等又は特定連鎖化事業者が設置するすべての工場等及び加盟者が設置する当該連鎖化事業に係るすべての工場等を、日本標準産業分類細分類番号（４桁）ごと（以下「事業分類ごと」という。）に整理する。ただし、事業の分類番号が同一であっても事業の内容が異なる場合には、事業の内容ごとに整理することができる。"]
[null,null,null,"(2)",null,"事業ごとに、生産数量又は建物の延床面積その他のエネルギーの使用量と密接な関係を持つ値（Ⓔ）について検討する。"]
[null,null,null,"(3)",null,"Ⓔがそれぞれの事業で同じ単位、もしくは共通のⒺに換算可能であり、事業者全体の原単位Ⓦが算出可能な場合は、以下のア．により事業者全体としてのエネルギーの使用に係る原単位を算出する。"]
[null,null,null,null,"ア．事業者全体としての原単位Ⓦが算出可能な場合"]
[null,null,null,null,null,"事業分類ごとに、以下の数値を記入していくことにより、事業者全体のエネルギーの使用に係る原単位Ⓦを求める。"]
[null,null,null,null,null,"(ア)",null,"エネルギーの使用量の合計（原油換算kl）・・・ Ⓐ"]
[null,null,null,null,null,"(イ)",null,"販売した副生エネルギーの量の合計（原油換算kl）・・・ Ⓑ"]
[null,null,null,null,null,"(ウ)",null,"Ⓐ－Ⓑ・・・Ⓒ"]
[null,null,null,null,null,"(エ)",null,"生産数量又は建物の延床面積その他のエネルギーの使用量と密接な関係を持つ値・・・Ⓔ"]
[null,null,null,null,null,"(オ)",null,"事業分類ごとのⒸ及びⒺを事業者全体で合計し、それぞれの合計値Ⓤ、Ⓥを求めることにより、事業者全体のエネルギーの使用に係る原単位Ⓦ＝Ⓤ／Ⓥが求められる。"]
[null,null,null,null,null,"(カ)",null,"Ⓦと前年度の原単位Ⓧの比・・・Ⓨ"]
[null,null,null,"(4)",null,"Ⓔが事業ごとに異なり、事業者全体の原単位Ⓦが算出困難な場合は、以下のア．により事業者のエネルギーの使用に係る原単位の対前年度比Ⓩを算出する。"]
[null,null,null,null,"ア．事業者全体としての原単位Ⓦの算出が困難な場合"]
[null,null,null,null,null,"事業分類ごとに、以下の数値を記入していくことにより、事業者全体のエネルギーの使用に係る原単位Ⓦを求める。"]
[null,null,null,null,null,"(ア)",null,"エネルギーの使用量の合計（原油換算kl）・・・Ⓐ"]
[null,null,null,null,null,"(イ)",null,"販売した副生エネルギーの量の合計（原油換算kl）・・・ Ⓑ"]
[null,null,null,null,null,"(ウ)",null,"Ⓐ－Ⓑ・・・Ⓒ"]
[null,null,null,null,null,"(エ)",null,"事業分類ごとのⒸの値の、事業者全体の合計値に対する構成割合（%）・・・Ⓓ"]
[null,null,null,null,null,"(オ)",null,"生産数量又は建物の延床面積その他のエネルギーの使用量と密接な関係を持つ値・・・Ⓔ"]
[null,null,null,null,null,"(カ)",null,"エネルギーの使用に係る原単位・・・Ⓒ/Ⓔ＝Ⓕ"]
[null,null,null,null,null,"(キ)",null,"エネルギーの使用に係る前年度の原単位・・・Ⓖ"]
[null,null,null,null,null,"(ク)",null,"事業分類ごとのエネルギーの使用に係る原単位の対前年度比（%）・・・Ⓗ"]
[null,null,null,null,null,"(ケ)",null,"事業ごとのエネルギーの使用に係る原単位の対前年度比ⒽをⒹの重みで加重平均し、事業者全体の原単位の対前年度比を求める。 Ⓩ＝①＋②＋③＋・・・"]
[null,"１９",null,"特定-第３表２における事業者の全体又は事業分類ごとの電気の需要の平準化に資する措置を評価したエネルギーの使用に係る原単位（以下、電気需要平準化評価原単位）等の求め方は、以下のとおりとする。なお、特定事業者が設置するすべての工場等又は当該連鎖化事業者が設置するすべての工場等及び加盟者が設置する当該連鎖化事業に係るすべての工場等の事業分類、Ⓒの構成割合（Ⓓ）、事業ごとの生産数量又は建物の延床面積その他のエネルギーの使用量と密接な関係を持つ値（Ⓔ）については、特定-第３表１における算定と同じとすること。"]
[null,null,null,"(1)",null,"Ⓔがそれぞれの事業で同じ単位、もしくは共通のⒺに換算可能であり、事業者全体の電気需要平準化評価原単位Ⓦ'が算出可能な場合は、以下のア．により事業者全体としての電気需要平準化評価原単位を算出する。"]
[null,null,null,null,"ア．事業者全体としての電気需要平準化評価原単位Ⓦ'が算出可能な場合"]
[null,null,null,null,null,"事業分類ごとに、以下の数値を記入していくことにより、事業者全体の電気需要平準化評価原単位Ⓦ'を求める。"]
[null,null,null,null,null,"(ア)",null,"エネルギーの使用量の合計（原油換算kl）・・・ Ⓐ"]
[null,null,null,null,null,"(イ)",null,"電気需要平準化時間帯の買電量の合計（原油換算kl）・・・ Ⓐ'"]
[null,null,null,null,null,"(ウ)",null,"販売した副生エネルギーの量の合計（原油換算kl）・・・ Ⓑ"]
[null,null,null,null,null,"(エ)",null,"Ⓐ＋Ⓐ'×（評価係数－１）－Ⓑ・・・Ⓒ'"]
[null,null,null,null,null,"(オ)",null,"生産数量又は建物の延床面積その他のエネルギーの使用量と密接な関係を持つ値・・・Ⓔ"]
[null,null,null,null,null,"(カ)",null,"事業分類ごとのⒸ'及びⒺを事業者全体で合計し、それぞれの合計値Ⓤ'、Ⓥを求めることにより、事業者全体の電気需要平準化評価原単位Ⓦ'＝Ⓤ'／Ⓥが求められる。"]
[null,null,null,null,null,"(キ)",null,"Ⓦ'と前年度の原単位Ⓧ'の比・・・Ⓨ'"]
[null,null,null,"(2)",null,"Ⓔが事業ごとに異なり、事業者全体の電気需要平準化評価原単位Ⓦ'が算出困難な場合は、以下のア．により事業者全体の電気需要平準化評価原単位の対前年度比Ⓩ'を算出する。"]
[null,null,null,null,"ア．事業者全体としての原単位Ⓦ'の算出が困難な場合"]
[null,null,null,null,null,"事業分類ごとに、以下の数値を記入していくことにより、事業者全体の電気需要平準化評価原単位の対前年度比Ⓩ'を求める。"]
[null,null,null,null,null,"(ア)",null,"エネルギーの使用量の合計（原油換算kl）・・・ Ⓐ"]
[null,null,null,null,null,"(イ)",null,"電気需要平準化時間帯の買電量の合計（原油換算kl）・・・ Ⓐ'"]
[null,null,null,null,null,"(ウ)",null,"販売した副生エネルギーの量の合計（原油換算kl）・・・ Ⓑ"]
[null,null,null,null,null,"(エ)",null,"Ⓐ＋Ⓐ'×（評価係数－１）－Ⓑ・・・Ⓒ'"]
[null,null,null,null,null,"(オ)",null,"事業分類ごとのⒸの値の、事業者全体の合計値に対する構成割合（%）・・・Ⓓ"]
[null,null,null,null,null,"(カ)",null,"生産数量又は建物の延床面積その他のエネルギーの使用量と密接な関係を持つ値・・・Ⓔ"]
[null,null,null,null,null,"(キ)",null,"電気需要平準化評価原単位・・・Ⓒ'/Ⓔ＝Ⓕ'"]
[null,null,null,null,null,"(ク)",null,"前年度の電気需要平準化評価原単位・・・Ⓖ'"]
[null,null,null,null,null,"(ケ)",null,"事業分類ごとの電気需要平準化評価原単位の対前年度比（%）・・・Ⓗ'"]
[null,null,null,null,null,"(コ)",null,"事業ごとの電気需要平準化評価原単位の対前年度比Ⓗ'をⒹの重みで加重平均し、事業者全体の電気需要平準化評価原単位の対前年度比を求める。 Ⓩ'＝①'＋②'＋③'＋・・・"]
[null,"２０",null,"特定-第４表及び指定-第６表の上段の欄には、当該年度を含む直近５年間の年度を記入すること。また、「エネルギーの使用に係る原単位」及び「電気需要平準化評価原単位」、並びにそれぞれの「対前年度比」の欄には、原則として当該年度値の算定に使用した計算式により算定した値を記入すること。なお、特定-第３表１及びにおいて事業者全体の原単位Ⓦ及び事業者全体の電気需要平準化評価原単位Ⓦ'が算出困難であった場合は、「エネルギーの使用に係る原単位」及び「電気需要平準化評価原単位」は空欄とし、「対前年度比」にⓏ及びⓏ'を記入すること。"]
[null,"２１",null,"特定-第４表及び指定-第６表の「５年度間平均原単位変化」の欄には、エネルギーの使用に係る原単位及び電気需要平準化評価原単位の過去５年度間の対前年度比をそれぞれ乗じた値の４乗根となる値を記入すること。算出方法は、以下のとおり。"]
[null,null,"（１）",null,null,"エネルギーの使用に係る原単位"]
[null,null,null,null,null,null,null,null,null,null,null,null,null,null,null,null,null,null,null,null,null,null,null,null,null,null,null,null,null,null,null,"1/4"]
[null,null,null,null,"５年度間平均原単位変化（％）",null,null,null,null,null,null,null,null,null,null,null,null,null,null,null,"＝",null,"（Ⓙ×Ⓚ×Ⓛ×Ⓜ）",null,null,null,null,null,null,null,null,null,null,null,"（％）又は"]
[]
[null,null,null,null,null,null,null,null,null,null,null,null,null,null,null,null,null,null,null,null,null,null,null,null,null,null,null,null,null,null,null,"1/4"]
[null,null,null,null,"５年度間平均原単位変化（％）",null,null,null,null,null,null,null,null,null,null,null,null,null,null,null,"＝",null,"（ⓓ×ⓔ×ⓕ×ⓖ）",null,null,null,null,null,null,null,null,null,null,null,"（％）"]
[]
[null,null,"（２）",null,null,"電気需要平準化評価原単位"]
[null,null,null,null,null,null,null,null,null,null,null,null,null,null,null,null,null,null,null,null,null,null,null,null,null,null,null,null,null,null,null,null,null,"1/4"]
[null,null,null,null,"５年度間平均原単位変化（％）",null,null,null,null,null,null,null,null,null,null,null,null,null,null,null,"＝",null,"（Ⓙ'×Ⓚ'×Ⓛ'×Ⓜ'）",null,null,null,null,null,null,null,null,null,null,null,null,null,"（％）又は"]
[]
[null,null,null,null,null,null,null,null,null,null,null,null,null,null,null,null,null,null,null,null,null,null,null,null,null,null,null,null,null,null,null,null,null,"1/4"]
[null,null,null,null,"５年度間平均原単位変化（％）",null,null,null,null,null,null,null,null,null,null,null,null,null,null,null,"＝",null,"（ⓓ'×ⓔ'×ⓕ'×ⓖ'）",null,null,null,null,null,null,null,null,null,null,null,null,null,"（％）"]
[]
[null,"２２",null,"特定-第５表は、「（ロ）の理由」が「（イ）の理由」と同様になる場合には、「（イ）と同じ」と記入してもよい。"]
[null,"２３",null,"特定-第６表は、事業者が工場等におけるエネルギーの使用の合理化に関する事業者の判断の基準（平成21年経済産業省告示第66号）に定めるベンチマーク指標の対象となる事業（以下「ベンチマーク対象事業」という。）を行っている場合に、ベンチマーク対象事業の名称、ベンチマーク指標の状況及びベンチマーク対象事業のエネルギー使用量について記入すること。"]
[null,"２４",null,"特定-第７表は、事業者がベンチマーク対象となる事業を行っている場合に、ベンチマークの状況に関し、参考となる情報を記載すること。"]
[null,"２５",null,"特定-第８表は、該当するものに ∨ 印又は■印を付すこと。また、該当しない項目については、欄全体に斜線を引くこと。"]
[null,"２６",null,"特定-第１０表は、特定事業者が設置するすべての工場等又は特定連鎖化事業者が設置するすべての工場等のうち、第一種エネルギー管理指定工場等又は第二種エネルギー管理指定工場等の指定を受けている工場等をすべて記入すること。指定区分の変更が必要な場合は、「（指定区分の変更手続きが必要□）」欄に∨ 印又は■印を付すこと。"]
[null,"２７",null,"特定‐第１１表は、現在エネルギー管理指定工場等の指定を受けていない工場等であって、エネルギーの使用量が令第６条に定める数値以上の工場等をすべて記入すること。"]
[null,"２８",null,"特定-第１２表及び指定-第９表の記入に当たっては、特定-第１２表及び指定-第９表に記載された備考欄を参照すること。"]
[null,"２９",null,"指定-第２表の「産業用蒸気」、「産業用以外の蒸気」、「温水」、「冷水」の使用量を熱量換算する際、別表第２に規定する換算係数に代えて、当該熱を発生させるために使用された燃料の発熱量を算定する上で適切と認められるものを使用した場合は、当該係数の根拠となる資料を添付すること。"]
[null,"３０",null,"指定-第２表に記入する際に、都市ガスについては、供給会社等から提示された単位発熱量を指定-第２表欄外に記入すること。"]
[null,"３１",null,"指定-第３表は、原則として各設備の年間のエネルギーの消費量の合計量が、当該工場の総エネルギー使用量の８割を網羅するよう記入すること。"]
[null,"３２",null,"指定-第８表は、専ら事務所その他これに類する用途に供する工場等（法第５条第１項第１号）に該当する場合は（１）、それ以外の工場等（法第５条第１項第２号）に該当する場合は（２）について、該当する項目に ∨ 印又は■印を付し、必要な箇所については数値を記入すること。また、該当しない項目については、当該項目の欄全体に斜線を引くこと。"]

{"sheet":"係数","index":6,"n_rows":125,"n_cols":11,"rows_kept":125,"cut":false,"hidden":true,"merged":[[56,6,56,7],[65,6,65,7],[75,6,75,7],[81,6,81,7]]}
[]
[]
[null,"使用・供給エネルギー",null,null,"第7表　チェック"]
[null,"都市ガス",null,null,null,"レ"]
[null,"昼間買電"]
[null,"夜間買電"]
[null,"上記以外の買電"]
[null,null,null,null,null,{"$error":"#N/A"}]
[]
[]
[null,"エネルギーの種類",null,null," 省エネ法の換算係数",null,"温対法の換算係数"]
[null,"燃\n\n\n\n\n料\n\n\n\n",null,"原油(コンデンセートを除く。)",38.200000000000003,"GＪ/ｋｌ",1.8700000000000001E-2,"tC/GJ"]
[null,null,null,"原油のうちコンデンセート(NGL)",35.299999999999997,"GＪ/ｋｌ",1.84E-2,"tC/GJ"]
[null,null,null,"揮発油",34.6,"GＪ/ｋｌ",1.83E-2,"tC/GJ"]
[null,null,null,"ナフサ",33.6,"GＪ/ｋｌ",1.8200000000000001E-2,"tC/GJ"]
[null,null,null,"灯油",36.700000000000003,"GＪ/ｋｌ",1.8499999999999999E-2,"tC/GJ"]
[null,null,null,"軽油",37.700000000000003,"GＪ/ｋｌ",1.8700000000000001E-2,"tC/GJ"]
[null,null,null,"Ａ重油",39.1,"GＪ/ｋｌ",1.89E-2,"tC/GJ"]
[null,null,null,"Ｂ・Ｃ重油",41.9,"GＪ/ｋｌ",1.95E-2,"tC/GJ"]
[null,null,null,"石油アスファルト",40.9,"GＪ/ｔ",2.0799999999999999E-2,"tC/GJ"]
[null,null,null,"石油コークス",29.9,"GＪ/ｔ",2.5399999999999999E-2,"tC/GJ"]
[null,null,"石油ガス","液化石油ガス　　（ＬＰＧ）",50.8,"GＪ/ｔ",1.61E-2,"tC/GJ"]
[null,null,null,"石油系炭化水素　　ガス",44.9,"GＪ/千ｍ３",1.4200000000000001E-2,"tC/GJ"]
[null,null,"可 燃 性\n天然ガス","液化天然ガス　　（ＬＮＧ）",54.6,"GＪ/ｔ",1.35E-2,"tC/GJ"]
[null,null,null,"その他可燃性　　天然ガス",43.5,"GＪ/千ｍ３",1.3899999999999999E-2,"tC/GJ"]
[null,null,"石炭","原料炭",29,"GＪ/ｔ",2.4500000000000001E-2,"tC/GJ"]
[null,null,null,"一般炭",25.7,"GＪ/ｔ",2.47E-2,"tC/GJ"]
[null,null,null,"無煙炭",26.9,"GＪ/ｔ",2.5499999999999998E-2,"tC/GJ"]
[null,null,null,"石炭コークス",29.4,"GＪ/ｔ",2.9399999999999999E-2,"tC/GJ"]
[null,null,null,"コールタール",37.299999999999997,"GＪ/ｔ",2.0899999999999998E-2,"tC/GJ"]
[null,null,null,"コークス炉ガス",21.1,"GＪ/千ｍ３",1.0999999999999999E-2,"tC/GJ"]
[null,null,null,"高炉ガス",3.41,"GＪ/千ｍ３",2.63E-2,"tC/GJ"]
[null,null,null,"転炉ガス",8.41,"GＪ/千ｍ３",3.8399999999999997E-2,"tC/GJ"]
[null,null,"その他の\n燃 料","都市ガス",null,"GＪ/千ｍ３",1.3599999999999999E-2,"tC/GJ"]
[null,null,null,"ジェット燃料油",36.700000000000003,"GＪ/ｋｌ",1.83E-2,"tC/GJ"]
[null,"熱",null,"産業用蒸気",1.02,"GＪ/GＪ",0.06,"tCO2/GJ"]
[null,null,null,"産業用以外の蒸気",1.36,"GＪ/GＪ",5.7000000000000002E-2,"tCO2/GJ"]
[null,null,null,"温水",1.36,"GＪ/GＪ",5.7000000000000002E-2,"tCO2/GJ"]
[null,null,null,"冷水",1.36,"GＪ/GＪ",5.7000000000000002E-2,"tCO2/GJ"]
[null,"電\n\n気","電気\n事業者","昼間買電",9.9700000000000006,"GJ/千ｋWh","-","tCO2/千kWh"]
[null,null,null,"夜間買電",9.2799999999999994,"GJ/千ｋWh","-","tCO2/千kWh"]
[null,null,"その他","上記以外の買電",9.76,"GJ/千ｋWh","-","tCO2/千kWh"]
[null,null,null,"自家発電",9.76,"GJ/千ｋWh",null,"tCO2/千kWh"]
[]
[null,"参考","実排出係数","調整後排出係数",null,"係数の適用範囲"]
[null,"北海道電力（株）",0.68300000000000005,0.68799999999999994,"tCO2/千kWh","電気事業者：昼間買電"]
[null,"東北電力（株）",0.57099999999999995,0.57299999999999995,"tCO2/千kWh　","電気事業者：夜間買電"]
[null,"東京電力（株）",0.505,0.496,"tCO2/千kWh ","その他：上記以外の買電"]
[null,"中部電力（株）",0.497,0.49399999999999999,"tCO2/千kWh "]
[null,"北陸電力（株）",0.64700000000000002,0.64,"tCO2/千kWh "]
[null,"関西電力（株）",0.53100000000000003,0.52300000000000002,"tCO2/千kWh"]
[null,"中国電力（株）",0.70599999999999996,0.70899999999999996,"tCO2/千kWh",null,"元号"]
[null,"四国電力（株）",0.67600000000000005,0.68799999999999994,"tCO2/千kWh ",null,"平成"]
[null,"九州電力（株）",0.58399999999999996,0.59799999999999998,"tCO2/千kWh "]
[null,"沖縄電力（株）",0.81599999999999995,0.81599999999999995,"tCO2/千kWh "]
[null,"アーバンエナジー株式会社",0.41,0.33700000000000002,"tCO2/千kWh"]
[null,"アストモスエネルギー株式会社",0.19,0.183,"tCO2/千kWh",null,"その他の燃料単位"]
[null,"イーレックス株式会社",0.66200000000000003,0.46899999999999997,"tCO2/千kWh",null,"GＪ/千ｍ３"]
[null,"一般財団法人中之条電力",0.316,0.55000000000000004,"tCO2/千kWh",null,"GJ/GJ"]
[null,"一般社団法人電力託送代行機構",0.316,0.56100000000000005,"tCO2/千kWh",null,"GJ/千ｋWh"]
[null,"出光グリーンパワー株式会社",0.253,0.73899999999999999,"tCO2/千kWh",null,"GJ/kl"]
[null,"伊藤忠エネクス株式会社",0.56799999999999995,0.29399999999999998,"tCO2/千kWh",null,"GJ/t"]
[null,"ＳＢパワー株式会社",0.25900000000000001,0.34200000000000003,"tCO2/千kWh"]
[null,"エネサーブ株式会社",0.63400000000000001,0.20599999999999999,"tCO2/千kWh"]
[null,"荏原環境プラント株式会社",0.26600000000000001,0.624,"tCO2/千kWh"]
[null,"王子製紙株式会社",0.438,0.41899999999999998,"tCO2/千kWh",null,"その他の燃料名称"]
[null,"オリックス株式会社",0.498,0.39300000000000002,"tCO2/千kWh",null,"テナント空調等推計値"]
[null,"株式会社イーセル",0.51100000000000001,0.49399999999999999,"tCO2/千kWh",null,"ジェット燃料油"]
[null,"株式会社岩手ウッドパワー",4.3999999999999997E-2,4.2000000000000003E-2,"tCO2/千kWh",null,"メタノール"]
[null,"株式会社うなかみの大地",0.106,0.74399999999999999,"tCO2/千kWh",null,"アセチレン"]
[null,"株式会社ＳＥウイングズ",0.46200000000000002,0.44700000000000001,"tCO2/千kWh",null,"FCCコークス",null,null,null,"　"]
[null,"株式会社エヌパワー",0.41499999999999998,0.55300000000000005,"tCO2/千kWh",null,"副生物（ガス、油等）"]
[null,"株式会社エネット",0.45400000000000001,0.46200000000000002,"tCO2/千kWh"]
[null,"株式会社Ｆ－Ｐｏｗｅｒ",0.45400000000000001,0.39800000000000002,"tCO2/千kWh"]
[null,"株式会社関電エネルギーソリューション",0.54100000000000004,0.52800000000000002,"tCO2/千kWh"]
[null,"株式会社クールトラスト",0.49199999999999999,0.47499999999999998,"tCO2/千kWh",null,"指定区分の変更有無"]
[null,"株式会社グローバルエンジニアリング",0.47199999999999998,0.56799999999999995,"tCO2/千kWh",null,"（ 指定区分の変更手続きが必要 □ ）"]
[null,"ケーキュービック",0.153,0.59799999999999998,"tCO2/千kWh",null,"（ 指定区分の変更手続きが必要 ■ ）"]
[null,"株式会社洸陽電機",0.34799999999999998,0.46800000000000003,"tCO2/千kWh"]
[null,"株式会社サイサン",0.373,0.36,"tCO2/千kWh"]
[null,"株式会社サニックス",8.9999999999999993E-3,8.9999999999999993E-3,"tCO2/千kWh"]
[null,"株式会社ＣＮＯパワーソリューションズ",0.53700000000000003,0.52400000000000002,"tCO2/千kWh",null,"１２表６の１"]
[null,"株式会社Ｇ－Ｐｏｗｅｒ",0.17,0,"tCO2/千kWh",null,"京都メカニズムクレジット"]
[null,"株式会社新出光",0.48699999999999999,0.72799999999999998,"tCO2/千kWh"]
[null,"株式会社トヨタタービンアンドシステム",0.49199999999999999,0.47699999999999998,"tCO2/千kWh"]
[null,"株式会社とんでん",0.495,0.47899999999999998,"tCO2/千kWh"]
[null,"株式会社ナンワエナジー",0.60199999999999998,0.60099999999999998,"tCO2/千kWh"]
[null,"株式会社日本セレモニー",0.61,0.69599999999999995,"tCO2/千kWh"]
[null,"株式会社Ｖ－Ｐｏｗｅｒ",0.254,0.56100000000000005,"tCO2/千kWh"]
[null,"株式会社フォレストパワー",0.19,0.69899999999999995,"tCO2/千kWh"]
[null,"株式会社ベイサイドエナジー",0.58099999999999996,0.56200000000000006,"tCO2/千kWh"]
[null,"京葉瓦斯株式会社",0.49399999999999999,0.47799999999999998,"tCO2/千kWh"]
[null,"サミットエナジー株式会社",0.41299999999999998,0.503,"tCO2/千kWh"]
[null,"ＪＸ日鉱日石エネルギー株式会社",0.32500000000000001,0.30599999999999999,"tCO2/千kWh"]
[null,"ＪＬエナジー株式会社",0.55300000000000005,0.53400000000000003,"tCO2/千kWh"]
[null,"志賀高原リゾート開発株式会社",3.5999999999999997E-2,0.57599999999999996,"tCO2/千kWh"]
[null,"シナネン株式会社",0.41599999999999998,0.56299999999999994,"tCO2/千kWh"]
[null,"昭和シェル石油株式会社",0.372,0.35299999999999998,"tCO2/千kWh"]
[null,"新日鉄住金エンジニアリング株式会社",0.56000000000000005,0.56999999999999995,"tCO2/千kWh"]
[null,"鈴与商事株式会社",0.48799999999999999,0.34799999999999998,"tCO2/千kWh"]
[null,"泉北天然ガス発電株式会社",0.32900000000000001,0.31,"tCO2/千kWh"]
[null,"総合エネルギー株式会社",0.63600000000000001,0.61499999999999999,"tCO2/千kWh"]
[null,"大東エナジー株式会社",0.56599999999999995,0.54700000000000004,"tCO2/千kWh"]
[null,"ダイヤモンドパワー株式会社",0.33900000000000002,0.32300000000000001,"tCO2/千kWh"]
[null,"大和ハウス工業株式会社",0.51900000000000002,0.501,"tCO2/千kWh"]
[null,"中央電力エナジー株式会社",0.56000000000000005,0.54100000000000004,"tCO2/千kWh"]
[null,"テス・エンジニアリング株式会社",0.59899999999999998,0.92500000000000004,"tCO2/千kWh"]
[null,"テプコカスタマーサービス株式会社",0.48699999999999999,0.32700000000000001,"tCO2/千kWh"]
[null,"東京エコサービス株式会社",7.0999999999999994E-2,0.14899999999999999,"tCO2/千kWh"]
[null,"にちほクラウド電力株式会社",0.53900000000000003,0.52100000000000002,"tCO2/千kWh"]
[null,"日産トレーデイング株式会社",0.36499999999999999,0.41,"tCO2/千kWh"]
[null,"日本アルファ電力株式会社",0,1.4790000000000001,"tCO2/千kWh"]
[null,"日本テクノ株式会社",0.53200000000000003,0.58799999999999997,"tCO2/千kWh"]
[null,"日本ロジテック協同組合",0.38600000000000001,0.55200000000000005,"tCO2/千kWh"]
[null,"パナソニック株式会社",0.622,0.61099999999999999,"tCO2/千kWh"]
[null,"プレミアムグリーンパワー株式会社",1.0999999999999999E-2,0.26500000000000001,"tCO2/千kWh"]
[null,"本田技研工業株式会社",0.57999999999999996,0.56000000000000005,"tCO2/千kWh"]
[null,"丸紅株式会社",0.48199999999999998,0.48699999999999999,"tCO2/千kWh"]
[null,"ミサワホーム株式会社",0.311,0.30099999999999999,"tCO2/千kWh"]
[null,"三井物産株式会社",0,0,"tCO2/千kWh"]
[null,"ミツウロコグリーンエネルギー株式会社",0.46600000000000003,0.498,"tCO2/千kWh"]
[null,"リエスパワー株式会社",0.58199999999999996,0,"tCO2/千kWh"]
[null,"ワタミファーム＆エナジー株式会社",0.45400000000000001,0.439,"tCO2/千kWh"]
[null,"代替値",0.57899999999999996,0.57899999999999996,"tCO2/千kWh"]
[null,"（平成２7年11月30日公表）"]

{"sheet":"CO2計算","index":7,"n_rows":229,"n_cols":30,"rows_kept":229,"cut":false,"hidden":false,"merged":[[32,3,32,14],[61,12,61,15],[58,12,58,15],[40,1,40,14],[61,1,61,11],[60,8,60,10],[59,8,59,10],[59,1,59,7],[60,1,60,7],[41,1,41,14],[59,12,59,15],[60,12,60,15],[28,8,28,14],[29,3,29,14],[27,8,27,14],[35,1,39,2],[35,3,36,7],[35,8,35,14],[36,8,36,14],[39,3,39,14],[38,8,38,14],[37,3,38,7],[37,8,37,14],[30,1,34,2],[30,3,30,14],[31,3,31,14],[33,3,33,14],[34,3,34,14],[1,1,2,14],[3,1,29,2],[25,8,25,14],[24,3,24,14],[6,3,6,14],[13,8,13,14],[25,3,28,7],[20,3,20,14],[22,3,22,14],[17,8,17,14],[18,8,18,14],[21,3,21,14],[17,3,19,7],[19,8,19,14],[23,3,23,14],[26,8,26,14],[1,18,1,19],[15,3,16,7],[14,8,14,14],[10,3,10,14],[3,3,3,14],[4,3,4,14],[5,3,5,14],[7,3,7,14],[8,3,8,14],[11,3,11,14],[16,8,16,14],[12,3,12,14],[9,3,9,14],[13,3,14,7],[15,8,15,14],[1,16,1,17]]}
[null,null,null,null,null,null,null,null,null,null,null,null,null,null,null,null,null,"ＣＯ２計算式"]
[null,"エネルギーの種類",null,null,null,null,null,null,null,null,null,null,null,null,null,null,"  使　用　量",null,"販 売 さ れ た 量",null," 省エネ法の",null,"温対法の"]
[null,null,null,null,null,null,null,null,null,null,null,null,null,null,null,"単位","数値","ＣＯ２量","数値","ＣＯ２量","　　換算係数",null,"排出係数"]
[null,"燃\n\n\n\n\n料\n\n\n\n",null,"原油(コンデンセートを除く。)",null,null,null,null,null,null,null,null,null,null,null,"ＫＬ",{"$f":"IF('特定-第１・２表'!U152=0,\"\",'特定-第１・２表'!U152)","v":""},{"$f":"IF(Q4=\"\",\"\",Q4*U4*W4*44/12)","v":""},{"$f":"IF('特定-第１・２表'!AM152=0,\"\",'特定-第１・２表'!AM152)","v":""},{"$f":"IF(S4=\"\",\"\",S4*U4*W4*44/12)","v":""},{"$f":"VLOOKUP(D4,係数,2,FALSE)","v":38.200000000000003},"GＪ/ｋｌ",{"$f":"VLOOKUP(D4,係数,4,FALSE)","v":1.8700000000000001E-2},"tC/GJ"]
[null,null,null,"原油のうちコンデンセート(NGL)",null,null,null,null,null,null,null,null,null,null,null,"ＫＬ",{"$f":"IF('特定-第１・２表'!U153=0,\"\",'特定-第１・２表'!U153)","v":""},"",{"$f":"IF('特定-第１・２表'!AM153=0,\"\",'特定-第１・２表'!AM153)","v":""},"",35.299999999999997,"GＪ/ｋｌ",1.84E-2,"tC/GJ"]
[null,null,null,"揮発油",null,null,null,null,null,null,null,null,null,null,null,"ＫＬ",{"$f":"IF('特定-第１・２表'!U154=0,\"\",'特定-第１・２表'!U154)","v":""},"",{"$f":"IF('特定-第１・２表'!AM154=0,\"\",'特定-第１・２表'!AM154)","v":""},"",34.6,"GＪ/ｋｌ",1.83E-2,"tC/GJ"]
[null,null,null,"ナフサ",null,null,null,null,null,null,null,null,null,null,null,"ＫＬ",{"$f":"IF('特定-第１・２表'!U155=0,\"\",'特定-第１・２表'!U155)","v":""},"",{"$f":"IF('特定-第１・２表'!AM155=0,\"\",'特定-第１・２表'!AM155)","v":""},"",33.6,"GＪ/ｋｌ",1.8200000000000001E-2,"tC/GJ"]
[null,null,null,"灯油",null,null,null,null,null,null,null,null,null,null,null,"ＫＬ",{"$f":"IF('特定-第１・２表'!U156=0,\"\",'特定-第１・２表'!U156)","v":""},"",{"$f":"IF('特定-第１・２表'!AM156=0,\"\",'特定-第１・２表'!AM156)","v":""},"",36.700000000000003,"GＪ/ｋｌ",1.8499999999999999E-2,"tC/GJ"]
[null,null,null,"軽油",null,null,null,null,null,null,null,null,null,null,null,"ＫＬ",{"$f":"IF('特定-第１・２表'!U157=0,\"\",'特定-第１・２表'!U157)","v":""},"",{"$f":"IF('特定-第１・２表'!AM157=0,\"\",'特定-第１・２表'!AM157)","v":""},"",37.700000000000003,"GＪ/ｋｌ",1.8700000000000001E-2,"tC/GJ"]
[null,null,null,"Ａ重油",null,null,null,null,null,null,null,null,null,null,null,"ＫＬ",{"$f":"IF('特定-第１・２表'!U158=0,\"\",'特定-第１・２表'!U158)","v":""},"",{"$f":"IF('特定-第１・２表'!AM158=0,\"\",'特定-第１・２表'!AM158)","v":""},"",39.1,"GＪ/ｋｌ",1.89E-2,"tC/GJ"]
[null,null,null,"Ｂ・Ｃ重油",null,null,null,null,null,null,null,null,null,null,null,"ＫＬ",{"$f":"IF('特定-第１・２表'!U159=0,\"\",'特定-第１・２表'!U159)","v":""},"",{"$f":"IF('特定-第１・２表'!AM159=0,\"\",'特定-第１・２表'!AM159)","v":""},"",41.9,"GＪ/ｋｌ",1.95E-2,"tC/GJ"]
[null,null,null,"石油アスファルト",null,null,null,null,null,null,null,null,null,null,null,"ｔ",{"$f":"IF('特定-第１・２表'!U160=0,\"\",'特定-第１・２表'!U160)","v":""},"",{"$f":"IF('特定-第１・２表'!AM160=0,\"\",'特定-第１・２表'!AM160)","v":""},"",40.9,"GＪ/ｔ",2.0799999999999999E-2,"tC/GJ"]
[null,null,null,"石油コークス",null,null,null,null,null,null,null,null,null,null,null,"ｔ",{"$f":"IF('特定-第１・２表'!U161=0,\"\",'特定-第１・２表'!U161)","v":""},"",{"$f":"IF('特定-第１・２表'!AM161=0,\"\",'特定-第１・２表'!AM161)","v":""},"",29.9,"GＪ/ｔ",2.5399999999999999E-2,"tC/GJ"]
[null,null,null,"石油ガス",null,null,null,null,"液化石油ガス　　（ＬＰＧ）",null,null,null,null,null,null,"ｔ",{"$f":"IF('特定-第１・２表'!U162=0,\"\",'特定-第１・２表'!U162)","v":""},"",{"$f":"IF('特定-第１・２表'!AM162=0,\"\",'特定-第１・２表'!AM162)","v":""},"",{"$f":"VLOOKUP(I14,係数,2,FALSE)","v":50.8},"GＪ/ｔ",{"$f":"VLOOKUP(I14,係数,4,FALSE)","v":1.61E-2},"tC/GJ"]
[null,null,null,null,null,null,null,null,"石油系炭化水素　　ガス",null,null,null,null,null,null,"千m3",{"$f":"IF('特定-第１・２表'!U163=0,\"\",'特定-第１・２表'!U163)","v":""},"",{"$f":"IF('特定-第１・２表'!AM163=0,\"\",'特定-第１・２表'!AM163)","v":""},"",44.9,"GＪ/千ｍ３",1.4200000000000001E-2,"tC/GJ"]
[null,null,null,"可 燃 性\n天然ガス",null,null,null,null,"液化天然ガス　　（ＬＮＧ）",null,null,null,null,null,null,"ｔ",{"$f":"IF('特定-第１・２表'!U164=0,\"\",'特定-第１・２表'!U164)","v":""},"",{"$f":"IF('特定-第１・２表'!AM164=0,\"\",'特定-第１・２表'!AM164)","v":""},"",54.6,"GＪ/ｔ",1.35E-2,"tC/GJ"]
[null,null,null,null,null,null,null,null,"その他可燃性　　天然ガス",null,null,null,null,null,null,"千m3",{"$f":"IF('特定-第１・２表'!U165=0,\"\",'特定-第１・２表'!U165)","v":""},"",{"$f":"IF('特定-第１・２表'!AM165=0,\"\",'特定-第１・２表'!AM165)","v":""},"",43.5,"GＪ/千ｍ３",1.3899999999999999E-2,"tC/GJ"]
[null,null,null,"石炭",null,null,null,null,"原料炭",null,null,null,null,null,null,"ｔ",{"$f":"IF('特定-第１・２表'!U166=0,\"\",'特定-第１・２表'!U166)","v":""},"",{"$f":"IF('特定-第１・２表'!AM166=0,\"\",'特定-第１・２表'!AM166)","v":""},"",29,"GＪ/ｔ",2.4500000000000001E-2,"tC/GJ"]
[null,null,null,null,null,null,null,null,"一般炭",null,null,null,null,null,null,"ｔ",{"$f":"IF('特定-第１・２表'!U167=0,\"\",'特定-第１・２表'!U167)","v":""},"",{"$f":"IF('特定-第１・２表'!AM167=0,\"\",'特定-第１・２表'!AM167)","v":""},"",25.7,"GＪ/ｔ",2.47E-2,"tC/GJ"]
[null,null,null,null,null,null,null,null,"無煙炭",null,null,null,null,null,null,"ｔ",{"$f":"IF('特定-第１・２表'!U168=0,\"\",'特定-第１・２表'!U168)","v":""},"",{"$f":"IF('特定-第１・２表'!AM168=0,\"\",'特定-第１・２表'!AM168)","v":""},"",26.9,"GＪ/ｔ",2.5499999999999998E-2,"tC/GJ"]
[null,null,null,"石炭コークス",null,null,null,null,null,null,null,null,null,null,null,"ｔ",{"$f":"IF('特定-第１・２表'!U169=0,\"\",'特定-第１・２表'!U169)","v":""},"",{"$f":"IF('特定-第１・２表'!AM169=0,\"\",'特定-第１・２表'!AM169)","v":""},"",{"$f":"VLOOKUP(D21,係数,2,FALSE)","v":29.4},"GＪ/ｔ",{"$f":"VLOOKUP(D21,係数,4,FALSE)","v":2.9399999999999999E-2},"tC/GJ"]
[null,null,null,"コールタール",null,null,null,null,null,null,null,null,null,null,null,"ｔ",{"$f":"IF('特定-第１・２表'!U170=0,\"\",'特定-第１・２表'!U170)","v":""},"",{"$f":"IF('特定-第１・２表'!AM170=0,\"\",'特定-第１・２表'!AM170)","v":""},"",{"$f":"VLOOKUP(D22,係数,2,FALSE)","v":37.299999999999997},"GＪ/ｔ",{"$f":"VLOOKUP(D22,係数,4,FALSE)","v":2.0899999999999998E-2},"tC/GJ"]
[null,null,null,"コークス炉ガス",null,null,null,null,null,null,null,null,null,null,null,"千m3",{"$f":"IF('特定-第１・２表'!U171=0,\"\",'特定-第１・２表'!U171)","v":""},"",{"$f":"IF('特定-第１・２表'!AM171=0,\"\",'特定-第１・２表'!AM171)","v":""},"",{"$f":"VLOOKUP(D23,係数,2,FALSE)","v":21.1},"GＪ/千ｍ３",{"$f":"VLOOKUP(D23,係数,4,FALSE)","v":1.0999999999999999E-2},"tC/GJ"]
[null,null,null,"高炉ガス",null,null,null,null,null,null,null,null,null,null,null,"千m3",{"$f":"IF('特定-第１・２表'!U172=0,\"\",'特定-第１・２表'!U172)","v":""},"",{"$f":"IF('特定-第１・２表'!AM172=0,\"\",'特定-第１・２表'!AM172)","v":""},"",{"$f":"VLOOKUP(D24,係数,2,FALSE)","v":3.41},"GＪ/千ｍ３",{"$f":"VLOOKUP(D24,係数,4,FALSE)","v":2.63E-2},"tC/GJ"]
[null,null,null,"転炉ガス",null,null,null,null,null,null,null,null,null,null,null,"千m3",{"$f":"IF('特定-第１・２表'!U173=0,\"\",'特定-第１・２表'!U173)","v":""},"",{"$f":"IF('特定-第１・２表'!AM173=0,\"\",'特定-第１・２表'!AM173)","v":""},"",{"$f":"VLOOKUP(D25,係数,2,FALSE)","v":8.41},"GＪ/千ｍ３",{"$f":"VLOOKUP(D25,係数,4,FALSE)","v":3.8399999999999997E-2},"tC/GJ"]
[null,null,null,"その他の\n燃 料",null,null,null,null,"都市ガス",null,null,null,null,null,null,"千ｍ３",{"$f":"IF('特定-第１・２表'!U174=0,\"\",'特定-第１・２表'!U174)","v":""},{"$f":"IF(入力・計算補助!AC55=0,\"\",入力・計算補助!AC55)","v":""},{"$f":"IF('特定-第１・２表'!AM174=0,\"\",'特定-第１・２表'!AM174)","v":""},{"$f":"IF(入力・計算補助!AD55=0,\"\",入力・計算補助!AD55)","v":""},{"$f":"入力・計算補助!AD28","v":"N/A"},"千ｍ３",{"$f":"入力・計算補助!AD29","v":1.3599999999999999E-2},"tC/GJ"]
[null,null,null,null,null,null,null,null,"推計値",null,null,null,null,null,null,{"$f":"IF(I27=\"\",\"\",\"GJ\")","v":"GJ"},{"$f":"IF(ISERROR(VLOOKUP(1,'特定-第１・２表'!A175:AU185,21,FALSE)),\"\",VLOOKUP(1,'特定-第１・２表'!A175:AU185,21,FALSE))","v":""},{"$f":"IF(Q27=\"\",\"\",Q27*U27*W27)","v":""},{"$f":"IF(ISERROR(VLOOKUP(1,'特定-第１・２表'!A175:AU185,39,FALSE)),\"\",VLOOKUP(1,'特定-第１・２表'!A175:AU185,39,FALSE))","v":""},{"$f":"IF(Q27=\"\",\"\",S27*U27*W27)","v":""},1,"GＪ/GＪ",{"$f":"IF(ISERROR(VLOOKUP(1,'特定-第１・２表'!A175:BM185,65,FALSE)),0.057,VLOOKUP(1,'特定-第１・２表'!A175:BM185,65,FALSE))","v":5.7000000000000002E-2},"tCO2/GJ"]
[null,null,null,null,null,null,null,null,"ジェット燃料油",null,null,null,null,null,null,"ＫＬ",{"$f":"IF(ISERROR(VLOOKUP(2,'特定-第１・２表'!A175:AU185,21,FALSE)),\"\",VLOOKUP(2,'特定-第１・２表'!A175:AU185,21,FALSE))","v":""},{"$f":"IF(Q28=\"\",\"\",Q28*U28*W28*44/12)","v":""},{"$f":"IF(ISERROR(VLOOKUP(2,'特定-第１・２表'!A175:AU185,39,FALSE)),\"\",VLOOKUP(2,'特定-第１・２表'!A175:AU185,39,FALSE))","v":""},{"$f":"IF(Q28=\"\",\"\",S28*U28*W28*44/12)","v":""},{"$f":"VLOOKUP(I28,係数,2,FALSE)","v":36.700000000000003},"GＪ/ｋｌ",{"$f":"VLOOKUP(I28,係数,4,FALSE)","v":1.83E-2},"tC/GJ"]
[null,null,null,null,null,null,null,null,"ガソリン",null,null,null,null,null,null,"ＫＬ",{"$f":"IF(ISERROR(VLOOKUP(3,'特定-第１・２表'!A175:AU185,21,FALSE)),\"\",VLOOKUP(3,'特定-第１・２表'!A175:AU185,21,FALSE))","v":""},{"$f":"IF(Q29=\"\",\"\",Q29*U29*W29*44/12)","v":""},{"$f":"IF(ISERROR(VLOOKUP(3,'特定-第１・２表'!A175:AU185,39,FALSE)),\"\",VLOOKUP(3,'特定-第１・２表'!A175:AU185,39,FALSE))","v":""},{"$f":"IF(Q29=\"\",\"\",S29*U29*W29*44/12)","v":""},{"$f":"VLOOKUP(D6,係数,2,FALSE)","v":34.6},"GＪ/ｋｌ",{"$f":"VLOOKUP(D6,係数,4,FALSE)","v":1.83E-2},"tC/GJ"]
[null,null,null,"小計",null,null,null,null,null,null,null,null,null,null,null,null,{"$f":"SUM(Q4:Q29)","v":0},{"$f":"SUM(R4:R29)","v":0},{"$f":"SUM(S4:S29)","v":0},{"$f":"SUM(T4:T29)","v":0},null,null,null,null,"デフォルト"]
[null,"熱",null,"産業用蒸気",null,null,null,null,null,null,null,null,null,null,null,"ＧＪ",{"$f":"'特定-第１・２表'!U186","v":0},{"$f":"IF('特定-第１・２表'!U186=\"\",\"\",Q31*W31)","v":""},{"$f":"'特定-第１・２表'!AM186","v":0},{"$f":"IF('特定-第１・２表'!AM186=\"\",\"\",S31*W31)","v":""},{"$f":"IF(入力・計算補助!S135=0,VLOOKUP(D31,係数,2,FALSE),OFFSET(入力・計算補助!I135,(入力・計算補助!F$129-1)*18,0))","v":1.02},"GＪ/GＪ",{"$f":"IF(AND(入力・計算補助!F$129<3,入力・計算補助!T135>0),OFFSET(入力・計算補助!M135,(入力・計算補助!F$129-1)*18,0),VLOOKUP(D31,係数,4,FALSE))","v":0.06},"tCO2/GJ",{"$f":"VLOOKUP(D31,係数,4,FALSE)","v":0.06}]
[null,null,null,"産業用以外の蒸気",null,null,null,null,null,null,null,null,null,null,null,"ＧＪ",{"$f":"'特定-第１・２表'!U187","v":0},{"$f":"IF('特定-第１・２表'!U187=\"\",\"\",Q32*W32)","v":""},{"$f":"'特定-第１・２表'!AM187","v":0},{"$f":"IF('特定-第１・２表'!AM187=\"\",\"\",S32*W32)","v":""},{"$f":"IF(入力・計算補助!S136=0,VLOOKUP(D32,係数,2,FALSE),OFFSET(入力・計算補助!I136,(入力・計算補助!F$129-1)*18,0))","v":1.36},"GＪ/GＪ",{"$f":"IF(AND(入力・計算補助!F$129<3,入力・計算補助!T136>0),OFFSET(入力・計算補助!M136,(入力・計算補助!F$129-1)*18,0),VLOOKUP(D32,係数,4,FALSE))","v":5.7000000000000002E-2},"tCO2/GJ",{"$f":"VLOOKUP(D32,係数,4,FALSE)","v":5.7000000000000002E-2}]
[null,null,null,"温水",null,null,null,null,null,null,null,null,null,null,null,"ＧＪ",{"$f":"'特定-第１・２表'!U188","v":0},{"$f":"IF('特定-第１・２表'!U188=\"\",\"\",Q33*W33)","v":""},{"$f":"'特定-第１・２表'!AM188","v":0},{"$f":"IF('特定-第１・２表'!AM188=\"\",\"\",S33*W33)","v":""},{"$f":"IF(入力・計算補助!S137=0,VLOOKUP(D33,係数,2,FALSE),OFFSET(入力・計算補助!I137,(入力・計算補助!F$129-1)*18,0))","v":1.36},"GＪ/GＪ",{"$f":"IF(AND(入力・計算補助!F$129<3,入力・計算補助!T137>0),OFFSET(入力・計算補助!M137,(入力・計算補助!F$129-1)*18,0),VLOOKUP(D33,係数,4,FALSE))","v":5.7000000000000002E-2},"tCO2/GJ",{"$f":"VLOOKUP(D33,係数,4,FALSE)","v":5.7000000000000002E-2}]
[null,null,null,"冷水",null,null,null,null,null,null,null,null,null,null,null,"ＧＪ",{"$f":"'特定-第１・２表'!U189","v":0},{"$f":"IF('特定-第１・２表'!U189=\"\",\"\",Q34*W34)","v":""},{"$f":"'特定-第１・２表'!AM189","v":0},{"$f":"IF('特定-第１・２表'!AM189=\"\",\"\",S34*W34)","v":""},{"$f":"IF(入力・計算補助!S138=0,VLOOKUP(D34,係数,2,FALSE),OFFSET(入力・計算補助!I138,(入力・計算補助!F$129-1)*18,0))","v":1.36},"GＪ/GＪ",{"$f":"IF(AND(入力・計算補助!F$129<3,入力・計算補助!T138>0),OFFSET(入力・計算補助!M138,(入力・計算補助!F$129-1)*18,0),VLOOKUP(D34,係数,4,FALSE))","v":5.7000000000000002E-2},"tCO2/GJ",{"$f":"VLOOKUP(D34,係数,4,FALSE)","v":5.7000000000000002E-2}]
[null,null,null,"小計",null,null,null,null,null,null,null,null,null,null,null,"ＧＪ",{"$f":"SUM(Q31:Q34)","v":0},{"$f":"SUM(R31:R34)","v":0},{"$f":"SUM(S31:S34)","v":0},{"$f":"SUM(T31:T34)","v":0}]
[null,"電\n\n気",null,"電気\n事業者",null,null,null,null,"昼間買電",null,null,null,null,null,null,"千KWh",{"$f":"'特定-第１・２表'!U191","v":7119},{"$f":"IF(入力・計算補助!AC120=0,\"\",入力・計算補助!AC120)","v":""},null,null,9.9700000000000006,"GJ/千ｋWh",{"$f":"入力・計算補助!AG73","v":0.57899999999999996},"tCO2/千kWh",null,"うち電気需要平準化時間帯",null,null,{"$f":"'特定-第１・２表'!V192","v":4187},{"$f":"IF(入力・計算補助!AD120=0,\"\",入力・計算補助!AD120)","v":""}]
[null,null,null,null,null,null,null,null,"夜間買電",null,null,null,null,null,null,"千KWh",{"$f":"'特定-第１・２表'!U193","v":""},{"$f":"IF(入力・計算補助!AC121=0,\"\",入力・計算補助!AC121)","v":""},null,null,9.2799999999999994,"GJ/千ｋWh",{"$f":"入力・計算補助!AG73","v":0.57899999999999996},"tCO2/千kWh"]
[null,null,null,"その他",null,null,null,null,"上記以外の買電",null,null,null,null,null,null,"千KWh",{"$f":"'特定-第１・２表'!U194","v":""},{"$f":"IF(入力・計算補助!T123=0,\"\",入力・計算補助!T123)","v":""},null,null,9.76,"GJ/千ｋWh",{"$f":"入力・計算補助!Q120","v":0.57899999999999996},"tCO2/千kWh"]
[null,null,null,null,null,null,null,null,"自家発電",null,null,null,null,null,null,"千KWh",{"$f":"'特定-第１・２表'!U195","v":0},null,{"$f":"'特定-第１・２表'!AM195","v":0},{"$f":"IF('特定-第１・２表'!AM195=\"\",\"\",S39*W39)","v":""},9.76,"GJ/千ｋWh",0,"tCO2/千kWh"]
[null,null,null,"小計",null,null,null,null,null,null,null,null,null,null,null,null,{"$f":"SUM(Q36:Q38)","v":7119},{"$f":"SUM(R36:R38)","v":0},{"$f":"S39","v":0},{"$f":"SUM(T36:T39)","v":0}]
[null,"燃料＋熱＋電気＝合計量",null,null,null,null,null,null,null,null,null,null,null,null,null,null,null,{"$f":"R30+R35+R40","v":0},null,{"$f":"T30+T35+T40","v":0},2.58E-2,"Kl/GJ"]
[null,"二酸化炭素排出量（tCO2)",null,null,null,null,null,null,null,null,null,null,null,null,null,null,null,{"$f":"R41-T41","v":0}]
[]
[]
[]
[null,"二酸化炭素排出量計算"]
[null,null,null,"（ⓐ－ⓑ）　　　小数点以下切り捨て　　）",null,null,null,null,null,null,null,null,null,null,null,null,null,{"$f":"IF(R42=0,0,ROUNDDOWN(R42,0))","v":0}]
[null,null,null,null,null,null,null,null,null,null,null,null,null,null,null,null,"ⓐ",{"$f":"R41","v":0}]
[null,null,null,null,null,null,null,null,null,null,null,null,null,null,null,null,"ⓑ",{"$f":"T30+T35+T40","v":0}]
[]
[]
[]
[]
[null,null,null,"（ⓒ－ⓓ）　　　小数点以下切り捨て　　）",null,null,null,null,null,null,null,null,null,null,null,null,null,{"$f":"IF((R30-T30)>0,ROUNDDOWN((R30-T30),0),0)","v":0},null,{"$f":"IF(R54=\"\",\"\",ROUND(R54,2-INT(LOG(R54))))","v":{"$error":"#NUM!"}}]
[null,null,null,null,null,null,null,null,null,null,null,null,null,null,null,null,"ⓒ",{"$f":"R30","v":0}]
[null,null,null,null,null,null,null,null,null,null,null,null,null,null,null,null,"ⓓ",{"$f":"T30","v":0}]
[]
[]
[null,null,null,null,null,null,null,null,null,null,null,null,"販売量",null,null,null,"排出係数","ＣＯ２排出量"]
[null,"販売電気量（自家発電による販売量含む）",null,null,null,null,null,null,"千KWh",null,null,null,{"$f":"入力・計算補助!I156","v":0},null,null,null,{"$f":"入力・計算補助!M156","v":0},{"$f":"M60*Q60","v":0},"tCO2/千kWh"]
[null,"販売熱量",null,null,null,null,null,null,"ＧＪ",null,null,null,{"$f":"入力・計算補助!I173","v":0},null,null,null,{"$f":"入力・計算補助!M173","v":0},{"$f":"M61*Q61","v":0},"tCO2/GJ"]
[null,"小計",null,null,null,null,null,null,null,null,null,null,null,null,null,null,null,{"$f":"SUM(R60:R61)","v":0}]
[]
[null,null,null,"（ⓐ－ⓔ　　　小数点以下切り捨て　　）",null,null,null,null,null,null,null,null,null,null,null,null,null,{"$f":"IF(T66=0,0,ROUNDDOWN(T66,0))","v":0},null,{"$f":"IF(R62=\"\",\"\",ROUND(R62,2-INT(LOG(R62))))","v":{"$error":"#NUM!"}}]
[null,null,null,null,null,null,null,null,null,null,null,null,null,null,null,null,"ⓐ",{"$f":"R41","v":0}]
[null,null,null,null,null,null,null,null,null,null,null,null,null,null,null,null,"ⓔ",{"$f":"R62","v":0},null,{"$f":"R65-R66","v":0}]
[]
[]
[]
[]
[]
[]
[]
[]
[]
[]
[]
[]
[]
[]
[]
[]
[]
[]
[]
[]
[]
[]
[]
[]
[]
[]
[null,null,null,null,null,null,null,null,null,null,null,null,null,null,null,null,null,null,null,null,"入力順番"]
[null,null,null,null,null,null,null,null,null,null,null,null,null,null,null,null,null,null,null,null,"４番目"]
[]
[]
[]
[]
[]
[]
[]
[]
[]
[]
[]
[]
[]
[]
[]
[]
[]
[]
[]
[]
[]
[]
[]
[]
[]
[]
[]
[null,null,null,null,null,null,null,null,null,null,null,null,null,null,null,null,null,null,null,null,"入力順番"]
[]
[]
[]
[]
[null,null,null,null,null,null,null,null,null,null,null,null,null,null,null,null,null,null,null,null,"５番目"]
[]
[]
[]
[]
[]
[]
[]
[]
[]
[]
[]
[]
[]
[]
[]
[]
[]
[]
[]
[]
[]
[]
[]
[]
[]
[]
[]
[]
[]
[]
[]
[]
[]
[]
[]
[]
[]
[]
[]
[]
[]
[]
[]
[]
[]
[]
[]
[]
[null,null,null,null,null,null,null,null,null,null,null,null,null,null,null,null,null,null,null,null,null,"入力順番"]
[null,null,null,null,null,null,null,null,null,null,null,null,null,null,null,null,null,null,null,null,null,"６番目"]
[]
[]
[]
[]
[]
[]
[]
[]
[]
[]
[]
[]
[]
[]
[]
[]
[]
[]
[]
[]
[]
[]
[]
[]
[]
[]
[]
[]
[]
[]
[]
[]
[]
[]
[]
[]
[]
[]
[]
[]
[]
[]
[]
[]
[]
[]
[]
[]
[]
[null,null,null,null,null,null,null,null,null,null,null,null,null,null,null,null,null,null,null,"入力順番"]
[]
[null,null,null,null,null,null,null,null,null,null,null,null,null,null,null,null,null,null,null,"７番目"]

{"sheet":"保存用","index":8,"n_rows":9,"n_cols":22,"rows_kept":9,"cut":false,"hidden":true,"merged":[]}
["年度",2009,{"$f":"YEAR(C3)","v":2009},{"$f":"YEAR(D3)","v":2010},2011,2012,2013,2014,2015,2016,2017,2018,2019,2020,2021,2022,2023,2024,2025,2026,2027,2028]
["■保存データ"]
[null,null,{"$f":"DATEVALUE($B$1+COLUMN(C3)-3 & \"/1/1\")","v":39814},{"$f":"DATEVALUE($B$1+COLUMN(D3)-3 & \"/1/1\")","v":40179},40544,40909,41275,41640,42005,42370,42736,43101,43466,43831,44197,44562,44927,45292,45658,46023,46388,46753]
[null,"特定－第２表　原油換算（Kl）"]
[null,"特定－第３表　使用量と密接な関係をもつ値（名称）"]
[null,"特定－第３表　使用量と密接な関係をもつ値（単位）"]
[null,"特定－第３表　使用量と密接な関係をもつ値（数値）"]
[null,"特定－第４表１ エネルギーの使用に係る原単位"]
[null,"特定－第４表２ 電気需要平準化評価原単位"]

{"sheet":"日本標準産業分類","index":9,"n_rows":1460,"n_cols":6,"rows_kept":1460,"cut":false,"hidden":true,"merged":[]}
["小分類","名称",null,"第１表","分類番号",{"$f":"'特定-第１・２表'!T37&'特定-第１・２表'!X37&'特定-第１・２表'!AB37&'特定-第１・２表'!AF37","v":"6095"}]
["0100","主として管理事務を行う本社等",null,null,"分類項目名",{"$f":"IF(F1=\"\",\"\",(IF(ISERROR(VLOOKUP(F1,日本標準産業分類!A:B,2,FALSE)),\"該当の細分類がありません\",VLOOKUP(F1,日本標準産業分類!A:B,2,FALSE))))","v":"ジュエリー製品小売業"}]
["0109","その他の管理，補助的経済活動を行う事業所"]
["0111","米作農業"]
["0112","米作以外の穀作農業"]
["0113","野菜作農業（きのこ類の栽培を含む）"]
["0114","果樹作農業"]
["0115","花き作農業"]
["0116","工芸農作物農業"]
["0117","ばれいしょ・かんしょ作農業"]
["0119","その他の耕種農業"]
["0121","酪農業"]
["0122","肉用牛生産業"]
["0123","養豚業"]
["0124","養鶏業"]
["0125","畜産類似業"]
["0126","養蚕農業"]
["0129","その他の畜産農業"]
["0131","穀作サービス業"]
["0132","野菜作・果樹作サービス業"]
["0133","穀作，野菜作・果樹作以外の耕種サービス業"]
["0134","畜産サービス業（獣医業を除く）"]
["0141","園芸サービス業"]
["0200","主として管理事務を行う本社等"]
["0209","その他の管理，補助的経済活動を行う事業所"]
["0211","育林業"]
["0221","素材生産業"]
["0231","製薪炭業"]
["0239","その他の特用林産物生産業（きのこ類の栽培を除く）"]
["0241","育林サービス業"]
["0242","素材生産サービス業"]
["0243","山林種苗生産サービス業"]
["0249","その他の林業サービス業"]
["0299","その他の林業"]
["0300","主として管理事務を行う本社等"]
["0309","その他の管理，補助的経済活動を行う事業所"]
["0311","底びき網漁業"]
["0312","まき網漁業"]
["0313","刺網漁業"]
["0314","釣・はえ縄漁業"]
["0315","定置網漁業"]
["0316","地びき網・船びき網漁業"]
["0317","採貝・採藻業"]
["0318","捕鯨業"]
["0319","その他の海面漁業"]
["0321","内水面漁業"]
["0400","主として管理事務を行う本社等"]
["0409","その他の管理，補助的経済活動を行う事業所"]
["0411","魚類養殖業"]
["0412","貝類養殖業"]
["0413","藻類養殖業"]
["0414","真珠養殖業"]
["0415","種苗養殖業"]
["0419","その他の海面養殖業"]
["0421","内水面養殖業"]
["0500","主として管理事務を行う本社等"]
["0509","その他の管理，補助的経済活動を行う事業所"]
["0511","金・銀鉱業"]
["0512","鉛・亜鉛鉱業"]
["0513","鉄鉱業"]
["0519","その他の金属鉱業"]
["0521","石炭鉱業（石炭選別業を含む）"]
["0522","亜炭鉱業"]
["0531","原油鉱業"]
["0532","天然ガス鉱業"]
["0541","花こう岩・同類似岩石採石業"]
["0542","石英粗面岩・同類似岩石採石業"]
["0543","安山岩・同類似岩石採石業"]
["0544","大理石採石業"]
["0545","ぎょう灰岩採石業"]
["0546","砂岩採石業"]
["0547","粘板岩採石業"]
["0548","砂・砂利・玉石採取業"]
["0549","その他の採石業，砂・砂利・玉石採取業"]
["0551","耐火粘土鉱業"]
["0552","ろう石鉱業"]
["0553","ドロマイト鉱業"]
["0554","長石鉱業"]
["0555","けい石鉱業"]
["0556","天然けい砂鉱業"]
["0557","石灰石鉱業"]
["0559","その他の窯業原料用鉱物鉱業"]
["0591","酸性白土鉱業"]
["0592","ベントナイト鉱業"]
["0593","けいそう土鉱業"]
["0594","滑石鉱業"]
["0599","他に分類されない鉱業"]
["0600","主として管理事務を行う本社等"]
["0609","その他の管理，補助的経済活動を行う事業所"]
["0611","一般土木建築工事業"]
["0621","土木工事業(別掲を除く)"]
["0622","造園工事業"]
["0623","しゅんせつ工事業"]
["0631","舗装工事業"]
["0641","建築工事業(木造建築工事業を除く)"]
["0651","木造建築工事業"]
["0661","建築リフォーム工事業"]
["0700","主として管理事務を行う本社等"]
["0709","その他の管理，補助的経済活動を行う事業所"]
["0711","大工工事業(型枠大工工事業を除く)"]
["0712","型枠大工工事業"]
["0721","とび工事業"]
["0722","土工・コンクリート工事業"]
["0723","特殊コンクリート工事業"]
["0731","鉄骨工事業"]
["0732","鉄筋工事業"]
["0741","石工工事業"]
["0742","れんが工事業"]
["0743","タイル工事業"]
["0744","コンクリートブロック工事業"]
["0751","左官工事業"]
["0761","金属製屋根工事業"]
["0762","板金工事業"]
["0763","建築金物工事業"]
["0771","塗装工事業（道路標示・区画線工事業を除く）"]
["0772","道路標示・区画線工事業"]
["0781","床工事業"]
["0782","内装工事業"]
["0791","ガラス工事業"]
["0792","金属製建具工事業"]
["0793","木製建具工事業"]
["0794","屋根工事業（金属製屋根工事業を除く）"]
["0795","防水工事業"]
["0796","はつり・解体工事業"]
["0799","他に分類されない職別工事業"]
["0800","主として管理事務を行う本社等"]
["0809","その他の管理，補助的経済活動を行う事業所"]
["0811","一般電気工事業"]
["0812","電気配線工事業"]
["0821","電気通信工事業（有線テレビジョン放送設備設置工事業を除く）"]
["0822","有線テレビジョン放送設備設置工事業"]
["0823","信号装置工事業"]
["0831","一般管工事業"]
["0832","冷暖房設備工事業"]
["0833","給排水・衛生設備工事業"]
["0839","その他の管工事業"]
["0841","機械器具設置工事業（昇降設備工事業を除く）"]
["0842","昇降設備工事業"]
["0891","築炉工事業"]
["0892","熱絶縁工事業"]
["0893","道路標識設置工事業"]
["0894","さく井工事業"]
["0900","主として管理事務を行う本社等"]
["0909","その他の管理，補助的経済活動を行う事業所"]
["0911","部分肉・冷凍肉製造業"]
["0912","肉加工品製造業"]
["0913","処理牛乳・乳飲料製造業"]
["0914","乳製品製造業（処理牛乳，乳飲料を除く）"]
["0919","その他の畜産食料品製造業"]
["0921","水産缶詰・瓶詰製造業"]
["0922","海藻加工業"]
["0923","水産練製品製造業"]
["0924","塩干・塩蔵品製造業"]
["0925","冷凍水産物製造業"]
["0926","冷凍水産食品製造業"]
["0929","その他の水産食料品製造業"]
["0931","野菜缶詰・果実缶詰・農産保存食料品製造業（野菜漬物を除く）"]
["0932","野菜漬物製造業（缶詰，瓶詰，つぼ詰を除く）"]
["0941","味そ製造業"]
["0942","しょう油・食用アミノ酸製造業"]
["0943","ソース製造業"]
["0944","食酢製造業"]
["0949","その他の調味料製造業"]
["0951","砂糖製造業（砂糖精製業を除く）"]
["0952","砂糖精製業"]
["0953","ぶどう糖・水あめ・異性化糖製造業"]
["0961","精米・精麦業"]
["0962","小麦粉製造業"]
["0969","その他の精穀・製粉業"]
["0971","パン製造業"]
["0972","生菓子製造業"]
["0973","ビスケット類・干菓子製造業"]
["0974","米菓製造業"]
["0979","その他のパン・菓子製造業"]
["0981","動植物油脂製造業（食用油脂加工業を除く）"]
["0982","食用油脂加工業"]
["0991","でんぷん製造業"]
["0992","めん類製造業"]
["0993","豆腐・油揚製造業"]
["0994","あん類製造業"]
["0995","冷凍調理食品製造業"]
["0996","そう（惣）菜製造業"]
["0997","すし・弁当・調理パン製造業"]
["0998","レトルト食品製造業"]
["0999","他に分類されない食料品製造業"]
["1000","主として管理事務を行う本社等"]
["1009","その他の管理，補助的経済活動を行う事業所"]
["1011","清涼飲料製造業"]
["1021","果実酒製造業"]
["1022","ビール類製造業"]
["1023","清酒製造業"]
["1024","蒸留酒・混成酒製造業"]
["1031","製茶業"]
["1032","コーヒー製造業"]
["1041","製氷業"]
["1051","たばこ製造業（葉たばこ処理業を除く)"]
["1052","葉たばこ処理業"]
["1061","配合飼料製造業"]
["1062","単体飼料製造業"]
["1063","有機質肥料製造業"]
["1100","主として管理事務を行う本社等"]
["1109","その他の管理，補助的経済活動を行う事業所"]
["1111","製糸業"]
["1112","化学繊維製造業"]
["1113","炭素繊維製造業"]
["1114","綿紡績業"]
["1115","化学繊維紡績業"]
["1116","毛紡績業"]
["1117","ねん糸製造業（かさ高加工糸を除く）"]
["1118","かさ高加工糸製造業"]
["1119","その他の紡績業"]
["1121","綿・スフ織物業"]
["1122","絹・人絹織物業"]
["1123","毛織物業"]
["1124","麻織物業"]
["1125","細幅織物業"]
["1129","その他の織物業"]
["1131","丸編ニット生地製造業"]
["1132","たて編ニット生地製造業"]
["1133","横編ニット生地製造業"]
["1141","綿・スフ・麻織物機械染色業"]
["1142","絹・人絹織物機械染色業"]
["1143","毛織物機械染色整理業"]
["1144","織物整理業"]
["1145","織物手加工染色整理業"]
["1146","綿状繊維・糸染色整理業"]
["1147","ニット・レース染色整理業"]
["1148","繊維雑品染色整理業"]
["1151","綱製造業"]
["1152","漁網製造業"]
["1153","網地製造業（漁網を除く）"]
["1154","レース製造業"]
["1155","組ひも製造業"]
["1156","整毛業"]
["1157","フェルト・不織布製造業"]
["1158","上塗りした織物・防水した織物製造業"]
["1159","その他の繊維粗製品製造業"]
["1161","織物製成人男子・少年服製造業（不織布製及びレース製を含む）"]
["1162","織物製成人女子・少女服製造業（不織布製及びレース製を含む）"]
["1163","織物製乳幼児服製造業（不織布製及びレース製を含む）"]
["1164","織物製シャツ製造業（不織布製及びレース製を含み、下着を除く）"]
["1165","織物製事務用・作業用・衛生用・スポーツ用衣服・学校服製造業（不織布製及びレース製を含む）"]
["1166","ニット製外衣製造業（アウターシャツ類，セーター類などを除く）"]
["1167","ニット製アウターシャツ類製造業"]
["1168","セーター類製造業"]
["1169","その他の外衣・シャツ製造業"]
["1171","織物製下着製造業"]
["1172","ニット製下着製造業"]
["1173","織物製・ニット製寝着類製造業"]
["1174","補整着製造業"]
["1181","和装製品製造業（足袋を含む）"]
["1182","ネクタイ製造業"]
["1183","スカーフ・マフラー・ハンカチーフ製造業"]
["1184","靴下製造業"]
["1185","手袋製造業"]
["1186","帽子製造業（帽体を含む）"]
["1189","他に分類されない衣服・繊維製身の回り品製造業"]
["1191","寝具製造業"]
["1192","毛布製造業"]
["1193","じゅうたん・その他の繊維製床敷物製造業"]
["1194","帆布製品製造業"]
["1195","繊維製袋製造業"]
["1196","刺しゅう業"]
["1197","タオル製造業"]
["1198","繊維製衛生材料製造業"]
["1199","他に分類されない繊維製品製造業"]
["1200","主として管理事務を行う本社等"]
["1209","その他の管理，補助的経済活動を行う事業所"]
["1211","一般製材業"]
["1212","単板（ベニヤ）製造業"]
["1213","木材チップ製造業"]
["1219","その他の特殊製材業"]
["1221","造作材製造業（建具を除く）"]
["1222","合板製造業"]
["1223","集成材製造業"]
["1224","建築用木製組立材料製造業"]
["1225","パーティクルボード製造業"]
["1226","繊維板製造業"]
["1227","銘木製造業"]
["1228","床板製造業"]
["1231","竹・とう・きりゅう等容器製造業"]
["1232","木箱製造業"]
["1233","たる・おけ製造業"]
["1291","木材薬品処理業"]
["1292","コルク加工基礎資材・コルク製品製造業"]
["1299","他に分類されない木製品製造業(竹，とうを含む)"]
["1300","主として管理事務を行う本社等"]
["1309","その他の管理，補助的経済活動を行う事業所"]
["1311","木製家具製造業（漆塗りを除く）"]
["1312","金属製家具製造業"]
["1313","マットレス・組スプリング製造業"]
["1321","宗教用具製造業"]
["1331","建具製造業"]
["1391","事務所用・店舗用装備品製造業"]
["1392","窓用・扉用日よけ，日本びょうぶ等製造業"]
["1393","鏡縁・額縁製造業"]
["1399","他に分類されない家具・装備品製造業"]
["1400","主として管理事務を行う本社等"]
["1409","その他の管理，補助的経済活動を行う事業所"]
["1411","パルプ製造業"]
["1421","洋紙製造業"]
["1422","板紙製造業"]
["1423","機械すき和紙製造業"]
["1424","手すき和紙製造業"]
["1431","塗工紙製造業（印刷用紙を除く）"]
["1432","段ボール製造業"]
["1433","壁紙・ふすま紙製造業"]
["1441","事務用・学用紙製品製造業"]
["1442","日用紙製品製造業"]
["1449","その他の紙製品製造業"]
["1451","重包装紙袋製造業"]
["1452","角底紙袋製造業"]
["1453","段ボール箱製造業"]
["1454","紙器製造業"]
["1499","その他のパルプ・紙・紙加工品製造業"]
["1500","主として管理事務を行う本社等"]
["1509","その他の管理，補助的経済活動を行う事業所"]
["1511","オフセット印刷業（紙に対するもの）"]
["1512","オフセット印刷以外の印刷業（紙に対するもの）"]
["1513","紙以外の印刷業"]
["1521","製版業"]
["1531","製本業"]
["1532","印刷物加工業"]
["1591","印刷関連サービス業"]
["1600","主として管理事務を行う本社等"]
["1609","その他の管理，補助的経済活動を行う事業所"]
["1611","窒素質・りん酸質肥料製造業"]
["1612","複合肥料製造業"]
["1619","その他の化学肥料製造業"]
["1621","ソーダ工業"]
["1622","無機顔料製造業"]
["1623","圧縮ガス・液化ガス製造業"]
["1624","塩製造業"]
["1629","その他の無機化学工業製品製造業"]
["1631","石油化学系基礎製品製造業（一貫して生産される誘導品を含む）"]
["1632","脂肪族系中間物製造業（脂肪族系溶剤を含む）"]
["1633","発酵工業"]
["1634","環式中間物・合成染料・有機顔料製造業"]
["1635","プラスチック製造業"]
["1636","合成ゴム製造業"]
["1639","その他の有機化学工業製品製造業"]
["1641","脂肪酸・硬化油・グリセリン製造業"]
["1642","石けん・合成洗剤製造業"]
["1643","界面活性剤製造業（石けん，合成洗剤を除く）"]
["1644","塗料製造業"]
["1645","印刷インキ製造業"]
["1646","洗浄剤・磨用剤製造業"]
["1647","ろうそく製造業"]
["1651","医薬品原薬製造業"]
["1652","医薬品製剤製造業"]
["1653","生物学的製剤製造業"]
["1654","生薬・漢方製剤製造業"]
["1655","動物用医薬品製造業"]
["1661","仕上用・皮膚用化粧品製造業（香水，オーデコロンを含む）"]
["1662","頭髪用化粧品製造業"]
["1669","その他の化粧品・歯磨・化粧用調整品製造業"]
["1691","火薬類製造業"]
["1692","農薬製造業"]
["1693","香料製造業"]
["1694","ゼラチン・接着剤製造業"]
["1695","写真感光材料製造業"]
["1696","天然樹脂製品・木材化学製品製造業"]
["1697","試薬製造業"]
["1699","他に分類されない化学工業製品製造業"]
["1700","主として管理事務を行う本社等"]
["1709","その他の管理，補助的経済活動を行う事業所"]
["1711","石油精製業"]
["1721","潤滑油・グリース製造業（石油精製業によらないもの）"]
["1731","コークス製造業"]
["1741","舗装材料製造業"]
["1799","その他の石油製品・石炭製品製造業"]
["1800","主として管理事務を行う本社等"]
["1809","その他の管理，補助的経済活動を行う事業所"]
["1811","プラスチック板・棒製造業"]
["1812","プラスチック管製造業"]
["1813","プラスチック継手製造業"]
["1814","プラスチック異形押出製品製造業"]
["1815","プラスチック板・棒・管・継手・異形押出製品加工業"]
["1821","プラスチックフィルム製造業"]
["1822","プラスチックシート製造業"]
["1823","プラスチック床材製造業"]
["1824","合成皮革製造業"]
["1825","プラスチックフィルム・シート・床材・合成皮革加工業"]
["1831","電気機械器具用プラスチック製品製造業（加工業を除く）"]
["1832","輸送機械器具用プラスチック製品製造業（加工業を除く）"]
["1833","その他の工業用プラスチック製品製造業（加工業を除く）"]
["1834","工業用プラスチック製品加工業"]
["1841","軟質プラスチック発泡製品製造業（半硬質性を含む）"]
["1842","硬質プラスチック発泡製品製造業"]
["1843","強化プラスチック製板・棒・管・継手製造業"]
["1844","強化プラスチック製容器・浴槽等製造業"]
["1845","発泡・強化プラスチック製品加工業"]
["1851","プラスチック成形材料製造業"]
["1852","廃プラスチック製品製造業"]
["1891","プラスチック製日用雑貨・食卓用品製造業"]
["1892","プラスチック製容器製造業"]
["1897","他に分類されないプラスチック製品製造業"]
["1898","他に分類されないプラスチック製品加工業"]
["1900","主として管理事務を行う本社等"]
["1909","その他の管理，補助的経済活動を行う事業所"]
["1911","自動車タイヤ・チューブ製造業"]
["1919","その他のタイヤ・チューブ製造業"]
["1921","ゴム製履物・同附属品製造業"]
["1922","プラスチック製履物・同附属品製造業"]
["1931","ゴムベルト製造業"]
["1932","ゴムホース製造業"]
["1933","工業用ゴム製品製造業"]
["1991","ゴム引布・同製品製造業"]
["1992","医療・衛生用ゴム製品製造業"]
["1993","ゴム練生地製造業"]
["1994","更生タイヤ製造業"]
["1995","再生ゴム製造業"]
["1999","他に分類されないゴム製品製造業"]
["2000","主として管理事務を行う本社等"]
["2009","その他の管理，補助的経済活動を行う事業所"]
["2011","なめし革製造業"]
["2021","工業用革製品製造業（手袋を除く）"]
["2031","革製履物用材料・同附属品製造業"]
["2041","革製履物製造業"]
["2051","革製手袋製造業"]
["2061","かばん製造業"]
["2071","袋物製造業（ハンドバッグを除く）"]
["2072","ハンドバッグ製造業"]
["2081","毛皮製造業"]
["2099","その他のなめし革製品製造業"]
["2100","主として管理事務を行う本社等"]
["2109","その他の管理，補助的経済活動を行う事業所"]
["2111","板ガラス製造業"]
["2112","板ガラス加工業"]
["2113","ガラス製加工素材製造業"]
["2114","ガラス容器製造業"]
["2115","理化学用・医療用ガラス器具製造業"]
["2116","卓上用・ちゅう房用ガラス器具製造業"]
["2117","ガラス繊維・同製品製造業"]
["2119","その他のガラス・同製品製造業"]
["2121","セメント製造業"]
["2122","生コンクリート製造業"]
["2123","コンクリート製品製造業"]
["2129","その他のセメント製品製造業"]
["2131","粘土かわら製造業"]
["2132","普通れんが製造業"]
["2139","その他の建設用粘土製品製造業"]
["2141","衛生陶器製造業"]
["2142","食卓用・ちゅう房用陶磁器製造業"]
["2143","陶磁器製置物製造業"]
["2144","電気用陶磁器製造業"]
["2145","理化学用・工業用陶磁器製造業"]
["2146","陶磁器製タイル製造業"]
["2147","陶磁器絵付業"]
["2148","陶磁器用はい（坏）土製造業"]
["2149","その他の陶磁器・同関連製品製造業"]
["2151","耐火れんが製造業"]
["2152","不定形耐火物製造業"]
["2159","その他の耐火物製造業"]
["2161","炭素質電極製造業"]
["2169","その他の炭素・黒鉛製品製造業"]
["2171","研磨材製造業"]
["2172","研削と石製造業"]
["2173","研磨布紙製造業"]
["2179","その他の研磨材・同製品製造業"]
["2181","砕石製造業"]
["2182","再生骨材製造業"]
["2183","人工骨材製造業"]
["2184","石工品製造業"]
["2185","けいそう土・同製品製造業"]
["2186","鉱物・土石粉砕等処理業"]
["2191","ロックウール・同製品製造業"]
["2192","石こう（膏）製品製造業"]
["2193","石灰製造業"]
["2194","鋳型製造業（中子を含む）"]
["2199","他に分類されない窯業・土石製品製造業"]
["2200","主として管理事務を行う本社等"]
["2209","その他の管理，補助的経済活動を行う事業所"]
["2211","高炉による製鉄業"]
["2212","高炉によらない製鉄業"]
["2213","フェロアロイ製造業"]
["2221","製鋼・製鋼圧延業"]
["2231","熱間圧延業（鋼管，伸鉄を除く）"]
["2232","冷間圧延業（鋼管，伸鉄を除く）"]
["2233","冷間ロール成型形鋼製造業"]
["2234","鋼管製造業"]
["2235","伸鉄業"]
["2236","磨棒鋼製造業"]
["2237","引抜鋼管製造業"]
["2238","伸線業"]
["2239","その他の製鋼を行わない鋼材製造業（表面処理鋼材を除く)"]
["2241","亜鉛鉄板製造業"]
["2249","その他の表面処理鋼材製造業"]
["2251","銑鉄鋳物製造業（鋳鉄管，可鍛鋳鉄を除く）"]
["2252","可鍛鋳鉄製造業"]
["2253","鋳鋼製造業"]
["2254","鍛工品製造業"]
["2255","鍛鋼製造業"]
["2291","鉄鋼シャースリット業"]
["2292","鉄スクラップ加工処理業"]
["2293","鋳鉄管製造業"]
["2299","他に分類されない鉄鋼業"]
["2300","主として管理事務を行う本社等"]
["2309","その他の管理，補助的経済活動を行う事業所"]
["2311","銅第１次製錬・精製業"]
["2312","亜鉛第１次製錬・精製業"]
["2319","その他の非鉄金属第１次製錬・精製業"]
["2321","鉛第２次製錬・精製業（鉛合金製造業を含む)"]
["2322","アルミニウム第２次製錬・精製業（アルミニウム合金製造業を含む）"]
["2329","その他の非鉄金属第２次製錬・精製業（非鉄金属合金製造業を含む）"]
["2331","伸銅品製造業"]
["2332","アルミニウム・同合金圧延業（抽伸，押出しを含む）"]
["2339","その他の非鉄金属・同合金圧延業（抽伸，押出しを含む）"]
["2341","電線・ケーブル製造業（光ファイバケーブルを除く）"]
["2342","光ファイバケーブル製造業（通信複合ケーブルを含む）"]
["2351","銅・同合金鋳物製造業（ダイカストを除く）"]
["2352","非鉄金属鋳物製造業（銅・同合金鋳物及びダイカストを除く）"]
["2353","アルミニウム・同合金ダイカスト製造業"]
["2354","非鉄金属ダイカスト製造業（アルミニウム・同合金ダイカストを除く）"]
["2355","非鉄金属鍛造品製造業"]
["2391","核燃料製造業"]
["2399","他に分類されない非鉄金属製造業"]
["2400","主として管理事務を行う本社等"]
["2409","その他の管理，補助的経済活動を行う事業所"]
["2411","ブリキ缶・その他のめっき板等製品製造業"]
["2421","洋食器製造業"]
["2422","機械刃物製造業"]
["2423","利器工匠具・手道具製造業（やすり，のこぎり，食卓用刃物を除く）"]
["2424","作業工具製造業"]
["2425","手引のこぎり・のこ刃製造業"]
["2426","農業用器具製造業（農業用機械を除く）"]
["2429","その他の金物類製造業"]
["2431","配管工事用附属品製造業（バルブ，コックを除く）"]
["2432","ガス機器・石油機器製造業"]
["2433","温風・温水暖房装置製造業"]
["2439","その他の暖房・調理装置製造業（電気機械器具，ガス機器，石油機器を除く）"]
["2441","鉄骨製造業"]
["2442","建設用金属製品製造業（鉄骨を除く）"]
["2443","金属製サッシ・ドア製造業"]
["2444","鉄骨系プレハブ住宅製造業"]
["2445","建築用金属製品製造業（サッシ，ドア，建築用金物を除く）"]
["2446","製缶板金業"]
["2451","アルミニウム・同合金プレス製品製造業"]
["2452","金属プレス製品製造業（アルミニウム・同合金を除く）"]
["2453","粉末や金製品製造業"]
["2461","金属製品塗装業"]
["2462","溶融めっき業（表面処理鋼材製造業を除く）"]
["2463","金属彫刻業"]
["2464","電気めっき業（表面処理鋼材製造業を除く）"]
["2465","金属熱処理業"]
["2469","その他の金属表面処理業"]
["2471","くぎ製造業"]
["2479","その他の金属線製品製造業"]
["2481","ボルト・ナット・リベット・小ねじ・木ねじ等製造業"]
["2491","金庫製造業"]
["2492","金属製スプリング製造業"]
["2499","他に分類されない金属製品製造業"]
["2500","主として管理事務を行う本社等"]
["2509","その他の管理，補助的経済活動を行う事業所"]
["2511","ボイラ製造業"]
["2512","蒸気機関・タービン・水力タービン製造業（舶用を除く）"]
["2513","はん用内燃機関製造業"]
["2519","その他の原動機製造業"]
["2521","ポンプ・同装置製造業"]
["2522","空気圧縮機・ガス圧縮機・送風機製造業"]
["2523","油圧・空圧機器製造業"]
["2531","動力伝導装置製造業（玉軸受，ころ軸受を除く）"]
["2532","エレベータ・エスカレータ製造業"]
["2533","物流運搬設備製造業"]
["2534","工業窯炉製造業"]
["2535","冷凍機・温湿調整装置製造業"]
["2591","消火器具・消火装置製造業"]
["2592","弁・同附属品製造業"]
["2593","パイプ加工・パイプ附属品加工業"]
["2594","玉軸受・ころ軸受製造業"]
["2595","ピストンリング製造業"]
["2596","他に分類されないはん用機械・装置製造業"]
["2599","各種機械・同部分品製造修理業（注文製造・修理）"]
["2600","主として管理事務を行う本社等"]
["2609","その他の管理，補助的経済活動を行う事業所"]
["2611","農業用機械製造業（農業用器具を除く）"]
["2621","建設機械・鉱山機械製造業"]
["2631","化学繊維機械・紡績機械製造業"]
["2632","製織機械・編組機械製造業"]
["2633","染色整理仕上機械製造業"]
["2634","繊維機械部分品・取付具・附属品製造業"]
["2635","縫製機械製造業"]
["2641","食品機械・同装置製造業"]
["2642","木材加工機械製造業"]
["2643","パルプ装置・製紙機械製造業"]
["2644","印刷・製本・紙工機械製造業"]
["2645","包装・荷造機械製造業"]
["2651","鋳造装置製造業"]
["2652","化学機械・同装置製造業"]
["2653","プラスチック加工機械・同附属装置製造業"]
["2661","金属工作機械製造業"]
["2662","金属加工機械製造業（金属工作機械を除く）"]
["2663","金属工作機械用・金属加工機械用部分品・附属品製造業（機械工具，金型を除く）"]
["2664","機械工具製造業（粉末や金業を除く）"]
["2671","半導体製造装置製造業"]
["2672","フラットパネルディスプレイ製造装置製造業"]
["2691","金属用金型・同部分品・附属品製造業"]
["2692","非金属用金型・同部分品・附属品製造業"]
["2693","真空装置・真空機器製造業"]
["2694","ロボット製造業"]
["2699","他に分類されない生産用機械・同部分品製造業"]
["2700","主として管理事務を行う本社等"]
["2709","その他の管理，補助的経済活動を行う事業所"]
["2711","複写機製造業"]
["2719","その他の事務用機械器具製造業"]
["2721","サービス用機械器具製造業"]
["2722","娯楽用機械製造業"]
["2723","自動販売機製造業"]
["2729","その他のサービス用・娯楽用機械器具製造業"]
["2731","体積計製造業"]
["2732","はかり製造業"]
["2733","圧力計・流量計・液面計等製造業"]
["2734","精密測定器製造業"]
["2735","分析機器製造業"]
["2736","試験機製造業"]
["2737","測量機械器具製造業"]
["2738","理化学機械器具製造業"]
["2739","その他の計量器・測定器・分析機器・試験機・測量機械器具・理化学機械器具製造業"]
["2741","医療用機械器具製造業"]
["2742","歯科用機械器具製造業"]
["2743","医療用品製造業（動物用医療機械器具を含む）"]
["2744","歯科材料製造業"]
["2751","顕微鏡・望遠鏡等製造業"]
["2752","写真機・映画用機械・同附属品製造業"]
["2753","光学機械用レンズ・プリズム製造業"]
["2761","武器製造業"]
["2800","主として管理事務を行う本社等"]
["2809","その他の管理，補助的経済活動を行う事業所"]
["2811","電子管製造業"]
["2812","光電変換素子製造業"]
["2813","半導体素子製造業（光電変換素子を除く）"]
["2814","集積回路製造業"]
["2815","液晶パネル・フラットパネル製造業"]
["2821","抵抗器・コンデンサ・変成器・複合部品製造業"]
["2822","音響部品・磁気ヘッド・小形モータ製造業"]
["2823","コネクタ・スイッチ・リレー製造業"]
["2831","半導体メモリメディア製造業"]
["2832","光ディスク・磁気ディスク・磁気テープ製造業"]
["2841","電子回路基板製造業"]
["2842","電子回路実装基板製造業"]
["2851","電源ユニット・高周波ユニット・コントロールユニット製造業"]
["2859","その他のユニット部品製造業"]
["2899","その他の電子部品・デバイス・電子回路製造業"]
["2900","主として管理事務を行う本社等"]
["2909","その他の管理，補助的経済活動を行う事業所"]
["2911","発電機・電動機・その他の回転電気機械製造業"]
["2912","変圧器類製造業（電子機器用を除く)"]
["2913","電力開閉装置製造業"]
["2914","配電盤・電力制御装置製造業"]
["2915","配線器具・配線附属品製造業"]
["2921","電気溶接機製造業"]
["2922","内燃機関電装品製造業"]
["2929","その他の産業用電気機械器具製造業（車両用，船舶用を含む）"]
["2931","ちゅう房機器製造業"]
["2932","空調・住宅関連機器製造業"]
["2933","衣料衛生関連機器製造業"]
["2939","その他の民生用電気機械器具製造業"]
["2941","電球製造業"]
["2942","電気照明器具製造業"]
["2951","蓄電池製造業"]
["2952","一次電池（乾電池，湿電池）製造業"]
["2961","Ｘ線装置製造業"]
["2962","医療用電子応用装置製造業"]
["2969","その他の電子応用装置製造業"]
["2971","電気計測器製造業（別掲を除く）"]
["2972","工業計器製造業"]
["2973","医療用計測器製造業"]
["2999","その他の電気機械器具製造業"]
["3000","主として管理事務を行う本社等"]
["3009","その他の管理，補助的経済活動を行う事業所"]
["3011","有線通信機械器具製造業"]
["3012","携帯電話機・ＰＨＳ電話機製造業"]
["3013","無線通信機械器具製造業"]
["3014","ラジオ受信機・テレビジョン受信機製造業"]
["3015","交通信号保安装置製造業"]
["3019","その他の通信機械器具・同関連機械器具製造業"]
["3021","ビデオ機器製造業"]
["3022","デジタルカメラ製造業"]
["3023","電気音響機械器具製造業"]
["3031","電子計算機製造業（パーソナルコンピュータを除く）"]
["3032","パーソナルコンピュータ製造業"]
["3033","外部記憶装置製造業"]
["3034","印刷装置製造業"]
["3035","表示装置製造業"]
["3039","その他の附属装置製造業"]
["3100","主として管理事務を行う本社等"]
["3109","その他の管理，補助的経済活動を行う事業所"]
["3111","自動車製造業（二輪自動車を含む）"]
["3112","自動車車体・附随車製造業"]
["3113","自動車部分品・附属品製造業"]
["3121","鉄道車両製造業"]
["3122","鉄道車両用部分品製造業"]
["3131","船舶製造・修理業"]
["3132","船体ブロック製造業"]
["3133","舟艇製造・修理業"]
["3134","舶用機関製造業"]
["3141","航空機製造業"]
["3142","航空機用原動機製造業"]
["3149","その他の航空機部分品・補助装置製造業"]
["3151","フォークリフトトラック・同部分品・附属品製造業"]
["3159","その他の産業用運搬車両・同部分品・附属品製造業"]
["3191","自転車・同部分品製造業"]
["3199","他に分類されない輸送用機械器具製造業"]
["3200","主として管理事務を行う本社等"]
["3209","その他の管理，補助的経済活動を行う事業所"]
["3211","貴金属・宝石製装身具（ジュエリー）製品製造業"]
["3212","貴金属・宝石製装身具（ジュエリー）附属品・同材料加工業"]
["3219","その他の貴金属製品製造業"]
["3221","装身具・装飾品製造業（貴金属・宝石製を除く）"]
["3222","造花・装飾用羽毛製造業"]
["3223","ボタン製造業"]
["3224","針・ピン・ホック・スナップ・同関連品製造業"]
["3229","その他の装身具・装飾品製造業"]
["3231","時計・同部分品製造業"]
["3241","ピアノ製造業"]
["3249","その他の楽器・楽器部品・同材料製造業"]
["3251","娯楽用具・がん具製造業（人形を除く）"]
["3252","人形製造業"]
["3253","運動用具製造業"]
["3261","万年筆・ペン類・鉛筆製造業"]
["3262","毛筆・絵画用品製造業（鉛筆を除く）"]
["3269","その他の事務用品製造業"]
["3271","漆器製造業"]
["3281","麦わら・パナマ類帽子・わら工品製造業"]
["3282","畳製造業"]
["3283","うちわ・扇子・ちょうちん製造業"]
["3284","ほうき・ブラシ製造業"]
["3285","喫煙用具製造業（貴金属・宝石製を除く）"]
["3289","その他の生活雑貨製品製造業"]
["3291","煙火製造業"]
["3292","看板・標識機製造業"]
["3293","パレット製造業"]
["3294","モデル・模型製造業"]
["3295","工業用模型製造業"]
["3296","情報記録物製造業（新聞，書籍等の印刷物を除く）"]
["3297","眼鏡製造業（枠を含む）"]
["3299","他に分類されないその他の製造業"]
["3300","主として管理事務を行う本社等"]
["3309","その他の管理，補助的経済活動を行う事業所"]
["3311","発電所"]
["3312","変電所"]
["3400","主として管理事務を行う本社等"]
["3409","その他の管理，補助的経済活動を行う事業所"]
["3411","ガス製造工場"]
["3412","ガス供給所"]
["3500","主として管理事務を行う本社等"]
["3509","その他の管理，補助的経済活動を行う事業所"]
["3511","熱供給業"]
["3600","主として管理事務を行う本社等"]
["3609","その他の管理，補助的経済活動を行う事業所"]
["3611","上水道業"]
["3621","工業用水道業"]
["3631","下水道処理施設維持管理業"]
["3632","下水道管路施設維持管理業"]
["3700","主として管理事務を行う本社等"]
["3709","その他の管理，補助的経済活動を行う事業所"]
["3711","地域電気通信業（有線放送電話業を除く）"]
["3712","長距離電気通信業"]
["3713","有線放送電話業"]
["3719","その他の固定電気通信業"]
["3721","移動電気通信業"]
["3731","電気通信に附帯するサービス業"]
["3800","主として管理事務を行う本社等"]
["3809","その他の管理，補助的経済活動を行う事業所"]
["3811","公共放送業（有線放送業を除く）"]
["3821","テレビジョン放送業（衛星放送業を除く）"]
["3822","ラジオ放送業（衛星放送業を除く）"]
["3823","衛星放送業"]
["3829","その他の民間放送業"]
["3831","有線テレビジョン放送業"]
["3832","有線ラジオ放送業"]
["3900","主として管理事務を行う本社等"]
["3909","その他の管理，補助的経済活動を行う事業所"]
["3911","受託開発ソフトウェア業"]
["3912","組込みソフトウェア業"]
["3913","パッケージソフトウェア業"]
["3914","ゲームソフトウェア業"]
["3921","情報処理サービス業"]
["3922","情報提供サービス業"]
["3923","市場調査・世論調査・社会調査業"]
["3929","その他の情報処理・提供サービス業"]
["4000","主として管理事務を行う本社等"]
["4009","その他の管理，補助的経済活動を行う事業所"]
["4011","ポータルサイト・サーバ運営業"]
["4012","アプリケーション・サービス・コンテンツ・プロバイダ"]
["4013","インターネット利用サポート業"]
["4100","主として管理事務を行う本社等"]
["4109","その他の管理，補助的経済活動を行う事業所"]
["4111","映画・ビデオ制作業（テレビジョン番組制作業，アニメーション制作業を除く）"]
["4112","テレビジョン番組制作業（アニメーション制作業を除く）"]
["4113","アニメーション制作業"]
["4114","映画・ビデオ・テレビジョン番組配給業"]
["4121","レコード制作業"]
["4122","ラジオ番組制作業"]
["4131","新聞業"]
["4141","出版業"]
["4151","広告制作業"]
["4161","ニュース供給業"]
["4169","その他の映像・音声・文字情報制作に附帯するサービス業"]
["4200","主として管理事務を行う本社等"]
["4209","その他の管理，補助的経済活動を行う事業所"]
["4211","普通鉄道業"]
["4212","軌道業"]
["4213","地下鉄道業"]
["4214","モノレール鉄道業（地下鉄道業を除く）"]
["4215","案内軌条式鉄道業（地下鉄道業を除く）"]
["4216","鋼索鉄道業"]
["4217","索道業"]
["4219","その他の鉄道業"]
["4300","主として管理事務を行う本社等"]
["4309","その他の管理，補助的経済活動を行う事業所"]
["4311","一般乗合旅客自動車運送業"]
["4321","一般乗用旅客自動車運送業"]
["4331","一般貸切旅客自動車運送業"]
["4391","特定旅客自動車運送業"]
["4399","他に分類されない道路旅客運送業"]
["4400","主として管理事務を行う本社等"]
["4409","その他の管理，補助的経済活動を行う事業所"]
["4411","一般貨物自動車運送業（特別積合せ貨物運送業を除く）"]
["4412","特別積合せ貨物運送業"]
["4421","特定貨物自動車運送業"]
["4431","貨物軽自動車運送業"]
["4441","集配利用運送業"]
["4499","その他の道路貨物運送業"]
["4500","主として管理事務を行う本社等"]
["4509","その他の管理，補助的経済活動を行う事業所"]
["4511","外航旅客海運業"]
["4512","外航貨物海運業"]
["4521","沿海旅客海運業"]
["4522","沿海貨物海運業"]
["4531","港湾旅客海運業"]
["4532","河川水運業"]
["4533","湖沼水運業"]
["4541","船舶貸渡業（内航船舶貸渡業を除く）"]
["4542","内航船舶貸渡業"]
["4600","主として管理事務を行う本社等"]
["4609","その他の管理，補助的経済活動を行う事業所"]
["4611","航空運送業"]
["4621","航空機使用業（航空運送業を除く）"]
["4700","主として管理事務を行う本社等"]
["4709","その他の管理，補助的経済活動を行う事業所"]
["4711","倉庫業（冷蔵倉庫業を除く）"]
["4721","冷蔵倉庫業"]
["4800","主として管理事務を行う本社等"]
["4809","その他の管理，補助的経済活動を行う事業所"]
["4811","港湾運送業"]
["4821","利用運送業（集配利用運送業を除く）"]
["4822","運送取次業"]
["4831","運送代理店"]
["4841","こん包業（組立こん包業を除く）"]
["4842","組立こん包業"]
["4851","鉄道施設提供業"]
["4852","道路運送固定施設業"]
["4853","自動車ターミナル業"]
["4854","貨物荷扱固定施設業"]
["4855","桟橋泊きょ業"]
["4856","飛行場業"]
["4891","海運仲立業"]
["4899","他に分類されない運輸に附帯するサービス業"]
["4901","管理，補助的経済活動を行う事業所"]
["4911","郵便業（信書便事業を含む）"]
["5000","主として管理事務を行う本社等"]
["5008","自家用倉庫"]
["5009","その他の管理，補助的経済活動を行う事業所"]
["5011","各種商品卸売業（従業者が常時100人以上のもの）"]
["5019","その他の各種商品卸売業"]
["5100","主として管理事務を行う本社等"]
["5108","自家用倉庫"]
["5109","その他の管理，補助的経済活動を行う事業所"]
["5111","繊維原料卸売業"]
["5112","糸卸売業"]
["5113","織物卸売業（室内装飾繊維品を除く）"]
["5121","男子服卸売業"]
["5122","婦人・子供服卸売業"]
["5123","下着類卸売業"]
["5129","その他の衣服卸売業"]
["5131","寝具類卸売業"]
["5132","靴・履物卸売業"]
["5133","かばん・袋物卸売業"]
["5139","その他の身の回り品卸売業"]
["5200","主として管理事務を行う本社等"]
["5208","自家用倉庫"]
["5209","その他の管理，補助的経済活動を行う事業所"]
["5211","米麦卸売業"]
["5212","雑穀・豆類卸売業"]
["5213","野菜卸売業"]
["5214","果実卸売業"]
["5215","食肉卸売業"]
["5216","生鮮魚介卸売業"]
["5219","その他の農畜産物・水産物卸売業"]
["5221","砂糖・味そ・しょう油卸売業"]
["5222","酒類卸売業"]
["5223","乾物卸売業"]
["5224","菓子・パン類卸売業"]
["5225","飲料卸売業（別掲を除く）"]
["5226","茶類卸売業"]
["5227","牛乳・乳製品卸売業"]
["5229","その他の食料・飲料卸売業"]
["5300","主として管理事務を行う本社等"]
["5308","自家用倉庫"]
["5309","その他の管理，補助的経済活動を行う事業所"]
["5311","木材・竹材卸売業"]
["5312","セメント卸売業"]
["5313","板ガラス卸売業"]
["5314","建築用金属製品卸売業（建築用金物を除く）"]
["5319","その他の建築材料卸売業"]
["5321","塗料卸売業"]
["5322","プラスチック卸売業"]
["5329","その他の化学製品卸売業"]
["5331","石油卸売業"]
["5332","鉱物卸売業（石油を除く）"]
["5341","鉄鋼粗製品卸売業"]
["5342","鉄鋼一次製品卸売業"]
["5349","その他の鉄鋼製品卸売業"]
["5351","非鉄金属地金卸売業"]
["5352","非鉄金属製品卸売業"]
["5361","空瓶・空缶等空容器卸売業"]
["5362","鉄スクラップ卸売業"]
["5363","非鉄金属スクラップ卸売業"]
["5364","古紙卸売業"]
["5369","その他の再生資源卸売業"]
["5400","主として管理事務を行う本社等"]
["5408","自家用倉庫"]
["5409","その他の管理，補助的経済活動を行う事業所"]
["5411","農業用機械器具卸売業"]
["5412","建設機械・鉱山機械卸売業"]
["5413","金属加工機械卸売業"]
["5414","事務用機械器具卸売業"]
["5419","その他の産業機械器具卸売業"]
["5421","自動車卸売業（二輪自動車を含む）"]
["5422","自動車部分品・附属品卸売業（中古品を除く）"]
["5423","自動車中古部品卸売業"]
["5431","家庭用電気機械器具卸売業"]
["5432","電気機械器具卸売業（家庭用電気機械器具を除く）"]
["5491","輸送用機械器具卸売業（自動車を除く）"]
["5492","計量器・理化学機械器具・光学機械器具等卸売業"]
["5493","医療用機械器具卸売業（歯科用機械器具を含む）"]
["5500","主として管理事務を行う本社等"]
["5508","自家用倉庫"]
["5509","その他の管理，補助的経済活動を行う事業所"]
["5511","家具・建具卸売業"]
["5512","荒物卸売業"]
["5513","畳卸売業"]
["5514","室内装飾繊維品卸売業"]
["5515","陶磁器・ガラス器卸売業"]
["5519","その他のじゅう器卸売業"]
["5521","医薬品卸売業"]
["5522","医療用品卸売業"]
["5523","化粧品卸売業"]
["5524","合成洗剤卸売業"]
["5531","紙卸売業"]
["5532","紙製品卸売業"]
["5591","金物卸売業"]
["5592","肥料・飼料卸売業"]
["5593","スポーツ用品卸売業"]
["5594","娯楽用品・がん具卸売業"]
["5595","たばこ卸売業"]
["5596","ジュエリー製品卸売業"]
["5597","書籍・雑誌卸売業"]
["5598","代理商，仲立業"]
["5599","他に分類されないその他の卸売業"]
["5600","主として管理事務を行う本社等"]
["5608","自家用倉庫"]
["5609","その他の管理，補助的経済活動を行う事業所"]
["5611","百貨店，総合スーパー"]
["5699","その他の各種商品小売業（従業者が常時50人未満のもの）"]
["5700","主として管理事務を行う本社等"]
["5708","自家用倉庫"]
["5709","その他の管理，補助的経済活動を行う事業所"]
["5711","呉服・服地小売業"]
["5712","寝具小売業"]
["5721","男子服小売業"]
["5731","婦人服小売業"]
["5732","子供服小売業"]
["5741","靴小売業"]
["5742","履物小売業（靴を除く）"]
["5791","かばん・袋物小売業"]
["5792","下着類小売業"]
["5793","洋品雑貨・小間物小売業"]
["5799","他に分類されない織物・衣服・身の回り品小売業"]
["5800","主として管理事務を行う本社等"]
["5808","自家用倉庫"]
["5809","その他の管理，補助的経済活動を行う事業所"]
["5811","各種食料品小売業"]
["5821","野菜小売業"]
["5822","果実小売業"]
["5831","食肉小売業（卵，鳥肉を除く）"]
["5832","卵・鳥肉小売業"]
["5841","鮮魚小売業"]
["5851","酒小売業"]
["5861","菓子小売業（製造小売）"]
["5862","菓子小売業（製造小売でないもの）"]
["5863","パン小売業（製造小売）"]
["5864","パン小売業（製造小売でないもの）"]
["5891","コンビニエンスストア（飲食料品を中心とするものに限る）"]
["5892","牛乳小売業"]
["5893","飲料小売業（別掲を除く）"]
["5894","茶類小売業"]
["5895","料理品小売業"]
["5896","米穀類小売業"]
["5897","豆腐・かまぼこ等加工食品小売業"]
["5898","乾物小売業"]
["5899","他に分類されない飲食料品小売業"]
["5900","主として管理事務を行う本社等"]
["5908","自家用倉庫"]
["5909","その他の管理，補助的経済活動を行う事業所"]
["5911","自動車（新車）小売業"]
["5912","中古自動車小売業"]
["5913","自動車部分品・附属品小売業"]
["5914","二輪自動車小売業（原動機付自転車を含む）"]
["5921","自転車小売業"]
["5931","電気機械器具小売業（中古品を除く）"]
["5932","電気事務機械器具小売業（中古品を除く）"]
["5933","中古電気製品小売業"]
["5939","その他の機械器具小売業"]
["6000","主として管理事務を行う本社等"]
["6008","自家用倉庫"]
["6009","その他の管理，補助的経済活動を行う事業所"]
["6011","家具小売業"]
["6012","建具小売業"]
["6013","畳小売業"]
["6014","宗教用具小売業"]
["6021","金物小売業"]
["6022","荒物小売業"]
["6023","陶磁器・ガラス器小売業"]
["6029","他に分類されないじゅう器小売業"]
["6031","ドラッグストア"]
["6032","医薬品小売業（調剤薬局を除く）"]
["6033","調剤薬局"]
["6034","化粧品小売業"]
["6041","農業用機械器具小売業"]
["6042","苗・種子小売業"]
["6043","肥料・飼料小売業"]
["6051","ガソリンスタンド"]
["6052","燃料小売業（ガソリンスタンドを除く）"]
["6061","書籍・雑誌小売業（古本を除く）"]
["6062","古本小売業"]
["6063","新聞小売業"]
["6064","紙・文房具小売業"]
["6071","スポーツ用品小売業"]
["6072","がん具・娯楽用品小売業"]
["6073","楽器小売業"]
["6081","写真機・写真材料小売業"]
["6082","時計・眼鏡・光学機械小売業"]
["6091","ホームセンター"]
["6092","たばこ・喫煙具専門小売業"]
["6093","花・植木小売業"]
["6094","建築材料小売業"]
["6095","ジュエリー製品小売業"]
["6096","ペット・ペット用品小売業"]
["6097","骨とう品小売業"]
["6098","中古品小売業（骨とう品を除く）"]
["6099","他に分類されないその他の小売業"]
["6100","主として管理事務を行う本社等"]
["6108","自家用倉庫"]
["6109","その他の管理，補助的経済活動を行う事業所"]
["6111","無店舗小売業（各種商品小売）"]
["6112","無店舗小売業（織物・衣服・身の回り品小売）"]
["6113","無店舗小売業（飲食料品小売）"]
["6114","無店舗小売業（機械器具小売）"]
["6119","無店舗小売業（その他の小売）"]
["6121","自動販売機による小売業"]
["6199","その他の無店舗小売業"]
["6200","主として管理事務を行う本社等"]
["6209","その他の管理，補助的経済活動を行う事業所"]
["6211","中央銀行"]
["6221","普通銀行"]
["6222","郵便貯金銀行"]
["6223","信託銀行"]
["6229","その他の銀行"]
["6300","主として管理事務を行う本社等"]
["6309","その他の管理，補助的経済活動を行う事業所"]
["6311","信用金庫・同連合会"]
["6312","信用協同組合・同連合会"]
["6313","商工組合中央金庫"]
["6314","労働金庫・同連合会"]
["6321","農林中央金庫"]
["6322","信用農業協同組合連合会"]
["6323","信用漁業協同組合連合会，信用水産加工業協同組合連合会"]
["6324","農業協同組合"]
["6325","漁業協同組合，水産加工業協同組合"]
["6400","主として管理事務を行う本社等"]
["6409","その他の管理，補助的経済活動を行う事業所"]
["6411","消費者向け貸金業"]
["6412","事業者向け貸金業"]
["6421","質屋"]
["6431","クレジットカード業"]
["6432","割賦金融業"]
["6491","政府関係金融機関"]
["6492","住宅専門金融業"]
["6493","証券金融業"]
["6499","他に分類されない非預金信用機関"]
["6500","主として管理事務を行う本社等"]
["6509","その他の管理，補助的経済活動を行う事業所"]
["6511","金融商品取引業（投資助言・代理・運用業，補助的金融商品取引業を除く）"]
["6512","投資助言・代理業"]
["6513","投資運用業"]
["6514","補助的金融商品取引業"]
["6521","商品先物取引業"]
["6522","商品投資顧問業"]
["6529","その他の商品先物取引業，商品投資顧問業"]
["6600","主として管理事務を行う本社等"]
["6609","その他の管理，補助的経済活動を行う事業所"]
["6611","短資業"]
["6612","手形交換所"]
["6613","両替業"]
["6614","信用保証機関"]
["6615","信用保証再保険機関"]
["6616","預・貯金等保険機関"]
["6617","金融商品取引所"]
["6618","商品取引所"]
["6619","その他の補助的金融業，金融附帯業"]
["6621","運用型信託業"]
["6622","管理型信託業"]
["6631","金融商品仲介業"]
["6632","信託契約代理業"]
["6639","その他の金融代理業"]
["6700","主として管理事務を行う本社等"]
["6709","その他の管理，補助的経済活動を行う事業所"]
["6711","生命保険業（郵便保険業，生命保険再保険業を除く）"]
["6712","郵便保険業"]
["6713","生命保険再保険業"]
["6719","その他の生命保険業"]
["6721","損害保険業（損害保険再保険業を除く）"]
["6722","損害保険再保険業"]
["6729","その他の損害保険業"]
["6731","共済事業（各種災害補償法によるもの）"]
["6732","共済事業（各種協同組合法等によるもの）"]
["6733","少額短期保険業"]
["6741","生命保険媒介業"]
["6742","損害保険代理業"]
["6743","共済事業媒介代理業・少額短期保険代理業"]
["6751","保険料率算出団体"]
["6752","損害査定業"]
["6759","その他の保険サービス業"]
["6800","主として管理事務を行う本社等"]
["6809","その他の管理，補助的経済活動を行う事業所"]
["6811","建物売買業"]
["6812","土地売買業"]
["6821","不動産代理業・仲介業"]
["6900","主として管理事務を行う本社等"]
["6909","その他の管理，補助的経済活動を行う事業所"]
["6911","貸事務所業"]
["6912","土地賃貸業"]
["6919","その他の不動産賃貸業"]
["6921","貸家業"]
["6922","貸間業"]
["6931","駐車場業"]
["6941","不動産管理業"]
["7000","主として管理事務を行う本社等"]
["7009","その他の管理，補助的経済活動を行う事業所"]
["7011","総合リース業"]
["7019","その他の各種物品賃貸業"]
["7021","産業用機械器具賃貸業（建設機械器具を除く）"]
["7022","建設機械器具賃貸業"]
["7031","事務用機械器具賃貸業（電子計算機を除く）"]
["7032","電子計算機・同関連機器賃貸業"]
["7041","自動車賃貸業"]
["7051","スポーツ・娯楽用品賃貸業"]
["7091","映画・演劇用品賃貸業"]
["7092","音楽・映像記録物賃貸業（別掲を除く）"]
["7093","貸衣しょう業（別掲を除く）"]
["7099","他に分類されない物品賃貸業"]
["7101","管理，補助的経済活動を行う事業所"]
["7111","理学研究所"]
["7112","工学研究所"]
["7113","農学研究所"]
["7114","医学・薬学研究所"]
["7121","人文・社会科学研究所"]
["7201","管理，補助的経済活動を行う事業所"]
["7211","法律事務所"]
["7212","特許事務所"]
["7221","公証人役場，司法書士事務所"]
["7222","土地家屋調査士事務所"]
["7231","行政書士事務所"]
["7241","公認会計士事務所"]
["7242","税理士事務所"]
["7251","社会保険労務士事務所"]
["7261","デザイン業"]
["7271","著述家業"]
["7272","芸術家業"]
["7281","経営コンサルタント業"]
["7282","純粋持株会社"]
["7291","興信所"]
["7292","翻訳業（著述家業を除く）"]
["7293","通訳業，通訳案内業"]
["7294","不動産鑑定業"]
["7299","他に分類されない専門サービス業"]
["7300","主として管理事務を行う本社等"]
["7309","その他の管理，補助的経済活動を行う事業所"]
["7311","広告業"]
["7401","管理，補助的経済活動を行う事業所"]
["7411","獣医業"]
["7421","建築設計業"]
["7422","測量業"]
["7429","その他の土木建築サービス業"]
["7431","機械設計業"]
["7441","商品検査業"]
["7442","非破壊検査業"]
["7451","一般計量証明業"]
["7452","環境計量証明業"]
["7459","その他の計量証明業"]
["7461","写真業（商業写真業を除く）"]
["7462","商業写真業"]
["7499","その他の技術サービス業"]
["7500","主として管理事務を行う本社等"]
["7509","その他の管理，補助的経済活動を行う事業所"]
["7511","旅館，ホテル"]
["7521","簡易宿所"]
["7531","下宿業"]
["7591","会社・団体の宿泊所"]
["7592","リゾートクラブ"]
["7599","他に分類されない宿泊業"]
["7600","主として管理事務を行う本社等"]
["7609","その他の管理，補助的経済活動を行う事業所"]
["7611","食堂，レストラン（専門料理店を除く）"]
["7621","日本料理店"]
["7622","料亭"]
["7623","中華料理店"]
["7624","ラーメン店"]
["7625","焼肉店"]
["7629","その他の専門料理店"]
["7631","そば・うどん店"]
["7641","すし店"]
["7651","酒場，ビヤホール"]
["7661","バー，キャバレー，ナイトクラブ"]
["7671","喫茶店"]
["7691","ハンバーガー店"]
["7692","お好み焼き・焼きそば・たこ焼店"]
["7699","他に分類されない飲食店"]
["7700","主として管理事務を行う本社等"]
["7709","その他の管理，補助的経済活動を行う事業所"]
["7711","持ち帰り飲食サービス業"]
["7721","配達飲食サービス業"]
["7800","主として管理事務を行う本社等"]
["7809","その他の管理，補助的経済活動を行う事業所"]
["7811","普通洗濯業"]
["7812","洗濯物取次業"]
["7813","リネンサプライ業"]
["7821","理容業"]
["7831","美容業"]
["7841","一般公衆浴場業"]
["7851","その他の公衆浴場業"]
["7891","洗張・染物業"]
["7892","エステティック業"]
["7893","リラクゼーション業（手技を用いるもの）"]
["7894","ネイルサービス業"]
["7899","他に分類されない洗濯・理容・美容・浴場業"]
["7900","主として管理事務を行う本社等"]
["7909","その他の管理，補助的経済活動を行う事業所"]
["7911","旅行業(旅行業者代理業を除く)"]
["7912","旅行業者代理業"]
["7921","家事サービス業（住込みのもの）"]
["7922","家事サービス業（住込みでないもの）"]
["7931","衣服裁縫修理業"]
["7941","物品預り業"]
["7951","火葬業"]
["7952","墓地管理業"]
["7961","葬儀業"]
["7962","結婚式場業"]
["7963","冠婚葬祭互助会"]
["7991","食品賃加工業"]
["7992","結婚相談業，結婚式場紹介業"]
["7993","写真プリント,現像・焼付業"]
["7999","他に分類されないその他の生活関連サービス業"]
["8000","主として管理事務を行う本社等"]
["8009","その他の管理，補助的経済活動を行う事業所"]
["8011","映画館"]
["8021","劇場"]
["8022","興行場"]
["8023","劇団"]
["8024","楽団，舞踏団"]
["8025","演芸・スポーツ等興行団"]
["8031","競輪場"]
["8032","競馬場"]
["8033","自動車・モータボートの競走場"]
["8034","競輪競技団"]
["8035","競馬競技団"]
["8036","自動車・モータボートの競技団"]
["8041","スポーツ施設提供業（別掲を除く）"]
["8042","体育館"]
["8043","ゴルフ場"]
["8044","ゴルフ練習場"]
["8045","ボウリング場"]
["8046","テニス場"]
["8047","バッティング・テニス練習場"]
["8048","フィットネスクラブ"]
["8051","公園"]
["8052","遊園地（テーマパークを除く）"]
["8053","テーマパーク"]
["8061","ビリヤード場"]
["8062","囲碁・将棋所"]
["8063","マージャンクラブ"]
["8064","パチンコホール"]
["8065","ゲームセンター"]
["8069","その他の遊戯場"]
["8091","ダンスホール"]
["8092","マリーナ業"]
["8093","遊漁船業"]
["8094","芸ぎ業"]
["8095","カラオケボックス業"]
["8096","娯楽に附帯するサービス業"]
["8099","他に分類されない娯楽業"]
["8101","管理，補助的経済活動を行う事業所"]
["8111","幼稚園"]
["8121","小学校"]
["8131","中学校"]
["8141","高等学校"]
["8142","中等教育学校"]
["8151","特別支援学校"]
["8161","大学"]
["8162","短期大学"]
["8163","高等専門学校"]
["8171","専修学校"]
["8172","各種学校"]
["8181","学校教育支援機関"]
["8191","幼保連携型認定こども園"]
["8200","主として管理事務を行う本社等"]
["8209","その他の管理，補助的経済活動を行う事業所"]
["8211","公民館"]
["8212","図書館"]
["8213","博物館，美術館"]
["8214","動物園，植物園，水族館"]
["8215","青少年教育施設"]
["8216","社会通信教育"]
["8219","その他の社会教育"]
["8221","職員教育施設・支援業"]
["8222","職業訓練施設"]
["8229","その他の職業・教育支援施設"]
["8231","学習塾"]
["8241","音楽教授業"]
["8242","書道教授業"]
["8243","生花・茶道教授業"]
["8244","そろばん教授業"]
["8245","外国語会話教授業"]
["8246","スポーツ・健康教授業"]
["8249","その他の教養・技能教授業"]
["8299","他に分類されない教育，学習支援業"]
["8300","主として管理事務を行う本社等"]
["8309","その他の管理，補助的経済活動を行う事業所"]
["8311","一般病院"]
["8312","精神科病院"]
["8321","有床診療所"]
["8322","無床診療所"]
["8331","歯科診療所"]
["8341","助産所"]
["8342","看護業"]
["8351","あん摩マッサージ指圧師・はり師・きゅう師・柔道整復師の施術所"]
["8359","その他の療術業"]
["8361","歯科技工所"]
["8369","その他の医療に附帯するサービス業"]
["8400","主として管理事務を行う本社等"]
["8409","その他の管理，補助的経済活動を行う事業所"]
["8411","保健所"]
["8421","結核健康相談施設"]
["8422","精神保健相談施設"]
["8423","母子健康相談施設"]
["8429","その他の健康相談施設"]
["8491","検疫所（動物検疫所，植物防疫所を除く）"]
["8492","検査業"]
["8493","消毒業"]
["8499","他に分類されない保健衛生"]
["8500","主として管理事務を行う本社等"]
["8509","その他の管理，補助的経済活動を行う事業所"]
["8511","社会保険事業団体"]
["8521","福祉事務所"]
["8531","保育所"]
["8539","その他の児童福祉事業"]
["8541","特別養護老人ホーム"]
["8542","介護老人保健施設"]
["8543","通所・短期入所介護事業"]
["8544","訪問介護事業"]
["8545","認知症老人グループホーム"]
["8546","有料老人ホーム"]
["8549","その他の老人福祉・介護事業"]
["8551","居住支援事業"]
["8559","その他の障害者福祉事業"]
["8591","更生保護事業"]
["8599","他に分類されない社会保険・社会福祉・介護事業"]
["8601","管理，補助的経済活動を行う事業所"]
["8611","郵便局"]
["8621","簡易郵便局"]
["8629","その他の郵便局受託業"]
["8701","管理，補助的経済活動を行う事業所"]
["8711","農業協同組合（他に分類されないもの）"]
["8712","漁業協同組合（他に分類されないもの）"]
["8713","水産加工業協同組合（他に分類されないもの）"]
["8714","森林組合（他に分類されないもの）"]
["8721","事業協同組合（他に分類されないもの）"]
["8800","主として管理事務を行う本社等"]
["8809","その他の管理，補助的経済活動を行う事業所"]
["8811","し尿収集運搬業"]
["8812","し尿処分業"]
["8813","浄化槽清掃業"]
["8814","浄化槽保守点検業"]
["8815","ごみ収集運搬業"]
["8816","ごみ処分業"]
["8817","清掃事務所"]
["8821","産業廃棄物収集運搬業"]
["8822","産業廃棄物処分業"]
["8823","特別管理産業廃棄物収集運搬業"]
["8824","特別管理産業廃棄物処分業"]
["8891","死亡獣畜取扱業"]
["8899","他に分類されない廃棄物処理業"]
["8901","管理，補助的経済活動を行う事業所"]
["8911","自動車一般整備業"]
["8919","その他の自動車整備業"]
["9000","主として管理事務を行う本社等"]
["9009","その他の管理，補助的経済活動を行う事業所"]
["9011","一般機械修理業（建設・鉱山機械を除く）"]
["9012","建設・鉱山機械整備業"]
["9021","電気機械器具修理業"]
["9031","表具業"]
["9091","家具修理業"]
["9092","時計修理業"]
["9093","履物修理業"]
["9094","かじ業"]
["9099","他に分類されない修理業"]
["9100","主として管理事務を行う本社等"]
["9109","その他の管理，補助的経済活動を行う事業所"]
["9111","職業紹介業"]
["9121","労働者派遣業"]
["9200","主として管理事務を行う本社等"]
["9209","その他の管理，補助的経済活動を行う事業所"]
["9211","速記・ワープロ入力業"]
["9212","複写業"]
["9221","ビルメンテナンス業"]
["9229","その他の建物サービス業"]
["9231","警備業"]
["9291","ディスプレイ業"]
["9292","産業用設備洗浄業"]
["9293","看板書き業"]
["9294","コールセンター業"]
["9299","他に分類されないその他の事業サービス業"]
["9311","実業団体"]
["9312","同業団体"]
["9321","労働団体"]
["9331","学術団体"]
["9332","文化団体"]
["9341","政治団体"]
["9399","他に分類されない非営利的団体"]
["9411","神社，神道教会"]
["9412","教派事務所"]
["9421","寺院，仏教教会"]
["9422","宗派事務所"]
["9431","キリスト教教会，修道院"]
["9432","教団事務所"]
["9491","その他の宗教の教会"]
["9499","その他の宗教の教団事務所"]
["9501","管理，補助的経済活動を行う事業所"]
["9511","集会場"]
["9521","と畜場"]
["9599","他に分類されないサービス業"]
["9611","外国公館"]
["9699","その他の外国公務"]
["9711","立法機関"]
["9721","司法機関"]
["9731","行政機関"]
["9811","都道府県機関"]
["9821","市町村機関"]